{"text_format":"1","workbook":"xlsx","n_sheets":11,"sheets":["Data Maestro.","incog","DATA MAESTRO 2","Selec. Maestro Ingredientes","Data Maestro Nutrientes ","Selec.Maestro Nutrientes","CALCU - PDR-FDN-CNF","Easy feed","Manual","Operacion Manual","Hoja1"],"not_rendered":{"charts":0,"images":4,"macros":1,"external_links":0,"defined_names":287,"comments":3,"pivot_tables":0},"unopened":[],"bounds":{"document_bytes":16777216,"sheet_cells":100000,"rows_first":2000,"rows_last":500,"rows_between":2000,"halvings":0,"cell_chars":16384,"cell_head_chars":4096},"cells_cut":0,"cells_raw":0,"read":"whole","date_system":"1900"}

{"sheet":"Data Maestro.","index":0,"n_rows":74,"n_cols":31,"rows_kept":74,"cut":false,"hidden":false,"merged":[]}
[]
[]
[]
[null,"NUTRIENTES","MS","NDT","Prot.","FC","FDN","FDA","Ca","P","E.E","PDR","Prot. By pass","CNF","Sodio","Magnesio","Potasio","Cloro","Azufre","Gosipol","Almidon","Cobalto","Cobre","Yodo","Hierro","Manganeso","Selenio","Zinc","Vit. A","Vit. D","Vit. E"]
[null,"INGREDIENTES","%","%","%","%","%","%","%","%","%","%","%","%","%","%","%","%","%","%","%","Mg/kg","Mg/kg","Mg/kg","Mg/kg","Mg/kg","Mg/kg","Mg/kg","1,000 UI/kg","1,000 UI/kg","1,000 UI/kg"]
[]
[null,"CONCENTRADO"]
[1,"PASTA ALGODÓN",90,68,35,13,30,18,0.2,1.2,2,59,41,35,7.0000000000000007E-2,0.61,1.5,0.05,0.4]
[2,"SOYA INTEGRAL",90,95,35,6,20,10,0.3,0.63,22,50,50,18,0.02,0.32,1.67,0.02,0.4,null,6.7]
[3,"UREA",99,0,280]
[4,"MELAZA",75,76,5,null,null,null,1.0999999999999999,0.15,null,20,80,83,0.22,0.42,4,3.1,0.46,null,7]
[5,"TORTA DE SOYA",91,81,48,5,10,6.2,0.3,0.70000000000000007,2,66,34,30,0.03,0.28999999999999998,2.4,7.0000000000000007E-2,0.46]
[6,"MAIZ MOLIDO",89,91,9.5,5,9.5,3,0.02,0.3,4,50,50,75,0.02,0.12,0.4,0.05,0.12,null,63]
[7,"AFRECHO",89,73,17,12,37,15.5,0.12,1.0999999999999999,4,70,30,42,0.02,0.4,1.1299999999999999,0.06,0.21,null,31]
[8,"PEPA ALGODÓN ",90,77.2,22,26,50,42,0.2,0.6,19,61,39,9,0.02,0.37,1.1000000000000001,0.02,0.09]
[9,"CONCENTRADO PROTEICO DE ARROZ (CPA)",50,78,50.139999999999993,3.55,8,0,0.44999999999999996,0.77,5.91,55,45,36]
[10,"Hna.Pescad.1ª",90,72,60,1,25,2,6.4,3.5999999999999996,8,37,63,7]
[11,"BICARBONATO",99]
[12,"GRASA PROTEGIDA",95,184,null,null,null,null,9,null,84]
[13,"CARBONATO DE CALCIO",98,null,null,null,null,null,38]
[14,"SAL",99,null,null,null,null,null,null,null,null,null,null,null,39,null,null,60]
[15,"Custom Pack 940",99]
[16,"DDGS",88,80,30,33,41.5,16.100000000000001,0.22,0.83,10,45,55.000000000000007]
[17,"Colina",99]
[18,"Optigen",99,null,252.99999999999997]
[19,"Stafac"]
[20,"Selplex"]
[21,"Dairy Pack"]
[22,"Bioplex Cobre"]
[23,"SUPLAMIN DIFOS",98,null,null,null,null,null,18.5,15.06,null,null,null,null,2.35,0.4864,6.9999999999999999E-4,null,9.4E-2,null,null,null,null,null,null,1209,10,2500,515,650,100]
[24,"MONTAFOS",99,null,null,null,null,null,18,21]
[25]
[26]
[27]
[28]
[29]
[30]
[31]
[32]
[33]
[34]
[35]
[]
[null,"FORRAJES"]
[36,"Orujo de ceb.",18,70,21,17,47,23,0.28999999999999998,0.6,6.6000000000000005,45,55.000000000000007,25]
[37,"Panca picad",88,48,4.8500000000000005,34,65,49,0.6,0.09,1.4000000000000001,70,30,28,0.01,0.19,0.9,0.2,0.14000000000000001]
[38,"Chala con choclo",26,65,9.7000000000000011,30,52,32,0.25,0.22999999999999998,2,70,30,36,0.01,0.19,1.6,0.3,0.11,null,60]
[39,"Ensilaje chala maiz",32,60,9,35,55.000000000000007,35,0.25,0.22999999999999998,2,70,30,34]
[40,"Alfalfa HENO",89,52,17.5,32.5,50,35,1.4000000000000001,0.24,2.6,67,33,30]
[41,"Chala sin choclo",26,49,7.0000000000000009,33,56.999999999999993,36,0.25,0.2,2,50,50,34,0.01,0.19,1.6,0.3,0.11]
[42,"Esparramel",82,58,9,26.4,58,25,0.5,0.22,1,66,34,32]
[43,"Pasto camerun",20,55,7,35,60,40,0.9,0.28999999999999998,2,25,75,31]
[44,"Heno Alfalfa Estandar",87,56,17,32,51,34,1.4,0.3,1.2,53,47,30]
[45,"Pancamel (60panca-40melaza)",83.4,56.6,5.9,25.1,49,28.5,0.69,0.1,1,65,35,44]
[46,"Broza Esparrago",36.5,53,14,39,55,28,0.6,0.2,2,60,40,29]
[47,"Camote Tuberculo",32,80,4,4,6,1,0.28000000000000003,0.23,1.6,20,80,88]
[48,"Alfalfa verde preboton",18.12,58,25.12,null,33.1,21.9,null,null,1.69,null,null,27.97]
[49]
[50]
[51]
[52]
[53]
[54]
[55]
[56]
[57]
[]
[]
[]
[null,null,"C.N.F."]
[null,null,null,null,null,null,"ES IGUAL A:        100-(PROTEINA+ESTRACTO ETEREO+CENIZA+FIBRA DETERGENTE NEUTRA)"]
[]
[null,null,null,null,"PROT.","E.E.","CENIZ","FDN",null,"C.N.F."]
[null,null,"INTRODUCIR DATOS",null,25.12,1.69,12.12,33.1,null,{"$f":"100-(E74+F74+G74+H74)","v":27.97}]

{"sheet":"incog","index":1,"n_rows":66,"n_cols":31,"rows_kept":66,"cut":false,"hidden":true,"merged":[]}
[]
[]
[]
[null,"NUTRIENTES",{"$f":"+'Data Maestro.'!C4","v":"MS"},{"$f":"+'Data Maestro.'!D4","v":"NDT"},{"$f":"+'Data Maestro.'!E4","v":"Prot."},{"$f":"+'Data Maestro.'!F4","v":"FC"},{"$f":"+'Data Maestro.'!G4","v":"FDN"},{"$f":"+'Data Maestro.'!H4","v":"FDA"},{"$f":"+'Data Maestro.'!I4","v":"Ca"},{"$f":"+'Data Maestro.'!J4","v":"P"},{"$f":"+'Data Maestro.'!K4","v":"E.E"},{"$f":"+'Data Maestro.'!L4","v":"PDR"},{"$f":"+'Data Maestro.'!M4","v":"Prot. By pass"},{"$f":"+'Data Maestro.'!N4","v":"CNF"},{"$f":"+'Data Maestro.'!O4","v":"Sodio"},{"$f":"+'Data Maestro.'!P4","v":"Magnesio"},{"$f":"+'Data Maestro.'!Q4","v":"Potasio"},{"$f":"+'Data Maestro.'!R4","v":"Cloro"},{"$f":"+'Data Maestro.'!S4","v":"Azufre"},{"$f":"+'Data Maestro.'!T4","v":"Gosipol"},{"$f":"+'Data Maestro.'!U4","v":"Almidon"},{"$f":"+'Data Maestro.'!V4","v":"Cobalto"},{"$f":"+'Data Maestro.'!W4","v":"Cobre"},{"$f":"+'Data Maestro.'!X4","v":"Yodo"},{"$f":"+'Data Maestro.'!Y4","v":"Hierro"},{"$f":"+'Data Maestro.'!Z4","v":"Manganeso"},{"$f":"+'Data Maestro.'!AA4","v":"Selenio"},{"$f":"+'Data Maestro.'!AB4","v":"Zinc"},{"$f":"+'Data Maestro.'!AC4","v":"Vit. A"},{"$f":"+'Data Maestro.'!AD4","v":"Vit. D"},{"$f":"+'Data Maestro.'!AE4","v":"Vit. E"}]
[null,"INGREDIENTES","KG","KG","KG","KG","KG","KG","KG","KG","KG","KG","KG","KG","KG","KG","KG","KG","KG","KG","KG","Mg/kg","Mg/kg","Mg/kg","Mg/kg","Mg/kg","Mg/kg","Mg/kg","1,000 UI/kg","1,000 UI/kg","1,000 UI/kg"]
[]
[null,"CONCENTRADO"]
[1,{"$f":"+IF(ISBLANK('Data Maestro.'!B8),\"\",'Data Maestro.'!B8)","v":"PASTA ALGODÓN"},{"$f":"+'Data Maestro.'!C8/100","v":0.9},{"$f":"+'Data Maestro.'!D8/100","v":0.68},{"$f":"+'Data Maestro.'!E8/100","v":0.35},{"$f":"+'Data Maestro.'!F8/100","v":0.13},{"$f":"+'Data Maestro.'!G8/100","v":0.3},{"$f":"+'Data Maestro.'!H8/100","v":0.18},{"$f":"+'Data Maestro.'!I8/100","v":2E-3},{"$f":"+'Data Maestro.'!J8/100","v":1.2E-2},{"$f":"+'Data Maestro.'!K8/100","v":0.02},{"$f":"+'Data Maestro.'!L8/100","v":0.59},{"$f":"+'Data Maestro.'!M8/100","v":0.41},{"$f":"+'Data Maestro.'!N8/100","v":0.35},{"$f":"+'Data Maestro.'!O8/100","v":7.000000000000001E-4},{"$f":"+'Data Maestro.'!P8/100","v":6.0999999999999995E-3},{"$f":"+'Data Maestro.'!Q8/100","v":1.4999999999999999E-2},{"$f":"+'Data Maestro.'!R8/100","v":5.0000000000000001E-4},{"$f":"+'Data Maestro.'!S8/100","v":4.0000000000000001E-3},{"$f":"+'Data Maestro.'!T8/100","v":0},{"$f":"+'Data Maestro.'!U8/100","v":0},{"$f":"+'Data Maestro.'!V8","v":0},{"$f":"+'Data Maestro.'!W8","v":0},{"$f":"+'Data Maestro.'!X8","v":0},{"$f":"+'Data Maestro.'!Y8","v":0},{"$f":"+'Data Maestro.'!Z8","v":0},{"$f":"+'Data Maestro.'!AA8","v":0},{"$f":"+'Data Maestro.'!AB8","v":0},{"$f":"+'Data Maestro.'!AC8","v":0},{"$f":"+'Data Maestro.'!AD8","v":0},{"$f":"+'Data Maestro.'!AE8","v":0}]
[2,{"$f":"+IF(ISBLANK('Data Maestro.'!B9),\"\",'Data Maestro.'!B9)","v":"SOYA INTEGRAL"},{"$f":"+'Data Maestro.'!C9/100","v":0.9},{"$f":"+'Data Maestro.'!D9/100","v":0.95},{"$f":"+'Data Maestro.'!E9/100","v":0.35},{"$f":"+'Data Maestro.'!F9/100","v":0.06},{"$f":"+'Data Maestro.'!G9/100","v":0.2},{"$f":"+'Data Maestro.'!H9/100","v":0.1},{"$f":"+'Data Maestro.'!I9/100","v":3.0000000000000001E-3},{"$f":"+'Data Maestro.'!J9/100","v":6.3E-3},{"$f":"+'Data Maestro.'!K9/100","v":0.22},{"$f":"+'Data Maestro.'!L9/100","v":0.5},{"$f":"+'Data Maestro.'!M9/100","v":0.5},{"$f":"+'Data Maestro.'!N9/100","v":0.18},{"$f":"+'Data Maestro.'!O9/100","v":2.0000000000000001E-4},{"$f":"+'Data Maestro.'!P9/100","v":3.2000000000000002E-3},{"$f":"+'Data Maestro.'!Q9/100","v":1.67E-2},{"$f":"+'Data Maestro.'!R9/100","v":2.0000000000000001E-4},{"$f":"+'Data Maestro.'!S9/100","v":4.0000000000000001E-3},{"$f":"+'Data Maestro.'!T9/100","v":0},{"$f":"+'Data Maestro.'!U9/100","v":6.7000000000000004E-2},{"$f":"+'Data Maestro.'!V9","v":0},{"$f":"+'Data Maestro.'!W9","v":0},{"$f":"+'Data Maestro.'!X9","v":0},{"$f":"+'Data Maestro.'!Y9","v":0},{"$f":"+'Data Maestro.'!Z9","v":0},{"$f":"+'Data Maestro.'!AA9","v":0},{"$f":"+'Data Maestro.'!AB9","v":0},{"$f":"+'Data Maestro.'!AC9","v":0},{"$f":"+'Data Maestro.'!AD9","v":0},{"$f":"+'Data Maestro.'!AE9","v":0}]
[3,{"$f":"+IF(ISBLANK('Data Maestro.'!B10),\"\",'Data Maestro.'!B10)","v":"UREA"},{"$f":"+'Data Maestro.'!C10/100","v":0.99},{"$f":"+'Data Maestro.'!D10/100","v":0},{"$f":"+'Data Maestro.'!E10/100","v":2.8},{"$f":"+'Data Maestro.'!F10/100","v":0},{"$f":"+'Data Maestro.'!G10/100","v":0},{"$f":"+'Data Maestro.'!H10/100","v":0},{"$f":"+'Data Maestro.'!I10/100","v":0},{"$f":"+'Data Maestro.'!J10/100","v":0},{"$f":"+'Data Maestro.'!K10/100","v":0},{"$f":"+'Data Maestro.'!L10/100","v":0},{"$f":"+'Data Maestro.'!M10/100","v":0},{"$f":"+'Data Maestro.'!N10/100","v":0},{"$f":"+'Data Maestro.'!O10/100","v":0},{"$f":"+'Data Maestro.'!P10/100","v":0},{"$f":"+'Data Maestro.'!Q10/100","v":0},{"$f":"+'Data Maestro.'!R10/100","v":0},{"$f":"+'Data Maestro.'!S10/100","v":0},{"$f":"+'Data Maestro.'!T10/100","v":0},{"$f":"+'Data Maestro.'!U10/100","v":0},{"$f":"+'Data Maestro.'!V10","v":0},{"$f":"+'Data Maestro.'!W10","v":0},{"$f":"+'Data Maestro.'!X10","v":0},{"$f":"+'Data Maestro.'!Y10","v":0},{"$f":"+'Data Maestro.'!Z10","v":0},{"$f":"+'Data Maestro.'!AA10","v":0},{"$f":"+'Data Maestro.'!AB10","v":0},{"$f":"+'Data Maestro.'!AC10","v":0},{"$f":"+'Data Maestro.'!AD10","v":0},{"$f":"+'Data Maestro.'!AE10","v":0}]
[4,{"$f":"+IF(ISBLANK('Data Maestro.'!B11),\"\",'Data Maestro.'!B11)","v":"MELAZA"},{"$f":"+'Data Maestro.'!C11/100","v":0.75},{"$f":"+'Data Maestro.'!D11/100","v":0.76},{"$f":"+'Data Maestro.'!E11/100","v":0.05},{"$f":"+'Data Maestro.'!F11/100","v":0},{"$f":"+'Data Maestro.'!G11/100","v":0},{"$f":"+'Data Maestro.'!H11/100","v":0},{"$f":"+'Data Maestro.'!I11/100","v":1.0999999999999999E-2},{"$f":"+'Data Maestro.'!J11/100","v":1.5E-3},{"$f":"+'Data Maestro.'!K11/100","v":0},{"$f":"+'Data Maestro.'!L11/100","v":0.2},{"$f":"+'Data Maestro.'!M11/100","v":0.8},{"$f":"+'Data Maestro.'!N11/100","v":0.83},{"$f":"+'Data Maestro.'!O11/100","v":2.2000000000000001E-3},{"$f":"+'Data Maestro.'!P11/100","v":4.1999999999999997E-3},{"$f":"+'Data Maestro.'!Q11/100","v":0.04},{"$f":"+'Data Maestro.'!R11/100","v":3.1E-2},{"$f":"+'Data Maestro.'!S11/100","v":4.5999999999999999E-3},{"$f":"+'Data Maestro.'!T11/100","v":0},{"$f":"+'Data Maestro.'!U11/100","v":7.0000000000000007E-2},{"$f":"+'Data Maestro.'!V11","v":0},{"$f":"+'Data Maestro.'!W11","v":0},{"$f":"+'Data Maestro.'!X11","v":0},{"$f":"+'Data Maestro.'!Y11","v":0},{"$f":"+'Data Maestro.'!Z11","v":0},{"$f":"+'Data Maestro.'!AA11","v":0},{"$f":"+'Data Maestro.'!AB11","v":0},{"$f":"+'Data Maestro.'!AC11","v":0},{"$f":"+'Data Maestro.'!AD11","v":0},{"$f":"+'Data Maestro.'!AE11","v":0}]
[5,{"$f":"+IF(ISBLANK('Data Maestro.'!B12),\"\",'Data Maestro.'!B12)","v":"TORTA DE SOYA"},{"$f":"+'Data Maestro.'!C12/100","v":0.91},{"$f":"+'Data Maestro.'!D12/100","v":0.81},{"$f":"+'Data Maestro.'!E12/100","v":0.48},{"$f":"+'Data Maestro.'!F12/100","v":0.05},{"$f":"+'Data Maestro.'!G12/100","v":0.1},{"$f":"+'Data Maestro.'!H12/100","v":6.2E-2},{"$f":"+'Data Maestro.'!I12/100","v":3.0000000000000001E-3},{"$f":"+'Data Maestro.'!J12/100","v":7.000000000000001E-3},{"$f":"+'Data Maestro.'!K12/100","v":0.02},{"$f":"+'Data Maestro.'!L12/100","v":0.66},{"$f":"+'Data Maestro.'!M12/100","v":0.34},{"$f":"+'Data Maestro.'!N12/100","v":0.3},{"$f":"+'Data Maestro.'!O12/100","v":2.9999999999999997E-4},{"$f":"+'Data Maestro.'!P12/100","v":2.8999999999999998E-3},{"$f":"+'Data Maestro.'!Q12/100","v":2.4E-2},{"$f":"+'Data Maestro.'!R12/100","v":7.000000000000001E-4},{"$f":"+'Data Maestro.'!S12/100","v":4.5999999999999999E-3},{"$f":"+'Data Maestro.'!T12/100","v":0},{"$f":"+'Data Maestro.'!U12/100","v":0},{"$f":"+'Data Maestro.'!V12","v":0},{"$f":"+'Data Maestro.'!W12","v":0},{"$f":"+'Data Maestro.'!X12","v":0},{"$f":"+'Data Maestro.'!Y12","v":0},{"$f":"+'Data Maestro.'!Z12","v":0},{"$f":"+'Data Maestro.'!AA12","v":0},{"$f":"+'Data Maestro.'!AB12","v":0},{"$f":"+'Data Maestro.'!AC12","v":0},{"$f":"+'Data Maestro.'!AD12","v":0},{"$f":"+'Data Maestro.'!AE12","v":0}]
[6,{"$f":"+IF(ISBLANK('Data Maestro.'!B13),\"\",'Data Maestro.'!B13)","v":"MAIZ MOLIDO"},{"$f":"+'Data Maestro.'!C13/100","v":0.89},{"$f":"+'Data Maestro.'!D13/100","v":0.91},{"$f":"+'Data Maestro.'!E13/100","v":9.5000000000000001E-2},{"$f":"+'Data Maestro.'!F13/100","v":0.05},{"$f":"+'Data Maestro.'!G13/100","v":9.5000000000000001E-2},{"$f":"+'Data Maestro.'!H13/100","v":0.03},{"$f":"+'Data Maestro.'!I13/100","v":2.0000000000000001E-4},{"$f":"+'Data Maestro.'!J13/100","v":3.0000000000000001E-3},{"$f":"+'Data Maestro.'!K13/100","v":0.04},{"$f":"+'Data Maestro.'!L13/100","v":0.5},{"$f":"+'Data Maestro.'!M13/100","v":0.5},{"$f":"+'Data Maestro.'!N13/100","v":0.75},{"$f":"+'Data Maestro.'!O13/100","v":2.0000000000000001E-4},{"$f":"+'Data Maestro.'!P13/100","v":1.1999999999999999E-3},{"$f":"+'Data Maestro.'!Q13/100","v":4.0000000000000001E-3},{"$f":"+'Data Maestro.'!R13/100","v":5.0000000000000001E-4},{"$f":"+'Data Maestro.'!S13/100","v":1.1999999999999999E-3},{"$f":"+'Data Maestro.'!T13/100","v":0},{"$f":"+'Data Maestro.'!U13/100","v":0.63},{"$f":"+'Data Maestro.'!V13","v":0},{"$f":"+'Data Maestro.'!W13","v":0},{"$f":"+'Data Maestro.'!X13","v":0},{"$f":"+'Data Maestro.'!Y13","v":0},{"$f":"+'Data Maestro.'!Z13","v":0},{"$f":"+'Data Maestro.'!AA13","v":0},{"$f":"+'Data Maestro.'!AB13","v":0},{"$f":"+'Data Maestro.'!AC13","v":0},{"$f":"+'Data Maestro.'!AD13","v":0},{"$f":"+'Data Maestro.'!AE13","v":0}]
[7,{"$f":"+IF(ISBLANK('Data Maestro.'!B14),\"\",'Data Maestro.'!B14)","v":"AFRECHO"},{"$f":"+'Data Maestro.'!C14/100","v":0.89},{"$f":"+'Data Maestro.'!D14/100","v":0.73},{"$f":"+'Data Maestro.'!E14/100","v":0.17},{"$f":"+'Data Maestro.'!F14/100","v":0.12},{"$f":"+'Data Maestro.'!G14/100","v":0.37},{"$f":"+'Data Maestro.'!H14/100","v":0.155},{"$f":"+'Data Maestro.'!I14/100","v":1.1999999999999999E-3},{"$f":"+'Data Maestro.'!J14/100","v":1.0999999999999999E-2},{"$f":"+'Data Maestro.'!K14/100","v":0.04},{"$f":"+'Data Maestro.'!L14/100","v":0.7},{"$f":"+'Data Maestro.'!M14/100","v":0.3},{"$f":"+'Data Maestro.'!N14/100","v":0.42},{"$f":"+'Data Maestro.'!O14/100","v":2.0000000000000001E-4},{"$f":"+'Data Maestro.'!P14/100","v":4.0000000000000001E-3},{"$f":"+'Data Maestro.'!Q14/100","v":1.1299999999999999E-2},{"$f":"+'Data Maestro.'!R14/100","v":5.9999999999999995E-4},{"$f":"+'Data Maestro.'!S14/100","v":2.0999999999999999E-3},{"$f":"+'Data Maestro.'!T14/100","v":0},{"$f":"+'Data Maestro.'!U14/100","v":0.31},{"$f":"+'Data Maestro.'!V14","v":0},{"$f":"+'Data Maestro.'!W14","v":0},{"$f":"+'Data Maestro.'!X14","v":0},{"$f":"+'Data Maestro.'!Y14","v":0},{"$f":"+'Data Maestro.'!Z14","v":0},{"$f":"+'Data Maestro.'!AA14","v":0},{"$f":"+'Data Maestro.'!AB14","v":0},{"$f":"+'Data Maestro.'!AC14","v":0},{"$f":"+'Data Maestro.'!AD14","v":0},{"$f":"+'Data Maestro.'!AE14","v":0}]
[8,{"$f":"+IF(ISBLANK('Data Maestro.'!B15),\"\",'Data Maestro.'!B15)","v":"PEPA ALGODÓN "},{"$f":"+'Data Maestro.'!C15/100","v":0.9},{"$f":"+'Data Maestro.'!D15/100","v":0.77200000000000002},{"$f":"+'Data Maestro.'!E15/100","v":0.22},{"$f":"+'Data Maestro.'!F15/100","v":0.26},{"$f":"+'Data Maestro.'!G15/100","v":0.5},{"$f":"+'Data Maestro.'!H15/100","v":0.42},{"$f":"+'Data Maestro.'!I15/100","v":2E-3},{"$f":"+'Data Maestro.'!J15/100","v":6.0000000000000001E-3},{"$f":"+'Data Maestro.'!K15/100","v":0.19},{"$f":"+'Data Maestro.'!L15/100","v":0.61},{"$f":"+'Data Maestro.'!M15/100","v":0.39},{"$f":"+'Data Maestro.'!N15/100","v":0.09},{"$f":"+'Data Maestro.'!O15/100","v":2.0000000000000001E-4},{"$f":"+'Data Maestro.'!P15/100","v":3.7000000000000002E-3},{"$f":"+'Data Maestro.'!Q15/100","v":1.1000000000000001E-2},{"$f":"+'Data Maestro.'!R15/100","v":2.0000000000000001E-4},{"$f":"+'Data Maestro.'!S15/100","v":8.9999999999999998E-4},{"$f":"+'Data Maestro.'!T15/100","v":0},{"$f":"+'Data Maestro.'!U15/100","v":0},{"$f":"+'Data Maestro.'!V15","v":0},{"$f":"+'Data Maestro.'!W15","v":0},{"$f":"+'Data Maestro.'!X15","v":0},{"$f":"+'Data Maestro.'!Y15","v":0},{"$f":"+'Data Maestro.'!Z15","v":0},{"$f":"+'Data Maestro.'!AA15","v":0},{"$f":"+'Data Maestro.'!AB15","v":0},{"$f":"+'Data Maestro.'!AC15","v":0},{"$f":"+'Data Maestro.'!AD15","v":0},{"$f":"+'Data Maestro.'!AE15","v":0}]
[9,{"$f":"+IF(ISBLANK('Data Maestro.'!B16),\"\",'Data Maestro.'!B16)","v":"CONCENTRADO PROTEICO DE ARROZ (CPA)"},{"$f":"+'Data Maestro.'!C16/100","v":0.5},{"$f":"+'Data Maestro.'!D16/100","v":0.78},{"$f":"+'Data Maestro.'!E16/100","v":0.50139999999999996},{"$f":"+'Data Maestro.'!F16/100","v":3.5499999999999997E-2},{"$f":"+'Data Maestro.'!G16/100","v":0.08},{"$f":"+'Data Maestro.'!H16/100","v":0},{"$f":"+'Data Maestro.'!I16/100","v":4.4999999999999997E-3},{"$f":"+'Data Maestro.'!J16/100","v":7.7000000000000002E-3},{"$f":"+'Data Maestro.'!K16/100","v":5.91E-2},{"$f":"+'Data Maestro.'!L16/100","v":0.55000000000000004},{"$f":"+'Data Maestro.'!M16/100","v":0.45},{"$f":"+'Data Maestro.'!N16/100","v":0.36},{"$f":"+'Data Maestro.'!O16/100","v":0},{"$f":"+'Data Maestro.'!P16/100","v":0},{"$f":"+'Data Maestro.'!Q16/100","v":0},{"$f":"+'Data Maestro.'!R16/100","v":0},{"$f":"+'Data Maestro.'!S16/100","v":0},{"$f":"+'Data Maestro.'!T16/100","v":0},{"$f":"+'Data Maestro.'!U16/100","v":0},{"$f":"+'Data Maestro.'!V16","v":0},{"$f":"+'Data Maestro.'!W16","v":0},{"$f":"+'Data Maestro.'!X16","v":0},{"$f":"+'Data Maestro.'!Y16","v":0},{"$f":"+'Data Maestro.'!Z16","v":0},{"$f":"+'Data Maestro.'!AA16","v":0},{"$f":"+'Data Maestro.'!AB16","v":0},{"$f":"+'Data Maestro.'!AC16","v":0},{"$f":"+'Data Maestro.'!AD16","v":0},{"$f":"+'Data Maestro.'!AE16","v":0}]
[10,{"$f":"+IF(ISBLANK('Data Maestro.'!B17),\"\",'Data Maestro.'!B17)","v":"Hna.Pescad.1ª"},{"$f":"+'Data Maestro.'!C17/100","v":0.9},{"$f":"+'Data Maestro.'!D17/100","v":0.72},{"$f":"+'Data Maestro.'!E17/100","v":0.6},{"$f":"+'Data Maestro.'!F17/100","v":0.01},{"$f":"+'Data Maestro.'!G17/100","v":0.25},{"$f":"+'Data Maestro.'!H17/100","v":0.02},{"$f":"+'Data Maestro.'!I17/100","v":6.4000000000000001E-2},{"$f":"+'Data Maestro.'!J17/100","v":3.5999999999999997E-2},{"$f":"+'Data Maestro.'!K17/100","v":0.08},{"$f":"+'Data Maestro.'!L17/100","v":0.37},{"$f":"+'Data Maestro.'!M17/100","v":0.63},{"$f":"+'Data Maestro.'!N17/100","v":7.0000000000000007E-2},{"$f":"+'Data Maestro.'!O17/100","v":0},{"$f":"+'Data Maestro.'!P17/100","v":0},{"$f":"+'Data Maestro.'!Q17/100","v":0},{"$f":"+'Data Maestro.'!R17/100","v":0},{"$f":"+'Data Maestro.'!S17/100","v":0},{"$f":"+'Data Maestro.'!T17/100","v":0},{"$f":"+'Data Maestro.'!U17/100","v":0},{"$f":"+'Data Maestro.'!V17","v":0},{"$f":"+'Data Maestro.'!W17","v":0},{"$f":"+'Data Maestro.'!X17","v":0},{"$f":"+'Data Maestro.'!Y17","v":0},{"$f":"+'Data Maestro.'!Z17","v":0},{"$f":"+'Data Maestro.'!AA17","v":0},{"$f":"+'Data Maestro.'!AB17","v":0},{"$f":"+'Data Maestro.'!AC17","v":0},{"$f":"+'Data Maestro.'!AD17","v":0},{"$f":"+'Data Maestro.'!AE17","v":0}]
[11,{"$f":"+IF(ISBLANK('Data Maestro.'!B18),\"\",'Data Maestro.'!B18)","v":"BICARBONATO"},{"$f":"+'Data Maestro.'!C18/100","v":0.99},{"$f":"+'Data Maestro.'!D18/100","v":0},{"$f":"+'Data Maestro.'!E18/100","v":0},{"$f":"+'Data Maestro.'!F18/100","v":0},{"$f":"+'Data Maestro.'!G18/100","v":0},{"$f":"+'Data Maestro.'!H18/100","v":0},{"$f":"+'Data Maestro.'!I18/100","v":0},{"$f":"+'Data Maestro.'!J18/100","v":0},{"$f":"+'Data Maestro.'!K18/100","v":0},{"$f":"+'Data Maestro.'!L18/100","v":0},{"$f":"+'Data Maestro.'!M18/100","v":0},{"$f":"+'Data Maestro.'!N18/100","v":0},{"$f":"+'Data Maestro.'!O18/100","v":0},{"$f":"+'Data Maestro.'!P18/100","v":0},{"$f":"+'Data Maestro.'!Q18/100","v":0},{"$f":"+'Data Maestro.'!R18/100","v":0},{"$f":"+'Data Maestro.'!S18/100","v":0},{"$f":"+'Data Maestro.'!T18/100","v":0},{"$f":"+'Data Maestro.'!U18/100","v":0},{"$f":"+'Data Maestro.'!V18","v":0},{"$f":"+'Data Maestro.'!W18","v":0},{"$f":"+'Data Maestro.'!X18","v":0},{"$f":"+'Data Maestro.'!Y18","v":0},{"$f":"+'Data Maestro.'!Z18","v":0},{"$f":"+'Data Maestro.'!AA18","v":0},{"$f":"+'Data Maestro.'!AB18","v":0},{"$f":"+'Data Maestro.'!AC18","v":0},{"$f":"+'Data Maestro.'!AD18","v":0},{"$f":"+'Data Maestro.'!AE18","v":0}]
[12,{"$f":"+IF(ISBLANK('Data Maestro.'!B19),\"\",'Data Maestro.'!B19)","v":"GRASA PROTEGIDA"},{"$f":"+'Data Maestro.'!C19/100","v":0.95},{"$f":"+'Data Maestro.'!D19/100","v":1.84},{"$f":"+'Data Maestro.'!E19/100","v":0},{"$f":"+'Data Maestro.'!F19/100","v":0},{"$f":"+'Data Maestro.'!G19/100","v":0},{"$f":"+'Data Maestro.'!H19/100","v":0},{"$f":"+'Data Maestro.'!I19/100","v":0.09},{"$f":"+'Data Maestro.'!J19/100","v":0},{"$f":"+'Data Maestro.'!K19/100","v":0.84},{"$f":"+'Data Maestro.'!L19/100","v":0},{"$f":"+'Data Maestro.'!M19/100","v":0},{"$f":"+'Data Maestro.'!N19/100","v":0},{"$f":"+'Data Maestro.'!O19/100","v":0},{"$f":"+'Data Maestro.'!P19/100","v":0},{"$f":"+'Data Maestro.'!Q19/100","v":0},{"$f":"+'Data Maestro.'!R19/100","v":0},{"$f":"+'Data Maestro.'!S19/100","v":0},{"$f":"+'Data Maestro.'!T19/100","v":0},{"$f":"+'Data Maestro.'!U19/100","v":0},{"$f":"+'Data Maestro.'!V19","v":0},{"$f":"+'Data Maestro.'!W19","v":0},{"$f":"+'Data Maestro.'!X19","v":0},{"$f":"+'Data Maestro.'!Y19","v":0},{"$f":"+'Data Maestro.'!Z19","v":0},{"$f":"+'Data Maestro.'!AA19","v":0},{"$f":"+'Data Maestro.'!AB19","v":0},{"$f":"+'Data Maestro.'!AC19","v":0},{"$f":"+'Data Maestro.'!AD19","v":0},{"$f":"+'Data Maestro.'!AE19","v":0}]
[13,{"$f":"+IF(ISBLANK('Data Maestro.'!B20),\"\",'Data Maestro.'!B20)","v":"CARBONATO DE CALCIO"},{"$f":"+'Data Maestro.'!C20/100","v":0.98},{"$f":"+'Data Maestro.'!D20/100","v":0},{"$f":"+'Data Maestro.'!E20/100","v":0},{"$f":"+'Data Maestro.'!F20/100","v":0},{"$f":"+'Data Maestro.'!G20/100","v":0},{"$f":"+'Data Maestro.'!H20/100","v":0},{"$f":"+'Data Maestro.'!I20/100","v":0.38},{"$f":"+'Data Maestro.'!J20/100","v":0},{"$f":"+'Data Maestro.'!K20/100","v":0},{"$f":"+'Data Maestro.'!L20/100","v":0},{"$f":"+'Data Maestro.'!M20/100","v":0},{"$f":"+'Data Maestro.'!N20/100","v":0},{"$f":"+'Data Maestro.'!O20/100","v":0},{"$f":"+'Data Maestro.'!P20/100","v":0},{"$f":"+'Data Maestro.'!Q20/100","v":0},{"$f":"+'Data Maestro.'!R20/100","v":0},{"$f":"+'Data Maestro.'!S20/100","v":0},{"$f":"+'Data Maestro.'!T20/100","v":0},{"$f":"+'Data Maestro.'!U20/100","v":0},{"$f":"+'Data Maestro.'!V20","v":0},{"$f":"+'Data Maestro.'!W20","v":0},{"$f":"+'Data Maestro.'!X20","v":0},{"$f":"+'Data Maestro.'!Y20","v":0},{"$f":"+'Data Maestro.'!Z20","v":0},{"$f":"+'Data Maestro.'!AA20","v":0},{"$f":"+'Data Maestro.'!AB20","v":0},{"$f":"+'Data Maestro.'!AC20","v":0},{"$f":"+'Data Maestro.'!AD20","v":0},{"$f":"+'Data Maestro.'!AE20","v":0}]
[14,{"$f":"+IF(ISBLANK('Data Maestro.'!B21),\"\",'Data Maestro.'!B21)","v":"SAL"},{"$f":"+'Data Maestro.'!C21/100","v":0.99},{"$f":"+'Data Maestro.'!D21/100","v":0},{"$f":"+'Data Maestro.'!E21/100","v":0},{"$f":"+'Data Maestro.'!F21/100","v":0},{"$f":"+'Data Maestro.'!G21/100","v":0},{"$f":"+'Data Maestro.'!H21/100","v":0},{"$f":"+'Data Maestro.'!I21/100","v":0},{"$f":"+'Data Maestro.'!J21/100","v":0},{"$f":"+'Data Maestro.'!K21/100","v":0},{"$f":"+'Data Maestro.'!L21/100","v":0},{"$f":"+'Data Maestro.'!M21/100","v":0},{"$f":"+'Data Maestro.'!N21/100","v":0},{"$f":"+'Data Maestro.'!O21/100","v":0.39},{"$f":"+'Data Maestro.'!P21/100","v":0},{"$f":"+'Data Maestro.'!Q21/100","v":0},{"$f":"+'Data Maestro.'!R21/100","v":0.6},{"$f":"+'Data Maestro.'!S21/100","v":0},{"$f":"+'Data Maestro.'!T21/100","v":0},{"$f":"+'Data Maestro.'!U21/100","v":0},{"$f":"+'Data Maestro.'!V21","v":0},{"$f":"+'Data Maestro.'!W21","v":0},{"$f":"+'Data Maestro.'!X21","v":0},{"$f":"+'Data Maestro.'!Y21","v":0},{"$f":"+'Data Maestro.'!Z21","v":0},{"$f":"+'Data Maestro.'!AA21","v":0},{"$f":"+'Data Maestro.'!AB21","v":0},{"$f":"+'Data Maestro.'!AC21","v":0},{"$f":"+'Data Maestro.'!AD21","v":0},{"$f":"+'Data Maestro.'!AE21","v":0}]
[15,{"$f":"+IF(ISBLANK('Data Maestro.'!B22),\"\",'Data Maestro.'!B22)","v":"Custom Pack 940"},{"$f":"+'Data Maestro.'!C22/100","v":0.99},{"$f":"+'Data Maestro.'!D22/100","v":0},{"$f":"+'Data Maestro.'!E22/100","v":0},{"$f":"+'Data Maestro.'!F22/100","v":0},{"$f":"+'Data Maestro.'!G22/100","v":0},{"$f":"+'Data Maestro.'!H22/100","v":0},{"$f":"+'Data Maestro.'!I22/100","v":0},{"$f":"+'Data Maestro.'!J22/100","v":0},{"$f":"+'Data Maestro.'!K22/100","v":0},{"$f":"+'Data Maestro.'!L22/100","v":0},{"$f":"+'Data Maestro.'!M22/100","v":0},{"$f":"+'Data Maestro.'!N22/100","v":0},{"$f":"+'Data Maestro.'!O22/100","v":0},{"$f":"+'Data Maestro.'!P22/100","v":0},{"$f":"+'Data Maestro.'!Q22/100","v":0},{"$f":"+'Data Maestro.'!R22/100","v":0},{"$f":"+'Data Maestro.'!S22/100","v":0},{"$f":"+'Data Maestro.'!T22/100","v":0},{"$f":"+'Data Maestro.'!U22/100","v":0},{"$f":"+'Data Maestro.'!V22","v":0},{"$f":"+'Data Maestro.'!W22","v":0},{"$f":"+'Data Maestro.'!X22","v":0},{"$f":"+'Data Maestro.'!Y22","v":0},{"$f":"+'Data Maestro.'!Z22","v":0},{"$f":"+'Data Maestro.'!AA22","v":0},{"$f":"+'Data Maestro.'!AB22","v":0},{"$f":"+'Data Maestro.'!AC22","v":0},{"$f":"+'Data Maestro.'!AD22","v":0},{"$f":"+'Data Maestro.'!AE22","v":0}]
[16,{"$f":"+IF(ISBLANK('Data Maestro.'!B23),\"\",'Data Maestro.'!B23)","v":"DDGS"},{"$f":"+'Data Maestro.'!C23/100","v":0.88},{"$f":"+'Data Maestro.'!D23/100","v":0.8},{"$f":"+'Data Maestro.'!E23/100","v":0.3},{"$f":"+'Data Maestro.'!F23/100","v":0.33},{"$f":"+'Data Maestro.'!G23/100","v":0.41499999999999998},{"$f":"+'Data Maestro.'!H23/100","v":0.161},{"$f":"+'Data Maestro.'!I23/100","v":2.2000000000000001E-3},{"$f":"+'Data Maestro.'!J23/100","v":8.3000000000000001E-3},{"$f":"+'Data Maestro.'!K23/100","v":0.1},{"$f":"+'Data Maestro.'!L23/100","v":0.45},{"$f":"+'Data Maestro.'!M23/100","v":0.55000000000000004},{"$f":"+'Data Maestro.'!N23/100","v":0},{"$f":"+'Data Maestro.'!O23/100","v":0},{"$f":"+'Data Maestro.'!P23/100","v":0},{"$f":"+'Data Maestro.'!Q23/100","v":0},{"$f":"+'Data Maestro.'!R23/100","v":0},{"$f":"+'Data Maestro.'!S23/100","v":0},{"$f":"+'Data Maestro.'!T23/100","v":0},{"$f":"+'Data Maestro.'!U23/100","v":0},{"$f":"+'Data Maestro.'!V23","v":0},{"$f":"+'Data Maestro.'!W23","v":0},{"$f":"+'Data Maestro.'!X23","v":0},{"$f":"+'Data Maestro.'!Y23","v":0},{"$f":"+'Data Maestro.'!Z23","v":0},{"$f":"+'Data Maestro.'!AA23","v":0},{"$f":"+'Data Maestro.'!AB23","v":0},{"$f":"+'Data Maestro.'!AC23","v":0},{"$f":"+'Data Maestro.'!AD23","v":0},{"$f":"+'Data Maestro.'!AE23","v":0}]
[17,{"$f":"+IF(ISBLANK('Data Maestro.'!B24),\"\",'Data Maestro.'!B24)","v":"Colina"},{"$f":"+'Data Maestro.'!C24/100","v":0.99},{"$f":"+'Data Maestro.'!D24/100","v":0},{"$f":"+'Data Maestro.'!E24/100","v":0},{"$f":"+'Data Maestro.'!F24/100","v":0},{"$f":"+'Data Maestro.'!G24/100","v":0},{"$f":"+'Data Maestro.'!H24/100","v":0},{"$f":"+'Data Maestro.'!I24/100","v":0},{"$f":"+'Data Maestro.'!J24/100","v":0},{"$f":"+'Data Maestro.'!K24/100","v":0},{"$f":"+'Data Maestro.'!L24/100","v":0},{"$f":"+'Data Maestro.'!M24/100","v":0},{"$f":"+'Data Maestro.'!N24/100","v":0},{"$f":"+'Data Maestro.'!O24/100","v":0},{"$f":"+'Data Maestro.'!P24/100","v":0},{"$f":"+'Data Maestro.'!Q24/100","v":0},{"$f":"+'Data Maestro.'!R24/100","v":0},{"$f":"+'Data Maestro.'!S24/100","v":0},{"$f":"+'Data Maestro.'!T24/100","v":0},{"$f":"+'Data Maestro.'!U24/100","v":0},{"$f":"+'Data Maestro.'!V24","v":0},{"$f":"+'Data Maestro.'!W24","v":0},{"$f":"+'Data Maestro.'!X24","v":0},{"$f":"+'Data Maestro.'!Y24","v":0},{"$f":"+'Data Maestro.'!Z24","v":0},{"$f":"+'Data Maestro.'!AA24","v":0},{"$f":"+'Data Maestro.'!AB24","v":0},{"$f":"+'Data Maestro.'!AC24","v":0},{"$f":"+'Data Maestro.'!AD24","v":0},{"$f":"+'Data Maestro.'!AE24","v":0}]
[18,{"$f":"+IF(ISBLANK('Data Maestro.'!B25),\"\",'Data Maestro.'!B25)","v":"Optigen"},{"$f":"+'Data Maestro.'!C25/100","v":0.99},{"$f":"+'Data Maestro.'!D25/100","v":0},{"$f":"+'Data Maestro.'!E25/100","v":2.5299999999999998},{"$f":"+'Data Maestro.'!F25/100","v":0},{"$f":"+'Data Maestro.'!G25/100","v":0},{"$f":"+'Data Maestro.'!H25/100","v":0},{"$f":"+'Data Maestro.'!I25/100","v":0},{"$f":"+'Data Maestro.'!J25/100","v":0},{"$f":"+'Data Maestro.'!K25/100","v":0},{"$f":"+'Data Maestro.'!L25/100","v":0},{"$f":"+'Data Maestro.'!M25/100","v":0},{"$f":"+'Data Maestro.'!N25/100","v":0},{"$f":"+'Data Maestro.'!O25/100","v":0},{"$f":"+'Data Maestro.'!P25/100","v":0},{"$f":"+'Data Maestro.'!Q25/100","v":0},{"$f":"+'Data Maestro.'!R25/100","v":0},{"$f":"+'Data Maestro.'!S25/100","v":0},{"$f":"+'Data Maestro.'!T25/100","v":0},{"$f":"+'Data Maestro.'!U25/100","v":0},{"$f":"+'Data Maestro.'!V25","v":0},{"$f":"+'Data Maestro.'!W25","v":0},{"$f":"+'Data Maestro.'!X25","v":0},{"$f":"+'Data Maestro.'!Y25","v":0},{"$f":"+'Data Maestro.'!Z25","v":0},{"$f":"+'Data Maestro.'!AA25","v":0},{"$f":"+'Data Maestro.'!AB25","v":0},{"$f":"+'Data Maestro.'!AC25","v":0},{"$f":"+'Data Maestro.'!AD25","v":0},{"$f":"+'Data Maestro.'!AE25","v":0}]
[19,{"$f":"+IF(ISBLANK('Data Maestro.'!B26),\"\",'Data Maestro.'!B26)","v":"Stafac"},{"$f":"+'Data Maestro.'!C26/100","v":0},{"$f":"+'Data Maestro.'!D26/100","v":0},{"$f":"+'Data Maestro.'!E26/100","v":0},{"$f":"+'Data Maestro.'!F26/100","v":0},{"$f":"+'Data Maestro.'!G26/100","v":0},{"$f":"+'Data Maestro.'!H26/100","v":0},{"$f":"+'Data Maestro.'!I26/100","v":0},{"$f":"+'Data Maestro.'!J26/100","v":0},{"$f":"+'Data Maestro.'!K26/100","v":0},{"$f":"+'Data Maestro.'!L26/100","v":0},{"$f":"+'Data Maestro.'!M26/100","v":0},{"$f":"+'Data Maestro.'!N26/100","v":0},{"$f":"+'Data Maestro.'!O26/100","v":0},{"$f":"+'Data Maestro.'!P26/100","v":0},{"$f":"+'Data Maestro.'!Q26/100","v":0},{"$f":"+'Data Maestro.'!R26/100","v":0},{"$f":"+'Data Maestro.'!S26/100","v":0},{"$f":"+'Data Maestro.'!T26/100","v":0},{"$f":"+'Data Maestro.'!U26/100","v":0},{"$f":"+'Data Maestro.'!V26","v":0},{"$f":"+'Data Maestro.'!W26","v":0},{"$f":"+'Data Maestro.'!X26","v":0},{"$f":"+'Data Maestro.'!Y26","v":0},{"$f":"+'Data Maestro.'!Z26","v":0},{"$f":"+'Data Maestro.'!AA26","v":0},{"$f":"+'Data Maestro.'!AB26","v":0},{"$f":"+'Data Maestro.'!AC26","v":0},{"$f":"+'Data Maestro.'!AD26","v":0},{"$f":"+'Data Maestro.'!AE26","v":0}]
[20,{"$f":"+IF(ISBLANK('Data Maestro.'!B27),\"\",'Data Maestro.'!B27)","v":"Selplex"},{"$f":"+'Data Maestro.'!C27/100","v":0},{"$f":"+'Data Maestro.'!D27/100","v":0},{"$f":"+'Data Maestro.'!E27/100","v":0},{"$f":"+'Data Maestro.'!F27/100","v":0},{"$f":"+'Data Maestro.'!G27/100","v":0},{"$f":"+'Data Maestro.'!H27/100","v":0},{"$f":"+'Data Maestro.'!I27/100","v":0},{"$f":"+'Data Maestro.'!J27/100","v":0},{"$f":"+'Data Maestro.'!K27/100","v":0},{"$f":"+'Data Maestro.'!L27/100","v":0},{"$f":"+'Data Maestro.'!M27/100","v":0},{"$f":"+'Data Maestro.'!N27/100","v":0},{"$f":"+'Data Maestro.'!O27/100","v":0},{"$f":"+'Data Maestro.'!P27/100","v":0},{"$f":"+'Data Maestro.'!Q27/100","v":0},{"$f":"+'Data Maestro.'!R27/100","v":0},{"$f":"+'Data Maestro.'!S27/100","v":0},{"$f":"+'Data Maestro.'!T27/100","v":0},{"$f":"+'Data Maestro.'!U27/100","v":0},{"$f":"+'Data Maestro.'!V27","v":0},{"$f":"+'Data Maestro.'!W27","v":0},{"$f":"+'Data Maestro.'!X27","v":0},{"$f":"+'Data Maestro.'!Y27","v":0},{"$f":"+'Data Maestro.'!Z27","v":0},{"$f":"+'Data Maestro.'!AA27","v":0},{"$f":"+'Data Maestro.'!AB27","v":0},{"$f":"+'Data Maestro.'!AC27","v":0},{"$f":"+'Data Maestro.'!AD27","v":0},{"$f":"+'Data Maestro.'!AE27","v":0}]
[21,{"$f":"+IF(ISBLANK('Data Maestro.'!B28),\"\",'Data Maestro.'!B28)","v":"Dairy Pack"},{"$f":"+'Data Maestro.'!C28/100","v":0},{"$f":"+'Data Maestro.'!D28/100","v":0},{"$f":"+'Data Maestro.'!E28/100","v":0},{"$f":"+'Data Maestro.'!F28/100","v":0},{"$f":"+'Data Maestro.'!G28/100","v":0},{"$f":"+'Data Maestro.'!H28/100","v":0},{"$f":"+'Data Maestro.'!I28/100","v":0},{"$f":"+'Data Maestro.'!J28/100","v":0},{"$f":"+'Data Maestro.'!K28/100","v":0},{"$f":"+'Data Maestro.'!L28/100","v":0},{"$f":"+'Data Maestro.'!M28/100","v":0},{"$f":"+'Data Maestro.'!N28/100","v":0},{"$f":"+'Data Maestro.'!O28/100","v":0},{"$f":"+'Data Maestro.'!P28/100","v":0},{"$f":"+'Data Maestro.'!Q28/100","v":0},{"$f":"+'Data Maestro.'!R28/100","v":0},{"$f":"+'Data Maestro.'!S28/100","v":0},{"$f":"+'Data Maestro.'!T28/100","v":0},{"$f":"+'Data Maestro.'!U28/100","v":0},{"$f":"+'Data Maestro.'!V28","v":0},{"$f":"+'Data Maestro.'!W28","v":0},{"$f":"+'Data Maestro.'!X28","v":0},{"$f":"+'Data Maestro.'!Y28","v":0},{"$f":"+'Data Maestro.'!Z28","v":0},{"$f":"+'Data Maestro.'!AA28","v":0},{"$f":"+'Data Maestro.'!AB28","v":0},{"$f":"+'Data Maestro.'!AC28","v":0},{"$f":"+'Data Maestro.'!AD28","v":0},{"$f":"+'Data Maestro.'!AE28","v":0}]
[22,{"$f":"+IF(ISBLANK('Data Maestro.'!B29),\"\",'Data Maestro.'!B29)","v":"Bioplex Cobre"},{"$f":"+'Data Maestro.'!C29/100","v":0},{"$f":"+'Data Maestro.'!D29/100","v":0},{"$f":"+'Data Maestro.'!E29/100","v":0},{"$f":"+'Data Maestro.'!F29/100","v":0},{"$f":"+'Data Maestro.'!G29/100","v":0},{"$f":"+'Data Maestro.'!H29/100","v":0},{"$f":"+'Data Maestro.'!I29/100","v":0},{"$f":"+'Data Maestro.'!J29/100","v":0},{"$f":"+'Data Maestro.'!K29/100","v":0},{"$f":"+'Data Maestro.'!L29/100","v":0},{"$f":"+'Data Maestro.'!M29/100","v":0},{"$f":"+'Data Maestro.'!N29/100","v":0},{"$f":"+'Data Maestro.'!O29/100","v":0},{"$f":"+'Data Maestro.'!P29/100","v":0},{"$f":"+'Data Maestro.'!Q29/100","v":0},{"$f":"+'Data Maestro.'!R29/100","v":0},{"$f":"+'Data Maestro.'!S29/100","v":0},{"$f":"+'Data Maestro.'!T29/100","v":0},{"$f":"+'Data Maestro.'!U29/100","v":0},{"$f":"+'Data Maestro.'!V29","v":0},{"$f":"+'Data Maestro.'!W29","v":0},{"$f":"+'Data Maestro.'!X29","v":0},{"$f":"+'Data Maestro.'!Y29","v":0},{"$f":"+'Data Maestro.'!Z29","v":0},{"$f":"+'Data Maestro.'!AA29","v":0},{"$f":"+'Data Maestro.'!AB29","v":0},{"$f":"+'Data Maestro.'!AC29","v":0},{"$f":"+'Data Maestro.'!AD29","v":0},{"$f":"+'Data Maestro.'!AE29","v":0}]
[23,{"$f":"+IF(ISBLANK('Data Maestro.'!B30),\"\",'Data Maestro.'!B30)","v":"SUPLAMIN DIFOS"},{"$f":"+'Data Maestro.'!C30/100","v":0.98},{"$f":"+'Data Maestro.'!D30/100","v":0},{"$f":"+'Data Maestro.'!E30/100","v":0},{"$f":"+'Data Maestro.'!F30/100","v":0},{"$f":"+'Data Maestro.'!G30/100","v":0},{"$f":"+'Data Maestro.'!H30/100","v":0},{"$f":"+'Data Maestro.'!I30/100","v":0.185},{"$f":"+'Data Maestro.'!J30/100","v":0.15060000000000001},{"$f":"+'Data Maestro.'!K30/100","v":0},{"$f":"+'Data Maestro.'!L30/100","v":0},{"$f":"+'Data Maestro.'!M30/100","v":0},{"$f":"+'Data Maestro.'!N30/100","v":0},{"$f":"+'Data Maestro.'!O30/100","v":2.35E-2},{"$f":"+'Data Maestro.'!P30/100","v":4.8640000000000003E-3},{"$f":"+'Data Maestro.'!Q30/100","v":6.9999999999999999E-6},{"$f":"+'Data Maestro.'!R30/100","v":0},{"$f":"+'Data Maestro.'!S30/100","v":9.3999999999999997E-4},{"$f":"+'Data Maestro.'!T30/100","v":0},{"$f":"+'Data Maestro.'!U30/100","v":0},{"$f":"+'Data Maestro.'!V30","v":0},{"$f":"+'Data Maestro.'!W30","v":0},{"$f":"+'Data Maestro.'!X30","v":0},{"$f":"+'Data Maestro.'!Y30","v":0},{"$f":"+'Data Maestro.'!Z30","v":1209},{"$f":"+'Data Maestro.'!AA30","v":10},{"$f":"+'Data Maestro.'!AB30","v":2500},{"$f":"+'Data Maestro.'!AC30","v":515},{"$f":"+'Data Maestro.'!AD30","v":650},{"$f":"+'Data Maestro.'!AE30","v":100}]
[24,{"$f":"+IF(ISBLANK('Data Maestro.'!B31),\"\",'Data Maestro.'!B31)","v":"MONTAFOS"},{"$f":"+'Data Maestro.'!C31/100","v":0.99},{"$f":"+'Data Maestro.'!D31/100","v":0},{"$f":"+'Data Maestro.'!E31/100","v":0},{"$f":"+'Data Maestro.'!F31/100","v":0},{"$f":"+'Data Maestro.'!G31/100","v":0},{"$f":"+'Data Maestro.'!H31/100","v":0},{"$f":"+'Data Maestro.'!I31/100","v":0.18},{"$f":"+'Data Maestro.'!J31/100","v":0.21},{"$f":"+'Data Maestro.'!K31/100","v":0},{"$f":"+'Data Maestro.'!L31/100","v":0},{"$f":"+'Data Maestro.'!M31/100","v":0},{"$f":"+'Data Maestro.'!N31/100","v":0},{"$f":"+'Data Maestro.'!O31/100","v":0},{"$f":"+'Data Maestro.'!P31/100","v":0},{"$f":"+'Data Maestro.'!Q31/100","v":0},{"$f":"+'Data Maestro.'!R31/100","v":0},{"$f":"+'Data Maestro.'!S31/100","v":0},{"$f":"+'Data Maestro.'!T31/100","v":0},{"$f":"+'Data Maestro.'!U31/100","v":0},{"$f":"+'Data Maestro.'!V31","v":0},{"$f":"+'Data Maestro.'!W31","v":0},{"$f":"+'Data Maestro.'!X31","v":0},{"$f":"+'Data Maestro.'!Y31","v":0},{"$f":"+'Data Maestro.'!Z31","v":0},{"$f":"+'Data Maestro.'!AA31","v":0},{"$f":"+'Data Maestro.'!AB31","v":0},{"$f":"+'Data Maestro.'!AC31","v":0},{"$f":"+'Data Maestro.'!AD31","v":0},{"$f":"+'Data Maestro.'!AE31","v":0}]
[25,{"$f":"+IF(ISBLANK('Data Maestro.'!B32),\"\",'Data Maestro.'!B32)","v":""},{"$f":"+'Data Maestro.'!C32/100","v":0},{"$f":"+'Data Maestro.'!D32/100","v":0},{"$f":"+'Data Maestro.'!E32/100","v":0},{"$f":"+'Data Maestro.'!F32/100","v":0},{"$f":"+'Data Maestro.'!G32/100","v":0},{"$f":"+'Data Maestro.'!H32/100","v":0},{"$f":"+'Data Maestro.'!I32/100","v":0},{"$f":"+'Data Maestro.'!J32/100","v":0},{"$f":"+'Data Maestro.'!K32/100","v":0},{"$f":"+'Data Maestro.'!L32/100","v":0},{"$f":"+'Data Maestro.'!M32/100","v":0},{"$f":"+'Data Maestro.'!N32/100","v":0},{"$f":"+'Data Maestro.'!O32/100","v":0},{"$f":"+'Data Maestro.'!P32/100","v":0},{"$f":"+'Data Maestro.'!Q32/100","v":0},{"$f":"+'Data Maestro.'!R32/100","v":0},{"$f":"+'Data Maestro.'!S32/100","v":0},{"$f":"+'Data Maestro.'!T32/100","v":0},{"$f":"+'Data Maestro.'!U32/100","v":0},{"$f":"+'Data Maestro.'!V32","v":0},{"$f":"+'Data Maestro.'!W32","v":0},{"$f":"+'Data Maestro.'!X32","v":0},{"$f":"+'Data Maestro.'!Y32","v":0},{"$f":"+'Data Maestro.'!Z32","v":0},{"$f":"+'Data Maestro.'!AA32","v":0},{"$f":"+'Data Maestro.'!AB32","v":0},{"$f":"+'Data Maestro.'!AC32","v":0},{"$f":"+'Data Maestro.'!AD32","v":0},{"$f":"+'Data Maestro.'!AE32","v":0}]
[26,{"$f":"+IF(ISBLANK('Data Maestro.'!B33),\"\",'Data Maestro.'!B33)","v":""},{"$f":"+'Data Maestro.'!C33/100","v":0},{"$f":"+'Data Maestro.'!D33/100","v":0},{"$f":"+'Data Maestro.'!E33/100","v":0},{"$f":"+'Data Maestro.'!F33/100","v":0},{"$f":"+'Data Maestro.'!G33/100","v":0},{"$f":"+'Data Maestro.'!H33/100","v":0},{"$f":"+'Data Maestro.'!I33/100","v":0},{"$f":"+'Data Maestro.'!J33/100","v":0},{"$f":"+'Data Maestro.'!K33/100","v":0},{"$f":"+'Data Maestro.'!L33/100","v":0},{"$f":"+'Data Maestro.'!M33/100","v":0},{"$f":"+'Data Maestro.'!N33/100","v":0},{"$f":"+'Data Maestro.'!O33/100","v":0},{"$f":"+'Data Maestro.'!P33/100","v":0},{"$f":"+'Data Maestro.'!Q33/100","v":0},{"$f":"+'Data Maestro.'!R33/100","v":0},{"$f":"+'Data Maestro.'!S33/100","v":0},{"$f":"+'Data Maestro.'!T33/100","v":0},{"$f":"+'Data Maestro.'!U33/100","v":0},{"$f":"+'Data Maestro.'!V33","v":0},{"$f":"+'Data Maestro.'!W33","v":0},{"$f":"+'Data Maestro.'!X33","v":0},{"$f":"+'Data Maestro.'!Y33","v":0},{"$f":"+'Data Maestro.'!Z33","v":0},{"$f":"+'Data Maestro.'!AA33","v":0},{"$f":"+'Data Maestro.'!AB33","v":0},{"$f":"+'Data Maestro.'!AC33","v":0},{"$f":"+'Data Maestro.'!AD33","v":0},{"$f":"+'Data Maestro.'!AE33","v":0}]
[27,{"$f":"+IF(ISBLANK('Data Maestro.'!B34),\"\",'Data Maestro.'!B34)","v":""},{"$f":"+'Data Maestro.'!C34/100","v":0},{"$f":"+'Data Maestro.'!D34/100","v":0},{"$f":"+'Data Maestro.'!E34/100","v":0},{"$f":"+'Data Maestro.'!F34/100","v":0},{"$f":"+'Data Maestro.'!G34/100","v":0},{"$f":"+'Data Maestro.'!H34/100","v":0},{"$f":"+'Data Maestro.'!I34/100","v":0},{"$f":"+'Data Maestro.'!J34/100","v":0},{"$f":"+'Data Maestro.'!K34/100","v":0},{"$f":"+'Data Maestro.'!L34/100","v":0},{"$f":"+'Data Maestro.'!M34/100","v":0},{"$f":"+'Data Maestro.'!N34/100","v":0},{"$f":"+'Data Maestro.'!O34/100","v":0},{"$f":"+'Data Maestro.'!P34/100","v":0},{"$f":"+'Data Maestro.'!Q34/100","v":0},{"$f":"+'Data Maestro.'!R34/100","v":0},{"$f":"+'Data Maestro.'!S34/100","v":0},{"$f":"+'Data Maestro.'!T34/100","v":0},{"$f":"+'Data Maestro.'!U34/100","v":0},{"$f":"+'Data Maestro.'!V34","v":0},{"$f":"+'Data Maestro.'!W34","v":0},{"$f":"+'Data Maestro.'!X34","v":0},{"$f":"+'Data Maestro.'!Y34","v":0},{"$f":"+'Data Maestro.'!Z34","v":0},{"$f":"+'Data Maestro.'!AA34","v":0},{"$f":"+'Data Maestro.'!AB34","v":0},{"$f":"+'Data Maestro.'!AC34","v":0},{"$f":"+'Data Maestro.'!AD34","v":0},{"$f":"+'Data Maestro.'!AE34","v":0}]
[28,{"$f":"+IF(ISBLANK('Data Maestro.'!B35),\"\",'Data Maestro.'!B35)","v":""},{"$f":"+'Data Maestro.'!C35/100","v":0},{"$f":"+'Data Maestro.'!D35/100","v":0},{"$f":"+'Data Maestro.'!E35/100","v":0},{"$f":"+'Data Maestro.'!F35/100","v":0},{"$f":"+'Data Maestro.'!G35/100","v":0},{"$f":"+'Data Maestro.'!H35/100","v":0},{"$f":"+'Data Maestro.'!I35/100","v":0},{"$f":"+'Data Maestro.'!J35/100","v":0},{"$f":"+'Data Maestro.'!K35/100","v":0},{"$f":"+'Data Maestro.'!L35/100","v":0},{"$f":"+'Data Maestro.'!M35/100","v":0},{"$f":"+'Data Maestro.'!N35/100","v":0},{"$f":"+'Data Maestro.'!O35/100","v":0},{"$f":"+'Data Maestro.'!P35/100","v":0},{"$f":"+'Data Maestro.'!Q35/100","v":0},{"$f":"+'Data Maestro.'!R35/100","v":0},{"$f":"+'Data Maestro.'!S35/100","v":0},{"$f":"+'Data Maestro.'!T35/100","v":0},{"$f":"+'Data Maestro.'!U35/100","v":0},{"$f":"+'Data Maestro.'!V35","v":0},{"$f":"+'Data Maestro.'!W35","v":0},{"$f":"+'Data Maestro.'!X35","v":0},{"$f":"+'Data Maestro.'!Y35","v":0},{"$f":"+'Data Maestro.'!Z35","v":0},{"$f":"+'Data Maestro.'!AA35","v":0},{"$f":"+'Data Maestro.'!AB35","v":0},{"$f":"+'Data Maestro.'!AC35","v":0},{"$f":"+'Data Maestro.'!AD35","v":0},{"$f":"+'Data Maestro.'!AE35","v":0}]
[29,{"$f":"+IF(ISBLANK('Data Maestro.'!B36),\"\",'Data Maestro.'!B36)","v":""},{"$f":"+'Data Maestro.'!C36/100","v":0},{"$f":"+'Data Maestro.'!D36/100","v":0},{"$f":"+'Data Maestro.'!E36/100","v":0},{"$f":"+'Data Maestro.'!F36/100","v":0},{"$f":"+'Data Maestro.'!G36/100","v":0},{"$f":"+'Data Maestro.'!H36/100","v":0},{"$f":"+'Data Maestro.'!I36/100","v":0},{"$f":"+'Data Maestro.'!J36/100","v":0},{"$f":"+'Data Maestro.'!K36/100","v":0},{"$f":"+'Data Maestro.'!L36/100","v":0},{"$f":"+'Data Maestro.'!M36/100","v":0},{"$f":"+'Data Maestro.'!N36/100","v":0},{"$f":"+'Data Maestro.'!O36/100","v":0},{"$f":"+'Data Maestro.'!P36/100","v":0},{"$f":"+'Data Maestro.'!Q36/100","v":0},{"$f":"+'Data Maestro.'!R36/100","v":0},{"$f":"+'Data Maestro.'!S36/100","v":0},{"$f":"+'Data Maestro.'!T36/100","v":0},{"$f":"+'Data Maestro.'!U36/100","v":0},{"$f":"+'Data Maestro.'!V36","v":0},{"$f":"+'Data Maestro.'!W36","v":0},{"$f":"+'Data Maestro.'!X36","v":0},{"$f":"+'Data Maestro.'!Y36","v":0},{"$f":"+'Data Maestro.'!Z36","v":0},{"$f":"+'Data Maestro.'!AA36","v":0},{"$f":"+'Data Maestro.'!AB36","v":0},{"$f":"+'Data Maestro.'!AC36","v":0},{"$f":"+'Data Maestro.'!AD36","v":0},{"$f":"+'Data Maestro.'!AE36","v":0}]
[30,{"$f":"+IF(ISBLANK('Data Maestro.'!B37),\"\",'Data Maestro.'!B37)","v":""},{"$f":"+'Data Maestro.'!C37/100","v":0},{"$f":"+'Data Maestro.'!D37/100","v":0},{"$f":"+'Data Maestro.'!E37/100","v":0},{"$f":"+'Data Maestro.'!F37/100","v":0},{"$f":"+'Data Maestro.'!G37/100","v":0},{"$f":"+'Data Maestro.'!H37/100","v":0},{"$f":"+'Data Maestro.'!I37/100","v":0},{"$f":"+'Data Maestro.'!J37/100","v":0},{"$f":"+'Data Maestro.'!K37/100","v":0},{"$f":"+'Data Maestro.'!L37/100","v":0},{"$f":"+'Data Maestro.'!M37/100","v":0},{"$f":"+'Data Maestro.'!N37/100","v":0},{"$f":"+'Data Maestro.'!O37/100","v":0},{"$f":"+'Data Maestro.'!P37/100","v":0},{"$f":"+'Data Maestro.'!Q37/100","v":0},{"$f":"+'Data Maestro.'!R37/100","v":0},{"$f":"+'Data Maestro.'!S37/100","v":0},{"$f":"+'Data Maestro.'!T37/100","v":0},{"$f":"+'Data Maestro.'!U37/100","v":0},{"$f":"+'Data Maestro.'!V37","v":0},{"$f":"+'Data Maestro.'!W37","v":0},{"$f":"+'Data Maestro.'!X37","v":0},{"$f":"+'Data Maestro.'!Y37","v":0},{"$f":"+'Data Maestro.'!Z37","v":0},{"$f":"+'Data Maestro.'!AA37","v":0},{"$f":"+'Data Maestro.'!AB37","v":0},{"$f":"+'Data Maestro.'!AC37","v":0},{"$f":"+'Data Maestro.'!AD37","v":0},{"$f":"+'Data Maestro.'!AE37","v":0}]
[31,{"$f":"+IF(ISBLANK('Data Maestro.'!B38),\"\",'Data Maestro.'!B38)","v":""},{"$f":"+'Data Maestro.'!C38/100","v":0},{"$f":"+'Data Maestro.'!D38/100","v":0},{"$f":"+'Data Maestro.'!E38/100","v":0},{"$f":"+'Data Maestro.'!F38/100","v":0},{"$f":"+'Data Maestro.'!G38/100","v":0},{"$f":"+'Data Maestro.'!H38/100","v":0},{"$f":"+'Data Maestro.'!I38/100","v":0},{"$f":"+'Data Maestro.'!J38/100","v":0},{"$f":"+'Data Maestro.'!K38/100","v":0},{"$f":"+'Data Maestro.'!L38/100","v":0},{"$f":"+'Data Maestro.'!M38/100","v":0},{"$f":"+'Data Maestro.'!N38/100","v":0},{"$f":"+'Data Maestro.'!O38/100","v":0},{"$f":"+'Data Maestro.'!P38/100","v":0},{"$f":"+'Data Maestro.'!Q38/100","v":0},{"$f":"+'Data Maestro.'!R38/100","v":0},{"$f":"+'Data Maestro.'!S38/100","v":0},{"$f":"+'Data Maestro.'!T38/100","v":0},{"$f":"+'Data Maestro.'!U38/100","v":0},{"$f":"+'Data Maestro.'!V38","v":0},{"$f":"+'Data Maestro.'!W38","v":0},{"$f":"+'Data Maestro.'!X38","v":0},{"$f":"+'Data Maestro.'!Y38","v":0},{"$f":"+'Data Maestro.'!Z38","v":0},{"$f":"+'Data Maestro.'!AA38","v":0},{"$f":"+'Data Maestro.'!AB38","v":0},{"$f":"+'Data Maestro.'!AC38","v":0},{"$f":"+'Data Maestro.'!AD38","v":0},{"$f":"+'Data Maestro.'!AE38","v":0}]
[32,{"$f":"+IF(ISBLANK('Data Maestro.'!B39),\"\",'Data Maestro.'!B39)","v":""},{"$f":"+'Data Maestro.'!C39/100","v":0},{"$f":"+'Data Maestro.'!D39/100","v":0},{"$f":"+'Data Maestro.'!E39/100","v":0},{"$f":"+'Data Maestro.'!F39/100","v":0},{"$f":"+'Data Maestro.'!G39/100","v":0},{"$f":"+'Data Maestro.'!H39/100","v":0},{"$f":"+'Data Maestro.'!I39/100","v":0},{"$f":"+'Data Maestro.'!J39/100","v":0},{"$f":"+'Data Maestro.'!K39/100","v":0},{"$f":"+'Data Maestro.'!L39/100","v":0},{"$f":"+'Data Maestro.'!M39/100","v":0},{"$f":"+'Data Maestro.'!N39/100","v":0},{"$f":"+'Data Maestro.'!O39/100","v":0},{"$f":"+'Data Maestro.'!P39/100","v":0},{"$f":"+'Data Maestro.'!Q39/100","v":0},{"$f":"+'Data Maestro.'!R39/100","v":0},{"$f":"+'Data Maestro.'!S39/100","v":0},{"$f":"+'Data Maestro.'!T39/100","v":0},{"$f":"+'Data Maestro.'!U39/100","v":0},{"$f":"+'Data Maestro.'!V39","v":0},{"$f":"+'Data Maestro.'!W39","v":0},{"$f":"+'Data Maestro.'!X39","v":0},{"$f":"+'Data Maestro.'!Y39","v":0},{"$f":"+'Data Maestro.'!Z39","v":0},{"$f":"+'Data Maestro.'!AA39","v":0},{"$f":"+'Data Maestro.'!AB39","v":0},{"$f":"+'Data Maestro.'!AC39","v":0},{"$f":"+'Data Maestro.'!AD39","v":0},{"$f":"+'Data Maestro.'!AE39","v":0}]
[33,{"$f":"+IF(ISBLANK('Data Maestro.'!B40),\"\",'Data Maestro.'!B40)","v":""},{"$f":"+'Data Maestro.'!C40/100","v":0},{"$f":"+'Data Maestro.'!D40/100","v":0},{"$f":"+'Data Maestro.'!E40/100","v":0},{"$f":"+'Data Maestro.'!F40/100","v":0},{"$f":"+'Data Maestro.'!G40/100","v":0},{"$f":"+'Data Maestro.'!H40/100","v":0},{"$f":"+'Data Maestro.'!I40/100","v":0},{"$f":"+'Data Maestro.'!J40/100","v":0},{"$f":"+'Data Maestro.'!K40/100","v":0},{"$f":"+'Data Maestro.'!L40/100","v":0},{"$f":"+'Data Maestro.'!M40/100","v":0},{"$f":"+'Data Maestro.'!N40/100","v":0},{"$f":"+'Data Maestro.'!O40/100","v":0},{"$f":"+'Data Maestro.'!P40/100","v":0},{"$f":"+'Data Maestro.'!Q40/100","v":0},{"$f":"+'Data Maestro.'!R40/100","v":0},{"$f":"+'Data Maestro.'!S40/100","v":0},{"$f":"+'Data Maestro.'!T40/100","v":0},{"$f":"+'Data Maestro.'!U40/100","v":0},{"$f":"+'Data Maestro.'!V40","v":0},{"$f":"+'Data Maestro.'!W40","v":0},{"$f":"+'Data Maestro.'!X40","v":0},{"$f":"+'Data Maestro.'!Y40","v":0},{"$f":"+'Data Maestro.'!Z40","v":0},{"$f":"+'Data Maestro.'!AA40","v":0},{"$f":"+'Data Maestro.'!AB40","v":0},{"$f":"+'Data Maestro.'!AC40","v":0},{"$f":"+'Data Maestro.'!AD40","v":0},{"$f":"+'Data Maestro.'!AE40","v":0}]
[34,{"$f":"+IF(ISBLANK('Data Maestro.'!B41),\"\",'Data Maestro.'!B41)","v":""},{"$f":"+'Data Maestro.'!C41/100","v":0},{"$f":"+'Data Maestro.'!D41/100","v":0},{"$f":"+'Data Maestro.'!E41/100","v":0},{"$f":"+'Data Maestro.'!F41/100","v":0},{"$f":"+'Data Maestro.'!G41/100","v":0},{"$f":"+'Data Maestro.'!H41/100","v":0},{"$f":"+'Data Maestro.'!I41/100","v":0},{"$f":"+'Data Maestro.'!J41/100","v":0},{"$f":"+'Data Maestro.'!K41/100","v":0},{"$f":"+'Data Maestro.'!L41/100","v":0},{"$f":"+'Data Maestro.'!M41/100","v":0},{"$f":"+'Data Maestro.'!N41/100","v":0},{"$f":"+'Data Maestro.'!O41/100","v":0},{"$f":"+'Data Maestro.'!P41/100","v":0},{"$f":"+'Data Maestro.'!Q41/100","v":0},{"$f":"+'Data Maestro.'!R41/100","v":0},{"$f":"+'Data Maestro.'!S41/100","v":0},{"$f":"+'Data Maestro.'!T41/100","v":0},{"$f":"+'Data Maestro.'!U41/100","v":0},{"$f":"+'Data Maestro.'!V41","v":0},{"$f":"+'Data Maestro.'!W41","v":0},{"$f":"+'Data Maestro.'!X41","v":0},{"$f":"+'Data Maestro.'!Y41","v":0},{"$f":"+'Data Maestro.'!Z41","v":0},{"$f":"+'Data Maestro.'!AA41","v":0},{"$f":"+'Data Maestro.'!AB41","v":0},{"$f":"+'Data Maestro.'!AC41","v":0},{"$f":"+'Data Maestro.'!AD41","v":0},{"$f":"+'Data Maestro.'!AE41","v":0}]
[35,{"$f":"+IF(ISBLANK('Data Maestro.'!B42),\"\",'Data Maestro.'!B42)","v":""},{"$f":"+'Data Maestro.'!C42/100","v":0},{"$f":"+'Data Maestro.'!D42/100","v":0},{"$f":"+'Data Maestro.'!E42/100","v":0},{"$f":"+'Data Maestro.'!F42/100","v":0},{"$f":"+'Data Maestro.'!G42/100","v":0},{"$f":"+'Data Maestro.'!H42/100","v":0},{"$f":"+'Data Maestro.'!I42/100","v":0},{"$f":"+'Data Maestro.'!J42/100","v":0},{"$f":"+'Data Maestro.'!K42/100","v":0},{"$f":"+'Data Maestro.'!L42/100","v":0},{"$f":"+'Data Maestro.'!M42/100","v":0},{"$f":"+'Data Maestro.'!N42/100","v":0},{"$f":"+'Data Maestro.'!O42/100","v":0},{"$f":"+'Data Maestro.'!P42/100","v":0},{"$f":"+'Data Maestro.'!Q42/100","v":0},{"$f":"+'Data Maestro.'!R42/100","v":0},{"$f":"+'Data Maestro.'!S42/100","v":0},{"$f":"+'Data Maestro.'!T42/100","v":0},{"$f":"+'Data Maestro.'!U42/100","v":0},{"$f":"+'Data Maestro.'!V42","v":0},{"$f":"+'Data Maestro.'!W42","v":0},{"$f":"+'Data Maestro.'!X42","v":0},{"$f":"+'Data Maestro.'!Y42","v":0},{"$f":"+'Data Maestro.'!Z42","v":0},{"$f":"+'Data Maestro.'!AA42","v":0},{"$f":"+'Data Maestro.'!AB42","v":0},{"$f":"+'Data Maestro.'!AC42","v":0},{"$f":"+'Data Maestro.'!AD42","v":0},{"$f":"+'Data Maestro.'!AE42","v":0}]
[]
[null,"Forrajes"]
[36,{"$f":"+IF(ISBLANK('Data Maestro.'!B45),\"\",'Data Maestro.'!B45)","v":"Orujo de ceb."},{"$f":"+'Data Maestro.'!C45/100","v":0.18},{"$f":"+'Data Maestro.'!D45/100","v":0.7},{"$f":"+'Data Maestro.'!E45/100","v":0.21},{"$f":"+'Data Maestro.'!F45/100","v":0.17},{"$f":"+'Data Maestro.'!G45/100","v":0.47},{"$f":"+'Data Maestro.'!H45/100","v":0.23},{"$f":"+'Data Maestro.'!I45/100","v":2.8999999999999998E-3},{"$f":"+'Data Maestro.'!J45/100","v":6.0000000000000001E-3},{"$f":"+'Data Maestro.'!K45/100","v":6.6000000000000003E-2},{"$f":"+'Data Maestro.'!L45/100","v":0.45},{"$f":"+'Data Maestro.'!M45/100","v":0.55000000000000004},{"$f":"+'Data Maestro.'!N45/100","v":0.25},{"$f":"+'Data Maestro.'!O45/100","v":0},{"$f":"+'Data Maestro.'!P45/100","v":0},{"$f":"+'Data Maestro.'!Q45/100","v":0},{"$f":"+'Data Maestro.'!R45/100","v":0},{"$f":"+'Data Maestro.'!S45/100","v":0},{"$f":"+'Data Maestro.'!T45/100","v":0},{"$f":"+'Data Maestro.'!U45/100","v":0},{"$f":"+'Data Maestro.'!V45","v":0},{"$f":"+'Data Maestro.'!W45","v":0},{"$f":"+'Data Maestro.'!X45","v":0},{"$f":"+'Data Maestro.'!Y45","v":0},{"$f":"+'Data Maestro.'!Z45","v":0},{"$f":"+'Data Maestro.'!AA45","v":0},{"$f":"+'Data Maestro.'!AB45","v":0},{"$f":"+'Data Maestro.'!AC45","v":0},{"$f":"+'Data Maestro.'!AD45","v":0},{"$f":"+'Data Maestro.'!AE45","v":0}]
[37,{"$f":"+IF(ISBLANK('Data Maestro.'!B46),\"\",'Data Maestro.'!B46)","v":"Panca picad"},{"$f":"+'Data Maestro.'!C46/100","v":0.88},{"$f":"+'Data Maestro.'!D46/100","v":0.48},{"$f":"+'Data Maestro.'!E46/100","v":4.8500000000000008E-2},{"$f":"+'Data Maestro.'!F46/100","v":0.34},{"$f":"+'Data Maestro.'!G46/100","v":0.65},{"$f":"+'Data Maestro.'!H46/100","v":0.49},{"$f":"+'Data Maestro.'!I46/100","v":6.0000000000000001E-3},{"$f":"+'Data Maestro.'!J46/100","v":8.9999999999999998E-4},{"$f":"+'Data Maestro.'!K46/100","v":1.4000000000000002E-2},{"$f":"+'Data Maestro.'!L46/100","v":0.7},{"$f":"+'Data Maestro.'!M46/100","v":0.3},{"$f":"+'Data Maestro.'!N46/100","v":0.28000000000000003},{"$f":"+'Data Maestro.'!O46/100","v":1E-4},{"$f":"+'Data Maestro.'!P46/100","v":1.9E-3},{"$f":"+'Data Maestro.'!Q46/100","v":9.0000000000000011E-3},{"$f":"+'Data Maestro.'!R46/100","v":2E-3},{"$f":"+'Data Maestro.'!S46/100","v":1.4000000000000002E-3},{"$f":"+'Data Maestro.'!T46/100","v":0},{"$f":"+'Data Maestro.'!U46/100","v":0},{"$f":"+'Data Maestro.'!V46","v":0},{"$f":"+'Data Maestro.'!W46","v":0},{"$f":"+'Data Maestro.'!X46","v":0},{"$f":"+'Data Maestro.'!Y46","v":0},{"$f":"+'Data Maestro.'!Z46","v":0},{"$f":"+'Data Maestro.'!AA46","v":0},{"$f":"+'Data Maestro.'!AB46","v":0},{"$f":"+'Data Maestro.'!AC46","v":0},{"$f":"+'Data Maestro.'!AD46","v":0},{"$f":"+'Data Maestro.'!AE46","v":0}]
[38,{"$f":"+IF(ISBLANK('Data Maestro.'!B47),\"\",'Data Maestro.'!B47)","v":"Chala con choclo"},{"$f":"+'Data Maestro.'!C47/100","v":0.26},{"$f":"+'Data Maestro.'!D47/100","v":0.65},{"$f":"+'Data Maestro.'!E47/100","v":9.7000000000000017E-2},{"$f":"+'Data Maestro.'!F47/100","v":0.3},{"$f":"+'Data Maestro.'!G47/100","v":0.52},{"$f":"+'Data Maestro.'!H47/100","v":0.32},{"$f":"+'Data Maestro.'!I47/100","v":2.5000000000000001E-3},{"$f":"+'Data Maestro.'!J47/100","v":2.3E-3},{"$f":"+'Data Maestro.'!K47/100","v":0.02},{"$f":"+'Data Maestro.'!L47/100","v":0.7},{"$f":"+'Data Maestro.'!M47/100","v":0.3},{"$f":"+'Data Maestro.'!N47/100","v":0.36},{"$f":"+'Data Maestro.'!O47/100","v":1E-4},{"$f":"+'Data Maestro.'!P47/100","v":1.9E-3},{"$f":"+'Data Maestro.'!Q47/100","v":1.6E-2},{"$f":"+'Data Maestro.'!R47/100","v":3.0000000000000001E-3},{"$f":"+'Data Maestro.'!S47/100","v":1.1000000000000001E-3},{"$f":"+'Data Maestro.'!T47/100","v":0},{"$f":"+'Data Maestro.'!U47/100","v":0.6},{"$f":"+'Data Maestro.'!V47","v":0},{"$f":"+'Data Maestro.'!W47","v":0},{"$f":"+'Data Maestro.'!X47","v":0},{"$f":"+'Data Maestro.'!Y47","v":0},{"$f":"+'Data Maestro.'!Z47","v":0},{"$f":"+'Data Maestro.'!AA47","v":0},{"$f":"+'Data Maestro.'!AB47","v":0},{"$f":"+'Data Maestro.'!AC47","v":0},{"$f":"+'Data Maestro.'!AD47","v":0},{"$f":"+'Data Maestro.'!AE47","v":0}]
[39,{"$f":"+IF(ISBLANK('Data Maestro.'!B48),\"\",'Data Maestro.'!B48)","v":"Ensilaje chala maiz"},{"$f":"+'Data Maestro.'!C48/100","v":0.32},{"$f":"+'Data Maestro.'!D48/100","v":0.6},{"$f":"+'Data Maestro.'!E48/100","v":0.09},{"$f":"+'Data Maestro.'!F48/100","v":0.35},{"$f":"+'Data Maestro.'!G48/100","v":0.55000000000000004},{"$f":"+'Data Maestro.'!H48/100","v":0.35},{"$f":"+'Data Maestro.'!I48/100","v":2.5000000000000001E-3},{"$f":"+'Data Maestro.'!J48/100","v":2.3E-3},{"$f":"+'Data Maestro.'!K48/100","v":0.02},{"$f":"+'Data Maestro.'!L48/100","v":0.7},{"$f":"+'Data Maestro.'!M48/100","v":0.3},{"$f":"+'Data Maestro.'!N48/100","v":0.34},{"$f":"+'Data Maestro.'!O48/100","v":0},{"$f":"+'Data Maestro.'!P48/100","v":0},{"$f":"+'Data Maestro.'!Q48/100","v":0},{"$f":"+'Data Maestro.'!R48/100","v":0},{"$f":"+'Data Maestro.'!S48/100","v":0},{"$f":"+'Data Maestro.'!T48/100","v":0},{"$f":"+'Data Maestro.'!U48/100","v":0},{"$f":"+'Data Maestro.'!V48","v":0},{"$f":"+'Data Maestro.'!W48","v":0},{"$f":"+'Data Maestro.'!X48","v":0},{"$f":"+'Data Maestro.'!Y48","v":0},{"$f":"+'Data Maestro.'!Z48","v":0},{"$f":"+'Data Maestro.'!AA48","v":0},{"$f":"+'Data Maestro.'!AB48","v":0},{"$f":"+'Data Maestro.'!AC48","v":0},{"$f":"+'Data Maestro.'!AD48","v":0},{"$f":"+'Data Maestro.'!AE48","v":0}]
[40,{"$f":"+IF(ISBLANK('Data Maestro.'!B49),\"\",'Data Maestro.'!B49)","v":"Alfalfa HENO"},{"$f":"+'Data Maestro.'!C49/100","v":0.89},{"$f":"+'Data Maestro.'!D49/100","v":0.52},{"$f":"+'Data Maestro.'!E49/100","v":0.17499999999999999},{"$f":"+'Data Maestro.'!F49/100","v":0.32500000000000001},{"$f":"+'Data Maestro.'!G49/100","v":0.5},{"$f":"+'Data Maestro.'!H49/100","v":0.35},{"$f":"+'Data Maestro.'!I49/100","v":1.4000000000000002E-2},{"$f":"+'Data Maestro.'!J49/100","v":2.3999999999999998E-3},{"$f":"+'Data Maestro.'!K49/100","v":2.6000000000000002E-2},{"$f":"+'Data Maestro.'!L49/100","v":0.67},{"$f":"+'Data Maestro.'!M49/100","v":0.33},{"$f":"+'Data Maestro.'!N49/100","v":0.3},{"$f":"+'Data Maestro.'!O49/100","v":0},{"$f":"+'Data Maestro.'!P49/100","v":0},{"$f":"+'Data Maestro.'!Q49/100","v":0},{"$f":"+'Data Maestro.'!R49/100","v":0},{"$f":"+'Data Maestro.'!S49/100","v":0},{"$f":"+'Data Maestro.'!T49/100","v":0},{"$f":"+'Data Maestro.'!U49/100","v":0},{"$f":"+'Data Maestro.'!V49","v":0},{"$f":"+'Data Maestro.'!W49","v":0},{"$f":"+'Data Maestro.'!X49","v":0},{"$f":"+'Data Maestro.'!Y49","v":0},{"$f":"+'Data Maestro.'!Z49","v":0},{"$f":"+'Data Maestro.'!AA49","v":0},{"$f":"+'Data Maestro.'!AB49","v":0},{"$f":"+'Data Maestro.'!AC49","v":0},{"$f":"+'Data Maestro.'!AD49","v":0},{"$f":"+'Data Maestro.'!AE49","v":0}]
[41,{"$f":"+IF(ISBLANK('Data Maestro.'!B50),\"\",'Data Maestro.'!B50)","v":"Chala sin choclo"},{"$f":"+'Data Maestro.'!C50/100","v":0.26},{"$f":"+'Data Maestro.'!D50/100","v":0.49},{"$f":"+'Data Maestro.'!E50/100","v":7.0000000000000007E-2},{"$f":"+'Data Maestro.'!F50/100","v":0.33},{"$f":"+'Data Maestro.'!G50/100","v":0.56999999999999995},{"$f":"+'Data Maestro.'!H50/100","v":0.36},{"$f":"+'Data Maestro.'!I50/100","v":2.5000000000000001E-3},{"$f":"+'Data Maestro.'!J50/100","v":2E-3},{"$f":"+'Data Maestro.'!K50/100","v":0.02},{"$f":"+'Data Maestro.'!L50/100","v":0.5},{"$f":"+'Data Maestro.'!M50/100","v":0.5},{"$f":"+'Data Maestro.'!N50/100","v":0.34},{"$f":"+'Data Maestro.'!O50/100","v":1E-4},{"$f":"+'Data Maestro.'!P50/100","v":1.9E-3},{"$f":"+'Data Maestro.'!Q50/100","v":1.6E-2},{"$f":"+'Data Maestro.'!R50/100","v":3.0000000000000001E-3},{"$f":"+'Data Maestro.'!S50/100","v":1.1000000000000001E-3},{"$f":"+'Data Maestro.'!T50/100","v":0},{"$f":"+'Data Maestro.'!U50/100","v":0},{"$f":"+'Data Maestro.'!V50","v":0},{"$f":"+'Data Maestro.'!W50","v":0},{"$f":"+'Data Maestro.'!X50","v":0},{"$f":"+'Data Maestro.'!Y50","v":0},{"$f":"+'Data Maestro.'!Z50","v":0},{"$f":"+'Data Maestro.'!AA50","v":0},{"$f":"+'Data Maestro.'!AB50","v":0},{"$f":"+'Data Maestro.'!AC50","v":0},{"$f":"+'Data Maestro.'!AD50","v":0},{"$f":"+'Data Maestro.'!AE50","v":0}]
[42,{"$f":"+IF(ISBLANK('Data Maestro.'!B51),\"\",'Data Maestro.'!B51)","v":"Esparramel"},{"$f":"+'Data Maestro.'!C51/100","v":0.82},{"$f":"+'Data Maestro.'!D51/100","v":0.57999999999999996},{"$f":"+'Data Maestro.'!E51/100","v":0.09},{"$f":"+'Data Maestro.'!F51/100","v":0.26400000000000001},{"$f":"+'Data Maestro.'!G51/100","v":0.57999999999999996},{"$f":"+'Data Maestro.'!H51/100","v":0.25},{"$f":"+'Data Maestro.'!I51/100","v":5.0000000000000001E-3},{"$f":"+'Data Maestro.'!J51/100","v":2.2000000000000001E-3},{"$f":"+'Data Maestro.'!K51/100","v":0.01},{"$f":"+'Data Maestro.'!L51/100","v":0.66},{"$f":"+'Data Maestro.'!M51/100","v":0.34},{"$f":"+'Data Maestro.'!N51/100","v":0.32},{"$f":"+'Data Maestro.'!O51/100","v":0},{"$f":"+'Data Maestro.'!P51/100","v":0},{"$f":"+'Data Maestro.'!Q51/100","v":0},{"$f":"+'Data Maestro.'!R51/100","v":0},{"$f":"+'Data Maestro.'!S51/100","v":0},{"$f":"+'Data Maestro.'!T51/100","v":0},{"$f":"+'Data Maestro.'!U51/100","v":0},{"$f":"+'Data Maestro.'!V51","v":0},{"$f":"+'Data Maestro.'!W51","v":0},{"$f":"+'Data Maestro.'!X51","v":0},{"$f":"+'Data Maestro.'!Y51","v":0},{"$f":"+'Data Maestro.'!Z51","v":0},{"$f":"+'Data Maestro.'!AA51","v":0},{"$f":"+'Data Maestro.'!AB51","v":0},{"$f":"+'Data Maestro.'!AC51","v":0},{"$f":"+'Data Maestro.'!AD51","v":0},{"$f":"+'Data Maestro.'!AE51","v":0}]
[43,{"$f":"+IF(ISBLANK('Data Maestro.'!B52),\"\",'Data Maestro.'!B52)","v":"Pasto camerun"},{"$f":"+'Data Maestro.'!C52/100","v":0.2},{"$f":"+'Data Maestro.'!D52/100","v":0.55000000000000004},{"$f":"+'Data Maestro.'!E52/100","v":7.0000000000000007E-2},{"$f":"+'Data Maestro.'!F52/100","v":0.35},{"$f":"+'Data Maestro.'!G52/100","v":0.6},{"$f":"+'Data Maestro.'!H52/100","v":0.4},{"$f":"+'Data Maestro.'!I52/100","v":9.0000000000000011E-3},{"$f":"+'Data Maestro.'!J52/100","v":2.8999999999999998E-3},{"$f":"+'Data Maestro.'!K52/100","v":0.02},{"$f":"+'Data Maestro.'!L52/100","v":0.25},{"$f":"+'Data Maestro.'!M52/100","v":0.75},{"$f":"+'Data Maestro.'!N52/100","v":0.31},{"$f":"+'Data Maestro.'!O52/100","v":0},{"$f":"+'Data Maestro.'!P52/100","v":0},{"$f":"+'Data Maestro.'!Q52/100","v":0},{"$f":"+'Data Maestro.'!R52/100","v":0},{"$f":"+'Data Maestro.'!S52/100","v":0},{"$f":"+'Data Maestro.'!T52/100","v":0},{"$f":"+'Data Maestro.'!U52/100","v":0},{"$f":"+'Data Maestro.'!V52","v":0},{"$f":"+'Data Maestro.'!W52","v":0},{"$f":"+'Data Maestro.'!X52","v":0},{"$f":"+'Data Maestro.'!Y52","v":0},{"$f":"+'Data Maestro.'!Z52","v":0},{"$f":"+'Data Maestro.'!AA52","v":0},{"$f":"+'Data Maestro.'!AB52","v":0},{"$f":"+'Data Maestro.'!AC52","v":0},{"$f":"+'Data Maestro.'!AD52","v":0},{"$f":"+'Data Maestro.'!AE52","v":0}]
[44,{"$f":"+IF(ISBLANK('Data Maestro.'!B53),\"\",'Data Maestro.'!B53)","v":"Heno Alfalfa Estandar"},{"$f":"+'Data Maestro.'!C53/100","v":0.87},{"$f":"+'Data Maestro.'!D53/100","v":0.56000000000000005},{"$f":"+'Data Maestro.'!E53/100","v":0.17},{"$f":"+'Data Maestro.'!F53/100","v":0.32},{"$f":"+'Data Maestro.'!G53/100","v":0.51},{"$f":"+'Data Maestro.'!H53/100","v":0.34},{"$f":"+'Data Maestro.'!I53/100","v":1.3999999999999999E-2},{"$f":"+'Data Maestro.'!J53/100","v":3.0000000000000001E-3},{"$f":"+'Data Maestro.'!K53/100","v":1.2E-2},{"$f":"+'Data Maestro.'!L53/100","v":0.53},{"$f":"+'Data Maestro.'!M53/100","v":0.47},{"$f":"+'Data Maestro.'!N53/100","v":0.3},{"$f":"+'Data Maestro.'!O53/100","v":0},{"$f":"+'Data Maestro.'!P53/100","v":0},{"$f":"+'Data Maestro.'!Q53/100","v":0},{"$f":"+'Data Maestro.'!R53/100","v":0},{"$f":"+'Data Maestro.'!S53/100","v":0},{"$f":"+'Data Maestro.'!T53/100","v":0},{"$f":"+'Data Maestro.'!U53/100","v":0},{"$f":"+'Data Maestro.'!V53","v":0},{"$f":"+'Data Maestro.'!W53","v":0},{"$f":"+'Data Maestro.'!X53","v":0},{"$f":"+'Data Maestro.'!Y53","v":0},{"$f":"+'Data Maestro.'!Z53","v":0},{"$f":"+'Data Maestro.'!AA53","v":0},{"$f":"+'Data Maestro.'!AB53","v":0},{"$f":"+'Data Maestro.'!AC53","v":0},{"$f":"+'Data Maestro.'!AD53","v":0},{"$f":"+'Data Maestro.'!AE53","v":0}]
[45,{"$f":"+IF(ISBLANK('Data Maestro.'!B54),\"\",'Data Maestro.'!B54)","v":"Pancamel (60panca-40melaza)"},{"$f":"+'Data Maestro.'!C54/100","v":0.83400000000000007},{"$f":"+'Data Maestro.'!D54/100","v":0.56600000000000006},{"$f":"+'Data Maestro.'!E54/100","v":5.9000000000000004E-2},{"$f":"+'Data Maestro.'!F54/100","v":0.251},{"$f":"+'Data Maestro.'!G54/100","v":0.49},{"$f":"+'Data Maestro.'!H54/100","v":0.28499999999999998},{"$f":"+'Data Maestro.'!I54/100","v":6.8999999999999999E-3},{"$f":"+'Data Maestro.'!J54/100","v":1E-3},{"$f":"+'Data Maestro.'!K54/100","v":0.01},{"$f":"+'Data Maestro.'!L54/100","v":0.65},{"$f":"+'Data Maestro.'!M54/100","v":0.35},{"$f":"+'Data Maestro.'!N54/100","v":0.44},{"$f":"+'Data Maestro.'!O54/100","v":0},{"$f":"+'Data Maestro.'!P54/100","v":0},{"$f":"+'Data Maestro.'!Q54/100","v":0},{"$f":"+'Data Maestro.'!R54/100","v":0},{"$f":"+'Data Maestro.'!S54/100","v":0},{"$f":"+'Data Maestro.'!T54/100","v":0},{"$f":"+'Data Maestro.'!U54/100","v":0},{"$f":"+'Data Maestro.'!V54","v":0},{"$f":"+'Data Maestro.'!W54","v":0},{"$f":"+'Data Maestro.'!X54","v":0},{"$f":"+'Data Maestro.'!Y54","v":0},{"$f":"+'Data Maestro.'!Z54","v":0},{"$f":"+'Data Maestro.'!AA54","v":0},{"$f":"+'Data Maestro.'!AB54","v":0},{"$f":"+'Data Maestro.'!AC54","v":0},{"$f":"+'Data Maestro.'!AD54","v":0},{"$f":"+'Data Maestro.'!AE54","v":0}]
[46,{"$f":"+IF(ISBLANK('Data Maestro.'!B55),\"\",'Data Maestro.'!B55)","v":"Broza Esparrago"},{"$f":"+'Data Maestro.'!C55/100","v":0.36499999999999999},{"$f":"+'Data Maestro.'!D55/100","v":0.53},{"$f":"+'Data Maestro.'!E55/100","v":0.14000000000000001},{"$f":"+'Data Maestro.'!F55/100","v":0.39},{"$f":"+'Data Maestro.'!G55/100","v":0.55000000000000004},{"$f":"+'Data Maestro.'!H55/100","v":0.28000000000000003},{"$f":"+'Data Maestro.'!I55/100","v":6.0000000000000001E-3},{"$f":"+'Data Maestro.'!J55/100","v":2E-3},{"$f":"+'Data Maestro.'!K55/100","v":0.02},{"$f":"+'Data Maestro.'!L55/100","v":0.6},{"$f":"+'Data Maestro.'!M55/100","v":0.4},{"$f":"+'Data Maestro.'!N55/100","v":0.28999999999999998},{"$f":"+'Data Maestro.'!O55/100","v":0},{"$f":"+'Data Maestro.'!P55/100","v":0},{"$f":"+'Data Maestro.'!Q55/100","v":0},{"$f":"+'Data Maestro.'!R55/100","v":0},{"$f":"+'Data Maestro.'!S55/100","v":0},{"$f":"+'Data Maestro.'!T55/100","v":0},{"$f":"+'Data Maestro.'!U55/100","v":0},{"$f":"+'Data Maestro.'!V55","v":0},{"$f":"+'Data Maestro.'!W55","v":0},{"$f":"+'Data Maestro.'!X55","v":0},{"$f":"+'Data Maestro.'!Y55","v":0},{"$f":"+'Data Maestro.'!Z55","v":0},{"$f":"+'Data Maestro.'!AA55","v":0},{"$f":"+'Data Maestro.'!AB55","v":0},{"$f":"+'Data Maestro.'!AC55","v":0},{"$f":"+'Data Maestro.'!AD55","v":0},{"$f":"+'Data Maestro.'!AE55","v":0}]
[47,{"$f":"+IF(ISBLANK('Data Maestro.'!B56),\"\",'Data Maestro.'!B56)","v":"Camote Tuberculo"},{"$f":"+'Data Maestro.'!C56/100","v":0.32},{"$f":"+'Data Maestro.'!D56/100","v":0.8},{"$f":"+'Data Maestro.'!E56/100","v":0.04},{"$f":"+'Data Maestro.'!F56/100","v":0.04},{"$f":"+'Data Maestro.'!G56/100","v":0.06},{"$f":"+'Data Maestro.'!H56/100","v":0.01},{"$f":"+'Data Maestro.'!I56/100","v":2.8000000000000004E-3},{"$f":"+'Data Maestro.'!J56/100","v":2.3E-3},{"$f":"+'Data Maestro.'!K56/100","v":1.6E-2},{"$f":"+'Data Maestro.'!L56/100","v":0.2},{"$f":"+'Data Maestro.'!M56/100","v":0.8},{"$f":"+'Data Maestro.'!N56/100","v":0.88},{"$f":"+'Data Maestro.'!O56/100","v":0},{"$f":"+'Data Maestro.'!P56/100","v":0},{"$f":"+'Data Maestro.'!Q56/100","v":0},{"$f":"+'Data Maestro.'!R56/100","v":0},{"$f":"+'Data Maestro.'!S56/100","v":0},{"$f":"+'Data Maestro.'!T56/100","v":0},{"$f":"+'Data Maestro.'!U56/100","v":0},{"$f":"+'Data Maestro.'!V56","v":0},{"$f":"+'Data Maestro.'!W56","v":0},{"$f":"+'Data Maestro.'!X56","v":0},{"$f":"+'Data Maestro.'!Y56","v":0},{"$f":"+'Data Maestro.'!Z56","v":0},{"$f":"+'Data Maestro.'!AA56","v":0},{"$f":"+'Data Maestro.'!AB56","v":0},{"$f":"+'Data Maestro.'!AC56","v":0},{"$f":"+'Data Maestro.'!AD56","v":0},{"$f":"+'Data Maestro.'!AE56","v":0}]
[48,{"$f":"+IF(ISBLANK('Data Maestro.'!B57),\"\",'Data Maestro.'!B57)","v":"Alfalfa verde preboton"},{"$f":"+'Data Maestro.'!C57/100","v":0.1812},{"$f":"+'Data Maestro.'!D57/100","v":0.57999999999999996},{"$f":"+'Data Maestro.'!E57/100","v":0.25120000000000003},{"$f":"+'Data Maestro.'!F57/100","v":0},{"$f":"+'Data Maestro.'!G57/100","v":0.33100000000000002},{"$f":"+'Data Maestro.'!H57/100","v":0.21899999999999997},{"$f":"+'Data Maestro.'!I57/100","v":0},{"$f":"+'Data Maestro.'!J57/100","v":0},{"$f":"+'Data Maestro.'!K57/100","v":1.6899999999999998E-2},{"$f":"+'Data Maestro.'!L57/100","v":0},{"$f":"+'Data Maestro.'!M57/100","v":0},{"$f":"+'Data Maestro.'!N57/100","v":0.2797},{"$f":"+'Data Maestro.'!O57/100","v":0},{"$f":"+'Data Maestro.'!P57/100","v":0},{"$f":"+'Data Maestro.'!Q57/100","v":0},{"$f":"+'Data Maestro.'!R57/100","v":0},{"$f":"+'Data Maestro.'!S57/100","v":0},{"$f":"+'Data Maestro.'!T57/100","v":0},{"$f":"+'Data Maestro.'!U57/100","v":0},{"$f":"+'Data Maestro.'!V57","v":0},{"$f":"+'Data Maestro.'!W57","v":0},{"$f":"+'Data Maestro.'!X57","v":0},{"$f":"+'Data Maestro.'!Y57","v":0},{"$f":"+'Data Maestro.'!Z57","v":0},{"$f":"+'Data Maestro.'!AA57","v":0},{"$f":"+'Data Maestro.'!AB57","v":0},{"$f":"+'Data Maestro.'!AC57","v":0},{"$f":"+'Data Maestro.'!AD57","v":0},{"$f":"+'Data Maestro.'!AE57","v":0}]
[49,{"$f":"+IF(ISBLANK('Data Maestro.'!B58),\"\",'Data Maestro.'!B58)","v":""},{"$f":"+'Data Maestro.'!C58/100","v":0},{"$f":"+'Data Maestro.'!D58/100","v":0},{"$f":"+'Data Maestro.'!E58/100","v":0},{"$f":"+'Data Maestro.'!F58/100","v":0},{"$f":"+'Data Maestro.'!G58/100","v":0},{"$f":"+'Data Maestro.'!H58/100","v":0},{"$f":"+'Data Maestro.'!I58/100","v":0},{"$f":"+'Data Maestro.'!J58/100","v":0},{"$f":"+'Data Maestro.'!K58/100","v":0},{"$f":"+'Data Maestro.'!L58/100","v":0},{"$f":"+'Data Maestro.'!M58/100","v":0},{"$f":"+'Data Maestro.'!N58/100","v":0},{"$f":"+'Data Maestro.'!O58/100","v":0},{"$f":"+'Data Maestro.'!P58/100","v":0},{"$f":"+'Data Maestro.'!Q58/100","v":0},{"$f":"+'Data Maestro.'!R58/100","v":0},{"$f":"+'Data Maestro.'!S58/100","v":0},{"$f":"+'Data Maestro.'!T58/100","v":0},{"$f":"+'Data Maestro.'!U58/100","v":0},{"$f":"+'Data Maestro.'!V58","v":0},{"$f":"+'Data Maestro.'!W58","v":0},{"$f":"+'Data Maestro.'!X58","v":0},{"$f":"+'Data Maestro.'!Y58","v":0},{"$f":"+'Data Maestro.'!Z58","v":0},{"$f":"+'Data Maestro.'!AA58","v":0},{"$f":"+'Data Maestro.'!AB58","v":0},{"$f":"+'Data Maestro.'!AC58","v":0},{"$f":"+'Data Maestro.'!AD58","v":0},{"$f":"+'Data Maestro.'!AE58","v":0}]
[50,{"$f":"+IF(ISBLANK('Data Maestro.'!B59),\"\",'Data Maestro.'!B59)","v":""},{"$f":"+'Data Maestro.'!C59/100","v":0},{"$f":"+'Data Maestro.'!D59/100","v":0},{"$f":"+'Data Maestro.'!E59/100","v":0},{"$f":"+'Data Maestro.'!F59/100","v":0},{"$f":"+'Data Maestro.'!G59/100","v":0},{"$f":"+'Data Maestro.'!H59/100","v":0},{"$f":"+'Data Maestro.'!I59/100","v":0},{"$f":"+'Data Maestro.'!J59/100","v":0},{"$f":"+'Data Maestro.'!K59/100","v":0},{"$f":"+'Data Maestro.'!L59/100","v":0},{"$f":"+'Data Maestro.'!M59/100","v":0},{"$f":"+'Data Maestro.'!N59/100","v":0},{"$f":"+'Data Maestro.'!O59/100","v":0},{"$f":"+'Data Maestro.'!P59/100","v":0},{"$f":"+'Data Maestro.'!Q59/100","v":0},{"$f":"+'Data Maestro.'!R59/100","v":0},{"$f":"+'Data Maestro.'!S59/100","v":0},{"$f":"+'Data Maestro.'!T59/100","v":0},{"$f":"+'Data Maestro.'!U59/100","v":0},{"$f":"+'Data Maestro.'!V59","v":0},{"$f":"+'Data Maestro.'!W59","v":0},{"$f":"+'Data Maestro.'!X59","v":0},{"$f":"+'Data Maestro.'!Y59","v":0},{"$f":"+'Data Maestro.'!Z59","v":0},{"$f":"+'Data Maestro.'!AA59","v":0},{"$f":"+'Data Maestro.'!AB59","v":0},{"$f":"+'Data Maestro.'!AC59","v":0},{"$f":"+'Data Maestro.'!AD59","v":0},{"$f":"+'Data Maestro.'!AE59","v":0}]
[51,{"$f":"+IF(ISBLANK('Data Maestro.'!B60),\"\",'Data Maestro.'!B60)","v":""},{"$f":"+'Data Maestro.'!C60/100","v":0},{"$f":"+'Data Maestro.'!D60/100","v":0},{"$f":"+'Data Maestro.'!E60/100","v":0},{"$f":"+'Data Maestro.'!F60/100","v":0},{"$f":"+'Data Maestro.'!G60/100","v":0},{"$f":"+'Data Maestro.'!H60/100","v":0},{"$f":"+'Data Maestro.'!I60/100","v":0},{"$f":"+'Data Maestro.'!J60/100","v":0},{"$f":"+'Data Maestro.'!K60/100","v":0},{"$f":"+'Data Maestro.'!L60/100","v":0},{"$f":"+'Data Maestro.'!M60/100","v":0},{"$f":"+'Data Maestro.'!N60/100","v":0},{"$f":"+'Data Maestro.'!O60/100","v":0},{"$f":"+'Data Maestro.'!P60/100","v":0},{"$f":"+'Data Maestro.'!Q60/100","v":0},{"$f":"+'Data Maestro.'!R60/100","v":0},{"$f":"+'Data Maestro.'!S60/100","v":0},{"$f":"+'Data Maestro.'!T60/100","v":0},{"$f":"+'Data Maestro.'!U60/100","v":0},{"$f":"+'Data Maestro.'!V60","v":0},{"$f":"+'Data Maestro.'!W60","v":0},{"$f":"+'Data Maestro.'!X60","v":0},{"$f":"+'Data Maestro.'!Y60","v":0},{"$f":"+'Data Maestro.'!Z60","v":0},{"$f":"+'Data Maestro.'!AA60","v":0},{"$f":"+'Data Maestro.'!AB60","v":0},{"$f":"+'Data Maestro.'!AC60","v":0},{"$f":"+'Data Maestro.'!AD60","v":0},{"$f":"+'Data Maestro.'!AE60","v":0}]
[52,{"$f":"+IF(ISBLANK('Data Maestro.'!B61),\"\",'Data Maestro.'!B61)","v":""},{"$f":"+'Data Maestro.'!C61/100","v":0},{"$f":"+'Data Maestro.'!D61/100","v":0},{"$f":"+'Data Maestro.'!E61/100","v":0},{"$f":"+'Data Maestro.'!F61/100","v":0},{"$f":"+'Data Maestro.'!G61/100","v":0},{"$f":"+'Data Maestro.'!H61/100","v":0},{"$f":"+'Data Maestro.'!I61/100","v":0},{"$f":"+'Data Maestro.'!J61/100","v":0},{"$f":"+'Data Maestro.'!K61/100","v":0},{"$f":"+'Data Maestro.'!L61/100","v":0},{"$f":"+'Data Maestro.'!M61/100","v":0},{"$f":"+'Data Maestro.'!N61/100","v":0},{"$f":"+'Data Maestro.'!O61/100","v":0},{"$f":"+'Data Maestro.'!P61/100","v":0},{"$f":"+'Data Maestro.'!Q61/100","v":0},{"$f":"+'Data Maestro.'!R61/100","v":0},{"$f":"+'Data Maestro.'!S61/100","v":0},{"$f":"+'Data Maestro.'!T61/100","v":0},{"$f":"+'Data Maestro.'!U61/100","v":0},{"$f":"+'Data Maestro.'!V61","v":0},{"$f":"+'Data Maestro.'!W61","v":0},{"$f":"+'Data Maestro.'!X61","v":0},{"$f":"+'Data Maestro.'!Y61","v":0},{"$f":"+'Data Maestro.'!Z61","v":0},{"$f":"+'Data Maestro.'!AA61","v":0},{"$f":"+'Data Maestro.'!AB61","v":0},{"$f":"+'Data Maestro.'!AC61","v":0},{"$f":"+'Data Maestro.'!AD61","v":0},{"$f":"+'Data Maestro.'!AE61","v":0}]
[53,{"$f":"+IF(ISBLANK('Data Maestro.'!B62),\"\",'Data Maestro.'!B62)","v":""},{"$f":"+'Data Maestro.'!C62/100","v":0},{"$f":"+'Data Maestro.'!D62/100","v":0},{"$f":"+'Data Maestro.'!E62/100","v":0},{"$f":"+'Data Maestro.'!F62/100","v":0},{"$f":"+'Data Maestro.'!G62/100","v":0},{"$f":"+'Data Maestro.'!H62/100","v":0},{"$f":"+'Data Maestro.'!I62/100","v":0},{"$f":"+'Data Maestro.'!J62/100","v":0},{"$f":"+'Data Maestro.'!K62/100","v":0},{"$f":"+'Data Maestro.'!L62/100","v":0},{"$f":"+'Data Maestro.'!M62/100","v":0},{"$f":"+'Data Maestro.'!N62/100","v":0},{"$f":"+'Data Maestro.'!O62/100","v":0},{"$f":"+'Data Maestro.'!P62/100","v":0},{"$f":"+'Data Maestro.'!Q62/100","v":0},{"$f":"+'Data Maestro.'!R62/100","v":0},{"$f":"+'Data Maestro.'!S62/100","v":0},{"$f":"+'Data Maestro.'!T62/100","v":0},{"$f":"+'Data Maestro.'!U62/100","v":0},{"$f":"+'Data Maestro.'!V62","v":0},{"$f":"+'Data Maestro.'!W62","v":0},{"$f":"+'Data Maestro.'!X62","v":0},{"$f":"+'Data Maestro.'!Y62","v":0},{"$f":"+'Data Maestro.'!Z62","v":0},{"$f":"+'Data Maestro.'!AA62","v":0},{"$f":"+'Data Maestro.'!AB62","v":0},{"$f":"+'Data Maestro.'!AC62","v":0},{"$f":"+'Data Maestro.'!AD62","v":0},{"$f":"+'Data Maestro.'!AE62","v":0}]
[54,{"$f":"+IF(ISBLANK('Data Maestro.'!B63),\"\",'Data Maestro.'!B63)","v":""},{"$f":"+'Data Maestro.'!C63/100","v":0},{"$f":"+'Data Maestro.'!D63/100","v":0},{"$f":"+'Data Maestro.'!E63/100","v":0},{"$f":"+'Data Maestro.'!F63/100","v":0},{"$f":"+'Data Maestro.'!G63/100","v":0},{"$f":"+'Data Maestro.'!H63/100","v":0},{"$f":"+'Data Maestro.'!I63/100","v":0},{"$f":"+'Data Maestro.'!J63/100","v":0},{"$f":"+'Data Maestro.'!K63/100","v":0},{"$f":"+'Data Maestro.'!L63/100","v":0},{"$f":"+'Data Maestro.'!M63/100","v":0},{"$f":"+'Data Maestro.'!N63/100","v":0},{"$f":"+'Data Maestro.'!O63/100","v":0},{"$f":"+'Data Maestro.'!P63/100","v":0},{"$f":"+'Data Maestro.'!Q63/100","v":0},{"$f":"+'Data Maestro.'!R63/100","v":0},{"$f":"+'Data Maestro.'!S63/100","v":0},{"$f":"+'Data Maestro.'!T63/100","v":0},{"$f":"+'Data Maestro.'!U63/100","v":0},{"$f":"+'Data Maestro.'!V63","v":0},{"$f":"+'Data Maestro.'!W63","v":0},{"$f":"+'Data Maestro.'!X63","v":0},{"$f":"+'Data Maestro.'!Y63","v":0},{"$f":"+'Data Maestro.'!Z63","v":0},{"$f":"+'Data Maestro.'!AA63","v":0},{"$f":"+'Data Maestro.'!AB63","v":0},{"$f":"+'Data Maestro.'!AC63","v":0},{"$f":"+'Data Maestro.'!AD63","v":0},{"$f":"+'Data Maestro.'!AE63","v":0}]
[55,{"$f":"+IF(ISBLANK('Data Maestro.'!B64),\"\",'Data Maestro.'!B64)","v":""},{"$f":"+'Data Maestro.'!C64/100","v":0},{"$f":"+'Data Maestro.'!D64/100","v":0},{"$f":"+'Data Maestro.'!E64/100","v":0},{"$f":"+'Data Maestro.'!F64/100","v":0},{"$f":"+'Data Maestro.'!G64/100","v":0},{"$f":"+'Data Maestro.'!H64/100","v":0},{"$f":"+'Data Maestro.'!I64/100","v":0},{"$f":"+'Data Maestro.'!J64/100","v":0},{"$f":"+'Data Maestro.'!K64/100","v":0},{"$f":"+'Data Maestro.'!L64/100","v":0},{"$f":"+'Data Maestro.'!M64/100","v":0},{"$f":"+'Data Maestro.'!N64/100","v":0},{"$f":"+'Data Maestro.'!O64/100","v":0},{"$f":"+'Data Maestro.'!P64/100","v":0},{"$f":"+'Data Maestro.'!Q64/100","v":0},{"$f":"+'Data Maestro.'!R64/100","v":0},{"$f":"+'Data Maestro.'!S64/100","v":0},{"$f":"+'Data Maestro.'!T64/100","v":0},{"$f":"+'Data Maestro.'!U64/100","v":0},{"$f":"+'Data Maestro.'!V64","v":0},{"$f":"+'Data Maestro.'!W64","v":0},{"$f":"+'Data Maestro.'!X64","v":0},{"$f":"+'Data Maestro.'!Y64","v":0},{"$f":"+'Data Maestro.'!Z64","v":0},{"$f":"+'Data Maestro.'!AA64","v":0},{"$f":"+'Data Maestro.'!AB64","v":0},{"$f":"+'Data Maestro.'!AC64","v":0},{"$f":"+'Data Maestro.'!AD64","v":0},{"$f":"+'Data Maestro.'!AE64","v":0}]
[56,{"$f":"+IF(ISBLANK('Data Maestro.'!B65),\"\",'Data Maestro.'!B65)","v":""},{"$f":"+'Data Maestro.'!C65/100","v":0},{"$f":"+'Data Maestro.'!D65/100","v":0},{"$f":"+'Data Maestro.'!E65/100","v":0},{"$f":"+'Data Maestro.'!F65/100","v":0},{"$f":"+'Data Maestro.'!G65/100","v":0},{"$f":"+'Data Maestro.'!H65/100","v":0},{"$f":"+'Data Maestro.'!I65/100","v":0},{"$f":"+'Data Maestro.'!J65/100","v":0},{"$f":"+'Data Maestro.'!K65/100","v":0},{"$f":"+'Data Maestro.'!L65/100","v":0},{"$f":"+'Data Maestro.'!M65/100","v":0},{"$f":"+'Data Maestro.'!N65/100","v":0},{"$f":"+'Data Maestro.'!O65/100","v":0},{"$f":"+'Data Maestro.'!P65/100","v":0},{"$f":"+'Data Maestro.'!Q65/100","v":0},{"$f":"+'Data Maestro.'!R65/100","v":0},{"$f":"+'Data Maestro.'!S65/100","v":0},{"$f":"+'Data Maestro.'!T65/100","v":0},{"$f":"+'Data Maestro.'!U65/100","v":0},{"$f":"+'Data Maestro.'!V65","v":0},{"$f":"+'Data Maestro.'!W65","v":0},{"$f":"+'Data Maestro.'!X65","v":0},{"$f":"+'Data Maestro.'!Y65","v":0},{"$f":"+'Data Maestro.'!Z65","v":0},{"$f":"+'Data Maestro.'!AA65","v":0},{"$f":"+'Data Maestro.'!AB65","v":0},{"$f":"+'Data Maestro.'!AC65","v":0},{"$f":"+'Data Maestro.'!AD65","v":0},{"$f":"+'Data Maestro.'!AE65","v":0}]
[57,{"$f":"+IF(ISBLANK('Data Maestro.'!B66),\"\",'Data Maestro.'!B66)","v":""},{"$f":"+'Data Maestro.'!C66/100","v":0},{"$f":"+'Data Maestro.'!D66/100","v":0},{"$f":"+'Data Maestro.'!E66/100","v":0},{"$f":"+'Data Maestro.'!F66/100","v":0},{"$f":"+'Data Maestro.'!G66/100","v":0},{"$f":"+'Data Maestro.'!H66/100","v":0},{"$f":"+'Data Maestro.'!I66/100","v":0},{"$f":"+'Data Maestro.'!J66/100","v":0},{"$f":"+'Data Maestro.'!K66/100","v":0},{"$f":"+'Data Maestro.'!L66/100","v":0},{"$f":"+'Data Maestro.'!M66/100","v":0},{"$f":"+'Data Maestro.'!N66/100","v":0},{"$f":"+'Data Maestro.'!O66/100","v":0},{"$f":"+'Data Maestro.'!P66/100","v":0},{"$f":"+'Data Maestro.'!Q66/100","v":0},{"$f":"+'Data Maestro.'!R66/100","v":0},{"$f":"+'Data Maestro.'!S66/100","v":0},{"$f":"+'Data Maestro.'!T66/100","v":0},{"$f":"+'Data Maestro.'!U66/100","v":0},{"$f":"+'Data Maestro.'!V66","v":0},{"$f":"+'Data Maestro.'!W66","v":0},{"$f":"+'Data Maestro.'!X66","v":0},{"$f":"+'Data Maestro.'!Y66","v":0},{"$f":"+'Data Maestro.'!Z66","v":0},{"$f":"+'Data Maestro.'!AA66","v":0},{"$f":"+'Data Maestro.'!AB66","v":0},{"$f":"+'Data Maestro.'!AC66","v":0},{"$f":"+'Data Maestro.'!AD66","v":0},{"$f":"+'Data Maestro.'!AE66","v":0}]

{"sheet":"DATA MAESTRO 2","index":2,"n_rows":65,"n_cols":36,"rows_kept":65,"cut":false,"hidden":false,"merged":[]}
[null,null,1,2,3,4,5,6,7,8,9,10,11,12,13,14,15,16,17,18,19,20,21,22,23,24,25,26,27,28,29,30,31,32,33,34]
[null,"NUTRIENTES","VACIO","MS","NDT","Prot.","FC","FDN","FDA","Ca","P","Eng. Met","EN(gan)","EN(lact)","EN(mant)","E.E","CNF","PDR","Prot. By pass","Sodio","Magnesio","Potasio","Cloro","Azufre","Gosipol","Almidon","Cobalto","Cobre","Yodo","Hierro","Manganeso","Selenio","Zinc","Vit. A","Vit. D","Vit. E"]
[null,"INGREDIENTES",null,"kg","kg","kg","kg","kg","kg","kg","kg","Mcal/Kg","Mcal/kg","Mcal/Kg","Mcal/kg","kg","kg","kg","kg","kg","kg","kg","kg","kg","kg","kg","Mg/kg","Mg/kg","Mg/kg","Mg/kg","Mg/kg","Mg/kg","Mg/kg","1,000 UI/kg","1,000 UI/kg","UI/kg"]
[]
[null,"CONCENTRADO"]
[1,{"$f":"+IF(ISBLANK(incog!B8),\"\",incog!B8)","v":"PASTA ALGODÓN"},null,{"$f":"+incog!C8","v":0.9},{"$f":"+incog!D8","v":0.68},{"$f":"+incog!E8","v":0.35},{"$f":"+incog!F8","v":0.13},{"$f":"+incog!G8","v":0.3},{"$f":"+incog!H8","v":0.18},{"$f":"+incog!I8","v":2E-3},{"$f":"+incog!J8","v":1.2E-2},{"$f":"+IF(E6=0,0,((E6*0.04409)*0.82))*100","v":2.4584584},{"$f":"+IF(L6=0,0,(1.42*L6)-1.65-((0.174*L6+POWER(,2)+(0.0122*L6+POWER(,3)))))","v":1.3832459739199998},{"$f":"+IF(E6=0,0,(E6*2.45)-0.12)","v":1.5460000000000003},{"$f":"+IF(L6=0,0,((L6*1.37-(1.12)-(0.138*L6+POWER(,2)+(0.0105*L6+POWER(,3))))))","v":1.8830069356000003},{"$f":"+incog!K8","v":0.02},{"$f":"+incog!N8","v":0.35},{"$f":"+incog!L8","v":0.59},{"$f":"+incog!M8","v":0.41},{"$f":"+incog!O8","v":7.000000000000001E-4},{"$f":"+incog!P8","v":6.0999999999999995E-3},{"$f":"+incog!Q8","v":1.4999999999999999E-2},{"$f":"+incog!R8","v":5.0000000000000001E-4},{"$f":"+incog!S8","v":4.0000000000000001E-3},{"$f":"+incog!T8","v":0},{"$f":"+incog!U8","v":0},{"$f":"+incog!V8","v":0},{"$f":"+incog!W8","v":0},{"$f":"+incog!X8","v":0},{"$f":"+incog!Y8","v":0},{"$f":"+incog!Z8","v":0},{"$f":"+incog!AA8","v":0},{"$f":"+incog!AB8","v":0},{"$f":"+incog!AC8","v":0},{"$f":"+incog!AD8","v":0},{"$f":"+incog!AE8","v":0}]
[2,{"$f":"+IF(ISBLANK(incog!B9),\"\",incog!B9)","v":"SOYA INTEGRAL"},null,{"$f":"+incog!C9","v":0.9},{"$f":"+incog!D9","v":0.95},{"$f":"+incog!E9","v":0.35},{"$f":"+incog!F9","v":0.06},{"$f":"+incog!G9","v":0.2},{"$f":"+incog!H9","v":0.1},{"$f":"+incog!I9","v":3.0000000000000001E-3},{"$f":"+incog!J9","v":6.3E-3},3.4346109999999994,{"$f":"+IF(L7=0,0,(1.42*L7)-1.65-((0.174*L7+POWER(,2)+(0.0122*L7+POWER(,3)))))","v":2.5876230517999987},2.2075,{"$f":"+IF(L7=0,0,((L7*1.37-(1.12)-(0.138*L7+POWER(,2)+(0.0105*L7+POWER(,3))))))","v":3.075377336499999},{"$f":"+incog!K9","v":0.22},{"$f":"+incog!N9","v":0.18},{"$f":"+incog!L9","v":0.5},{"$f":"+incog!M9","v":0.5},{"$f":"+incog!O9","v":2.0000000000000001E-4},{"$f":"+incog!P9","v":3.2000000000000002E-3},{"$f":"+incog!Q9","v":1.67E-2},{"$f":"+incog!R9","v":2.0000000000000001E-4},{"$f":"+incog!S9","v":4.0000000000000001E-3},{"$f":"+incog!T9","v":0},{"$f":"+incog!U9","v":6.7000000000000004E-2},{"$f":"+incog!V9","v":0},{"$f":"+incog!W9","v":0},{"$f":"+incog!X9","v":0},{"$f":"+incog!Y9","v":0},{"$f":"+incog!Z9","v":0},{"$f":"+incog!AA9","v":0},{"$f":"+incog!AB9","v":0},{"$f":"+incog!AC9","v":0},{"$f":"+incog!AD9","v":0},{"$f":"+incog!AE9","v":0}]
[3,{"$f":"+IF(ISBLANK(incog!B10),\"\",incog!B10)","v":"UREA"},null,{"$f":"+incog!C10","v":0.99},{"$f":"+incog!D10","v":0},{"$f":"+incog!E10","v":2.8},{"$f":"+incog!F10","v":0},{"$f":"+incog!G10","v":0},{"$f":"+incog!H10","v":0},{"$f":"+incog!I10","v":0},{"$f":"+incog!J10","v":0},0,0,0,0,{"$f":"+incog!K10","v":0},{"$f":"+incog!N10","v":0},{"$f":"+incog!L10","v":0},{"$f":"+incog!M10","v":0},{"$f":"+incog!O10","v":0},{"$f":"+incog!P10","v":0},{"$f":"+incog!Q10","v":0},{"$f":"+incog!R10","v":0},{"$f":"+incog!S10","v":0},{"$f":"+incog!T10","v":0},{"$f":"+incog!U10","v":0},{"$f":"+incog!V10","v":0},{"$f":"+incog!W10","v":0},{"$f":"+incog!X10","v":0},{"$f":"+incog!Y10","v":0},{"$f":"+incog!Z10","v":0},{"$f":"+incog!AA10","v":0},{"$f":"+incog!AB10","v":0},{"$f":"+incog!AC10","v":0},{"$f":"+incog!AD10","v":0},{"$f":"+incog!AE10","v":0}]
[4,{"$f":"+IF(ISBLANK(incog!B11),\"\",incog!B11)","v":"MELAZA"},null,{"$f":"+incog!C11","v":0.75},{"$f":"+incog!D11","v":0.76},{"$f":"+incog!E11","v":0.05},{"$f":"+incog!F11","v":0},{"$f":"+incog!G11","v":0},{"$f":"+incog!H11","v":0},{"$f":"+incog!I11","v":1.0999999999999999E-2},{"$f":"+incog!J11","v":1.5E-3},2.7476887999999997,1.7400984414399994,1.742,2.2363018691999996,{"$f":"+incog!K11","v":0},{"$f":"+incog!N11","v":0.83},{"$f":"+incog!L11","v":0.2},{"$f":"+incog!M11","v":0.8},{"$f":"+incog!O11","v":2.2000000000000001E-3},{"$f":"+incog!P11","v":4.1999999999999997E-3},{"$f":"+incog!Q11","v":0.04},{"$f":"+incog!R11","v":3.1E-2},{"$f":"+incog!S11","v":4.5999999999999999E-3},{"$f":"+incog!T11","v":0},{"$f":"+incog!U11","v":7.0000000000000007E-2},{"$f":"+incog!V11","v":0},{"$f":"+incog!W11","v":0},{"$f":"+incog!X11","v":0},{"$f":"+incog!Y11","v":0},{"$f":"+incog!Z11","v":0},{"$f":"+incog!AA11","v":0},{"$f":"+incog!AB11","v":0},{"$f":"+incog!AC11","v":0},{"$f":"+incog!AD11","v":0},{"$f":"+incog!AE11","v":0}]
[5,{"$f":"+IF(ISBLANK(incog!B12),\"\",incog!B12)","v":"TORTA DE SOYA"},null,{"$f":"+incog!C12","v":0.91},{"$f":"+incog!D12","v":0.81},{"$f":"+incog!E12","v":0.48},{"$f":"+incog!F12","v":0.05},{"$f":"+incog!G12","v":0.1},{"$f":"+incog!H12","v":6.2E-2},{"$f":"+incog!I12","v":3.0000000000000001E-3},{"$f":"+incog!J12","v":7.000000000000001E-3},2.9284577999999999,1.9631312336400002,1.8645000000000005,2.4571112026999997,{"$f":"+incog!K12","v":0.02},{"$f":"+incog!N12","v":0.3},{"$f":"+incog!L12","v":0.66},{"$f":"+incog!M12","v":0.34},{"$f":"+incog!O12","v":2.9999999999999997E-4},{"$f":"+incog!P12","v":2.8999999999999998E-3},{"$f":"+incog!Q12","v":2.4E-2},{"$f":"+incog!R12","v":7.000000000000001E-4},{"$f":"+incog!S12","v":4.5999999999999999E-3},{"$f":"+incog!T12","v":0},{"$f":"+incog!U12","v":0},{"$f":"+incog!V12","v":0},{"$f":"+incog!W12","v":0},{"$f":"+incog!X12","v":0},{"$f":"+incog!Y12","v":0},{"$f":"+incog!Z12","v":0},{"$f":"+incog!AA12","v":0},{"$f":"+incog!AB12","v":0},{"$f":"+incog!AC12","v":0},{"$f":"+incog!AD12","v":0},{"$f":"+incog!AE12","v":0}]
[6,{"$f":"+IF(ISBLANK(incog!B13),\"\",incog!B13)","v":"MAIZ MOLIDO"},null,{"$f":"+incog!C13","v":0.89},{"$f":"+incog!D13","v":0.91},{"$f":"+incog!E13","v":9.5000000000000001E-2},{"$f":"+incog!F13","v":0.05},{"$f":"+incog!G13","v":9.5000000000000001E-2},{"$f":"+incog!H13","v":0.03},{"$f":"+incog!I13","v":2.0000000000000001E-4},{"$f":"+incog!J13","v":3.0000000000000001E-3},3.2899957999999998,2.4091968180399999,2.1095000000000002,2.8987298696999999,{"$f":"+incog!K13","v":0.04},{"$f":"+incog!N13","v":0.75},{"$f":"+incog!L13","v":0.5},{"$f":"+incog!M13","v":0.5},{"$f":"+incog!O13","v":2.0000000000000001E-4},{"$f":"+incog!P13","v":1.1999999999999999E-3},{"$f":"+incog!Q13","v":4.0000000000000001E-3},{"$f":"+incog!R13","v":5.0000000000000001E-4},{"$f":"+incog!S13","v":1.1999999999999999E-3},{"$f":"+incog!T13","v":0},{"$f":"+incog!U13","v":0.63},{"$f":"+incog!V13","v":0},{"$f":"+incog!W13","v":0},{"$f":"+incog!X13","v":0},{"$f":"+incog!Y13","v":0},{"$f":"+incog!Z13","v":0},{"$f":"+incog!AA13","v":0},{"$f":"+incog!AB13","v":0},{"$f":"+incog!AC13","v":0},{"$f":"+incog!AD13","v":0},{"$f":"+incog!AE13","v":0}]
[7,{"$f":"+IF(ISBLANK(incog!B14),\"\",incog!B14)","v":"AFRECHO"},null,{"$f":"+incog!C14","v":0.89},{"$f":"+incog!D14","v":0.73},{"$f":"+incog!E14","v":0.17},{"$f":"+incog!F14","v":0.12},{"$f":"+incog!G14","v":0.37},{"$f":"+incog!H14","v":0.155},{"$f":"+incog!I14","v":1.1999999999999999E-3},{"$f":"+incog!J14","v":1.0999999999999999E-2},2.6392273999999998,1.6062787661199995,1.6684999999999999,2.1038162690999997,{"$f":"+incog!K14","v":0.04},{"$f":"+incog!N14","v":0.42},{"$f":"+incog!L14","v":0.7},{"$f":"+incog!M14","v":0.3},{"$f":"+incog!O14","v":2.0000000000000001E-4},{"$f":"+incog!P14","v":4.0000000000000001E-3},{"$f":"+incog!Q14","v":1.1299999999999999E-2},{"$f":"+incog!R14","v":5.9999999999999995E-4},{"$f":"+incog!S14","v":2.0999999999999999E-3},{"$f":"+incog!T14","v":0},{"$f":"+incog!U14","v":0.31},{"$f":"+incog!V14","v":0},{"$f":"+incog!W14","v":0},{"$f":"+incog!X14","v":0},{"$f":"+incog!Y14","v":0},{"$f":"+incog!Z14","v":0},{"$f":"+incog!AA14","v":0},{"$f":"+incog!AB14","v":0},{"$f":"+incog!AC14","v":0},{"$f":"+incog!AD14","v":0},{"$f":"+incog!AE14","v":0}]
[8,{"$f":"+IF(ISBLANK(incog!B15),\"\",incog!B15)","v":"PEPA ALGODÓN "},null,{"$f":"+incog!C15","v":0.9},{"$f":"+incog!D15","v":0.77200000000000002},{"$f":"+incog!E15","v":0.22},{"$f":"+incog!F15","v":0.26},{"$f":"+incog!G15","v":0.5},{"$f":"+incog!H15","v":0.42},{"$f":"+incog!I15","v":2E-3},{"$f":"+incog!J15","v":6.0000000000000001E-3},2.7910733599999999,1.7936263115679996,1.7714000000000003,2.2892961092400004,{"$f":"+incog!K15","v":0.19},{"$f":"+incog!N15","v":0.09},{"$f":"+incog!L15","v":0.61},{"$f":"+incog!M15","v":0.39},{"$f":"+incog!O15","v":2.0000000000000001E-4},{"$f":"+incog!P15","v":3.7000000000000002E-3},{"$f":"+incog!Q15","v":1.1000000000000001E-2},{"$f":"+incog!R15","v":2.0000000000000001E-4},{"$f":"+incog!S15","v":8.9999999999999998E-4},{"$f":"+incog!T15","v":0},{"$f":"+incog!U15","v":0},{"$f":"+incog!V15","v":0},{"$f":"+incog!W15","v":0},{"$f":"+incog!X15","v":0},{"$f":"+incog!Y15","v":0},{"$f":"+incog!Z15","v":0},{"$f":"+incog!AA15","v":0},{"$f":"+incog!AB15","v":0},{"$f":"+incog!AC15","v":0},{"$f":"+incog!AD15","v":0},{"$f":"+incog!AE15","v":0}]
[9,{"$f":"+IF(ISBLANK(incog!B16),\"\",incog!B16)","v":"CONCENTRADO PROTEICO DE ARROZ (CPA)"},null,{"$f":"+incog!C16","v":0.5},{"$f":"+incog!D16","v":0.78},{"$f":"+incog!E16","v":0.50139999999999996},{"$f":"+incog!F16","v":3.5499999999999997E-2},{"$f":"+incog!G16","v":0.08},{"$f":"+incog!H16","v":0},{"$f":"+incog!I16","v":4.4999999999999997E-3},{"$f":"+incog!J16","v":7.7000000000000002E-3},2.8199963999999995,1.8293115583199997,1.7910000000000004,2.3246256025999994,{"$f":"+incog!K16","v":5.91E-2},{"$f":"+incog!N16","v":0.36},{"$f":"+incog!L16","v":0.55000000000000004},{"$f":"+incog!M16","v":0.45},{"$f":"+incog!O16","v":0},{"$f":"+incog!P16","v":0},{"$f":"+incog!Q16","v":0},{"$f":"+incog!R16","v":0},{"$f":"+incog!S16","v":0},{"$f":"+incog!T16","v":0},{"$f":"+incog!U16","v":0},{"$f":"+incog!V16","v":0},{"$f":"+incog!W16","v":0},{"$f":"+incog!X16","v":0},{"$f":"+incog!Y16","v":0},{"$f":"+incog!Z16","v":0},{"$f":"+incog!AA16","v":0},{"$f":"+incog!AB16","v":0},{"$f":"+incog!AC16","v":0},{"$f":"+incog!AD16","v":0},{"$f":"+incog!AE16","v":0}]
[10,{"$f":"+IF(ISBLANK(incog!B17),\"\",incog!B17)","v":"Hna.Pescad.1ª"},null,{"$f":"+incog!C17","v":0.9},{"$f":"+incog!D17","v":0.72},{"$f":"+incog!E17","v":0.6},{"$f":"+incog!F17","v":0.01},{"$f":"+incog!G17","v":0.25},{"$f":"+incog!H17","v":0.02},{"$f":"+incog!I17","v":6.4000000000000001E-2},{"$f":"+incog!J17","v":3.5999999999999997E-2},2.6030735999999997,1.5616722076799996,1.6440000000000001,2.0596544023999996,{"$f":"+incog!K17","v":0.08},{"$f":"+incog!N17","v":7.0000000000000007E-2},{"$f":"+incog!L17","v":0.37},{"$f":"+incog!M17","v":0.63},{"$f":"+incog!O17","v":0},{"$f":"+incog!P17","v":0},{"$f":"+incog!Q17","v":0},{"$f":"+incog!R17","v":0},{"$f":"+incog!S17","v":0},{"$f":"+incog!T17","v":0},{"$f":"+incog!U17","v":0},{"$f":"+incog!V17","v":0},{"$f":"+incog!W17","v":0},{"$f":"+incog!X17","v":0},{"$f":"+incog!Y17","v":0},{"$f":"+incog!Z17","v":0},{"$f":"+incog!AA17","v":0},{"$f":"+incog!AB17","v":0},{"$f":"+incog!AC17","v":0},{"$f":"+incog!AD17","v":0},{"$f":"+incog!AE17","v":0}]
[11,{"$f":"+IF(ISBLANK(incog!B18),\"\",incog!B18)","v":"BICARBONATO"},null,{"$f":"+incog!C18","v":0.99},{"$f":"+incog!D18","v":0},{"$f":"+incog!E18","v":0},{"$f":"+incog!F18","v":0},{"$f":"+incog!G18","v":0},{"$f":"+incog!H18","v":0},{"$f":"+incog!I18","v":0},{"$f":"+incog!J18","v":0},0,0,0,0,{"$f":"+incog!K18","v":0},{"$f":"+incog!N18","v":0},{"$f":"+incog!L18","v":0},{"$f":"+incog!M18","v":0},{"$f":"+incog!O18","v":0},{"$f":"+incog!P18","v":0},{"$f":"+incog!Q18","v":0},{"$f":"+incog!R18","v":0},{"$f":"+incog!S18","v":0},{"$f":"+incog!T18","v":0},{"$f":"+incog!U18","v":0},{"$f":"+incog!V18","v":0},{"$f":"+incog!W18","v":0},{"$f":"+incog!X18","v":0},{"$f":"+incog!Y18","v":0},{"$f":"+incog!Z18","v":0},{"$f":"+incog!AA18","v":0},{"$f":"+incog!AB18","v":0},{"$f":"+incog!AC18","v":0},{"$f":"+incog!AD18","v":0},{"$f":"+incog!AE18","v":0}]
[12,{"$f":"+IF(ISBLANK(incog!B19),\"\",incog!B19)","v":"GRASA PROTEGIDA"},null,{"$f":"+incog!C19","v":0.95},{"$f":"+incog!D19","v":1.84},{"$f":"+incog!E19","v":0},{"$f":"+incog!F19","v":0},{"$f":"+incog!G19","v":0},{"$f":"+incog!H19","v":0},{"$f":"+incog!I19","v":0.09},{"$f":"+incog!J19","v":0},6.652299199999999,6.5576067529599982,4.3880000000000008,7.0057834727999992,{"$f":"+incog!K19","v":0.84},{"$f":"+incog!N19","v":0},{"$f":"+incog!L19","v":0},{"$f":"+incog!M19","v":0},{"$f":"+incog!O19","v":0},{"$f":"+incog!P19","v":0},{"$f":"+incog!Q19","v":0},{"$f":"+incog!R19","v":0},{"$f":"+incog!S19","v":0},{"$f":"+incog!T19","v":0},{"$f":"+incog!U19","v":0},{"$f":"+incog!V19","v":0},{"$f":"+incog!W19","v":0},{"$f":"+incog!X19","v":0},{"$f":"+incog!Y19","v":0},{"$f":"+incog!Z19","v":0},{"$f":"+incog!AA19","v":0},{"$f":"+incog!AB19","v":0},{"$f":"+incog!AC19","v":0},{"$f":"+incog!AD19","v":0},{"$f":"+incog!AE19","v":0}]
[13,{"$f":"+IF(ISBLANK(incog!B20),\"\",incog!B20)","v":"CARBONATO DE CALCIO"},null,{"$f":"+incog!C20","v":0.98},{"$f":"+incog!D20","v":0},{"$f":"+incog!E20","v":0},{"$f":"+incog!F20","v":0},{"$f":"+incog!G20","v":0},{"$f":"+incog!H20","v":0},{"$f":"+incog!I20","v":0.38},{"$f":"+incog!J20","v":0},0,0,0,0,{"$f":"+incog!K20","v":0},{"$f":"+incog!N20","v":0},{"$f":"+incog!L20","v":0},{"$f":"+incog!M20","v":0},{"$f":"+incog!O20","v":0},{"$f":"+incog!P20","v":0},{"$f":"+incog!Q20","v":0},{"$f":"+incog!R20","v":0},{"$f":"+incog!S20","v":0},{"$f":"+incog!T20","v":0},{"$f":"+incog!U20","v":0},{"$f":"+incog!V20","v":0},{"$f":"+incog!W20","v":0},{"$f":"+incog!X20","v":0},{"$f":"+incog!Y20","v":0},{"$f":"+incog!Z20","v":0},{"$f":"+incog!AA20","v":0},{"$f":"+incog!AB20","v":0},{"$f":"+incog!AC20","v":0},{"$f":"+incog!AD20","v":0},{"$f":"+incog!AE20","v":0}]
[14,{"$f":"+IF(ISBLANK(incog!B21),\"\",incog!B21)","v":"SAL"},null,{"$f":"+incog!C21","v":0.99},{"$f":"+incog!D21","v":0},{"$f":"+incog!E21","v":0},{"$f":"+incog!F21","v":0},{"$f":"+incog!G21","v":0},{"$f":"+incog!H21","v":0},{"$f":"+incog!I21","v":0},{"$f":"+incog!J21","v":0},0,0,0,0,{"$f":"+incog!K21","v":0},{"$f":"+incog!N21","v":0},{"$f":"+incog!L21","v":0},{"$f":"+incog!M21","v":0},{"$f":"+incog!O21","v":0.39},{"$f":"+incog!P21","v":0},{"$f":"+incog!Q21","v":0},{"$f":"+incog!R21","v":0.6},{"$f":"+incog!S21","v":0},{"$f":"+incog!T21","v":0},{"$f":"+incog!U21","v":0},{"$f":"+incog!V21","v":0},{"$f":"+incog!W21","v":0},{"$f":"+incog!X21","v":0},{"$f":"+incog!Y21","v":0},{"$f":"+incog!Z21","v":0},{"$f":"+incog!AA21","v":0},{"$f":"+incog!AB21","v":0},{"$f":"+incog!AC21","v":0},{"$f":"+incog!AD21","v":0},{"$f":"+incog!AE21","v":0}]
[15,{"$f":"+IF(ISBLANK(incog!B22),\"\",incog!B22)","v":"Custom Pack 940"},null,{"$f":"+incog!C22","v":0.99},{"$f":"+incog!D22","v":0},{"$f":"+incog!E22","v":0},{"$f":"+incog!F22","v":0},{"$f":"+incog!G22","v":0},{"$f":"+incog!H22","v":0},{"$f":"+incog!I22","v":0},{"$f":"+incog!J22","v":0},0,0,0,0,{"$f":"+incog!K22","v":0},{"$f":"+incog!N22","v":0},{"$f":"+incog!L22","v":0},{"$f":"+incog!M22","v":0},{"$f":"+incog!O22","v":0},{"$f":"+incog!P22","v":0},{"$f":"+incog!Q22","v":0},{"$f":"+incog!R22","v":0},{"$f":"+incog!S22","v":0},{"$f":"+incog!T22","v":0},{"$f":"+incog!U22","v":0},{"$f":"+incog!V22","v":0},{"$f":"+incog!W22","v":0},{"$f":"+incog!X22","v":0},{"$f":"+incog!Y22","v":0},{"$f":"+incog!Z22","v":0},{"$f":"+incog!AA22","v":0},{"$f":"+incog!AB22","v":0},{"$f":"+incog!AC22","v":0},{"$f":"+incog!AD22","v":0},{"$f":"+incog!AE22","v":0}]
[16,{"$f":"+IF(ISBLANK(incog!B23),\"\",incog!B23)","v":"DDGS"},null,{"$f":"+incog!C23","v":0.88},{"$f":"+incog!D23","v":0.8},{"$f":"+incog!E23","v":0.3},{"$f":"+incog!F23","v":0.33},{"$f":"+incog!G23","v":0.41499999999999998},{"$f":"+incog!H23","v":0.161},{"$f":"+incog!I23","v":2.2000000000000001E-3},{"$f":"+incog!J23","v":8.3000000000000001E-3},2.8923039999999998,1.9185246752,1.8400000000000003,2.4129493360000001,{"$f":"+incog!K23","v":0.1},{"$f":"+incog!N23","v":0},{"$f":"+incog!L23","v":0.45},{"$f":"+incog!M23","v":0.55000000000000004},{"$f":"+incog!O23","v":0},{"$f":"+incog!P23","v":0},{"$f":"+incog!Q23","v":0},{"$f":"+incog!R23","v":0},{"$f":"+incog!S23","v":0},{"$f":"+incog!T23","v":0},{"$f":"+incog!U23","v":0},{"$f":"+incog!V23","v":0},{"$f":"+incog!W23","v":0},{"$f":"+incog!X23","v":0},{"$f":"+incog!Y23","v":0},{"$f":"+incog!Z23","v":0},{"$f":"+incog!AA23","v":0},{"$f":"+incog!AB23","v":0},{"$f":"+incog!AC23","v":0},{"$f":"+incog!AD23","v":0},{"$f":"+incog!AE23","v":0}]
[17,{"$f":"+IF(ISBLANK(incog!B24),\"\",incog!B24)","v":"Colina"},null,{"$f":"+incog!C24","v":0.99},{"$f":"+incog!D24","v":0},{"$f":"+incog!E24","v":0},{"$f":"+incog!F24","v":0},{"$f":"+incog!G24","v":0},{"$f":"+incog!H24","v":0},{"$f":"+incog!I24","v":0},{"$f":"+incog!J24","v":0},0,0,0,0,{"$f":"+incog!K24","v":0},{"$f":"+incog!N24","v":0},{"$f":"+incog!L24","v":0},{"$f":"+incog!M24","v":0},{"$f":"+incog!O24","v":0},{"$f":"+incog!P24","v":0},{"$f":"+incog!Q24","v":0},{"$f":"+incog!R24","v":0},{"$f":"+incog!S24","v":0},{"$f":"+incog!T24","v":0},{"$f":"+incog!U24","v":0},{"$f":"+incog!V24","v":0},{"$f":"+incog!W24","v":0},{"$f":"+incog!X24","v":0},{"$f":"+incog!Y24","v":0},{"$f":"+incog!Z24","v":0},{"$f":"+incog!AA24","v":0},{"$f":"+incog!AB24","v":0},{"$f":"+incog!AC24","v":0},{"$f":"+incog!AD24","v":0},{"$f":"+incog!AE24","v":0}]
[18,{"$f":"+IF(ISBLANK(incog!B25),\"\",incog!B25)","v":"Optigen"},null,{"$f":"+incog!C25","v":0.99},{"$f":"+incog!D25","v":0},{"$f":"+incog!E25","v":2.5299999999999998},{"$f":"+incog!F25","v":0},{"$f":"+incog!G25","v":0},{"$f":"+incog!H25","v":0},{"$f":"+incog!I25","v":0},{"$f":"+incog!J25","v":0},0,0,0,0,{"$f":"+incog!K25","v":0},{"$f":"+incog!N25","v":0},{"$f":"+incog!L25","v":0},{"$f":"+incog!M25","v":0},{"$f":"+incog!O25","v":0},{"$f":"+incog!P25","v":0},{"$f":"+incog!Q25","v":0},{"$f":"+incog!R25","v":0},{"$f":"+incog!S25","v":0},{"$f":"+incog!T25","v":0},{"$f":"+incog!U25","v":0},{"$f":"+incog!V25","v":0},{"$f":"+incog!W25","v":0},{"$f":"+incog!X25","v":0},{"$f":"+incog!Y25","v":0},{"$f":"+incog!Z25","v":0},{"$f":"+incog!AA25","v":0},{"$f":"+incog!AB25","v":0},{"$f":"+incog!AC25","v":0},{"$f":"+incog!AD25","v":0},{"$f":"+incog!AE25","v":0}]
[19,{"$f":"+IF(ISBLANK(incog!B26),\"\",incog!B26)","v":"Stafac"},null,{"$f":"+incog!C26","v":0},{"$f":"+incog!D26","v":0},{"$f":"+incog!E26","v":0},{"$f":"+incog!F26","v":0},{"$f":"+incog!G26","v":0},{"$f":"+incog!H26","v":0},{"$f":"+incog!I26","v":0},{"$f":"+incog!J26","v":0},0,0,0,0,{"$f":"+incog!K26","v":0},{"$f":"+incog!N26","v":0},{"$f":"+incog!L26","v":0},{"$f":"+incog!M26","v":0},{"$f":"+incog!O26","v":0},{"$f":"+incog!P26","v":0},{"$f":"+incog!Q26","v":0},{"$f":"+incog!R26","v":0},{"$f":"+incog!S26","v":0},{"$f":"+incog!T26","v":0},{"$f":"+incog!U26","v":0},{"$f":"+incog!V26","v":0},{"$f":"+incog!W26","v":0},{"$f":"+incog!X26","v":0},{"$f":"+incog!Y26","v":0},{"$f":"+incog!Z26","v":0},{"$f":"+incog!AA26","v":0},{"$f":"+incog!AB26","v":0},{"$f":"+incog!AC26","v":0},{"$f":"+incog!AD26","v":0},{"$f":"+incog!AE26","v":0}]
[20,{"$f":"+IF(ISBLANK(incog!B27),\"\",incog!B27)","v":"Selplex"},null,{"$f":"+incog!C27","v":0},{"$f":"+incog!D27","v":0},{"$f":"+incog!E27","v":0},{"$f":"+incog!F27","v":0},{"$f":"+incog!G27","v":0},{"$f":"+incog!H27","v":0},{"$f":"+incog!I27","v":0},{"$f":"+incog!J27","v":0},0,0,0,0,{"$f":"+incog!K27","v":0},{"$f":"+incog!N27","v":0},{"$f":"+incog!L27","v":0},{"$f":"+incog!M27","v":0},{"$f":"+incog!O27","v":0},{"$f":"+incog!P27","v":0},{"$f":"+incog!Q27","v":0},{"$f":"+incog!R27","v":0},{"$f":"+incog!S27","v":0},{"$f":"+incog!T27","v":0},{"$f":"+incog!U27","v":0},{"$f":"+incog!V27","v":0},{"$f":"+incog!W27","v":0},{"$f":"+incog!X27","v":0},{"$f":"+incog!Y27","v":0},{"$f":"+incog!Z27","v":0},{"$f":"+incog!AA27","v":0},{"$f":"+incog!AB27","v":0},{"$f":"+incog!AC27","v":0},{"$f":"+incog!AD27","v":0},{"$f":"+incog!AE27","v":0}]
[21,{"$f":"+IF(ISBLANK(incog!B28),\"\",incog!B28)","v":"Dairy Pack"},null,{"$f":"+incog!C28","v":0},{"$f":"+incog!D28","v":0},{"$f":"+incog!E28","v":0},{"$f":"+incog!F28","v":0},{"$f":"+incog!G28","v":0},{"$f":"+incog!H28","v":0},{"$f":"+incog!I28","v":0},{"$f":"+incog!J28","v":0},0,0,0,0,{"$f":"+incog!K28","v":0},{"$f":"+incog!N28","v":0},{"$f":"+incog!L28","v":0},{"$f":"+incog!M28","v":0},{"$f":"+incog!O28","v":0},{"$f":"+incog!P28","v":0},{"$f":"+incog!Q28","v":0},{"$f":"+incog!R28","v":0},{"$f":"+incog!S28","v":0},{"$f":"+incog!T28","v":0},{"$f":"+incog!U28","v":0},{"$f":"+incog!V28","v":0},{"$f":"+incog!W28","v":0},{"$f":"+incog!X28","v":0},{"$f":"+incog!Y28","v":0},{"$f":"+incog!Z28","v":0},{"$f":"+incog!AA28","v":0},{"$f":"+incog!AB28","v":0},{"$f":"+incog!AC28","v":0},{"$f":"+incog!AD28","v":0},{"$f":"+incog!AE28","v":0}]
[22,{"$f":"+IF(ISBLANK(incog!B29),\"\",incog!B29)","v":"Bioplex Cobre"},null,{"$f":"+incog!C29","v":0},{"$f":"+incog!D29","v":0},{"$f":"+incog!E29","v":0},{"$f":"+incog!F29","v":0},{"$f":"+incog!G29","v":0},{"$f":"+incog!H29","v":0},{"$f":"+incog!I29","v":0},{"$f":"+incog!J29","v":0},0,0,0,0,{"$f":"+incog!K29","v":0},{"$f":"+incog!N29","v":0},{"$f":"+incog!L29","v":0},{"$f":"+incog!M29","v":0},{"$f":"+incog!O29","v":0},{"$f":"+incog!P29","v":0},{"$f":"+incog!Q29","v":0},{"$f":"+incog!R29","v":0},{"$f":"+incog!S29","v":0},{"$f":"+incog!T29","v":0},{"$f":"+incog!U29","v":0},{"$f":"+incog!V29","v":0},{"$f":"+incog!W29","v":0},{"$f":"+incog!X29","v":0},{"$f":"+incog!Y29","v":0},{"$f":"+incog!Z29","v":0},{"$f":"+incog!AA29","v":0},{"$f":"+incog!AB29","v":0},{"$f":"+incog!AC29","v":0},{"$f":"+incog!AD29","v":0},{"$f":"+incog!AE29","v":0}]
[23,{"$f":"+IF(ISBLANK(incog!B30),\"\",incog!B30)","v":"SUPLAMIN DIFOS"},null,{"$f":"+incog!C30","v":0.98},{"$f":"+incog!D30","v":0},{"$f":"+incog!E30","v":0},{"$f":"+incog!F30","v":0},{"$f":"+incog!G30","v":0},{"$f":"+incog!H30","v":0},{"$f":"+incog!I30","v":0.185},{"$f":"+incog!J30","v":0.15060000000000001},0,0,0,0,{"$f":"+incog!K30","v":0},{"$f":"+incog!N30","v":0},{"$f":"+incog!L30","v":0},{"$f":"+incog!M30","v":0},{"$f":"+incog!O30","v":2.35E-2},{"$f":"+incog!P30","v":4.8640000000000003E-3},{"$f":"+incog!Q30","v":6.9999999999999999E-6},{"$f":"+incog!R30","v":0},{"$f":"+incog!S30","v":9.3999999999999997E-4},{"$f":"+incog!T30","v":0},{"$f":"+incog!U30","v":0},{"$f":"+incog!V30","v":0},{"$f":"+incog!W30","v":0},{"$f":"+incog!X30","v":0},{"$f":"+incog!Y30","v":0},{"$f":"+incog!Z30","v":1209},{"$f":"+incog!AA30","v":10},{"$f":"+incog!AB30","v":2500},{"$f":"+incog!AC30","v":515},{"$f":"+incog!AD30","v":650},{"$f":"+incog!AE30","v":100}]
[24,{"$f":"+IF(ISBLANK(incog!B31),\"\",incog!B31)","v":"MONTAFOS"},null,{"$f":"+incog!C31","v":0.99},{"$f":"+incog!D31","v":0},{"$f":"+incog!E31","v":0},{"$f":"+incog!F31","v":0},{"$f":"+incog!G31","v":0},{"$f":"+incog!H31","v":0},{"$f":"+incog!I31","v":0.18},{"$f":"+incog!J31","v":0.21},0,0,0,0,{"$f":"+incog!K31","v":0},{"$f":"+incog!N31","v":0},{"$f":"+incog!L31","v":0},{"$f":"+incog!M31","v":0},{"$f":"+incog!O31","v":0},{"$f":"+incog!P31","v":0},{"$f":"+incog!Q31","v":0},{"$f":"+incog!R31","v":0},{"$f":"+incog!S31","v":0},{"$f":"+incog!T31","v":0},{"$f":"+incog!U31","v":0},{"$f":"+incog!V31","v":0},{"$f":"+incog!W31","v":0},{"$f":"+incog!X31","v":0},{"$f":"+incog!Y31","v":0},{"$f":"+incog!Z31","v":0},{"$f":"+incog!AA31","v":0},{"$f":"+incog!AB31","v":0},{"$f":"+incog!AC31","v":0},{"$f":"+incog!AD31","v":0},{"$f":"+incog!AE31","v":0}]
[25,{"$f":"+IF(ISBLANK(incog!B32),\"\",incog!B32)","v":""},null,{"$f":"+incog!C32","v":0},{"$f":"+incog!D32","v":0},{"$f":"+incog!E32","v":0},{"$f":"+incog!F32","v":0},{"$f":"+incog!G32","v":0},{"$f":"+incog!H32","v":0},{"$f":"+incog!I32","v":0},{"$f":"+incog!J32","v":0},0,{"$f":"+IF(L30=0,0,(1.42*L30)-1.65-((0.174*L30+POWER(,2)+(0.0122*L30+POWER(,3)))))","v":0},0,{"$f":"+IF(L30=0,0,((L30*1.37-(1.12)-(0.138*L30+POWER(,2)+(0.0105*L30+POWER(,3))))))","v":0},{"$f":"+incog!K32","v":0},{"$f":"+incog!N32","v":0},{"$f":"+incog!L32","v":0},{"$f":"+incog!M32","v":0},{"$f":"+incog!O32","v":0},{"$f":"+incog!P32","v":0},{"$f":"+incog!Q32","v":0},{"$f":"+incog!R32","v":0},{"$f":"+incog!S32","v":0},{"$f":"+incog!T32","v":0},{"$f":"+incog!U32","v":0},{"$f":"+incog!V32","v":0},{"$f":"+incog!W32","v":0},{"$f":"+incog!X32","v":0},{"$f":"+incog!Y32","v":0},{"$f":"+incog!Z32","v":0},{"$f":"+incog!AA32","v":0},{"$f":"+incog!AB32","v":0},{"$f":"+incog!AC32","v":0},{"$f":"+incog!AD32","v":0},{"$f":"+incog!AE32","v":0}]
[26,{"$f":"+IF(ISBLANK(incog!B33),\"\",incog!B33)","v":""},null,{"$f":"+incog!C33","v":0},{"$f":"+incog!D33","v":0},{"$f":"+incog!E33","v":0},{"$f":"+incog!F33","v":0},{"$f":"+incog!G33","v":0},{"$f":"+incog!H33","v":0},{"$f":"+incog!I33","v":0},{"$f":"+incog!J33","v":0},0,{"$f":"+IF(L31=0,0,(1.42*L31)-1.65-((0.174*L31+POWER(,2)+(0.0122*L31+POWER(,3)))))","v":0},0,{"$f":"+IF(L31=0,0,((L31*1.37-(1.12)-(0.138*L31+POWER(,2)+(0.0105*L31+POWER(,3))))))","v":0},{"$f":"+incog!K33","v":0},{"$f":"+incog!N33","v":0},{"$f":"+incog!L33","v":0},{"$f":"+incog!M33","v":0},{"$f":"+incog!O33","v":0},{"$f":"+incog!P33","v":0},{"$f":"+incog!Q33","v":0},{"$f":"+incog!R33","v":0},{"$f":"+incog!S33","v":0},{"$f":"+incog!T33","v":0},{"$f":"+incog!U33","v":0},{"$f":"+incog!V33","v":0},{"$f":"+incog!W33","v":0},{"$f":"+incog!X33","v":0},{"$f":"+incog!Y33","v":0},{"$f":"+incog!Z33","v":0},{"$f":"+incog!AA33","v":0},{"$f":"+incog!AB33","v":0},{"$f":"+incog!AC33","v":0},{"$f":"+incog!AD33","v":0},{"$f":"+incog!AE33","v":0}]
[27,{"$f":"+IF(ISBLANK(incog!B34),\"\",incog!B34)","v":""},null,{"$f":"+incog!C34","v":0},{"$f":"+incog!D34","v":0},{"$f":"+incog!E34","v":0},{"$f":"+incog!F34","v":0},{"$f":"+incog!G34","v":0},{"$f":"+incog!H34","v":0},{"$f":"+incog!I34","v":0},{"$f":"+incog!J34","v":0},0,0,0,0,{"$f":"+incog!K34","v":0},{"$f":"+incog!N34","v":0},{"$f":"+incog!L34","v":0},{"$f":"+incog!M34","v":0},{"$f":"+incog!O34","v":0},{"$f":"+incog!P34","v":0},{"$f":"+incog!Q34","v":0},{"$f":"+incog!R34","v":0},{"$f":"+incog!S34","v":0},{"$f":"+incog!T34","v":0},{"$f":"+incog!U34","v":0},{"$f":"+incog!V34","v":0},{"$f":"+incog!W34","v":0},{"$f":"+incog!X34","v":0},{"$f":"+incog!Y34","v":0},{"$f":"+incog!Z34","v":0},{"$f":"+incog!AA34","v":0},{"$f":"+incog!AB34","v":0},{"$f":"+incog!AC34","v":0},{"$f":"+incog!AD34","v":0},{"$f":"+incog!AE34","v":0}]
[28,{"$f":"+IF(ISBLANK(incog!B35),\"\",incog!B35)","v":""},null,{"$f":"+incog!C35","v":0},{"$f":"+incog!D35","v":0},{"$f":"+incog!E35","v":0},{"$f":"+incog!F35","v":0},{"$f":"+incog!G35","v":0},{"$f":"+incog!H35","v":0},{"$f":"+incog!I35","v":0},{"$f":"+incog!J35","v":0},0,0,0,0,{"$f":"+incog!K35","v":0},{"$f":"+incog!N35","v":0},{"$f":"+incog!L35","v":0},{"$f":"+incog!M35","v":0},{"$f":"+incog!O35","v":0},{"$f":"+incog!P35","v":0},{"$f":"+incog!Q35","v":0},{"$f":"+incog!R35","v":0},{"$f":"+incog!S35","v":0},{"$f":"+incog!T35","v":0},{"$f":"+incog!U35","v":0},{"$f":"+incog!V35","v":0},{"$f":"+incog!W35","v":0},{"$f":"+incog!X35","v":0},{"$f":"+incog!Y35","v":0},{"$f":"+incog!Z35","v":0},{"$f":"+incog!AA35","v":0},{"$f":"+incog!AB35","v":0},{"$f":"+incog!AC35","v":0},{"$f":"+incog!AD35","v":0},{"$f":"+incog!AE35","v":0}]
[29,{"$f":"+IF(ISBLANK(incog!B36),\"\",incog!B36)","v":""},null,{"$f":"+incog!C36","v":0},{"$f":"+incog!D36","v":0},{"$f":"+incog!E36","v":0},{"$f":"+incog!F36","v":0},{"$f":"+incog!G36","v":0},{"$f":"+incog!H36","v":0},{"$f":"+incog!I36","v":0},{"$f":"+incog!J36","v":0},0,0,0,0,{"$f":"+incog!K36","v":0},{"$f":"+incog!N36","v":0},{"$f":"+incog!L36","v":0},{"$f":"+incog!M36","v":0},{"$f":"+incog!O36","v":0},{"$f":"+incog!P36","v":0},{"$f":"+incog!Q36","v":0},{"$f":"+incog!R36","v":0},{"$f":"+incog!S36","v":0},{"$f":"+incog!T36","v":0},{"$f":"+incog!U36","v":0},{"$f":"+incog!V36","v":0},{"$f":"+incog!W36","v":0},{"$f":"+incog!X36","v":0},{"$f":"+incog!Y36","v":0},{"$f":"+incog!Z36","v":0},{"$f":"+incog!AA36","v":0},{"$f":"+incog!AB36","v":0},{"$f":"+incog!AC36","v":0},{"$f":"+incog!AD36","v":0},{"$f":"+incog!AE36","v":0}]
[30,{"$f":"+IF(ISBLANK(incog!B37),\"\",incog!B37)","v":""},null,{"$f":"+incog!C37","v":0},{"$f":"+incog!D37","v":0},{"$f":"+incog!E37","v":0},{"$f":"+incog!F37","v":0},{"$f":"+incog!G37","v":0},{"$f":"+incog!H37","v":0},{"$f":"+incog!I37","v":0},{"$f":"+incog!J37","v":0},0,0,0,0,{"$f":"+incog!K37","v":0},{"$f":"+incog!N37","v":0},{"$f":"+incog!L37","v":0},{"$f":"+incog!M37","v":0},{"$f":"+incog!O37","v":0},{"$f":"+incog!P37","v":0},{"$f":"+incog!Q37","v":0},{"$f":"+incog!R37","v":0},{"$f":"+incog!S37","v":0},{"$f":"+incog!T37","v":0},{"$f":"+incog!U37","v":0},{"$f":"+incog!V37","v":0},{"$f":"+incog!W37","v":0},{"$f":"+incog!X37","v":0},{"$f":"+incog!Y37","v":0},{"$f":"+incog!Z37","v":0},{"$f":"+incog!AA37","v":0},{"$f":"+incog!AB37","v":0},{"$f":"+incog!AC37","v":0},{"$f":"+incog!AD37","v":0},{"$f":"+incog!AE37","v":0}]
[31,{"$f":"+IF(ISBLANK(incog!B38),\"\",incog!B38)","v":""},null,{"$f":"+incog!C38","v":0},{"$f":"+incog!D38","v":0},{"$f":"+incog!E38","v":0},{"$f":"+incog!F38","v":0},{"$f":"+incog!G38","v":0},{"$f":"+incog!H38","v":0},{"$f":"+incog!I38","v":0},{"$f":"+incog!J38","v":0},0,0,0,0,{"$f":"+incog!K38","v":0},{"$f":"+incog!N38","v":0},{"$f":"+incog!L38","v":0},{"$f":"+incog!M38","v":0},{"$f":"+incog!O38","v":0},{"$f":"+incog!P38","v":0},{"$f":"+incog!Q38","v":0},{"$f":"+incog!R38","v":0},{"$f":"+incog!S38","v":0},{"$f":"+incog!T38","v":0},{"$f":"+incog!U38","v":0},{"$f":"+incog!V38","v":0},{"$f":"+incog!W38","v":0},{"$f":"+incog!X38","v":0},{"$f":"+incog!Y38","v":0},{"$f":"+incog!Z38","v":0},{"$f":"+incog!AA38","v":0},{"$f":"+incog!AB38","v":0},{"$f":"+incog!AC38","v":0},{"$f":"+incog!AD38","v":0},{"$f":"+incog!AE38","v":0}]
[32,{"$f":"+IF(ISBLANK(incog!B39),\"\",incog!B39)","v":""},null,{"$f":"+incog!C39","v":0},{"$f":"+incog!D39","v":0},{"$f":"+incog!E39","v":0},{"$f":"+incog!F39","v":0},{"$f":"+incog!G39","v":0},{"$f":"+incog!H39","v":0},{"$f":"+incog!I39","v":0},{"$f":"+incog!J39","v":0},0,0,0,0,{"$f":"+incog!K39","v":0},{"$f":"+incog!N39","v":0},{"$f":"+incog!L39","v":0},{"$f":"+incog!M39","v":0},{"$f":"+incog!O39","v":0},{"$f":"+incog!P39","v":0},{"$f":"+incog!Q39","v":0},{"$f":"+incog!R39","v":0},{"$f":"+incog!S39","v":0},{"$f":"+incog!T39","v":0},{"$f":"+incog!U39","v":0},{"$f":"+incog!V39","v":0},{"$f":"+incog!W39","v":0},{"$f":"+incog!X39","v":0},{"$f":"+incog!Y39","v":0},{"$f":"+incog!Z39","v":0},{"$f":"+incog!AA39","v":0},{"$f":"+incog!AB39","v":0},{"$f":"+incog!AC39","v":0},{"$f":"+incog!AD39","v":0},{"$f":"+incog!AE39","v":0}]
[33,{"$f":"+IF(ISBLANK(incog!B40),\"\",incog!B40)","v":""},null,{"$f":"+incog!C40","v":0},{"$f":"+incog!D40","v":0},{"$f":"+incog!E40","v":0},{"$f":"+incog!F40","v":0},{"$f":"+incog!G40","v":0},{"$f":"+incog!H40","v":0},{"$f":"+incog!I40","v":0},{"$f":"+incog!J40","v":0},0,0,0,0,{"$f":"+incog!K40","v":0},{"$f":"+incog!N40","v":0},{"$f":"+incog!L40","v":0},{"$f":"+incog!M40","v":0},{"$f":"+incog!O40","v":0},{"$f":"+incog!P40","v":0},{"$f":"+incog!Q40","v":0},{"$f":"+incog!R40","v":0},{"$f":"+incog!S40","v":0},{"$f":"+incog!T40","v":0},{"$f":"+incog!U40","v":0},{"$f":"+incog!V40","v":0},{"$f":"+incog!W40","v":0},{"$f":"+incog!X40","v":0},{"$f":"+incog!Y40","v":0},{"$f":"+incog!Z40","v":0},{"$f":"+incog!AA40","v":0},{"$f":"+incog!AB40","v":0},{"$f":"+incog!AC40","v":0},{"$f":"+incog!AD40","v":0},{"$f":"+incog!AE40","v":0}]
[34,{"$f":"+IF(ISBLANK(incog!B41),\"\",incog!B41)","v":""},null,{"$f":"+incog!C41","v":0},{"$f":"+incog!D41","v":0},{"$f":"+incog!E41","v":0},{"$f":"+incog!F41","v":0},{"$f":"+incog!G41","v":0},{"$f":"+incog!H41","v":0},{"$f":"+incog!I41","v":0},{"$f":"+incog!J41","v":0},0,0,0,0,{"$f":"+incog!K41","v":0},{"$f":"+incog!N41","v":0},{"$f":"+incog!L41","v":0},{"$f":"+incog!M41","v":0},{"$f":"+incog!O41","v":0},{"$f":"+incog!P41","v":0},{"$f":"+incog!Q41","v":0},{"$f":"+incog!R41","v":0},{"$f":"+incog!S41","v":0},{"$f":"+incog!T41","v":0},{"$f":"+incog!U41","v":0},{"$f":"+incog!V41","v":0},{"$f":"+incog!W41","v":0},{"$f":"+incog!X41","v":0},{"$f":"+incog!Y41","v":0},{"$f":"+incog!Z41","v":0},{"$f":"+incog!AA41","v":0},{"$f":"+incog!AB41","v":0},{"$f":"+incog!AC41","v":0},{"$f":"+incog!AD41","v":0},{"$f":"+incog!AE41","v":0}]
[35,{"$f":"+IF(ISBLANK(incog!B42),\"\",incog!B42)","v":""},null,{"$f":"+incog!C42","v":0},{"$f":"+incog!D42","v":0},{"$f":"+incog!E42","v":0},{"$f":"+incog!F42","v":0},{"$f":"+incog!G42","v":0},{"$f":"+incog!H42","v":0},{"$f":"+incog!I42","v":0},{"$f":"+incog!J42","v":0},0,0,0,0,{"$f":"+incog!K42","v":0},{"$f":"+incog!N42","v":0},{"$f":"+incog!L42","v":0},{"$f":"+incog!M42","v":0},{"$f":"+incog!O42","v":0},{"$f":"+incog!P42","v":0},{"$f":"+incog!Q42","v":0},{"$f":"+incog!R42","v":0},{"$f":"+incog!S42","v":0},{"$f":"+incog!T42","v":0},{"$f":"+incog!U42","v":0},{"$f":"+incog!V42","v":0},{"$f":"+incog!W42","v":0},{"$f":"+incog!X42","v":0},{"$f":"+incog!Y42","v":0},{"$f":"+incog!Z42","v":0},{"$f":"+incog!AA42","v":0},{"$f":"+incog!AB42","v":0},{"$f":"+incog!AC42","v":0},{"$f":"+incog!AD42","v":0},{"$f":"+incog!AE42","v":0}]
[null,"Vacio",null,null,null,null,null,null,null,null,null,null,null,null,null,null,{"$f":"IF(AND(H41<>0,F41<>0,P41<>0,incog!N43<>0),1-(H41+F41+P41+incog!N43),0)","v":0}]
[null,"FORRAJES"]
[1,{"$f":"+IF(ISBLANK(incog!B45),\"\",incog!B45)","v":"Orujo de ceb."},null,{"$f":"+incog!C45","v":0.18},{"$f":"+incog!D45","v":0.7},{"$f":"+incog!E45","v":0.21},{"$f":"+incog!F45","v":0.17},{"$f":"+incog!G45","v":0.47},{"$f":"+incog!H45","v":0.23},{"$f":"+incog!I45","v":2.8999999999999998E-3},{"$f":"+incog!J45","v":6.0000000000000001E-3},{"$f":"+IF(E43=0,0,((E43*0.04409)*0.82))*100","v":2.5307659999999994},1.472459090799999,{"$f":"+IF(E43=0,0,(E43*2.45)-0.12)","v":1.5950000000000002},1.9713306689999992,{"$f":"+incog!K45","v":6.6000000000000003E-2},{"$f":"+incog!N45","v":0.25},{"$f":"+incog!L45","v":0.45},{"$f":"+incog!M45","v":0.55000000000000004},{"$f":"+incog!O45","v":0},{"$f":"+incog!P45","v":0},{"$f":"+incog!Q45","v":0},{"$f":"+incog!R45","v":0},{"$f":"+incog!S45","v":0},{"$f":"+incog!T45","v":0},{"$f":"+incog!U45","v":0},{"$f":"+incog!V45","v":0},{"$f":"+incog!W45","v":0},{"$f":"+incog!X45","v":0},{"$f":"+incog!Y45","v":0},{"$f":"+incog!Z45","v":0},{"$f":"+incog!AA45","v":0},{"$f":"+incog!AB45","v":0},{"$f":"+incog!AC45","v":0},{"$f":"+incog!AD45","v":0},{"$f":"+incog!AE45","v":0}]
[2,{"$f":"+IF(ISBLANK(incog!B46),\"\",incog!B46)","v":"Panca picad"},null,{"$f":"+incog!C46","v":0.88},{"$f":"+incog!D46","v":0.48},{"$f":"+incog!E46","v":4.8500000000000008E-2},{"$f":"+incog!F46","v":0.34},{"$f":"+incog!G46","v":0.65},{"$f":"+incog!H46","v":0.49},{"$f":"+incog!I46","v":6.0000000000000001E-3},{"$f":"+incog!J46","v":8.9999999999999998E-4},1.7353823999999998,0.49111480511999966,1.056,0.99976960159999984,{"$f":"+incog!K46","v":1.4000000000000002E-2},{"$f":"+incog!N46","v":0.28000000000000003},{"$f":"+incog!L46","v":0.7},{"$f":"+incog!M46","v":0.3},{"$f":"+incog!O46","v":1E-4},{"$f":"+incog!P46","v":1.9E-3},{"$f":"+incog!Q46","v":9.0000000000000011E-3},{"$f":"+incog!R46","v":2E-3},{"$f":"+incog!S46","v":1.4000000000000002E-3},{"$f":"+incog!T46","v":0},{"$f":"+incog!U46","v":0},{"$f":"+incog!V46","v":0},{"$f":"+incog!W46","v":0},{"$f":"+incog!X46","v":0},{"$f":"+incog!Y46","v":0},{"$f":"+incog!Z46","v":0},{"$f":"+incog!AA46","v":0},{"$f":"+incog!AB46","v":0},{"$f":"+incog!AC46","v":0},{"$f":"+incog!AD46","v":0},{"$f":"+incog!AE46","v":0}]
[3,{"$f":"+IF(ISBLANK(incog!B47),\"\",incog!B47)","v":"Chala con choclo"},null,{"$f":"+incog!C47","v":0.26},{"$f":"+incog!D47","v":0.65},{"$f":"+incog!E47","v":9.7000000000000017E-2},{"$f":"+incog!F47","v":0.3},{"$f":"+incog!G47","v":0.52},{"$f":"+incog!H47","v":0.32},{"$f":"+incog!I47","v":2.5000000000000001E-3},{"$f":"+incog!J47","v":2.3E-3},2.3499969999999997,1.2494262985999995,1.4725000000000001,1.7505213354999996,{"$f":"+incog!K47","v":0.02},{"$f":"+incog!N47","v":0.36},{"$f":"+incog!L47","v":0.7},{"$f":"+incog!M47","v":0.3},{"$f":"+incog!O47","v":1E-4},{"$f":"+incog!P47","v":1.9E-3},{"$f":"+incog!Q47","v":1.6E-2},{"$f":"+incog!R47","v":3.0000000000000001E-3},{"$f":"+incog!S47","v":1.1000000000000001E-3},{"$f":"+incog!T47","v":0},{"$f":"+incog!U47","v":0.6},{"$f":"+incog!V47","v":0},{"$f":"+incog!W47","v":0},{"$f":"+incog!X47","v":0},{"$f":"+incog!Y47","v":0},{"$f":"+incog!Z47","v":0},{"$f":"+incog!AA47","v":0},{"$f":"+incog!AB47","v":0},{"$f":"+incog!AC47","v":0},{"$f":"+incog!AD47","v":0},{"$f":"+incog!AE47","v":0}]
[4,{"$f":"+IF(ISBLANK(incog!B48),\"\",incog!B48)","v":"Ensilaje chala maiz"},null,{"$f":"+incog!C48","v":0.32},{"$f":"+incog!D48","v":0.6},{"$f":"+incog!E48","v":0.09},{"$f":"+incog!F48","v":0.35},{"$f":"+incog!G48","v":0.55000000000000004},{"$f":"+incog!H48","v":0.35},{"$f":"+incog!I48","v":2.5000000000000001E-3},{"$f":"+incog!J48","v":2.3E-3},2.1692279999999999,{"$f":"+IF(L46=0,0,(1.42*L46)-1.65-((0.174*L46+POWER(,2)+(0.0122*L46+POWER(,3)))))","v":1.0263935063999998},1.35,{"$f":"+IF(L46=0,0,((L46*1.37-(1.12)-(0.138*L46+POWER(,2)+(0.0105*L46+POWER(,3))))))","v":1.5297120020000001},{"$f":"+incog!K48","v":0.02},{"$f":"+incog!N48","v":0.34},{"$f":"+incog!L48","v":0.7},{"$f":"+incog!M48","v":0.3},{"$f":"+incog!O48","v":0},{"$f":"+incog!P48","v":0},{"$f":"+incog!Q48","v":0},{"$f":"+incog!R48","v":0},{"$f":"+incog!S48","v":0},{"$f":"+incog!T48","v":0},{"$f":"+incog!U48","v":0},{"$f":"+incog!V48","v":0},{"$f":"+incog!W48","v":0},{"$f":"+incog!X48","v":0},{"$f":"+incog!Y48","v":0},{"$f":"+incog!Z48","v":0},{"$f":"+incog!AA48","v":0},{"$f":"+incog!AB48","v":0},{"$f":"+incog!AC48","v":0},{"$f":"+incog!AD48","v":0},{"$f":"+incog!AE48","v":0}]
[5,{"$f":"+IF(ISBLANK(incog!B49),\"\",incog!B49)","v":"Alfalfa HENO"},null,{"$f":"+incog!C49","v":0.89},{"$f":"+incog!D49","v":0.52},{"$f":"+incog!E49","v":0.17499999999999999},{"$f":"+incog!F49","v":0.32500000000000001},{"$f":"+incog!G49","v":0.5},{"$f":"+incog!H49","v":0.35},{"$f":"+incog!I49","v":1.4000000000000002E-2},{"$f":"+incog!J49","v":2.3999999999999998E-3},1.8799976,{"$f":"+IF(L47=0,0,(1.42*L47)-1.65-((0.174*L47+POWER(,2)+(0.0122*L47+POWER(,3)))))","v":0.66954103888000005},1.1540000000000004,{"$f":"+IF(L47=0,0,((L47*1.37-(1.12)-(0.138*L47+POWER(,2)+(0.0105*L47+POWER(,3))))))","v":1.1764170684000002},{"$f":"+incog!K49","v":2.6000000000000002E-2},{"$f":"+incog!N49","v":0.3},{"$f":"+incog!L49","v":0.67},{"$f":"+incog!M49","v":0.33},{"$f":"+incog!O49","v":0},{"$f":"+incog!P49","v":0},{"$f":"+incog!Q49","v":0},{"$f":"+incog!R49","v":0},{"$f":"+incog!S49","v":0},{"$f":"+incog!T49","v":0},{"$f":"+incog!U49","v":0},{"$f":"+incog!V49","v":0},{"$f":"+incog!W49","v":0},{"$f":"+incog!X49","v":0},{"$f":"+incog!Y49","v":0},{"$f":"+incog!Z49","v":0},{"$f":"+incog!AA49","v":0},{"$f":"+incog!AB49","v":0},{"$f":"+incog!AC49","v":0},{"$f":"+incog!AD49","v":0},{"$f":"+incog!AE49","v":0}]
[6,{"$f":"+IF(ISBLANK(incog!B50),\"\",incog!B50)","v":"Chala sin choclo"},null,{"$f":"+incog!C50","v":0.26},{"$f":"+incog!D50","v":0.49},{"$f":"+incog!E50","v":7.0000000000000007E-2},{"$f":"+incog!F50","v":0.33},{"$f":"+incog!G50","v":0.56999999999999995},{"$f":"+incog!H50","v":0.36},{"$f":"+incog!I50","v":2.5000000000000001E-3},{"$f":"+incog!J50","v":2E-3},1.7715361999999999,0.53572136355999989,1.0805000000000002,1.0439314682999998,{"$f":"+incog!K50","v":0.02},{"$f":"+incog!N50","v":0.34},{"$f":"+incog!L50","v":0.5},{"$f":"+incog!M50","v":0.5},{"$f":"+incog!O50","v":1E-4},{"$f":"+incog!P50","v":1.9E-3},{"$f":"+incog!Q50","v":1.6E-2},{"$f":"+incog!R50","v":3.0000000000000001E-3},{"$f":"+incog!S50","v":1.1000000000000001E-3},{"$f":"+incog!T50","v":0},{"$f":"+incog!U50","v":0},{"$f":"+incog!V50","v":0},{"$f":"+incog!W50","v":0},{"$f":"+incog!X50","v":0},{"$f":"+incog!Y50","v":0},{"$f":"+incog!Z50","v":0},{"$f":"+incog!AA50","v":0},{"$f":"+incog!AB50","v":0},{"$f":"+incog!AC50","v":0},{"$f":"+incog!AD50","v":0},{"$f":"+incog!AE50","v":0}]
[7,{"$f":"+IF(ISBLANK(incog!B51),\"\",incog!B51)","v":"Esparramel"},null,{"$f":"+incog!C51","v":0.82},{"$f":"+incog!D51","v":0.57999999999999996},{"$f":"+incog!E51","v":0.09},{"$f":"+incog!F51","v":0.26400000000000001},{"$f":"+incog!G51","v":0.57999999999999996},{"$f":"+incog!H51","v":0.25},{"$f":"+incog!I51","v":5.0000000000000001E-3},{"$f":"+incog!J51","v":2.2000000000000001E-3},2.0969203999999997,0.93718038951999971,1.3010000000000002,1.4413882685999999,{"$f":"+incog!K51","v":0.01},{"$f":"+incog!N51","v":0.32},{"$f":"+incog!L51","v":0.66},{"$f":"+incog!M51","v":0.34},{"$f":"+incog!O51","v":0},{"$f":"+incog!P51","v":0},{"$f":"+incog!Q51","v":0},{"$f":"+incog!R51","v":0},{"$f":"+incog!S51","v":0},{"$f":"+incog!T51","v":0},{"$f":"+incog!U51","v":0},{"$f":"+incog!V51","v":0},{"$f":"+incog!W51","v":0},{"$f":"+incog!X51","v":0},{"$f":"+incog!Y51","v":0},{"$f":"+incog!Z51","v":0},{"$f":"+incog!AA51","v":0},{"$f":"+incog!AB51","v":0},{"$f":"+incog!AC51","v":0},{"$f":"+incog!AD51","v":0},{"$f":"+incog!AE51","v":0}]
[8,{"$f":"+IF(ISBLANK(incog!B52),\"\",incog!B52)","v":"Pasto camerun"},null,{"$f":"+incog!C52","v":0.2},{"$f":"+incog!D52","v":0.55000000000000004},{"$f":"+incog!E52","v":7.0000000000000007E-2},{"$f":"+incog!F52","v":0.35},{"$f":"+incog!G52","v":0.6},{"$f":"+incog!H52","v":0.4},{"$f":"+incog!I52","v":9.0000000000000011E-3},{"$f":"+incog!J52","v":2.8999999999999998E-3},1.988459,0.80336071419999988,1.2275,1.3089026685,{"$f":"+incog!K52","v":0.02},{"$f":"+incog!N52","v":0.31},{"$f":"+incog!L52","v":0.25},{"$f":"+incog!M52","v":0.75},{"$f":"+incog!O52","v":0},{"$f":"+incog!P52","v":0},{"$f":"+incog!Q52","v":0},{"$f":"+incog!R52","v":0},{"$f":"+incog!S52","v":0},{"$f":"+incog!T52","v":0},{"$f":"+incog!U52","v":0},{"$f":"+incog!V52","v":0},{"$f":"+incog!W52","v":0},{"$f":"+incog!X52","v":0},{"$f":"+incog!Y52","v":0},{"$f":"+incog!Z52","v":0},{"$f":"+incog!AA52","v":0},{"$f":"+incog!AB52","v":0},{"$f":"+incog!AC52","v":0},{"$f":"+incog!AD52","v":0},{"$f":"+incog!AE52","v":0}]
[9,{"$f":"+IF(ISBLANK(incog!B53),\"\",incog!B53)","v":"Heno Alfalfa Estandar"},null,{"$f":"+incog!C53","v":0.87},{"$f":"+incog!D53","v":0.56000000000000005},{"$f":"+incog!E53","v":0.17},{"$f":"+incog!F53","v":0.32},{"$f":"+incog!G53","v":0.51},{"$f":"+incog!H53","v":0.34},{"$f":"+incog!I53","v":1.3999999999999999E-2},{"$f":"+incog!J53","v":3.0000000000000001E-3},2.0246127999999999,0.84796727263999971,1.2520000000000002,1.3530645352000001,{"$f":"+incog!K53","v":1.2E-2},{"$f":"+incog!N53","v":0.3},{"$f":"+incog!L53","v":0.53},{"$f":"+incog!M53","v":0.47},{"$f":"+incog!O53","v":0},{"$f":"+incog!P53","v":0},{"$f":"+incog!Q53","v":0},{"$f":"+incog!R53","v":0},{"$f":"+incog!S53","v":0},{"$f":"+incog!T53","v":0},{"$f":"+incog!U53","v":0},{"$f":"+incog!V53","v":0},{"$f":"+incog!W53","v":0},{"$f":"+incog!X53","v":0},{"$f":"+incog!Y53","v":0},{"$f":"+incog!Z53","v":0},{"$f":"+incog!AA53","v":0},{"$f":"+incog!AB53","v":0},{"$f":"+incog!AC53","v":0},{"$f":"+incog!AD53","v":0},{"$f":"+incog!AE53","v":0}]
[10,{"$f":"+IF(ISBLANK(incog!B54),\"\",incog!B54)","v":"Pancamel (60panca-40melaza)"},null,{"$f":"+incog!C54","v":0.83400000000000007},{"$f":"+incog!D54","v":0.56600000000000006},{"$f":"+incog!E54","v":5.9000000000000004E-2},{"$f":"+incog!F54","v":0.251},{"$f":"+incog!G54","v":0.49},{"$f":"+incog!H54","v":0.28499999999999998},{"$f":"+incog!I54","v":6.8999999999999999E-3},{"$f":"+incog!J54","v":1E-3},2.0463050800000002,0.87473120770400026,1.2667000000000002,1.3795616552200003,{"$f":"+incog!K54","v":0.01},{"$f":"+incog!N54","v":0.44},{"$f":"+incog!L54","v":0.65},{"$f":"+incog!M54","v":0.35},{"$f":"+incog!O54","v":0},{"$f":"+incog!P54","v":0},{"$f":"+incog!Q54","v":0},{"$f":"+incog!R54","v":0},{"$f":"+incog!S54","v":0},{"$f":"+incog!T54","v":0},{"$f":"+incog!U54","v":0},{"$f":"+incog!V54","v":0},{"$f":"+incog!W54","v":0},{"$f":"+incog!X54","v":0},{"$f":"+incog!Y54","v":0},{"$f":"+incog!Z54","v":0},{"$f":"+incog!AA54","v":0},{"$f":"+incog!AB54","v":0},{"$f":"+incog!AC54","v":0},{"$f":"+incog!AD54","v":0},{"$f":"+incog!AE54","v":0}]
[11,{"$f":"+IF(ISBLANK(incog!B55),\"\",incog!B55)","v":"Broza Esparrago"},null,{"$f":"+incog!C55","v":0.36499999999999999},{"$f":"+incog!D55","v":0.53},{"$f":"+incog!E55","v":0.14000000000000001},{"$f":"+incog!F55","v":0.39},{"$f":"+incog!G55","v":0.55000000000000004},{"$f":"+incog!H55","v":0.28000000000000003},{"$f":"+incog!I55","v":6.0000000000000001E-3},{"$f":"+incog!J55","v":2E-3},1.9161513999999997,0.71414759731999955,1.1785000000000001,1.2205789350999998,{"$f":"+incog!K55","v":0.02},{"$f":"+incog!N55","v":0.28999999999999998},{"$f":"+incog!L55","v":0.6},{"$f":"+incog!M55","v":0.4},{"$f":"+incog!O55","v":0},{"$f":"+incog!P55","v":0},{"$f":"+incog!Q55","v":0},{"$f":"+incog!R55","v":0},{"$f":"+incog!S55","v":0},{"$f":"+incog!T55","v":0},{"$f":"+incog!U55","v":0},{"$f":"+incog!V55","v":0},{"$f":"+incog!W55","v":0},{"$f":"+incog!X55","v":0},{"$f":"+incog!Y55","v":0},{"$f":"+incog!Z55","v":0},{"$f":"+incog!AA55","v":0},{"$f":"+incog!AB55","v":0},{"$f":"+incog!AC55","v":0},{"$f":"+incog!AD55","v":0},{"$f":"+incog!AE55","v":0}]
[12,{"$f":"+IF(ISBLANK(incog!B56),\"\",incog!B56)","v":"Camote Tuberculo"},null,{"$f":"+incog!C56","v":0.32},{"$f":"+incog!D56","v":0.8},{"$f":"+incog!E56","v":0.04},{"$f":"+incog!F56","v":0.04},{"$f":"+incog!G56","v":0.06},{"$f":"+incog!H56","v":0.01},{"$f":"+incog!I56","v":2.8000000000000004E-3},{"$f":"+incog!J56","v":2.3E-3},2.8923039999999998,1.9185246752,1.8400000000000003,2.4129493360000001,{"$f":"+incog!K56","v":1.6E-2},{"$f":"+incog!N56","v":0.88},{"$f":"+incog!L56","v":0.2},{"$f":"+incog!M56","v":0.8},{"$f":"+incog!O56","v":0},{"$f":"+incog!P56","v":0},{"$f":"+incog!Q56","v":0},{"$f":"+incog!R56","v":0},{"$f":"+incog!S56","v":0},{"$f":"+incog!T56","v":0},{"$f":"+incog!U56","v":0},{"$f":"+incog!V56","v":0},{"$f":"+incog!W56","v":0},{"$f":"+incog!X56","v":0},{"$f":"+incog!Y56","v":0},{"$f":"+incog!Z56","v":0},{"$f":"+incog!AA56","v":0},{"$f":"+incog!AB56","v":0},{"$f":"+incog!AC56","v":0},{"$f":"+incog!AD56","v":0},{"$f":"+incog!AE56","v":0}]
[13,{"$f":"+IF(ISBLANK(incog!B57),\"\",incog!B57)","v":"Alfalfa verde preboton"},null,{"$f":"+incog!C57","v":0.1812},{"$f":"+incog!D57","v":0.57999999999999996},{"$f":"+incog!E57","v":0.25120000000000003},{"$f":"+incog!F57","v":0},{"$f":"+incog!G57","v":0.33100000000000002},{"$f":"+incog!H57","v":0.21899999999999997},{"$f":"+incog!I57","v":0},{"$f":"+incog!J57","v":0},2.0969203999999997,0.93718038951999971,1.3010000000000002,1.4413882685999999,{"$f":"+incog!K57","v":1.6899999999999998E-2},{"$f":"+incog!N57","v":0.2797},{"$f":"+incog!L57","v":0},{"$f":"+incog!M57","v":0},{"$f":"+incog!O57","v":0},{"$f":"+incog!P57","v":0},{"$f":"+incog!Q57","v":0},{"$f":"+incog!R57","v":0},{"$f":"+incog!S57","v":0},{"$f":"+incog!T57","v":0},{"$f":"+incog!U57","v":0},{"$f":"+incog!V57","v":0},{"$f":"+incog!W57","v":0},{"$f":"+incog!X57","v":0},{"$f":"+incog!Y57","v":0},{"$f":"+incog!Z57","v":0},{"$f":"+incog!AA57","v":0},{"$f":"+incog!AB57","v":0},{"$f":"+incog!AC57","v":0},{"$f":"+incog!AD57","v":0},{"$f":"+incog!AE57","v":0}]
[14,{"$f":"+IF(ISBLANK(incog!B58),\"\",incog!B58)","v":""},null,{"$f":"+incog!C58","v":0},{"$f":"+incog!D58","v":0},{"$f":"+incog!E58","v":0},{"$f":"+incog!F58","v":0},{"$f":"+incog!G58","v":0},{"$f":"+incog!H58","v":0},{"$f":"+incog!I58","v":0},{"$f":"+incog!J58","v":0},0,0,0,0,{"$f":"+incog!K58","v":0},{"$f":"+incog!N58","v":0},{"$f":"+incog!L58","v":0},{"$f":"+incog!M58","v":0},{"$f":"+incog!O58","v":0},{"$f":"+incog!P58","v":0},{"$f":"+incog!Q58","v":0},{"$f":"+incog!R58","v":0},{"$f":"+incog!S58","v":0},{"$f":"+incog!T58","v":0},{"$f":"+incog!U58","v":0},{"$f":"+incog!V58","v":0},{"$f":"+incog!W58","v":0},{"$f":"+incog!X58","v":0},{"$f":"+incog!Y58","v":0},{"$f":"+incog!Z58","v":0},{"$f":"+incog!AA58","v":0},{"$f":"+incog!AB58","v":0},{"$f":"+incog!AC58","v":0},{"$f":"+incog!AD58","v":0},{"$f":"+incog!AE58","v":0}]
[15,{"$f":"+IF(ISBLANK(incog!B59),\"\",incog!B59)","v":""},null,{"$f":"+incog!C59","v":0},{"$f":"+incog!D59","v":0},{"$f":"+incog!E59","v":0},{"$f":"+incog!F59","v":0},{"$f":"+incog!G59","v":0},{"$f":"+incog!H59","v":0},{"$f":"+incog!I59","v":0},{"$f":"+incog!J59","v":0},0,0,0,0,{"$f":"+incog!K59","v":0},{"$f":"+incog!N59","v":0},{"$f":"+incog!L59","v":0},{"$f":"+incog!M59","v":0},{"$f":"+incog!O59","v":0},{"$f":"+incog!P59","v":0},{"$f":"+incog!Q59","v":0},{"$f":"+incog!R59","v":0},{"$f":"+incog!S59","v":0},{"$f":"+incog!T59","v":0},{"$f":"+incog!U59","v":0},{"$f":"+incog!V59","v":0},{"$f":"+incog!W59","v":0},{"$f":"+incog!X59","v":0},{"$f":"+incog!Y59","v":0},{"$f":"+incog!Z59","v":0},{"$f":"+incog!AA59","v":0},{"$f":"+incog!AB59","v":0},{"$f":"+incog!AC59","v":0},{"$f":"+incog!AD59","v":0},{"$f":"+incog!AE59","v":0}]
[16,{"$f":"+IF(ISBLANK(incog!B60),\"\",incog!B60)","v":""},null,{"$f":"+incog!C60","v":0},{"$f":"+incog!D60","v":0},{"$f":"+incog!E60","v":0},{"$f":"+incog!F60","v":0},{"$f":"+incog!G60","v":0},{"$f":"+incog!H60","v":0},{"$f":"+incog!I60","v":0},{"$f":"+incog!J60","v":0},0,0,0,0,{"$f":"+incog!K60","v":0},{"$f":"+incog!N60","v":0},{"$f":"+incog!L60","v":0},{"$f":"+incog!M60","v":0},{"$f":"+incog!O60","v":0},{"$f":"+incog!P60","v":0},{"$f":"+incog!Q60","v":0},{"$f":"+incog!R60","v":0},{"$f":"+incog!S60","v":0},{"$f":"+incog!T60","v":0},{"$f":"+incog!U60","v":0},{"$f":"+incog!V60","v":0},{"$f":"+incog!W60","v":0},{"$f":"+incog!X60","v":0},{"$f":"+incog!Y60","v":0},{"$f":"+incog!Z60","v":0},{"$f":"+incog!AA60","v":0},{"$f":"+incog!AB60","v":0},{"$f":"+incog!AC60","v":0},{"$f":"+incog!AD60","v":0},{"$f":"+incog!AE60","v":0}]
[17,{"$f":"+IF(ISBLANK(incog!B61),\"\",incog!B61)","v":""},null,{"$f":"+incog!C61","v":0},{"$f":"+incog!D61","v":0},{"$f":"+incog!E61","v":0},{"$f":"+incog!F61","v":0},{"$f":"+incog!G61","v":0},{"$f":"+incog!H61","v":0},{"$f":"+incog!I61","v":0},{"$f":"+incog!J61","v":0},0,0,0,0,{"$f":"+incog!K61","v":0},{"$f":"+incog!N61","v":0},{"$f":"+incog!L61","v":0},{"$f":"+incog!M61","v":0},{"$f":"+incog!O61","v":0},{"$f":"+incog!P61","v":0},{"$f":"+incog!Q61","v":0},{"$f":"+incog!R61","v":0},{"$f":"+incog!S61","v":0},{"$f":"+incog!T61","v":0},{"$f":"+incog!U61","v":0},{"$f":"+incog!V61","v":0},{"$f":"+incog!W61","v":0},{"$f":"+incog!X61","v":0},{"$f":"+incog!Y61","v":0},{"$f":"+incog!Z61","v":0},{"$f":"+incog!AA61","v":0},{"$f":"+incog!AB61","v":0},{"$f":"+incog!AC61","v":0},{"$f":"+incog!AD61","v":0},{"$f":"+incog!AE61","v":0}]
[18,{"$f":"+IF(ISBLANK(incog!B62),\"\",incog!B62)","v":""},null,{"$f":"+incog!C62","v":0},{"$f":"+incog!D62","v":0},{"$f":"+incog!E62","v":0},{"$f":"+incog!F62","v":0},{"$f":"+incog!G62","v":0},{"$f":"+incog!H62","v":0},{"$f":"+incog!I62","v":0},{"$f":"+incog!J62","v":0},0,0,0,0,{"$f":"+incog!K62","v":0},{"$f":"+incog!N62","v":0},{"$f":"+incog!L62","v":0},{"$f":"+incog!M62","v":0},{"$f":"+incog!O62","v":0},{"$f":"+incog!P62","v":0},{"$f":"+incog!Q62","v":0},{"$f":"+incog!R62","v":0},{"$f":"+incog!S62","v":0},{"$f":"+incog!T62","v":0},{"$f":"+incog!U62","v":0},{"$f":"+incog!V62","v":0},{"$f":"+incog!W62","v":0},{"$f":"+incog!X62","v":0},{"$f":"+incog!Y62","v":0},{"$f":"+incog!Z62","v":0},{"$f":"+incog!AA62","v":0},{"$f":"+incog!AB62","v":0},{"$f":"+incog!AC62","v":0},{"$f":"+incog!AD62","v":0},{"$f":"+incog!AE62","v":0}]
[19,{"$f":"+IF(ISBLANK(incog!B63),\"\",incog!B63)","v":""},null,{"$f":"+incog!C63","v":0},{"$f":"+incog!D63","v":0},{"$f":"+incog!E63","v":0},{"$f":"+incog!F63","v":0},{"$f":"+incog!G63","v":0},{"$f":"+incog!H63","v":0},{"$f":"+incog!I63","v":0},{"$f":"+incog!J63","v":0},0,0,0,0,{"$f":"+incog!K63","v":0},{"$f":"+incog!N63","v":0},{"$f":"+incog!L63","v":0},{"$f":"+incog!M63","v":0},{"$f":"+incog!O63","v":0},{"$f":"+incog!P63","v":0},{"$f":"+incog!Q63","v":0},{"$f":"+incog!R63","v":0},{"$f":"+incog!S63","v":0},{"$f":"+incog!T63","v":0},{"$f":"+incog!U63","v":0},{"$f":"+incog!V63","v":0},{"$f":"+incog!W63","v":0},{"$f":"+incog!X63","v":0},{"$f":"+incog!Y63","v":0},{"$f":"+incog!Z63","v":0},{"$f":"+incog!AA63","v":0},{"$f":"+incog!AB63","v":0},{"$f":"+incog!AC63","v":0},{"$f":"+incog!AD63","v":0},{"$f":"+incog!AE63","v":0}]
[20,{"$f":"+IF(ISBLANK(incog!B64),\"\",incog!B64)","v":""},null,{"$f":"+incog!C64","v":0},{"$f":"+incog!D64","v":0},{"$f":"+incog!E64","v":0},{"$f":"+incog!F64","v":0},{"$f":"+incog!G64","v":0},{"$f":"+incog!H64","v":0},{"$f":"+incog!I64","v":0},{"$f":"+incog!J64","v":0},0,0,0,0,{"$f":"+incog!K64","v":0},{"$f":"+incog!N64","v":0},{"$f":"+incog!L64","v":0},{"$f":"+incog!M64","v":0},{"$f":"+incog!O64","v":0},{"$f":"+incog!P64","v":0},{"$f":"+incog!Q64","v":0},{"$f":"+incog!R64","v":0},{"$f":"+incog!S64","v":0},{"$f":"+incog!T64","v":0},{"$f":"+incog!U64","v":0},{"$f":"+incog!V64","v":0},{"$f":"+incog!W64","v":0},{"$f":"+incog!X64","v":0},{"$f":"+incog!Y64","v":0},{"$f":"+incog!Z64","v":0},{"$f":"+incog!AA64","v":0},{"$f":"+incog!AB64","v":0},{"$f":"+incog!AC64","v":0},{"$f":"+incog!AD64","v":0},{"$f":"+incog!AE64","v":0}]
[21,{"$f":"+IF(ISBLANK(incog!B65),\"\",incog!B65)","v":""},null,{"$f":"+incog!C65","v":0},{"$f":"+incog!D65","v":0},{"$f":"+incog!E65","v":0},{"$f":"+incog!F65","v":0},{"$f":"+incog!G65","v":0},{"$f":"+incog!H65","v":0},{"$f":"+incog!I65","v":0},{"$f":"+incog!J65","v":0},0,0,0,0,{"$f":"+incog!K65","v":0},{"$f":"+incog!N65","v":0},{"$f":"+incog!L65","v":0},{"$f":"+incog!M65","v":0},{"$f":"+incog!O65","v":0},{"$f":"+incog!P65","v":0},{"$f":"+incog!Q65","v":0},{"$f":"+incog!R65","v":0},{"$f":"+incog!S65","v":0},{"$f":"+incog!T65","v":0},{"$f":"+incog!U65","v":0},{"$f":"+incog!V65","v":0},{"$f":"+incog!W65","v":0},{"$f":"+incog!X65","v":0},{"$f":"+incog!Y65","v":0},{"$f":"+incog!Z65","v":0},{"$f":"+incog!AA65","v":0},{"$f":"+incog!AB65","v":0},{"$f":"+incog!AC65","v":0},{"$f":"+incog!AD65","v":0},{"$f":"+incog!AE65","v":0}]
[22,{"$f":"+IF(ISBLANK(incog!B66),\"\",incog!B66)","v":""},null,{"$f":"+incog!C66","v":0},{"$f":"+incog!D66","v":0},{"$f":"+incog!E66","v":0},{"$f":"+incog!F66","v":0},{"$f":"+incog!G66","v":0},{"$f":"+incog!H66","v":0},{"$f":"+incog!I66","v":0},{"$f":"+incog!J66","v":0},0,0,0,0,{"$f":"+incog!K66","v":0},{"$f":"+incog!N66","v":0},{"$f":"+incog!L66","v":0},{"$f":"+incog!M66","v":0},{"$f":"+incog!O66","v":0},{"$f":"+incog!P66","v":0},{"$f":"+incog!Q66","v":0},{"$f":"+incog!R66","v":0},{"$f":"+incog!S66","v":0},{"$f":"+incog!T66","v":0},{"$f":"+incog!U66","v":0},{"$f":"+incog!V66","v":0},{"$f":"+incog!W66","v":0},{"$f":"+incog!X66","v":0},{"$f":"+incog!Y66","v":0},{"$f":"+incog!Z66","v":0},{"$f":"+incog!AA66","v":0},{"$f":"+incog!AB66","v":0},{"$f":"+incog!AC66","v":0},{"$f":"+incog!AD66","v":0},{"$f":"+incog!AE66","v":0}]
[23,"Vacio"]

{"sheet":"Selec. Maestro Ingredientes","index":3,"n_rows":30,"n_cols":37,"rows_kept":30,"cut":false,"hidden":true,"merged":[]}
[null,null,null,{"$f":"+'DATA MAESTRO 2'!C1","v":1},{"$f":"+'DATA MAESTRO 2'!D1","v":2},{"$f":"+'DATA MAESTRO 2'!E1","v":3},{"$f":"+'DATA MAESTRO 2'!F1","v":4},{"$f":"+'DATA MAESTRO 2'!G1","v":5},{"$f":"+'DATA MAESTRO 2'!H1","v":6},{"$f":"+'DATA MAESTRO 2'!I1","v":7},{"$f":"+'DATA MAESTRO 2'!J1","v":8},{"$f":"+'DATA MAESTRO 2'!K1","v":9},1,2,3,4,10,11,12,13,14,15,16,17,18,19,20,21,22,23,24,25,26,27,28,29,30]
[null,"#","NUTRIENTES",{"$f":"+'DATA MAESTRO 2'!C2","v":"VACIO"},{"$f":"+'DATA MAESTRO 2'!D2","v":"MS"},{"$f":"+'DATA MAESTRO 2'!E2","v":"NDT"},{"$f":"+'DATA MAESTRO 2'!F2","v":"Prot."},{"$f":"+'DATA MAESTRO 2'!G2","v":"FC"},{"$f":"+'DATA MAESTRO 2'!H2","v":"FDN"},{"$f":"+'DATA MAESTRO 2'!I2","v":"FDA"},{"$f":"+'DATA MAESTRO 2'!J2","v":"Ca"},{"$f":"+'DATA MAESTRO 2'!K2","v":"P"},{"$f":"+'DATA MAESTRO 2'!L2","v":"Eng. Met"},{"$f":"+'DATA MAESTRO 2'!M2","v":"EN(gan)"},{"$f":"+'DATA MAESTRO 2'!N2","v":"EN(lact)"},{"$f":"+'DATA MAESTRO 2'!O2","v":"EN(mant)"},{"$f":"+'DATA MAESTRO 2'!P2","v":"E.E"},{"$f":"+'DATA MAESTRO 2'!Q2","v":"CNF"},{"$f":"+'DATA MAESTRO 2'!R2","v":"PDR"},{"$f":"+'DATA MAESTRO 2'!S2","v":"Prot. By pass"},{"$f":"+'DATA MAESTRO 2'!T2","v":"Sodio"},{"$f":"+'DATA MAESTRO 2'!U2","v":"Magnesio"},{"$f":"+'DATA MAESTRO 2'!V2","v":"Potasio"},{"$f":"+'DATA MAESTRO 2'!W2","v":"Cloro"},{"$f":"+'DATA MAESTRO 2'!X2","v":"Azufre"},{"$f":"+'DATA MAESTRO 2'!Y2","v":"Gosipol"},{"$f":"+'DATA MAESTRO 2'!Z2","v":"Almidon"},{"$f":"+'DATA MAESTRO 2'!AA2","v":"Cobalto"},{"$f":"+'DATA MAESTRO 2'!AB2","v":"Cobre"},{"$f":"+'DATA MAESTRO 2'!AC2","v":"Yodo"},{"$f":"+'DATA MAESTRO 2'!AD2","v":"Hierro"},{"$f":"+'DATA MAESTRO 2'!AE2","v":"Manganeso"},{"$f":"+'DATA MAESTRO 2'!AF2","v":"Selenio"},{"$f":"+'DATA MAESTRO 2'!AG2","v":"Zinc"},{"$f":"+'DATA MAESTRO 2'!AH2","v":"Vit. A"},{"$f":"+'DATA MAESTRO 2'!AI2","v":"Vit. D"},{"$f":"+'DATA MAESTRO 2'!AJ2","v":"Vit. E"}]
[1,7,{"$f":"+IF(AND(B3>=1,B3<=36),VLOOKUP(B3,'DATA MAESTRO 2'!$A$6:$B$40,2),0)","v":"AFRECHO"},{"$f":"+CHOOSE($B3,'DATA MAESTRO 2'!C$6,'DATA MAESTRO 2'!C$7,'DATA MAESTRO 2'!C$8,'DATA MAESTRO 2'!C$9,'DATA MAESTRO 2'!C$10,'DATA MAESTRO 2'!C$11,'DATA MAESTRO 2'!C$12,'DATA MAESTRO 2'!C$13,'DATA MAESTRO 2'!C$14,'DATA MAESTRO 2'!C$15,'DATA MAESTRO 2'!C$16,'DATA MAESTRO 2'!C$17,'DATA MAESTRO 2'!C$18,'DATA MAESTRO 2'!C$19,'DATA MAESTRO 2'!C$20,'DATA MAESTRO 2'!C$21,'DATA MAESTRO 2'!C$22,'DATA MAESTRO 2'!C$23,'DATA MAESTRO 2'!C$24,'DATA MAESTRO 2'!C$25,'DATA MAESTRO 2'!C$26,'DATA MAESTRO 2'!C$27,'DATA MAESTRO 2'!C$28,'DATA MAESTRO 2'!C$29,'DATA MAESTRO 2'!C$30,'DATA MAESTRO 2'!C$31,'DATA MAESTRO 2'!C$32,'DATA MAESTRO 2'!C$33,'DATA MAESTRO 2'!C$34,'DATA MAESTRO 2'!C$35,'DATA MAESTRO 2'!C$36,'DATA MAESTRO 2'!C$37,'DATA MAESTRO 2'!C$38,'DATA MAESTRO 2'!C$39,'DATA MAESTRO 2'!C$40,)","v":0},{"$f":"CHOOSE($B3,'DATA MAESTRO 2'!D$6,'DATA MAESTRO 2'!D$7,'DATA MAESTRO 2'!D$8,'DATA MAESTRO 2'!D$9,'DATA MAESTRO 2'!D$10,'DATA MAESTRO 2'!D$11,'DATA MAESTRO 2'!D$12,'DATA MAESTRO 2'!D$13,'DATA MAESTRO 2'!D$14,'DATA MAESTRO 2'!D$15,'DATA MAESTRO 2'!D$16,'DATA MAESTRO 2'!D$17,'DATA MAESTRO 2'!D$18,'DATA MAESTRO 2'!D$19,'DATA MAESTRO 2'!D$20,'DATA MAESTRO 2'!D$21,'DATA MAESTRO 2'!D$22,'DATA MAESTRO 2'!D$23,'DATA MAESTRO 2'!D$24,'DATA MAESTRO 2'!D$25,'DATA MAESTRO 2'!D$26,'DATA MAESTRO 2'!D$27,'DATA MAESTRO 2'!D$28,'DATA MAESTRO 2'!D$29,'DATA MAESTRO 2'!D$30,'DATA MAESTRO 2'!D$31,'DATA MAESTRO 2'!D$32,'DATA MAESTRO 2'!D$33,'DATA MAESTRO 2'!D$34,'DATA MAESTRO 2'!D$35,'DATA MAESTRO 2'!D$36,'DATA MAESTRO 2'!D$37,'DATA MAESTRO 2'!D$38,'DATA MAESTRO 2'!D$39,'DATA MAESTRO 2'!D$40,)","v":0.89},{"$f":"CHOOSE(B3,'DATA MAESTRO 2'!E$6,'DATA MAESTRO 2'!E$7,'DATA MAESTRO 2'!E$8,'DATA MAESTRO 2'!E$9,'DATA MAESTRO 2'!E$10,'DATA MAESTRO 2'!E$11,'DATA MAESTRO 2'!E$12,'DATA MAESTRO 2'!E$13,'DATA MAESTRO 2'!E$14,'DATA MAESTRO 2'!E$15,'DATA MAESTRO 2'!E$16,'DATA MAESTRO 2'!E$17,'DATA MAESTRO 2'!E$18,'DATA MAESTRO 2'!E$19,'DATA MAESTRO 2'!E$20,'DATA MAESTRO 2'!E$21,'DATA MAESTRO 2'!E$22,'DATA MAESTRO 2'!E$23,'DATA MAESTRO 2'!E$24,'DATA MAESTRO 2'!E$25,'DATA MAESTRO 2'!E$26,'DATA MAESTRO 2'!E$27,'DATA MAESTRO 2'!E$28,'DATA MAESTRO 2'!E$29,'DATA MAESTRO 2'!E$30,'DATA MAESTRO 2'!E$31,'DATA MAESTRO 2'!E$32,'DATA MAESTRO 2'!E$33,'DATA MAESTRO 2'!E$34,'DATA MAESTRO 2'!E$35,'DATA MAESTRO 2'!E$36,'DATA MAESTRO 2'!E$37,'DATA MAESTRO 2'!E$38,'DATA MAESTRO 2'!E$39,'DATA MAESTRO 2'!E$40,)","v":0.73},{"$f":"CHOOSE($B3,'DATA MAESTRO 2'!F$6,'DATA MAESTRO 2'!F$7,'DATA MAESTRO 2'!F$8,'DATA MAESTRO 2'!F$9,'DATA MAESTRO 2'!F$10,'DATA MAESTRO 2'!F$11,'DATA MAESTRO 2'!F$12,'DATA MAESTRO 2'!F$13,'DATA MAESTRO 2'!F$14,'DATA MAESTRO 2'!F$15,'DATA MAESTRO 2'!F$16,'DATA MAESTRO 2'!F$17,'DATA MAESTRO 2'!F$18,'DATA MAESTRO 2'!F$19,'DATA MAESTRO 2'!F$20,'DATA MAESTRO 2'!F$21,'DATA MAESTRO 2'!F$22,'DATA MAESTRO 2'!F$23,'DATA MAESTRO 2'!F$24,'DATA MAESTRO 2'!F$25,'DATA MAESTRO 2'!F$26,'DATA MAESTRO 2'!F$27,'DATA MAESTRO 2'!F$28,'DATA MAESTRO 2'!F$29,'DATA MAESTRO 2'!F$30,'DATA MAESTRO 2'!F$31,'DATA MAESTRO 2'!F$32,'DATA MAESTRO 2'!F$33,'DATA MAESTRO 2'!F$34,'DATA MAESTRO 2'!F$35,'DATA MAESTRO 2'!F$36,'DATA MAESTRO 2'!F$37,'DATA MAESTRO 2'!F$38,'DATA MAESTRO 2'!F$39,'DATA MAESTRO 2'!F$40,)","v":0.17},{"$f":"CHOOSE($B3,'DATA MAESTRO 2'!G$6,'DATA MAESTRO 2'!G$7,'DATA MAESTRO 2'!G$8,'DATA MAESTRO 2'!G$9,'DATA MAESTRO 2'!G$10,'DATA MAESTRO 2'!G$11,'DATA MAESTRO 2'!G$12,'DATA MAESTRO 2'!G$13,'DATA MAESTRO 2'!G$14,'DATA MAESTRO 2'!G$15,'DATA MAESTRO 2'!G$16,'DATA MAESTRO 2'!G$17,'DATA MAESTRO 2'!G$18,'DATA MAESTRO 2'!G$19,'DATA MAESTRO 2'!G$20,'DATA MAESTRO 2'!G$21,'DATA MAESTRO 2'!G$22,'DATA MAESTRO 2'!G$23,'DATA MAESTRO 2'!G$24,'DATA MAESTRO 2'!G$25,'DATA MAESTRO 2'!G$26,'DATA MAESTRO 2'!G$27,'DATA MAESTRO 2'!G$28,'DATA MAESTRO 2'!G$29,'DATA MAESTRO 2'!G$30,'DATA MAESTRO 2'!G$31,'DATA MAESTRO 2'!G$32,'DATA MAESTRO 2'!G$33,'DATA MAESTRO 2'!G$34,'DATA MAESTRO 2'!G$35,'DATA MAESTRO 2'!G$36,'DATA MAESTRO 2'!G$37,'DATA MAESTRO 2'!G$38,'DATA MAESTRO 2'!G$39,'DATA MAESTRO 2'!G$40,)","v":0.12},{"$f":"CHOOSE($B3,'DATA MAESTRO 2'!H$6,'DATA MAESTRO 2'!H$7,'DATA MAESTRO 2'!H$8,'DATA MAESTRO 2'!H$9,'DATA MAESTRO 2'!H$10,'DATA MAESTRO 2'!H$11,'DATA MAESTRO 2'!H$12,'DATA MAESTRO 2'!H$13,'DATA MAESTRO 2'!H$14,'DATA MAESTRO 2'!H$15,'DATA MAESTRO 2'!H$16,'DATA MAESTRO 2'!H$17,'DATA MAESTRO 2'!H$18,'DATA MAESTRO 2'!H$19,'DATA MAESTRO 2'!H$20,'DATA MAESTRO 2'!H$21,'DATA MAESTRO 2'!H$22,'DATA MAESTRO 2'!H$23,'DATA MAESTRO 2'!H$24,'DATA MAESTRO 2'!H$25,'DATA MAESTRO 2'!H$26,'DATA MAESTRO 2'!H$27,'DATA MAESTRO 2'!H$28,'DATA MAESTRO 2'!H$29,'DATA MAESTRO 2'!H$30,'DATA MAESTRO 2'!H$31,'DATA MAESTRO 2'!H$32,'DATA MAESTRO 2'!H$33,'DATA MAESTRO 2'!H$34,'DATA MAESTRO 2'!H$35,'DATA MAESTRO 2'!H$36,'DATA MAESTRO 2'!H$37,'DATA MAESTRO 2'!H$38,'DATA MAESTRO 2'!H$39,'DATA MAESTRO 2'!H$40,)","v":0.37},{"$f":"CHOOSE($B3,'DATA MAESTRO 2'!I$6,'DATA MAESTRO 2'!I$7,'DATA MAESTRO 2'!I$8,'DATA MAESTRO 2'!I$9,'DATA MAESTRO 2'!I$10,'DATA MAESTRO 2'!I$11,'DATA MAESTRO 2'!I$12,'DATA MAESTRO 2'!I$13,'DATA MAESTRO 2'!I$14,'DATA MAESTRO 2'!I$15,'DATA MAESTRO 2'!I$16,'DATA MAESTRO 2'!I$17,'DATA MAESTRO 2'!I$18,'DATA MAESTRO 2'!I$19,'DATA MAESTRO 2'!I$20,'DATA MAESTRO 2'!I$21,'DATA MAESTRO 2'!I$22,'DATA MAESTRO 2'!I$23,'DATA MAESTRO 2'!I$24,'DATA MAESTRO 2'!I$25,'DATA MAESTRO 2'!I$26,'DATA MAESTRO 2'!I$27,'DATA MAESTRO 2'!I$28,'DATA MAESTRO 2'!I$29,'DATA MAESTRO 2'!I$30,'DATA MAESTRO 2'!I$31,'DATA MAESTRO 2'!I$32,'DATA MAESTRO 2'!I$33,'DATA MAESTRO 2'!I$34,'DATA MAESTRO 2'!I$35,'DATA MAESTRO 2'!I$36,'DATA MAESTRO 2'!I$37,'DATA MAESTRO 2'!I$38,'DATA MAESTRO 2'!I$39,'DATA MAESTRO 2'!I$40,)","v":0.155},{"$f":"CHOOSE($B3,'DATA MAESTRO 2'!J$6,'DATA MAESTRO 2'!J$7,'DATA MAESTRO 2'!J$8,'DATA MAESTRO 2'!J$9,'DATA MAESTRO 2'!J$10,'DATA MAESTRO 2'!J$11,'DATA MAESTRO 2'!J$12,'DATA MAESTRO 2'!J$13,'DATA MAESTRO 2'!J$14,'DATA MAESTRO 2'!J$15,'DATA MAESTRO 2'!J$16,'DATA MAESTRO 2'!J$17,'DATA MAESTRO 2'!J$18,'DATA MAESTRO 2'!J$19,'DATA MAESTRO 2'!J$20,'DATA MAESTRO 2'!J$21,'DATA MAESTRO 2'!J$22,'DATA MAESTRO 2'!J$23,'DATA MAESTRO 2'!J$24,'DATA MAESTRO 2'!J$25,'DATA MAESTRO 2'!J$26,'DATA MAESTRO 2'!J$27,'DATA MAESTRO 2'!J$28,'DATA MAESTRO 2'!J$29,'DATA MAESTRO 2'!J$30,'DATA MAESTRO 2'!J$31,'DATA MAESTRO 2'!J$32,'DATA MAESTRO 2'!J$33,'DATA MAESTRO 2'!J$34,'DATA MAESTRO 2'!J$35,'DATA MAESTRO 2'!J$36,'DATA MAESTRO 2'!J$37,'DATA MAESTRO 2'!J$38,'DATA MAESTRO 2'!J$39,'DATA MAESTRO 2'!J$40,)","v":1.1999999999999999E-3},{"$f":"CHOOSE($B3,'DATA MAESTRO 2'!K$6,'DATA MAESTRO 2'!K$7,'DATA MAESTRO 2'!K$8,'DATA MAESTRO 2'!K$9,'DATA MAESTRO 2'!K$10,'DATA MAESTRO 2'!K$11,'DATA MAESTRO 2'!K$12,'DATA MAESTRO 2'!K$13,'DATA MAESTRO 2'!K$14,'DATA MAESTRO 2'!K$15,'DATA MAESTRO 2'!K$16,'DATA MAESTRO 2'!K$17,'DATA MAESTRO 2'!K$18,'DATA MAESTRO 2'!K$19,'DATA MAESTRO 2'!K$20,'DATA MAESTRO 2'!K$21,'DATA MAESTRO 2'!K$22,'DATA MAESTRO 2'!K$23,'DATA MAESTRO 2'!K$24,'DATA MAESTRO 2'!K$25,'DATA MAESTRO 2'!K$26,'DATA MAESTRO 2'!K$27,'DATA MAESTRO 2'!K$28,'DATA MAESTRO 2'!K$29,'DATA MAESTRO 2'!K$30,'DATA MAESTRO 2'!K$31,'DATA MAESTRO 2'!K$32,'DATA MAESTRO 2'!K$33,'DATA MAESTRO 2'!K$34,'DATA MAESTRO 2'!K$35,'DATA MAESTRO 2'!K$36,'DATA MAESTRO 2'!K$37,'DATA MAESTRO 2'!K$38,'DATA MAESTRO 2'!K$39,'DATA MAESTRO 2'!K$40,)","v":1.0999999999999999E-2},{"$f":"CHOOSE($B3,'DATA MAESTRO 2'!L$6,'DATA MAESTRO 2'!L$7,'DATA MAESTRO 2'!L$8,'DATA MAESTRO 2'!L$9,'DATA MAESTRO 2'!L$10,'DATA MAESTRO 2'!L$11,'DATA MAESTRO 2'!L$12,'DATA MAESTRO 2'!L$13,'DATA MAESTRO 2'!L$14,'DATA MAESTRO 2'!L$15,'DATA MAESTRO 2'!L$16,'DATA MAESTRO 2'!L$17,'DATA MAESTRO 2'!L$18,'DATA MAESTRO 2'!L$19,'DATA MAESTRO 2'!L$20,'DATA MAESTRO 2'!L$21,'DATA MAESTRO 2'!L$22,'DATA MAESTRO 2'!L$23,'DATA MAESTRO 2'!L$24,'DATA MAESTRO 2'!L$25,'DATA MAESTRO 2'!L$26,'DATA MAESTRO 2'!L$27,'DATA MAESTRO 2'!L$28,'DATA MAESTRO 2'!L$29,'DATA MAESTRO 2'!L$30,'DATA MAESTRO 2'!L$31,'DATA MAESTRO 2'!L$32,'DATA MAESTRO 2'!L$33,'DATA MAESTRO 2'!L$34,'DATA MAESTRO 2'!L$35,'DATA MAESTRO 2'!L$36,'DATA MAESTRO 2'!L$37,'DATA MAESTRO 2'!L$38,'DATA MAESTRO 2'!L$39,'DATA MAESTRO 2'!L$40,)","v":2.6392273999999998},{"$f":"CHOOSE($B3,'DATA MAESTRO 2'!M$6,'DATA MAESTRO 2'!M$7,'DATA MAESTRO 2'!M$8,'DATA MAESTRO 2'!M$9,'DATA MAESTRO 2'!M$10,'DATA MAESTRO 2'!M$11,'DATA MAESTRO 2'!M$12,'DATA MAESTRO 2'!M$13,'DATA MAESTRO 2'!M$14,'DATA MAESTRO 2'!M$15,'DATA MAESTRO 2'!M$16,'DATA MAESTRO 2'!M$17,'DATA MAESTRO 2'!M$18,'DATA MAESTRO 2'!M$19,'DATA MAESTRO 2'!M$20,'DATA MAESTRO 2'!M$21,'DATA MAESTRO 2'!M$22,'DATA MAESTRO 2'!M$23,'DATA MAESTRO 2'!M$24,'DATA MAESTRO 2'!M$25,'DATA MAESTRO 2'!M$26,'DATA MAESTRO 2'!M$27,'DATA MAESTRO 2'!M$28,'DATA MAESTRO 2'!M$29,'DATA MAESTRO 2'!M$30,'DATA MAESTRO 2'!M$31,'DATA MAESTRO 2'!M$32,'DATA MAESTRO 2'!M$33,'DATA MAESTRO 2'!M$34,'DATA MAESTRO 2'!M$35,'DATA MAESTRO 2'!M$36,'DATA MAESTRO 2'!M$37,'DATA MAESTRO 2'!M$38,'DATA MAESTRO 2'!M$39,'DATA MAESTRO 2'!M$40,)","v":1.6062787661199995},{"$f":"CHOOSE($B3,'DATA MAESTRO 2'!N$6,'DATA MAESTRO 2'!N$7,'DATA MAESTRO 2'!N$8,'DATA MAESTRO 2'!N$9,'DATA MAESTRO 2'!N$10,'DATA MAESTRO 2'!N$11,'DATA MAESTRO 2'!N$12,'DATA MAESTRO 2'!N$13,'DATA MAESTRO 2'!N$14,'DATA MAESTRO 2'!N$15,'DATA MAESTRO 2'!N$16,'DATA MAESTRO 2'!N$17,'DATA MAESTRO 2'!N$18,'DATA MAESTRO 2'!N$19,'DATA MAESTRO 2'!N$20,'DATA MAESTRO 2'!N$21,'DATA MAESTRO 2'!N$22,'DATA MAESTRO 2'!N$23,'DATA MAESTRO 2'!N$24,'DATA MAESTRO 2'!N$25,'DATA MAESTRO 2'!N$26,'DATA MAESTRO 2'!N$27,'DATA MAESTRO 2'!N$28,'DATA MAESTRO 2'!N$29,'DATA MAESTRO 2'!N$30,'DATA MAESTRO 2'!N$31,'DATA MAESTRO 2'!N$32,'DATA MAESTRO 2'!N$33,'DATA MAESTRO 2'!N$34,'DATA MAESTRO 2'!N$35,'DATA MAESTRO 2'!N$36,'DATA MAESTRO 2'!N$37,'DATA MAESTRO 2'!N$38,'DATA MAESTRO 2'!N$39,'DATA MAESTRO 2'!N$40,)","v":1.6684999999999999},{"$f":"CHOOSE($B3,'DATA MAESTRO 2'!O$6,'DATA MAESTRO 2'!O$7,'DATA MAESTRO 2'!O$8,'DATA MAESTRO 2'!O$9,'DATA MAESTRO 2'!O$10,'DATA MAESTRO 2'!O$11,'DATA MAESTRO 2'!O$12,'DATA MAESTRO 2'!O$13,'DATA MAESTRO 2'!O$14,'DATA MAESTRO 2'!O$15,'DATA MAESTRO 2'!O$16,'DATA MAESTRO 2'!O$17,'DATA MAESTRO 2'!O$18,'DATA MAESTRO 2'!O$19,'DATA MAESTRO 2'!O$20,'DATA MAESTRO 2'!O$21,'DATA MAESTRO 2'!O$22,'DATA MAESTRO 2'!O$23,'DATA MAESTRO 2'!O$24,'DATA MAESTRO 2'!O$25,'DATA MAESTRO 2'!O$26,'DATA MAESTRO 2'!O$27,'DATA MAESTRO 2'!O$28,'DATA MAESTRO 2'!O$29,'DATA MAESTRO 2'!O$30,'DATA MAESTRO 2'!O$31,'DATA MAESTRO 2'!O$32,'DATA MAESTRO 2'!O$33,'DATA MAESTRO 2'!O$34,'DATA MAESTRO 2'!O$35,'DATA MAESTRO 2'!O$36,'DATA MAESTRO 2'!O$37,'DATA MAESTRO 2'!O$38,'DATA MAESTRO 2'!O$39,'DATA MAESTRO 2'!O$40,)","v":2.1038162690999997},{"$f":"CHOOSE($B3,'DATA MAESTRO 2'!P$6,'DATA MAESTRO 2'!P$7,'DATA MAESTRO 2'!P$8,'DATA MAESTRO 2'!P$9,'DATA MAESTRO 2'!P$10,'DATA MAESTRO 2'!P$11,'DATA MAESTRO 2'!P$12,'DATA MAESTRO 2'!P$13,'DATA MAESTRO 2'!P$14,'DATA MAESTRO 2'!P$15,'DATA MAESTRO 2'!P$16,'DATA MAESTRO 2'!P$17,'DATA MAESTRO 2'!P$18,'DATA MAESTRO 2'!P$19,'DATA MAESTRO 2'!P$20,'DATA MAESTRO 2'!P$21,'DATA MAESTRO 2'!P$22,'DATA MAESTRO 2'!P$23,'DATA MAESTRO 2'!P$24,'DATA MAESTRO 2'!P$25,'DATA MAESTRO 2'!P$26,'DATA MAESTRO 2'!P$27,'DATA MAESTRO 2'!P$28,'DATA MAESTRO 2'!P$29,'DATA MAESTRO 2'!P$30,'DATA MAESTRO 2'!P$31,'DATA MAESTRO 2'!P$32,'DATA MAESTRO 2'!P$33,'DATA MAESTRO 2'!P$34,'DATA MAESTRO 2'!P$35,'DATA MAESTRO 2'!P$36,'DATA MAESTRO 2'!P$37,'DATA MAESTRO 2'!P$38,'DATA MAESTRO 2'!P$39,'DATA MAESTRO 2'!P$40,)","v":0.04},{"$f":"CHOOSE($B3,'DATA MAESTRO 2'!Q$6,'DATA MAESTRO 2'!Q$7,'DATA MAESTRO 2'!Q$8,'DATA MAESTRO 2'!Q$9,'DATA MAESTRO 2'!Q$10,'DATA MAESTRO 2'!Q$11,'DATA MAESTRO 2'!Q$12,'DATA MAESTRO 2'!Q$13,'DATA MAESTRO 2'!Q$14,'DATA MAESTRO 2'!Q$15,'DATA MAESTRO 2'!Q$16,'DATA MAESTRO 2'!Q$17,'DATA MAESTRO 2'!Q$18,'DATA MAESTRO 2'!Q$19,'DATA MAESTRO 2'!Q$20,'DATA MAESTRO 2'!Q$21,'DATA MAESTRO 2'!Q$22,'DATA MAESTRO 2'!Q$23,'DATA MAESTRO 2'!Q$24,'DATA MAESTRO 2'!Q$25,'DATA MAESTRO 2'!Q$26,'DATA MAESTRO 2'!Q$27,'DATA MAESTRO 2'!Q$28,'DATA MAESTRO 2'!Q$29,'DATA MAESTRO 2'!Q$30,'DATA MAESTRO 2'!Q$31,'DATA MAESTRO 2'!Q$32,'DATA MAESTRO 2'!Q$33,'DATA MAESTRO 2'!Q$34,'DATA MAESTRO 2'!Q$35,'DATA MAESTRO 2'!Q$36,'DATA MAESTRO 2'!Q$37,'DATA MAESTRO 2'!Q$38,'DATA MAESTRO 2'!Q$39,'DATA MAESTRO 2'!Q$40,)","v":0.42},{"$f":"CHOOSE($B3,'DATA MAESTRO 2'!R$6,'DATA MAESTRO 2'!R$7,'DATA MAESTRO 2'!R$8,'DATA MAESTRO 2'!R$9,'DATA MAESTRO 2'!R$10,'DATA MAESTRO 2'!R$11,'DATA MAESTRO 2'!R$12,'DATA MAESTRO 2'!R$13,'DATA MAESTRO 2'!R$14,'DATA MAESTRO 2'!R$15,'DATA MAESTRO 2'!R$16,'DATA MAESTRO 2'!R$17,'DATA MAESTRO 2'!R$18,'DATA MAESTRO 2'!R$19,'DATA MAESTRO 2'!R$20,'DATA MAESTRO 2'!R$21,'DATA MAESTRO 2'!R$22,'DATA MAESTRO 2'!R$23,'DATA MAESTRO 2'!R$24,'DATA MAESTRO 2'!R$25,'DATA MAESTRO 2'!R$26,'DATA MAESTRO 2'!R$27,'DATA MAESTRO 2'!R$28,'DATA MAESTRO 2'!R$29,'DATA MAESTRO 2'!R$30,'DATA MAESTRO 2'!R$31,'DATA MAESTRO 2'!R$32,'DATA MAESTRO 2'!R$33,'DATA MAESTRO 2'!R$34,'DATA MAESTRO 2'!R$35,'DATA MAESTRO 2'!R$36,'DATA MAESTRO 2'!R$37,'DATA MAESTRO 2'!R$38,'DATA MAESTRO 2'!R$39,'DATA MAESTRO 2'!R$40,)","v":0.7},{"$f":"CHOOSE($B3,'DATA MAESTRO 2'!S$6,'DATA MAESTRO 2'!S$7,'DATA MAESTRO 2'!S$8,'DATA MAESTRO 2'!S$9,'DATA MAESTRO 2'!S$10,'DATA MAESTRO 2'!S$11,'DATA MAESTRO 2'!S$12,'DATA MAESTRO 2'!S$13,'DATA MAESTRO 2'!S$14,'DATA MAESTRO 2'!S$15,'DATA MAESTRO 2'!S$16,'DATA MAESTRO 2'!S$17,'DATA MAESTRO 2'!S$18,'DATA MAESTRO 2'!S$19,'DATA MAESTRO 2'!S$20,'DATA MAESTRO 2'!S$21,'DATA MAESTRO 2'!S$22,'DATA MAESTRO 2'!S$23,'DATA MAESTRO 2'!S$24,'DATA MAESTRO 2'!S$25,'DATA MAESTRO 2'!S$26,'DATA MAESTRO 2'!S$27,'DATA MAESTRO 2'!S$28,'DATA MAESTRO 2'!S$29,'DATA MAESTRO 2'!S$30,'DATA MAESTRO 2'!S$31,'DATA MAESTRO 2'!S$32,'DATA MAESTRO 2'!S$33,'DATA MAESTRO 2'!S$34,'DATA MAESTRO 2'!S$35,'DATA MAESTRO 2'!S$36,'DATA MAESTRO 2'!S$37,'DATA MAESTRO 2'!S$38,'DATA MAESTRO 2'!S$39,'DATA MAESTRO 2'!S$40,)","v":0.3},{"$f":"CHOOSE($B3,'DATA MAESTRO 2'!T$6,'DATA MAESTRO 2'!T$7,'DATA MAESTRO 2'!T$8,'DATA MAESTRO 2'!T$9,'DATA MAESTRO 2'!T$10,'DATA MAESTRO 2'!T$11,'DATA MAESTRO 2'!T$12,'DATA MAESTRO 2'!T$13,'DATA MAESTRO 2'!T$14,'DATA MAESTRO 2'!T$15,'DATA MAESTRO 2'!T$16,'DATA MAESTRO 2'!T$17,'DATA MAESTRO 2'!T$18,'DATA MAESTRO 2'!T$19,'DATA MAESTRO 2'!T$20,'DATA MAESTRO 2'!T$21,'DATA MAESTRO 2'!T$22,'DATA MAESTRO 2'!T$23,'DATA MAESTRO 2'!T$24,'DATA MAESTRO 2'!T$25,'DATA MAESTRO 2'!T$26,'DATA MAESTRO 2'!T$27,'DATA MAESTRO 2'!T$28,'DATA MAESTRO 2'!T$29,'DATA MAESTRO 2'!T$30,'DATA MAESTRO 2'!T$31,'DATA MAESTRO 2'!T$32,'DATA MAESTRO 2'!T$33,'DATA MAESTRO 2'!T$34,'DATA MAESTRO 2'!T$35,'DATA MAESTRO 2'!T$36,'DATA MAESTRO 2'!T$37,'DATA MAESTRO 2'!T$38,'DATA MAESTRO 2'!T$39,'DATA MAESTRO 2'!T$40,)","v":2.0000000000000001E-4},{"$f":"CHOOSE($B3,'DATA MAESTRO 2'!U$6,'DATA MAESTRO 2'!U$7,'DATA MAESTRO 2'!U$8,'DATA MAESTRO 2'!U$9,'DATA MAESTRO 2'!U$10,'DATA MAESTRO 2'!U$11,'DATA MAESTRO 2'!U$12,'DATA MAESTRO 2'!U$13,'DATA MAESTRO 2'!U$14,'DATA MAESTRO 2'!U$15,'DATA MAESTRO 2'!U$16,'DATA MAESTRO 2'!U$17,'DATA MAESTRO 2'!U$18,'DATA MAESTRO 2'!U$19,'DATA MAESTRO 2'!U$20,'DATA MAESTRO 2'!U$21,'DATA MAESTRO 2'!U$22,'DATA MAESTRO 2'!U$23,'DATA MAESTRO 2'!U$24,'DATA MAESTRO 2'!U$25,'DATA MAESTRO 2'!U$26,'DATA MAESTRO 2'!U$27,'DATA MAESTRO 2'!U$28,'DATA MAESTRO 2'!U$29,'DATA MAESTRO 2'!U$30,'DATA MAESTRO 2'!U$31,'DATA MAESTRO 2'!U$32,'DATA MAESTRO 2'!U$33,'DATA MAESTRO 2'!U$34,'DATA MAESTRO 2'!U$35,'DATA MAESTRO 2'!U$36,'DATA MAESTRO 2'!U$37,'DATA MAESTRO 2'!U$38,'DATA MAESTRO 2'!U$39,'DATA MAESTRO 2'!U$40,)","v":4.0000000000000001E-3},{"$f":"CHOOSE($B3,'DATA MAESTRO 2'!V$6,'DATA MAESTRO 2'!V$7,'DATA MAESTRO 2'!V$8,'DATA MAESTRO 2'!V$9,'DATA MAESTRO 2'!V$10,'DATA MAESTRO 2'!V$11,'DATA MAESTRO 2'!V$12,'DATA MAESTRO 2'!V$13,'DATA MAESTRO 2'!V$14,'DATA MAESTRO 2'!V$15,'DATA MAESTRO 2'!V$16,'DATA MAESTRO 2'!V$17,'DATA MAESTRO 2'!V$18,'DATA MAESTRO 2'!V$19,'DATA MAESTRO 2'!V$20,'DATA MAESTRO 2'!V$21,'DATA MAESTRO 2'!V$22,'DATA MAESTRO 2'!V$23,'DATA MAESTRO 2'!V$24,'DATA MAESTRO 2'!V$25,'DATA MAESTRO 2'!V$26,'DATA MAESTRO 2'!V$27,'DATA MAESTRO 2'!V$28,'DATA MAESTRO 2'!V$29,'DATA MAESTRO 2'!V$30,'DATA MAESTRO 2'!V$31,'DATA MAESTRO 2'!V$32,'DATA MAESTRO 2'!V$33,'DATA MAESTRO 2'!V$34,'DATA MAESTRO 2'!V$35,'DATA MAESTRO 2'!V$36,'DATA MAESTRO 2'!V$37,'DATA MAESTRO 2'!V$38,'DATA MAESTRO 2'!V$39,'DATA MAESTRO 2'!V$40,)","v":1.1299999999999999E-2},{"$f":"CHOOSE($B3,'DATA MAESTRO 2'!W$6,'DATA MAESTRO 2'!W$7,'DATA MAESTRO 2'!W$8,'DATA MAESTRO 2'!W$9,'DATA MAESTRO 2'!W$10,'DATA MAESTRO 2'!W$11,'DATA MAESTRO 2'!W$12,'DATA MAESTRO 2'!W$13,'DATA MAESTRO 2'!W$14,'DATA MAESTRO 2'!W$15,'DATA MAESTRO 2'!W$16,'DATA MAESTRO 2'!W$17,'DATA MAESTRO 2'!W$18,'DATA MAESTRO 2'!W$19,'DATA MAESTRO 2'!W$20,'DATA MAESTRO 2'!W$21,'DATA MAESTRO 2'!W$22,'DATA MAESTRO 2'!W$23,'DATA MAESTRO 2'!W$24,'DATA MAESTRO 2'!W$25,'DATA MAESTRO 2'!W$26,'DATA MAESTRO 2'!W$27,'DATA MAESTRO 2'!W$28,'DATA MAESTRO 2'!W$29,'DATA MAESTRO 2'!W$30,'DATA MAESTRO 2'!W$31,'DATA MAESTRO 2'!W$32,'DATA MAESTRO 2'!W$33,'DATA MAESTRO 2'!W$34,'DATA MAESTRO 2'!W$35,'DATA MAESTRO 2'!W$36,'DATA MAESTRO 2'!W$37,'DATA MAESTRO 2'!W$38,'DATA MAESTRO 2'!W$39,'DATA MAESTRO 2'!W$40,)","v":5.9999999999999995E-4},{"$f":"CHOOSE($B3,'DATA MAESTRO 2'!X$6,'DATA MAESTRO 2'!X$7,'DATA MAESTRO 2'!X$8,'DATA MAESTRO 2'!X$9,'DATA MAESTRO 2'!X$10,'DATA MAESTRO 2'!X$11,'DATA MAESTRO 2'!X$12,'DATA MAESTRO 2'!X$13,'DATA MAESTRO 2'!X$14,'DATA MAESTRO 2'!X$15,'DATA MAESTRO 2'!X$16,'DATA MAESTRO 2'!X$17,'DATA MAESTRO 2'!X$18,'DATA MAESTRO 2'!X$19,'DATA MAESTRO 2'!X$20,'DATA MAESTRO 2'!X$21,'DATA MAESTRO 2'!X$22,'DATA MAESTRO 2'!X$23,'DATA MAESTRO 2'!X$24,'DATA MAESTRO 2'!X$25,'DATA MAESTRO 2'!X$26,'DATA MAESTRO 2'!X$27,'DATA MAESTRO 2'!X$28,'DATA MAESTRO 2'!X$29,'DATA MAESTRO 2'!X$30,'DATA MAESTRO 2'!X$31,'DATA MAESTRO 2'!X$32,'DATA MAESTRO 2'!X$33,'DATA MAESTRO 2'!X$34,'DATA MAESTRO 2'!X$35,'DATA MAESTRO 2'!X$36,'DATA MAESTRO 2'!X$37,'DATA MAESTRO 2'!X$38,'DATA MAESTRO 2'!X$39,'DATA MAESTRO 2'!X$40,)","v":2.0999999999999999E-3},{"$f":"CHOOSE($B3,'DATA MAESTRO 2'!Y$6,'DATA MAESTRO 2'!Y$7,'DATA MAESTRO 2'!Y$8,'DATA MAESTRO 2'!Y$9,'DATA MAESTRO 2'!Y$10,'DATA MAESTRO 2'!Y$11,'DATA MAESTRO 2'!Y$12,'DATA MAESTRO 2'!Y$13,'DATA MAESTRO 2'!Y$14,'DATA MAESTRO 2'!Y$15,'DATA MAESTRO 2'!Y$16,'DATA MAESTRO 2'!Y$17,'DATA MAESTRO 2'!Y$18,'DATA MAESTRO 2'!Y$19,'DATA MAESTRO 2'!Y$20,'DATA MAESTRO 2'!Y$21,'DATA MAESTRO 2'!Y$22,'DATA MAESTRO 2'!Y$23,'DATA MAESTRO 2'!Y$24,'DATA MAESTRO 2'!Y$25,'DATA MAESTRO 2'!Y$26,'DATA MAESTRO 2'!Y$27,'DATA MAESTRO 2'!Y$28,'DATA MAESTRO 2'!Y$29,'DATA MAESTRO 2'!Y$30,'DATA MAESTRO 2'!Y$31,'DATA MAESTRO 2'!Y$32,'DATA MAESTRO 2'!Y$33,'DATA MAESTRO 2'!Y$34,'DATA MAESTRO 2'!Y$35,'DATA MAESTRO 2'!Y$36,'DATA MAESTRO 2'!Y$37,'DATA MAESTRO 2'!Y$38,'DATA MAESTRO 2'!Y$39,'DATA MAESTRO 2'!Y$40,)","v":0},{"$f":"CHOOSE($B3,'DATA MAESTRO 2'!Z$6,'DATA MAESTRO 2'!Z$7,'DATA MAESTRO 2'!Z$8,'DATA MAESTRO 2'!Z$9,'DATA MAESTRO 2'!Z$10,'DATA MAESTRO 2'!Z$11,'DATA MAESTRO 2'!Z$12,'DATA MAESTRO 2'!Z$13,'DATA MAESTRO 2'!Z$14,'DATA MAESTRO 2'!Z$15,'DATA MAESTRO 2'!Z$16,'DATA MAESTRO 2'!Z$17,'DATA MAESTRO 2'!Z$18,'DATA MAESTRO 2'!Z$19,'DATA MAESTRO 2'!Z$20,'DATA MAESTRO 2'!Z$21,'DATA MAESTRO 2'!Z$22,'DATA MAESTRO 2'!Z$23,'DATA MAESTRO 2'!Z$24,'DATA MAESTRO 2'!Z$25,'DATA MAESTRO 2'!Z$26,'DATA MAESTRO 2'!Z$27,'DATA MAESTRO 2'!Z$28,'DATA MAESTRO 2'!Z$29,'DATA MAESTRO 2'!Z$30,'DATA MAESTRO 2'!Z$31,'DATA MAESTRO 2'!Z$32,'DATA MAESTRO 2'!Z$33,'DATA MAESTRO 2'!Z$34,'DATA MAESTRO 2'!Z$35,'DATA MAESTRO 2'!Z$36,'DATA MAESTRO 2'!Z$37,'DATA MAESTRO 2'!Z$38,'DATA MAESTRO 2'!Z$39,'DATA MAESTRO 2'!Z$40,)","v":0.31},{"$f":"CHOOSE($B3,'DATA MAESTRO 2'!AA$6,'DATA MAESTRO 2'!AA$7,'DATA MAESTRO 2'!AA$8,'DATA MAESTRO 2'!AA$9,'DATA MAESTRO 2'!AA$10,'DATA MAESTRO 2'!AA$11,'DATA MAESTRO 2'!AA$12,'DATA MAESTRO 2'!AA$13,'DATA MAESTRO 2'!AA$14,'DATA MAESTRO 2'!AA$15,'DATA MAESTRO 2'!AA$16,'DATA MAESTRO 2'!AA$17,'DATA MAESTRO 2'!AA$18,'DATA MAESTRO 2'!AA$19,'DATA MAESTRO 2'!AA$20,'DATA MAESTRO 2'!AA$21,'DATA MAESTRO 2'!AA$22,'DATA MAESTRO 2'!AA$23,'DATA MAESTRO 2'!AA$24,'DATA MAESTRO 2'!AA$25,'DATA MAESTRO 2'!AA$26,'DATA MAESTRO 2'!AA$27,'DATA MAESTRO 2'!AA$28,'DATA MAESTRO 2'!AA$29,'DATA MAESTRO 2'!AA$30,'DATA MAESTRO 2'!AA$31,'DATA MAESTRO 2'!AA$32,'DATA MAESTRO 2'!AA$33,'DATA MAESTRO 2'!AA$34,'DATA MAESTRO 2'!AA$35,'DATA MAESTRO 2'!AA$36,'DATA MAESTRO 2'!AA$37,'DATA MAESTRO 2'!AA$38,'DATA MAESTRO 2'!AA$39,'DATA MAESTRO 2'!AA$40,)","v":0},{"$f":"CHOOSE($B3,'DATA MAESTRO 2'!AB$6,'DATA MAESTRO 2'!AB$7,'DATA MAESTRO 2'!AB$8,'DATA MAESTRO 2'!AB$9,'DATA MAESTRO 2'!AB$10,'DATA MAESTRO 2'!AB$11,'DATA MAESTRO 2'!AB$12,'DATA MAESTRO 2'!AB$13,'DATA MAESTRO 2'!AB$14,'DATA MAESTRO 2'!AB$15,'DATA MAESTRO 2'!AB$16,'DATA MAESTRO 2'!AB$17,'DATA MAESTRO 2'!AB$18,'DATA MAESTRO 2'!AB$19,'DATA MAESTRO 2'!AB$20,'DATA MAESTRO 2'!AB$21,'DATA MAESTRO 2'!AB$22,'DATA MAESTRO 2'!AB$23,'DATA MAESTRO 2'!AB$24,'DATA MAESTRO 2'!AB$25,'DATA MAESTRO 2'!AB$26,'DATA MAESTRO 2'!AB$27,'DATA MAESTRO 2'!AB$28,'DATA MAESTRO 2'!AB$29,'DATA MAESTRO 2'!AB$30,'DATA MAESTRO 2'!AB$31,'DATA MAESTRO 2'!AB$32,'DATA MAESTRO 2'!AB$33,'DATA MAESTRO 2'!AB$34,'DATA MAESTRO 2'!AB$35,'DATA MAESTRO 2'!AB$36,'DATA MAESTRO 2'!AB$37,'DATA MAESTRO 2'!AB$38,'DATA MAESTRO 2'!AB$39,'DATA MAESTRO 2'!AB$40,)","v":0},{"$f":"CHOOSE($B3,'DATA MAESTRO 2'!AC$6,'DATA MAESTRO 2'!AC$7,'DATA MAESTRO 2'!AC$8,'DATA MAESTRO 2'!AC$9,'DATA MAESTRO 2'!AC$10,'DATA MAESTRO 2'!AC$11,'DATA MAESTRO 2'!AC$12,'DATA MAESTRO 2'!AC$13,'DATA MAESTRO 2'!AC$14,'DATA MAESTRO 2'!AC$15,'DATA MAESTRO 2'!AC$16,'DATA MAESTRO 2'!AC$17,'DATA MAESTRO 2'!AC$18,'DATA MAESTRO 2'!AC$19,'DATA MAESTRO 2'!AC$20,'DATA MAESTRO 2'!AC$21,'DATA MAESTRO 2'!AC$22,'DATA MAESTRO 2'!AC$23,'DATA MAESTRO 2'!AC$24,'DATA MAESTRO 2'!AC$25,'DATA MAESTRO 2'!AC$26,'DATA MAESTRO 2'!AC$27,'DATA MAESTRO 2'!AC$28,'DATA MAESTRO 2'!AC$29,'DATA MAESTRO 2'!AC$30,'DATA MAESTRO 2'!AC$31,'DATA MAESTRO 2'!AC$32,'DATA MAESTRO 2'!AC$33,'DATA MAESTRO 2'!AC$34,'DATA MAESTRO 2'!AC$35,'DATA MAESTRO 2'!AC$36,'DATA MAESTRO 2'!AC$37,'DATA MAESTRO 2'!AC$38,'DATA MAESTRO 2'!AC$39,'DATA MAESTRO 2'!AC$40,)","v":0},{"$f":"CHOOSE($B3,'DATA MAESTRO 2'!AD$6,'DATA MAESTRO 2'!AD$7,'DATA MAESTRO 2'!AD$8,'DATA MAESTRO 2'!AD$9,'DATA MAESTRO 2'!AD$10,'DATA MAESTRO 2'!AD$11,'DATA MAESTRO 2'!AD$12,'DATA MAESTRO 2'!AD$13,'DATA MAESTRO 2'!AD$14,'DATA MAESTRO 2'!AD$15,'DATA MAESTRO 2'!AD$16,'DATA MAESTRO 2'!AD$17,'DATA MAESTRO 2'!AD$18,'DATA MAESTRO 2'!AD$19,'DATA MAESTRO 2'!AD$20,'DATA MAESTRO 2'!AD$21,'DATA MAESTRO 2'!AD$22,'DATA MAESTRO 2'!AD$23,'DATA MAESTRO 2'!AD$24,'DATA MAESTRO 2'!AD$25,'DATA MAESTRO 2'!AD$26,'DATA MAESTRO 2'!AD$27,'DATA MAESTRO 2'!AD$28,'DATA MAESTRO 2'!AD$29,'DATA MAESTRO 2'!AD$30,'DATA MAESTRO 2'!AD$31,'DATA MAESTRO 2'!AD$32,'DATA MAESTRO 2'!AD$33,'DATA MAESTRO 2'!AD$34,'DATA MAESTRO 2'!AD$35,'DATA MAESTRO 2'!AD$36,'DATA MAESTRO 2'!AD$37,'DATA MAESTRO 2'!AD$38,'DATA MAESTRO 2'!AD$39,'DATA MAESTRO 2'!AD$40,)","v":0},{"$f":"CHOOSE($B3,'DATA MAESTRO 2'!AE$6,'DATA MAESTRO 2'!AE$7,'DATA MAESTRO 2'!AE$8,'DATA MAESTRO 2'!AE$9,'DATA MAESTRO 2'!AE$10,'DATA MAESTRO 2'!AE$11,'DATA MAESTRO 2'!AE$12,'DATA MAESTRO 2'!AE$13,'DATA MAESTRO 2'!AE$14,'DATA MAESTRO 2'!AE$15,'DATA MAESTRO 2'!AE$16,'DATA MAESTRO 2'!AE$17,'DATA MAESTRO 2'!AE$18,'DATA MAESTRO 2'!AE$19,'DATA MAESTRO 2'!AE$20,'DATA MAESTRO 2'!AE$21,'DATA MAESTRO 2'!AE$22,'DATA MAESTRO 2'!AE$23,'DATA MAESTRO 2'!AE$24,'DATA MAESTRO 2'!AE$25,'DATA MAESTRO 2'!AE$26,'DATA MAESTRO 2'!AE$27,'DATA MAESTRO 2'!AE$28,'DATA MAESTRO 2'!AE$29,'DATA MAESTRO 2'!AE$30,'DATA MAESTRO 2'!AE$31,'DATA MAESTRO 2'!AE$32,'DATA MAESTRO 2'!AE$33,'DATA MAESTRO 2'!AE$34,'DATA MAESTRO 2'!AE$35,'DATA MAESTRO 2'!AE$36,'DATA MAESTRO 2'!AE$37,'DATA MAESTRO 2'!AE$38,'DATA MAESTRO 2'!AE$39,'DATA MAESTRO 2'!AE$40,)","v":0},{"$f":"CHOOSE($B3,'DATA MAESTRO 2'!AF$6,'DATA MAESTRO 2'!AF$7,'DATA MAESTRO 2'!AF$8,'DATA MAESTRO 2'!AF$9,'DATA MAESTRO 2'!AF$10,'DATA MAESTRO 2'!AF$11,'DATA MAESTRO 2'!AF$12,'DATA MAESTRO 2'!AF$13,'DATA MAESTRO 2'!AF$14,'DATA MAESTRO 2'!AF$15,'DATA MAESTRO 2'!AF$16,'DATA MAESTRO 2'!AF$17,'DATA MAESTRO 2'!AF$18,'DATA MAESTRO 2'!AF$19,'DATA MAESTRO 2'!AF$20,'DATA MAESTRO 2'!AF$21,'DATA MAESTRO 2'!AF$22,'DATA MAESTRO 2'!AF$23,'DATA MAESTRO 2'!AF$24,'DATA MAESTRO 2'!AF$25,'DATA MAESTRO 2'!AF$26,'DATA MAESTRO 2'!AF$27,'DATA MAESTRO 2'!AF$28,'DATA MAESTRO 2'!AF$29,'DATA MAESTRO 2'!AF$30,'DATA MAESTRO 2'!AF$31,'DATA MAESTRO 2'!AF$32,'DATA MAESTRO 2'!AF$33,'DATA MAESTRO 2'!AF$34,'DATA MAESTRO 2'!AF$35,'DATA MAESTRO 2'!AF$36,'DATA MAESTRO 2'!AF$37,'DATA MAESTRO 2'!AF$38,'DATA MAESTRO 2'!AF$39,'DATA MAESTRO 2'!AF$40,)","v":0},{"$f":"CHOOSE($B3,'DATA MAESTRO 2'!AG$6,'DATA MAESTRO 2'!AG$7,'DATA MAESTRO 2'!AG$8,'DATA MAESTRO 2'!AG$9,'DATA MAESTRO 2'!AG$10,'DATA MAESTRO 2'!AG$11,'DATA MAESTRO 2'!AG$12,'DATA MAESTRO 2'!AG$13,'DATA MAESTRO 2'!AG$14,'DATA MAESTRO 2'!AG$15,'DATA MAESTRO 2'!AG$16,'DATA MAESTRO 2'!AG$17,'DATA MAESTRO 2'!AG$18,'DATA MAESTRO 2'!AG$19,'DATA MAESTRO 2'!AG$20,'DATA MAESTRO 2'!AG$21,'DATA MAESTRO 2'!AG$22,'DATA MAESTRO 2'!AG$23,'DATA MAESTRO 2'!AG$24,'DATA MAESTRO 2'!AG$25,'DATA MAESTRO 2'!AG$26,'DATA MAESTRO 2'!AG$27,'DATA MAESTRO 2'!AG$28,'DATA MAESTRO 2'!AG$29,'DATA MAESTRO 2'!AG$30,'DATA MAESTRO 2'!AG$31,'DATA MAESTRO 2'!AG$32,'DATA MAESTRO 2'!AG$33,'DATA MAESTRO 2'!AG$34,'DATA MAESTRO 2'!AG$35,'DATA MAESTRO 2'!AG$36,'DATA MAESTRO 2'!AG$37,'DATA MAESTRO 2'!AG$38,'DATA MAESTRO 2'!AG$39,'DATA MAESTRO 2'!AG$40,)","v":0},{"$f":"CHOOSE($B3,'DATA MAESTRO 2'!AH$6,'DATA MAESTRO 2'!AH$7,'DATA MAESTRO 2'!AH$8,'DATA MAESTRO 2'!AH$9,'DATA MAESTRO 2'!AH$10,'DATA MAESTRO 2'!AH$11,'DATA MAESTRO 2'!AH$12,'DATA MAESTRO 2'!AH$13,'DATA MAESTRO 2'!AH$14,'DATA MAESTRO 2'!AH$15,'DATA MAESTRO 2'!AH$16,'DATA MAESTRO 2'!AH$17,'DATA MAESTRO 2'!AH$18,'DATA MAESTRO 2'!AH$19,'DATA MAESTRO 2'!AH$20,'DATA MAESTRO 2'!AH$21,'DATA MAESTRO 2'!AH$22,'DATA MAESTRO 2'!AH$23,'DATA MAESTRO 2'!AH$24,'DATA MAESTRO 2'!AH$25,'DATA MAESTRO 2'!AH$26,'DATA MAESTRO 2'!AH$27,'DATA MAESTRO 2'!AH$28,'DATA MAESTRO 2'!AH$29,'DATA MAESTRO 2'!AH$30,'DATA MAESTRO 2'!AH$31,'DATA MAESTRO 2'!AH$32,'DATA MAESTRO 2'!AH$33,'DATA MAESTRO 2'!AH$34,'DATA MAESTRO 2'!AH$35,'DATA MAESTRO 2'!AH$36,'DATA MAESTRO 2'!AH$37,'DATA MAESTRO 2'!AH$38,'DATA MAESTRO 2'!AH$39,'DATA MAESTRO 2'!AH$40,)","v":0},{"$f":"CHOOSE($B3,'DATA MAESTRO 2'!AI$6,'DATA MAESTRO 2'!AI$7,'DATA MAESTRO 2'!AI$8,'DATA MAESTRO 2'!AI$9,'DATA MAESTRO 2'!AI$10,'DATA MAESTRO 2'!AI$11,'DATA MAESTRO 2'!AI$12,'DATA MAESTRO 2'!AI$13,'DATA MAESTRO 2'!AI$14,'DATA MAESTRO 2'!AI$15,'DATA MAESTRO 2'!AI$16,'DATA MAESTRO 2'!AI$17,'DATA MAESTRO 2'!AI$18,'DATA MAESTRO 2'!AI$19,'DATA MAESTRO 2'!AI$20,'DATA MAESTRO 2'!AI$21,'DATA MAESTRO 2'!AI$22,'DATA MAESTRO 2'!AI$23,'DATA MAESTRO 2'!AI$24,'DATA MAESTRO 2'!AI$25,'DATA MAESTRO 2'!AI$26,'DATA MAESTRO 2'!AI$27,'DATA MAESTRO 2'!AI$28,'DATA MAESTRO 2'!AI$29,'DATA MAESTRO 2'!AI$30,'DATA MAESTRO 2'!AI$31,'DATA MAESTRO 2'!AI$32,'DATA MAESTRO 2'!AI$33,'DATA MAESTRO 2'!AI$34,'DATA MAESTRO 2'!AI$35,'DATA MAESTRO 2'!AI$36,'DATA MAESTRO 2'!AI$37,'DATA MAESTRO 2'!AI$38,'DATA MAESTRO 2'!AI$39,'DATA MAESTRO 2'!AI$40,)","v":0},{"$f":"CHOOSE($B3,'DATA MAESTRO 2'!AJ$6,'DATA MAESTRO 2'!AJ$7,'DATA MAESTRO 2'!AJ$8,'DATA MAESTRO 2'!AJ$9,'DATA MAESTRO 2'!AJ$10,'DATA MAESTRO 2'!AJ$11,'DATA MAESTRO 2'!AJ$12,'DATA MAESTRO 2'!AJ$13,'DATA MAESTRO 2'!AJ$14,'DATA MAESTRO 2'!AJ$15,'DATA MAESTRO 2'!AJ$16,'DATA MAESTRO 2'!AJ$17,'DATA MAESTRO 2'!AJ$18,'DATA MAESTRO 2'!AJ$19,'DATA MAESTRO 2'!AJ$20,'DATA MAESTRO 2'!AJ$21,'DATA MAESTRO 2'!AJ$22,'DATA MAESTRO 2'!AJ$23,'DATA MAESTRO 2'!AJ$24,'DATA MAESTRO 2'!AJ$25,'DATA MAESTRO 2'!AJ$26,'DATA MAESTRO 2'!AJ$27,'DATA MAESTRO 2'!AJ$28,'DATA MAESTRO 2'!AJ$29,'DATA MAESTRO 2'!AJ$30,'DATA MAESTRO 2'!AJ$31,'DATA MAESTRO 2'!AJ$32,'DATA MAESTRO 2'!AJ$33,'DATA MAESTRO 2'!AJ$34,'DATA MAESTRO 2'!AJ$35,'DATA MAESTRO 2'!AJ$36,'DATA MAESTRO 2'!AJ$37,'DATA MAESTRO 2'!AJ$38,'DATA MAESTRO 2'!AJ$39,'DATA MAESTRO 2'!AJ$40,)","v":0}]
[2,5,{"$f":"+IF(AND(B4>=1,B4<=36),VLOOKUP(B4,'DATA MAESTRO 2'!$A$6:$B$40,2),0)","v":"TORTA DE SOYA"},{"$f":"+CHOOSE($B4,'DATA MAESTRO 2'!C$6,'DATA MAESTRO 2'!C$7,'DATA MAESTRO 2'!C$8,'DATA MAESTRO 2'!C$9,'DATA MAESTRO 2'!C$10,'DATA MAESTRO 2'!C$11,'DATA MAESTRO 2'!C$12,'DATA MAESTRO 2'!C$13,'DATA MAESTRO 2'!C$14,'DATA MAESTRO 2'!C$15,'DATA MAESTRO 2'!C$16,'DATA MAESTRO 2'!C$17,'DATA MAESTRO 2'!C$18,'DATA MAESTRO 2'!C$19,'DATA MAESTRO 2'!C$20,'DATA MAESTRO 2'!C$21,'DATA MAESTRO 2'!C$22,'DATA MAESTRO 2'!C$23,'DATA MAESTRO 2'!C$24,'DATA MAESTRO 2'!C$25,'DATA MAESTRO 2'!C$26,'DATA MAESTRO 2'!C$27,'DATA MAESTRO 2'!C$28,'DATA MAESTRO 2'!C$29,'DATA MAESTRO 2'!C$30,'DATA MAESTRO 2'!C$31,'DATA MAESTRO 2'!C$32,'DATA MAESTRO 2'!C$33,'DATA MAESTRO 2'!C$34,'DATA MAESTRO 2'!C$35,'DATA MAESTRO 2'!C$36,'DATA MAESTRO 2'!C$37,'DATA MAESTRO 2'!C$38,'DATA MAESTRO 2'!C$39,'DATA MAESTRO 2'!C$40,)","v":0},{"$f":"CHOOSE($B4,'DATA MAESTRO 2'!D$6,'DATA MAESTRO 2'!D$7,'DATA MAESTRO 2'!D$8,'DATA MAESTRO 2'!D$9,'DATA MAESTRO 2'!D$10,'DATA MAESTRO 2'!D$11,'DATA MAESTRO 2'!D$12,'DATA MAESTRO 2'!D$13,'DATA MAESTRO 2'!D$14,'DATA MAESTRO 2'!D$15,'DATA MAESTRO 2'!D$16,'DATA MAESTRO 2'!D$17,'DATA MAESTRO 2'!D$18,'DATA MAESTRO 2'!D$19,'DATA MAESTRO 2'!D$20,'DATA MAESTRO 2'!D$21,'DATA MAESTRO 2'!D$22,'DATA MAESTRO 2'!D$23,'DATA MAESTRO 2'!D$24,'DATA MAESTRO 2'!D$25,'DATA MAESTRO 2'!D$26,'DATA MAESTRO 2'!D$27,'DATA MAESTRO 2'!D$28,'DATA MAESTRO 2'!D$29,'DATA MAESTRO 2'!D$30,'DATA MAESTRO 2'!D$31,'DATA MAESTRO 2'!D$32,'DATA MAESTRO 2'!D$33,'DATA MAESTRO 2'!D$34,'DATA MAESTRO 2'!D$35,'DATA MAESTRO 2'!D$36,'DATA MAESTRO 2'!D$37,'DATA MAESTRO 2'!D$38,'DATA MAESTRO 2'!D$39,'DATA MAESTRO 2'!D$40,)","v":0.91},{"$f":"CHOOSE(B4,'DATA MAESTRO 2'!E$6,'DATA MAESTRO 2'!E$7,'DATA MAESTRO 2'!E$8,'DATA MAESTRO 2'!E$9,'DATA MAESTRO 2'!E$10,'DATA MAESTRO 2'!E$11,'DATA MAESTRO 2'!E$12,'DATA MAESTRO 2'!E$13,'DATA MAESTRO 2'!E$14,'DATA MAESTRO 2'!E$15,'DATA MAESTRO 2'!E$16,'DATA MAESTRO 2'!E$17,'DATA MAESTRO 2'!E$18,'DATA MAESTRO 2'!E$19,'DATA MAESTRO 2'!E$20,'DATA MAESTRO 2'!E$21,'DATA MAESTRO 2'!E$22,'DATA MAESTRO 2'!E$23,'DATA MAESTRO 2'!E$24,'DATA MAESTRO 2'!E$25,'DATA MAESTRO 2'!E$26,'DATA MAESTRO 2'!E$27,'DATA MAESTRO 2'!E$28,'DATA MAESTRO 2'!E$29,'DATA MAESTRO 2'!E$30,'DATA MAESTRO 2'!E$31,'DATA MAESTRO 2'!E$32,'DATA MAESTRO 2'!E$33,'DATA MAESTRO 2'!E$34,'DATA MAESTRO 2'!E$35,'DATA MAESTRO 2'!E$36,'DATA MAESTRO 2'!E$37,'DATA MAESTRO 2'!E$38,'DATA MAESTRO 2'!E$39,'DATA MAESTRO 2'!E$40,)","v":0.81},{"$f":"CHOOSE($B4,'DATA MAESTRO 2'!F$6,'DATA MAESTRO 2'!F$7,'DATA MAESTRO 2'!F$8,'DATA MAESTRO 2'!F$9,'DATA MAESTRO 2'!F$10,'DATA MAESTRO 2'!F$11,'DATA MAESTRO 2'!F$12,'DATA MAESTRO 2'!F$13,'DATA MAESTRO 2'!F$14,'DATA MAESTRO 2'!F$15,'DATA MAESTRO 2'!F$16,'DATA MAESTRO 2'!F$17,'DATA MAESTRO 2'!F$18,'DATA MAESTRO 2'!F$19,'DATA MAESTRO 2'!F$20,'DATA MAESTRO 2'!F$21,'DATA MAESTRO 2'!F$22,'DATA MAESTRO 2'!F$23,'DATA MAESTRO 2'!F$24,'DATA MAESTRO 2'!F$25,'DATA MAESTRO 2'!F$26,'DATA MAESTRO 2'!F$27,'DATA MAESTRO 2'!F$28,'DATA MAESTRO 2'!F$29,'DATA MAESTRO 2'!F$30,'DATA MAESTRO 2'!F$31,'DATA MAESTRO 2'!F$32,'DATA MAESTRO 2'!F$33,'DATA MAESTRO 2'!F$34,'DATA MAESTRO 2'!F$35,'DATA MAESTRO 2'!F$36,'DATA MAESTRO 2'!F$37,'DATA MAESTRO 2'!F$38,'DATA MAESTRO 2'!F$39,'DATA MAESTRO 2'!F$40,)","v":0.48},{"$f":"CHOOSE($B4,'DATA MAESTRO 2'!G$6,'DATA MAESTRO 2'!G$7,'DATA MAESTRO 2'!G$8,'DATA MAESTRO 2'!G$9,'DATA MAESTRO 2'!G$10,'DATA MAESTRO 2'!G$11,'DATA MAESTRO 2'!G$12,'DATA MAESTRO 2'!G$13,'DATA MAESTRO 2'!G$14,'DATA MAESTRO 2'!G$15,'DATA MAESTRO 2'!G$16,'DATA MAESTRO 2'!G$17,'DATA MAESTRO 2'!G$18,'DATA MAESTRO 2'!G$19,'DATA MAESTRO 2'!G$20,'DATA MAESTRO 2'!G$21,'DATA MAESTRO 2'!G$22,'DATA MAESTRO 2'!G$23,'DATA MAESTRO 2'!G$24,'DATA MAESTRO 2'!G$25,'DATA MAESTRO 2'!G$26,'DATA MAESTRO 2'!G$27,'DATA MAESTRO 2'!G$28,'DATA MAESTRO 2'!G$29,'DATA MAESTRO 2'!G$30,'DATA MAESTRO 2'!G$31,'DATA MAESTRO 2'!G$32,'DATA MAESTRO 2'!G$33,'DATA MAESTRO 2'!G$34,'DATA MAESTRO 2'!G$35,'DATA MAESTRO 2'!G$36,'DATA MAESTRO 2'!G$37,'DATA MAESTRO 2'!G$38,'DATA MAESTRO 2'!G$39,'DATA MAESTRO 2'!G$40,)","v":0.05},{"$f":"CHOOSE($B4,'DATA MAESTRO 2'!H$6,'DATA MAESTRO 2'!H$7,'DATA MAESTRO 2'!H$8,'DATA MAESTRO 2'!H$9,'DATA MAESTRO 2'!H$10,'DATA MAESTRO 2'!H$11,'DATA MAESTRO 2'!H$12,'DATA MAESTRO 2'!H$13,'DATA MAESTRO 2'!H$14,'DATA MAESTRO 2'!H$15,'DATA MAESTRO 2'!H$16,'DATA MAESTRO 2'!H$17,'DATA MAESTRO 2'!H$18,'DATA MAESTRO 2'!H$19,'DATA MAESTRO 2'!H$20,'DATA MAESTRO 2'!H$21,'DATA MAESTRO 2'!H$22,'DATA MAESTRO 2'!H$23,'DATA MAESTRO 2'!H$24,'DATA MAESTRO 2'!H$25,'DATA MAESTRO 2'!H$26,'DATA MAESTRO 2'!H$27,'DATA MAESTRO 2'!H$28,'DATA MAESTRO 2'!H$29,'DATA MAESTRO 2'!H$30,'DATA MAESTRO 2'!H$31,'DATA MAESTRO 2'!H$32,'DATA MAESTRO 2'!H$33,'DATA MAESTRO 2'!H$34,'DATA MAESTRO 2'!H$35,'DATA MAESTRO 2'!H$36,'DATA MAESTRO 2'!H$37,'DATA MAESTRO 2'!H$38,'DATA MAESTRO 2'!H$39,'DATA MAESTRO 2'!H$40,)","v":0.1},{"$f":"CHOOSE($B4,'DATA MAESTRO 2'!I$6,'DATA MAESTRO 2'!I$7,'DATA MAESTRO 2'!I$8,'DATA MAESTRO 2'!I$9,'DATA MAESTRO 2'!I$10,'DATA MAESTRO 2'!I$11,'DATA MAESTRO 2'!I$12,'DATA MAESTRO 2'!I$13,'DATA MAESTRO 2'!I$14,'DATA MAESTRO 2'!I$15,'DATA MAESTRO 2'!I$16,'DATA MAESTRO 2'!I$17,'DATA MAESTRO 2'!I$18,'DATA MAESTRO 2'!I$19,'DATA MAESTRO 2'!I$20,'DATA MAESTRO 2'!I$21,'DATA MAESTRO 2'!I$22,'DATA MAESTRO 2'!I$23,'DATA MAESTRO 2'!I$24,'DATA MAESTRO 2'!I$25,'DATA MAESTRO 2'!I$26,'DATA MAESTRO 2'!I$27,'DATA MAESTRO 2'!I$28,'DATA MAESTRO 2'!I$29,'DATA MAESTRO 2'!I$30,'DATA MAESTRO 2'!I$31,'DATA MAESTRO 2'!I$32,'DATA MAESTRO 2'!I$33,'DATA MAESTRO 2'!I$34,'DATA MAESTRO 2'!I$35,'DATA MAESTRO 2'!I$36,'DATA MAESTRO 2'!I$37,'DATA MAESTRO 2'!I$38,'DATA MAESTRO 2'!I$39,'DATA MAESTRO 2'!I$40,)","v":6.2E-2},{"$f":"CHOOSE($B4,'DATA MAESTRO 2'!J$6,'DATA MAESTRO 2'!J$7,'DATA MAESTRO 2'!J$8,'DATA MAESTRO 2'!J$9,'DATA MAESTRO 2'!J$10,'DATA MAESTRO 2'!J$11,'DATA MAESTRO 2'!J$12,'DATA MAESTRO 2'!J$13,'DATA MAESTRO 2'!J$14,'DATA MAESTRO 2'!J$15,'DATA MAESTRO 2'!J$16,'DATA MAESTRO 2'!J$17,'DATA MAESTRO 2'!J$18,'DATA MAESTRO 2'!J$19,'DATA MAESTRO 2'!J$20,'DATA MAESTRO 2'!J$21,'DATA MAESTRO 2'!J$22,'DATA MAESTRO 2'!J$23,'DATA MAESTRO 2'!J$24,'DATA MAESTRO 2'!J$25,'DATA MAESTRO 2'!J$26,'DATA MAESTRO 2'!J$27,'DATA MAESTRO 2'!J$28,'DATA MAESTRO 2'!J$29,'DATA MAESTRO 2'!J$30,'DATA MAESTRO 2'!J$31,'DATA MAESTRO 2'!J$32,'DATA MAESTRO 2'!J$33,'DATA MAESTRO 2'!J$34,'DATA MAESTRO 2'!J$35,'DATA MAESTRO 2'!J$36,'DATA MAESTRO 2'!J$37,'DATA MAESTRO 2'!J$38,'DATA MAESTRO 2'!J$39,'DATA MAESTRO 2'!J$40,)","v":3.0000000000000001E-3},{"$f":"CHOOSE($B4,'DATA MAESTRO 2'!K$6,'DATA MAESTRO 2'!K$7,'DATA MAESTRO 2'!K$8,'DATA MAESTRO 2'!K$9,'DATA MAESTRO 2'!K$10,'DATA MAESTRO 2'!K$11,'DATA MAESTRO 2'!K$12,'DATA MAESTRO 2'!K$13,'DATA MAESTRO 2'!K$14,'DATA MAESTRO 2'!K$15,'DATA MAESTRO 2'!K$16,'DATA MAESTRO 2'!K$17,'DATA MAESTRO 2'!K$18,'DATA MAESTRO 2'!K$19,'DATA MAESTRO 2'!K$20,'DATA MAESTRO 2'!K$21,'DATA MAESTRO 2'!K$22,'DATA MAESTRO 2'!K$23,'DATA MAESTRO 2'!K$24,'DATA MAESTRO 2'!K$25,'DATA MAESTRO 2'!K$26,'DATA MAESTRO 2'!K$27,'DATA MAESTRO 2'!K$28,'DATA MAESTRO 2'!K$29,'DATA MAESTRO 2'!K$30,'DATA MAESTRO 2'!K$31,'DATA MAESTRO 2'!K$32,'DATA MAESTRO 2'!K$33,'DATA MAESTRO 2'!K$34,'DATA MAESTRO 2'!K$35,'DATA MAESTRO 2'!K$36,'DATA MAESTRO 2'!K$37,'DATA MAESTRO 2'!K$38,'DATA MAESTRO 2'!K$39,'DATA MAESTRO 2'!K$40,)","v":7.000000000000001E-3},{"$f":"CHOOSE($B4,'DATA MAESTRO 2'!L$6,'DATA MAESTRO 2'!L$7,'DATA MAESTRO 2'!L$8,'DATA MAESTRO 2'!L$9,'DATA MAESTRO 2'!L$10,'DATA MAESTRO 2'!L$11,'DATA MAESTRO 2'!L$12,'DATA MAESTRO 2'!L$13,'DATA MAESTRO 2'!L$14,'DATA MAESTRO 2'!L$15,'DATA MAESTRO 2'!L$16,'DATA MAESTRO 2'!L$17,'DATA MAESTRO 2'!L$18,'DATA MAESTRO 2'!L$19,'DATA MAESTRO 2'!L$20,'DATA MAESTRO 2'!L$21,'DATA MAESTRO 2'!L$22,'DATA MAESTRO 2'!L$23,'DATA MAESTRO 2'!L$24,'DATA MAESTRO 2'!L$25,'DATA MAESTRO 2'!L$26,'DATA MAESTRO 2'!L$27,'DATA MAESTRO 2'!L$28,'DATA MAESTRO 2'!L$29,'DATA MAESTRO 2'!L$30,'DATA MAESTRO 2'!L$31,'DATA MAESTRO 2'!L$32,'DATA MAESTRO 2'!L$33,'DATA MAESTRO 2'!L$34,'DATA MAESTRO 2'!L$35,'DATA MAESTRO 2'!L$36,'DATA MAESTRO 2'!L$37,'DATA MAESTRO 2'!L$38,'DATA MAESTRO 2'!L$39,'DATA MAESTRO 2'!L$40,)","v":2.9284577999999999},{"$f":"CHOOSE($B4,'DATA MAESTRO 2'!M$6,'DATA MAESTRO 2'!M$7,'DATA MAESTRO 2'!M$8,'DATA MAESTRO 2'!M$9,'DATA MAESTRO 2'!M$10,'DATA MAESTRO 2'!M$11,'DATA MAESTRO 2'!M$12,'DATA MAESTRO 2'!M$13,'DATA MAESTRO 2'!M$14,'DATA MAESTRO 2'!M$15,'DATA MAESTRO 2'!M$16,'DATA MAESTRO 2'!M$17,'DATA MAESTRO 2'!M$18,'DATA MAESTRO 2'!M$19,'DATA MAESTRO 2'!M$20,'DATA MAESTRO 2'!M$21,'DATA MAESTRO 2'!M$22,'DATA MAESTRO 2'!M$23,'DATA MAESTRO 2'!M$24,'DATA MAESTRO 2'!M$25,'DATA MAESTRO 2'!M$26,'DATA MAESTRO 2'!M$27,'DATA MAESTRO 2'!M$28,'DATA MAESTRO 2'!M$29,'DATA MAESTRO 2'!M$30,'DATA MAESTRO 2'!M$31,'DATA MAESTRO 2'!M$32,'DATA MAESTRO 2'!M$33,'DATA MAESTRO 2'!M$34,'DATA MAESTRO 2'!M$35,'DATA MAESTRO 2'!M$36,'DATA MAESTRO 2'!M$37,'DATA MAESTRO 2'!M$38,'DATA MAESTRO 2'!M$39,'DATA MAESTRO 2'!M$40,)","v":1.9631312336400002},{"$f":"CHOOSE($B4,'DATA MAESTRO 2'!N$6,'DATA MAESTRO 2'!N$7,'DATA MAESTRO 2'!N$8,'DATA MAESTRO 2'!N$9,'DATA MAESTRO 2'!N$10,'DATA MAESTRO 2'!N$11,'DATA MAESTRO 2'!N$12,'DATA MAESTRO 2'!N$13,'DATA MAESTRO 2'!N$14,'DATA MAESTRO 2'!N$15,'DATA MAESTRO 2'!N$16,'DATA MAESTRO 2'!N$17,'DATA MAESTRO 2'!N$18,'DATA MAESTRO 2'!N$19,'DATA MAESTRO 2'!N$20,'DATA MAESTRO 2'!N$21,'DATA MAESTRO 2'!N$22,'DATA MAESTRO 2'!N$23,'DATA MAESTRO 2'!N$24,'DATA MAESTRO 2'!N$25,'DATA MAESTRO 2'!N$26,'DATA MAESTRO 2'!N$27,'DATA MAESTRO 2'!N$28,'DATA MAESTRO 2'!N$29,'DATA MAESTRO 2'!N$30,'DATA MAESTRO 2'!N$31,'DATA MAESTRO 2'!N$32,'DATA MAESTRO 2'!N$33,'DATA MAESTRO 2'!N$34,'DATA MAESTRO 2'!N$35,'DATA MAESTRO 2'!N$36,'DATA MAESTRO 2'!N$37,'DATA MAESTRO 2'!N$38,'DATA MAESTRO 2'!N$39,'DATA MAESTRO 2'!N$40,)","v":1.8645000000000005},{"$f":"CHOOSE($B4,'DATA MAESTRO 2'!O$6,'DATA MAESTRO 2'!O$7,'DATA MAESTRO 2'!O$8,'DATA MAESTRO 2'!O$9,'DATA MAESTRO 2'!O$10,'DATA MAESTRO 2'!O$11,'DATA MAESTRO 2'!O$12,'DATA MAESTRO 2'!O$13,'DATA MAESTRO 2'!O$14,'DATA MAESTRO 2'!O$15,'DATA MAESTRO 2'!O$16,'DATA MAESTRO 2'!O$17,'DATA MAESTRO 2'!O$18,'DATA MAESTRO 2'!O$19,'DATA MAESTRO 2'!O$20,'DATA MAESTRO 2'!O$21,'DATA MAESTRO 2'!O$22,'DATA MAESTRO 2'!O$23,'DATA MAESTRO 2'!O$24,'DATA MAESTRO 2'!O$25,'DATA MAESTRO 2'!O$26,'DATA MAESTRO 2'!O$27,'DATA MAESTRO 2'!O$28,'DATA MAESTRO 2'!O$29,'DATA MAESTRO 2'!O$30,'DATA MAESTRO 2'!O$31,'DATA MAESTRO 2'!O$32,'DATA MAESTRO 2'!O$33,'DATA MAESTRO 2'!O$34,'DATA MAESTRO 2'!O$35,'DATA MAESTRO 2'!O$36,'DATA MAESTRO 2'!O$37,'DATA MAESTRO 2'!O$38,'DATA MAESTRO 2'!O$39,'DATA MAESTRO 2'!O$40,)","v":2.4571112026999997},{"$f":"CHOOSE($B4,'DATA MAESTRO 2'!P$6,'DATA MAESTRO 2'!P$7,'DATA MAESTRO 2'!P$8,'DATA MAESTRO 2'!P$9,'DATA MAESTRO 2'!P$10,'DATA MAESTRO 2'!P$11,'DATA MAESTRO 2'!P$12,'DATA MAESTRO 2'!P$13,'DATA MAESTRO 2'!P$14,'DATA MAESTRO 2'!P$15,'DATA MAESTRO 2'!P$16,'DATA MAESTRO 2'!P$17,'DATA MAESTRO 2'!P$18,'DATA MAESTRO 2'!P$19,'DATA MAESTRO 2'!P$20,'DATA MAESTRO 2'!P$21,'DATA MAESTRO 2'!P$22,'DATA MAESTRO 2'!P$23,'DATA MAESTRO 2'!P$24,'DATA MAESTRO 2'!P$25,'DATA MAESTRO 2'!P$26,'DATA MAESTRO 2'!P$27,'DATA MAESTRO 2'!P$28,'DATA MAESTRO 2'!P$29,'DATA MAESTRO 2'!P$30,'DATA MAESTRO 2'!P$31,'DATA MAESTRO 2'!P$32,'DATA MAESTRO 2'!P$33,'DATA MAESTRO 2'!P$34,'DATA MAESTRO 2'!P$35,'DATA MAESTRO 2'!P$36,'DATA MAESTRO 2'!P$37,'DATA MAESTRO 2'!P$38,'DATA MAESTRO 2'!P$39,'DATA MAESTRO 2'!P$40,)","v":0.02},{"$f":"CHOOSE($B4,'DATA MAESTRO 2'!Q$6,'DATA MAESTRO 2'!Q$7,'DATA MAESTRO 2'!Q$8,'DATA MAESTRO 2'!Q$9,'DATA MAESTRO 2'!Q$10,'DATA MAESTRO 2'!Q$11,'DATA MAESTRO 2'!Q$12,'DATA MAESTRO 2'!Q$13,'DATA MAESTRO 2'!Q$14,'DATA MAESTRO 2'!Q$15,'DATA MAESTRO 2'!Q$16,'DATA MAESTRO 2'!Q$17,'DATA MAESTRO 2'!Q$18,'DATA MAESTRO 2'!Q$19,'DATA MAESTRO 2'!Q$20,'DATA MAESTRO 2'!Q$21,'DATA MAESTRO 2'!Q$22,'DATA MAESTRO 2'!Q$23,'DATA MAESTRO 2'!Q$24,'DATA MAESTRO 2'!Q$25,'DATA MAESTRO 2'!Q$26,'DATA MAESTRO 2'!Q$27,'DATA MAESTRO 2'!Q$28,'DATA MAESTRO 2'!Q$29,'DATA MAESTRO 2'!Q$30,'DATA MAESTRO 2'!Q$31,'DATA MAESTRO 2'!Q$32,'DATA MAESTRO 2'!Q$33,'DATA MAESTRO 2'!Q$34,'DATA MAESTRO 2'!Q$35,'DATA MAESTRO 2'!Q$36,'DATA MAESTRO 2'!Q$37,'DATA MAESTRO 2'!Q$38,'DATA MAESTRO 2'!Q$39,'DATA MAESTRO 2'!Q$40,)","v":0.3},{"$f":"CHOOSE($B4,'DATA MAESTRO 2'!R$6,'DATA MAESTRO 2'!R$7,'DATA MAESTRO 2'!R$8,'DATA MAESTRO 2'!R$9,'DATA MAESTRO 2'!R$10,'DATA MAESTRO 2'!R$11,'DATA MAESTRO 2'!R$12,'DATA MAESTRO 2'!R$13,'DATA MAESTRO 2'!R$14,'DATA MAESTRO 2'!R$15,'DATA MAESTRO 2'!R$16,'DATA MAESTRO 2'!R$17,'DATA MAESTRO 2'!R$18,'DATA MAESTRO 2'!R$19,'DATA MAESTRO 2'!R$20,'DATA MAESTRO 2'!R$21,'DATA MAESTRO 2'!R$22,'DATA MAESTRO 2'!R$23,'DATA MAESTRO 2'!R$24,'DATA MAESTRO 2'!R$25,'DATA MAESTRO 2'!R$26,'DATA MAESTRO 2'!R$27,'DATA MAESTRO 2'!R$28,'DATA MAESTRO 2'!R$29,'DATA MAESTRO 2'!R$30,'DATA MAESTRO 2'!R$31,'DATA MAESTRO 2'!R$32,'DATA MAESTRO 2'!R$33,'DATA MAESTRO 2'!R$34,'DATA MAESTRO 2'!R$35,'DATA MAESTRO 2'!R$36,'DATA MAESTRO 2'!R$37,'DATA MAESTRO 2'!R$38,'DATA MAESTRO 2'!R$39,'DATA MAESTRO 2'!R$40,)","v":0.66},{"$f":"CHOOSE($B4,'DATA MAESTRO 2'!S$6,'DATA MAESTRO 2'!S$7,'DATA MAESTRO 2'!S$8,'DATA MAESTRO 2'!S$9,'DATA MAESTRO 2'!S$10,'DATA MAESTRO 2'!S$11,'DATA MAESTRO 2'!S$12,'DATA MAESTRO 2'!S$13,'DATA MAESTRO 2'!S$14,'DATA MAESTRO 2'!S$15,'DATA MAESTRO 2'!S$16,'DATA MAESTRO 2'!S$17,'DATA MAESTRO 2'!S$18,'DATA MAESTRO 2'!S$19,'DATA MAESTRO 2'!S$20,'DATA MAESTRO 2'!S$21,'DATA MAESTRO 2'!S$22,'DATA MAESTRO 2'!S$23,'DATA MAESTRO 2'!S$24,'DATA MAESTRO 2'!S$25,'DATA MAESTRO 2'!S$26,'DATA MAESTRO 2'!S$27,'DATA MAESTRO 2'!S$28,'DATA MAESTRO 2'!S$29,'DATA MAESTRO 2'!S$30,'DATA MAESTRO 2'!S$31,'DATA MAESTRO 2'!S$32,'DATA MAESTRO 2'!S$33,'DATA MAESTRO 2'!S$34,'DATA MAESTRO 2'!S$35,'DATA MAESTRO 2'!S$36,'DATA MAESTRO 2'!S$37,'DATA MAESTRO 2'!S$38,'DATA MAESTRO 2'!S$39,'DATA MAESTRO 2'!S$40,)","v":0.34},{"$f":"CHOOSE($B4,'DATA MAESTRO 2'!T$6,'DATA MAESTRO 2'!T$7,'DATA MAESTRO 2'!T$8,'DATA MAESTRO 2'!T$9,'DATA MAESTRO 2'!T$10,'DATA MAESTRO 2'!T$11,'DATA MAESTRO 2'!T$12,'DATA MAESTRO 2'!T$13,'DATA MAESTRO 2'!T$14,'DATA MAESTRO 2'!T$15,'DATA MAESTRO 2'!T$16,'DATA MAESTRO 2'!T$17,'DATA MAESTRO 2'!T$18,'DATA MAESTRO 2'!T$19,'DATA MAESTRO 2'!T$20,'DATA MAESTRO 2'!T$21,'DATA MAESTRO 2'!T$22,'DATA MAESTRO 2'!T$23,'DATA MAESTRO 2'!T$24,'DATA MAESTRO 2'!T$25,'DATA MAESTRO 2'!T$26,'DATA MAESTRO 2'!T$27,'DATA MAESTRO 2'!T$28,'DATA MAESTRO 2'!T$29,'DATA MAESTRO 2'!T$30,'DATA MAESTRO 2'!T$31,'DATA MAESTRO 2'!T$32,'DATA MAESTRO 2'!T$33,'DATA MAESTRO 2'!T$34,'DATA MAESTRO 2'!T$35,'DATA MAESTRO 2'!T$36,'DATA MAESTRO 2'!T$37,'DATA MAESTRO 2'!T$38,'DATA MAESTRO 2'!T$39,'DATA MAESTRO 2'!T$40,)","v":2.9999999999999997E-4},{"$f":"CHOOSE($B4,'DATA MAESTRO 2'!U$6,'DATA MAESTRO 2'!U$7,'DATA MAESTRO 2'!U$8,'DATA MAESTRO 2'!U$9,'DATA MAESTRO 2'!U$10,'DATA MAESTRO 2'!U$11,'DATA MAESTRO 2'!U$12,'DATA MAESTRO 2'!U$13,'DATA MAESTRO 2'!U$14,'DATA MAESTRO 2'!U$15,'DATA MAESTRO 2'!U$16,'DATA MAESTRO 2'!U$17,'DATA MAESTRO 2'!U$18,'DATA MAESTRO 2'!U$19,'DATA MAESTRO 2'!U$20,'DATA MAESTRO 2'!U$21,'DATA MAESTRO 2'!U$22,'DATA MAESTRO 2'!U$23,'DATA MAESTRO 2'!U$24,'DATA MAESTRO 2'!U$25,'DATA MAESTRO 2'!U$26,'DATA MAESTRO 2'!U$27,'DATA MAESTRO 2'!U$28,'DATA MAESTRO 2'!U$29,'DATA MAESTRO 2'!U$30,'DATA MAESTRO 2'!U$31,'DATA MAESTRO 2'!U$32,'DATA MAESTRO 2'!U$33,'DATA MAESTRO 2'!U$34,'DATA MAESTRO 2'!U$35,'DATA MAESTRO 2'!U$36,'DATA MAESTRO 2'!U$37,'DATA MAESTRO 2'!U$38,'DATA MAESTRO 2'!U$39,'DATA MAESTRO 2'!U$40,)","v":2.8999999999999998E-3},{"$f":"CHOOSE($B4,'DATA MAESTRO 2'!V$6,'DATA MAESTRO 2'!V$7,'DATA MAESTRO 2'!V$8,'DATA MAESTRO 2'!V$9,'DATA MAESTRO 2'!V$10,'DATA MAESTRO 2'!V$11,'DATA MAESTRO 2'!V$12,'DATA MAESTRO 2'!V$13,'DATA MAESTRO 2'!V$14,'DATA MAESTRO 2'!V$15,'DATA MAESTRO 2'!V$16,'DATA MAESTRO 2'!V$17,'DATA MAESTRO 2'!V$18,'DATA MAESTRO 2'!V$19,'DATA MAESTRO 2'!V$20,'DATA MAESTRO 2'!V$21,'DATA MAESTRO 2'!V$22,'DATA MAESTRO 2'!V$23,'DATA MAESTRO 2'!V$24,'DATA MAESTRO 2'!V$25,'DATA MAESTRO 2'!V$26,'DATA MAESTRO 2'!V$27,'DATA MAESTRO 2'!V$28,'DATA MAESTRO 2'!V$29,'DATA MAESTRO 2'!V$30,'DATA MAESTRO 2'!V$31,'DATA MAESTRO 2'!V$32,'DATA MAESTRO 2'!V$33,'DATA MAESTRO 2'!V$34,'DATA MAESTRO 2'!V$35,'DATA MAESTRO 2'!V$36,'DATA MAESTRO 2'!V$37,'DATA MAESTRO 2'!V$38,'DATA MAESTRO 2'!V$39,'DATA MAESTRO 2'!V$40,)","v":2.4E-2},{"$f":"CHOOSE($B4,'DATA MAESTRO 2'!W$6,'DATA MAESTRO 2'!W$7,'DATA MAESTRO 2'!W$8,'DATA MAESTRO 2'!W$9,'DATA MAESTRO 2'!W$10,'DATA MAESTRO 2'!W$11,'DATA MAESTRO 2'!W$12,'DATA MAESTRO 2'!W$13,'DATA MAESTRO 2'!W$14,'DATA MAESTRO 2'!W$15,'DATA MAESTRO 2'!W$16,'DATA MAESTRO 2'!W$17,'DATA MAESTRO 2'!W$18,'DATA MAESTRO 2'!W$19,'DATA MAESTRO 2'!W$20,'DATA MAESTRO 2'!W$21,'DATA MAESTRO 2'!W$22,'DATA MAESTRO 2'!W$23,'DATA MAESTRO 2'!W$24,'DATA MAESTRO 2'!W$25,'DATA MAESTRO 2'!W$26,'DATA MAESTRO 2'!W$27,'DATA MAESTRO 2'!W$28,'DATA MAESTRO 2'!W$29,'DATA MAESTRO 2'!W$30,'DATA MAESTRO 2'!W$31,'DATA MAESTRO 2'!W$32,'DATA MAESTRO 2'!W$33,'DATA MAESTRO 2'!W$34,'DATA MAESTRO 2'!W$35,'DATA MAESTRO 2'!W$36,'DATA MAESTRO 2'!W$37,'DATA MAESTRO 2'!W$38,'DATA MAESTRO 2'!W$39,'DATA MAESTRO 2'!W$40,)","v":7.000000000000001E-4},{"$f":"CHOOSE($B4,'DATA MAESTRO 2'!X$6,'DATA MAESTRO 2'!X$7,'DATA MAESTRO 2'!X$8,'DATA MAESTRO 2'!X$9,'DATA MAESTRO 2'!X$10,'DATA MAESTRO 2'!X$11,'DATA MAESTRO 2'!X$12,'DATA MAESTRO 2'!X$13,'DATA MAESTRO 2'!X$14,'DATA MAESTRO 2'!X$15,'DATA MAESTRO 2'!X$16,'DATA MAESTRO 2'!X$17,'DATA MAESTRO 2'!X$18,'DATA MAESTRO 2'!X$19,'DATA MAESTRO 2'!X$20,'DATA MAESTRO 2'!X$21,'DATA MAESTRO 2'!X$22,'DATA MAESTRO 2'!X$23,'DATA MAESTRO 2'!X$24,'DATA MAESTRO 2'!X$25,'DATA MAESTRO 2'!X$26,'DATA MAESTRO 2'!X$27,'DATA MAESTRO 2'!X$28,'DATA MAESTRO 2'!X$29,'DATA MAESTRO 2'!X$30,'DATA MAESTRO 2'!X$31,'DATA MAESTRO 2'!X$32,'DATA MAESTRO 2'!X$33,'DATA MAESTRO 2'!X$34,'DATA MAESTRO 2'!X$35,'DATA MAESTRO 2'!X$36,'DATA MAESTRO 2'!X$37,'DATA MAESTRO 2'!X$38,'DATA MAESTRO 2'!X$39,'DATA MAESTRO 2'!X$40,)","v":4.5999999999999999E-3},{"$f":"CHOOSE($B4,'DATA MAESTRO 2'!Y$6,'DATA MAESTRO 2'!Y$7,'DATA MAESTRO 2'!Y$8,'DATA MAESTRO 2'!Y$9,'DATA MAESTRO 2'!Y$10,'DATA MAESTRO 2'!Y$11,'DATA MAESTRO 2'!Y$12,'DATA MAESTRO 2'!Y$13,'DATA MAESTRO 2'!Y$14,'DATA MAESTRO 2'!Y$15,'DATA MAESTRO 2'!Y$16,'DATA MAESTRO 2'!Y$17,'DATA MAESTRO 2'!Y$18,'DATA MAESTRO 2'!Y$19,'DATA MAESTRO 2'!Y$20,'DATA MAESTRO 2'!Y$21,'DATA MAESTRO 2'!Y$22,'DATA MAESTRO 2'!Y$23,'DATA MAESTRO 2'!Y$24,'DATA MAESTRO 2'!Y$25,'DATA MAESTRO 2'!Y$26,'DATA MAESTRO 2'!Y$27,'DATA MAESTRO 2'!Y$28,'DATA MAESTRO 2'!Y$29,'DATA MAESTRO 2'!Y$30,'DATA MAESTRO 2'!Y$31,'DATA MAESTRO 2'!Y$32,'DATA MAESTRO 2'!Y$33,'DATA MAESTRO 2'!Y$34,'DATA MAESTRO 2'!Y$35,'DATA MAESTRO 2'!Y$36,'DATA MAESTRO 2'!Y$37,'DATA MAESTRO 2'!Y$38,'DATA MAESTRO 2'!Y$39,'DATA MAESTRO 2'!Y$40,)","v":0},{"$f":"CHOOSE($B4,'DATA MAESTRO 2'!Z$6,'DATA MAESTRO 2'!Z$7,'DATA MAESTRO 2'!Z$8,'DATA MAESTRO 2'!Z$9,'DATA MAESTRO 2'!Z$10,'DATA MAESTRO 2'!Z$11,'DATA MAESTRO 2'!Z$12,'DATA MAESTRO 2'!Z$13,'DATA MAESTRO 2'!Z$14,'DATA MAESTRO 2'!Z$15,'DATA MAESTRO 2'!Z$16,'DATA MAESTRO 2'!Z$17,'DATA MAESTRO 2'!Z$18,'DATA MAESTRO 2'!Z$19,'DATA MAESTRO 2'!Z$20,'DATA MAESTRO 2'!Z$21,'DATA MAESTRO 2'!Z$22,'DATA MAESTRO 2'!Z$23,'DATA MAESTRO 2'!Z$24,'DATA MAESTRO 2'!Z$25,'DATA MAESTRO 2'!Z$26,'DATA MAESTRO 2'!Z$27,'DATA MAESTRO 2'!Z$28,'DATA MAESTRO 2'!Z$29,'DATA MAESTRO 2'!Z$30,'DATA MAESTRO 2'!Z$31,'DATA MAESTRO 2'!Z$32,'DATA MAESTRO 2'!Z$33,'DATA MAESTRO 2'!Z$34,'DATA MAESTRO 2'!Z$35,'DATA MAESTRO 2'!Z$36,'DATA MAESTRO 2'!Z$37,'DATA MAESTRO 2'!Z$38,'DATA MAESTRO 2'!Z$39,'DATA MAESTRO 2'!Z$40,)","v":0},{"$f":"CHOOSE($B4,'DATA MAESTRO 2'!AA$6,'DATA MAESTRO 2'!AA$7,'DATA MAESTRO 2'!AA$8,'DATA MAESTRO 2'!AA$9,'DATA MAESTRO 2'!AA$10,'DATA MAESTRO 2'!AA$11,'DATA MAESTRO 2'!AA$12,'DATA MAESTRO 2'!AA$13,'DATA MAESTRO 2'!AA$14,'DATA MAESTRO 2'!AA$15,'DATA MAESTRO 2'!AA$16,'DATA MAESTRO 2'!AA$17,'DATA MAESTRO 2'!AA$18,'DATA MAESTRO 2'!AA$19,'DATA MAESTRO 2'!AA$20,'DATA MAESTRO 2'!AA$21,'DATA MAESTRO 2'!AA$22,'DATA MAESTRO 2'!AA$23,'DATA MAESTRO 2'!AA$24,'DATA MAESTRO 2'!AA$25,'DATA MAESTRO 2'!AA$26,'DATA MAESTRO 2'!AA$27,'DATA MAESTRO 2'!AA$28,'DATA MAESTRO 2'!AA$29,'DATA MAESTRO 2'!AA$30,'DATA MAESTRO 2'!AA$31,'DATA MAESTRO 2'!AA$32,'DATA MAESTRO 2'!AA$33,'DATA MAESTRO 2'!AA$34,'DATA MAESTRO 2'!AA$35,'DATA MAESTRO 2'!AA$36,'DATA MAESTRO 2'!AA$37,'DATA MAESTRO 2'!AA$38,'DATA MAESTRO 2'!AA$39,'DATA MAESTRO 2'!AA$40,)","v":0},{"$f":"CHOOSE($B4,'DATA MAESTRO 2'!AB$6,'DATA MAESTRO 2'!AB$7,'DATA MAESTRO 2'!AB$8,'DATA MAESTRO 2'!AB$9,'DATA MAESTRO 2'!AB$10,'DATA MAESTRO 2'!AB$11,'DATA MAESTRO 2'!AB$12,'DATA MAESTRO 2'!AB$13,'DATA MAESTRO 2'!AB$14,'DATA MAESTRO 2'!AB$15,'DATA MAESTRO 2'!AB$16,'DATA MAESTRO 2'!AB$17,'DATA MAESTRO 2'!AB$18,'DATA MAESTRO 2'!AB$19,'DATA MAESTRO 2'!AB$20,'DATA MAESTRO 2'!AB$21,'DATA MAESTRO 2'!AB$22,'DATA MAESTRO 2'!AB$23,'DATA MAESTRO 2'!AB$24,'DATA MAESTRO 2'!AB$25,'DATA MAESTRO 2'!AB$26,'DATA MAESTRO 2'!AB$27,'DATA MAESTRO 2'!AB$28,'DATA MAESTRO 2'!AB$29,'DATA MAESTRO 2'!AB$30,'DATA MAESTRO 2'!AB$31,'DATA MAESTRO 2'!AB$32,'DATA MAESTRO 2'!AB$33,'DATA MAESTRO 2'!AB$34,'DATA MAESTRO 2'!AB$35,'DATA MAESTRO 2'!AB$36,'DATA MAESTRO 2'!AB$37,'DATA MAESTRO 2'!AB$38,'DATA MAESTRO 2'!AB$39,'DATA MAESTRO 2'!AB$40,)","v":0},{"$f":"CHOOSE($B4,'DATA MAESTRO 2'!AC$6,'DATA MAESTRO 2'!AC$7,'DATA MAESTRO 2'!AC$8,'DATA MAESTRO 2'!AC$9,'DATA MAESTRO 2'!AC$10,'DATA MAESTRO 2'!AC$11,'DATA MAESTRO 2'!AC$12,'DATA MAESTRO 2'!AC$13,'DATA MAESTRO 2'!AC$14,'DATA MAESTRO 2'!AC$15,'DATA MAESTRO 2'!AC$16,'DATA MAESTRO 2'!AC$17,'DATA MAESTRO 2'!AC$18,'DATA MAESTRO 2'!AC$19,'DATA MAESTRO 2'!AC$20,'DATA MAESTRO 2'!AC$21,'DATA MAESTRO 2'!AC$22,'DATA MAESTRO 2'!AC$23,'DATA MAESTRO 2'!AC$24,'DATA MAESTRO 2'!AC$25,'DATA MAESTRO 2'!AC$26,'DATA MAESTRO 2'!AC$27,'DATA MAESTRO 2'!AC$28,'DATA MAESTRO 2'!AC$29,'DATA MAESTRO 2'!AC$30,'DATA MAESTRO 2'!AC$31,'DATA MAESTRO 2'!AC$32,'DATA MAESTRO 2'!AC$33,'DATA MAESTRO 2'!AC$34,'DATA MAESTRO 2'!AC$35,'DATA MAESTRO 2'!AC$36,'DATA MAESTRO 2'!AC$37,'DATA MAESTRO 2'!AC$38,'DATA MAESTRO 2'!AC$39,'DATA MAESTRO 2'!AC$40,)","v":0},{"$f":"CHOOSE($B4,'DATA MAESTRO 2'!AD$6,'DATA MAESTRO 2'!AD$7,'DATA MAESTRO 2'!AD$8,'DATA MAESTRO 2'!AD$9,'DATA MAESTRO 2'!AD$10,'DATA MAESTRO 2'!AD$11,'DATA MAESTRO 2'!AD$12,'DATA MAESTRO 2'!AD$13,'DATA MAESTRO 2'!AD$14,'DATA MAESTRO 2'!AD$15,'DATA MAESTRO 2'!AD$16,'DATA MAESTRO 2'!AD$17,'DATA MAESTRO 2'!AD$18,'DATA MAESTRO 2'!AD$19,'DATA MAESTRO 2'!AD$20,'DATA MAESTRO 2'!AD$21,'DATA MAESTRO 2'!AD$22,'DATA MAESTRO 2'!AD$23,'DATA MAESTRO 2'!AD$24,'DATA MAESTRO 2'!AD$25,'DATA MAESTRO 2'!AD$26,'DATA MAESTRO 2'!AD$27,'DATA MAESTRO 2'!AD$28,'DATA MAESTRO 2'!AD$29,'DATA MAESTRO 2'!AD$30,'DATA MAESTRO 2'!AD$31,'DATA MAESTRO 2'!AD$32,'DATA MAESTRO 2'!AD$33,'DATA MAESTRO 2'!AD$34,'DATA MAESTRO 2'!AD$35,'DATA MAESTRO 2'!AD$36,'DATA MAESTRO 2'!AD$37,'DATA MAESTRO 2'!AD$38,'DATA MAESTRO 2'!AD$39,'DATA MAESTRO 2'!AD$40,)","v":0},{"$f":"CHOOSE($B4,'DATA MAESTRO 2'!AE$6,'DATA MAESTRO 2'!AE$7,'DATA MAESTRO 2'!AE$8,'DATA MAESTRO 2'!AE$9,'DATA MAESTRO 2'!AE$10,'DATA MAESTRO 2'!AE$11,'DATA MAESTRO 2'!AE$12,'DATA MAESTRO 2'!AE$13,'DATA MAESTRO 2'!AE$14,'DATA MAESTRO 2'!AE$15,'DATA MAESTRO 2'!AE$16,'DATA MAESTRO 2'!AE$17,'DATA MAESTRO 2'!AE$18,'DATA MAESTRO 2'!AE$19,'DATA MAESTRO 2'!AE$20,'DATA MAESTRO 2'!AE$21,'DATA MAESTRO 2'!AE$22,'DATA MAESTRO 2'!AE$23,'DATA MAESTRO 2'!AE$24,'DATA MAESTRO 2'!AE$25,'DATA MAESTRO 2'!AE$26,'DATA MAESTRO 2'!AE$27,'DATA MAESTRO 2'!AE$28,'DATA MAESTRO 2'!AE$29,'DATA MAESTRO 2'!AE$30,'DATA MAESTRO 2'!AE$31,'DATA MAESTRO 2'!AE$32,'DATA MAESTRO 2'!AE$33,'DATA MAESTRO 2'!AE$34,'DATA MAESTRO 2'!AE$35,'DATA MAESTRO 2'!AE$36,'DATA MAESTRO 2'!AE$37,'DATA MAESTRO 2'!AE$38,'DATA MAESTRO 2'!AE$39,'DATA MAESTRO 2'!AE$40,)","v":0},{"$f":"CHOOSE($B4,'DATA MAESTRO 2'!AF$6,'DATA MAESTRO 2'!AF$7,'DATA MAESTRO 2'!AF$8,'DATA MAESTRO 2'!AF$9,'DATA MAESTRO 2'!AF$10,'DATA MAESTRO 2'!AF$11,'DATA MAESTRO 2'!AF$12,'DATA MAESTRO 2'!AF$13,'DATA MAESTRO 2'!AF$14,'DATA MAESTRO 2'!AF$15,'DATA MAESTRO 2'!AF$16,'DATA MAESTRO 2'!AF$17,'DATA MAESTRO 2'!AF$18,'DATA MAESTRO 2'!AF$19,'DATA MAESTRO 2'!AF$20,'DATA MAESTRO 2'!AF$21,'DATA MAESTRO 2'!AF$22,'DATA MAESTRO 2'!AF$23,'DATA MAESTRO 2'!AF$24,'DATA MAESTRO 2'!AF$25,'DATA MAESTRO 2'!AF$26,'DATA MAESTRO 2'!AF$27,'DATA MAESTRO 2'!AF$28,'DATA MAESTRO 2'!AF$29,'DATA MAESTRO 2'!AF$30,'DATA MAESTRO 2'!AF$31,'DATA MAESTRO 2'!AF$32,'DATA MAESTRO 2'!AF$33,'DATA MAESTRO 2'!AF$34,'DATA MAESTRO 2'!AF$35,'DATA MAESTRO 2'!AF$36,'DATA MAESTRO 2'!AF$37,'DATA MAESTRO 2'!AF$38,'DATA MAESTRO 2'!AF$39,'DATA MAESTRO 2'!AF$40,)","v":0},{"$f":"CHOOSE($B4,'DATA MAESTRO 2'!AG$6,'DATA MAESTRO 2'!AG$7,'DATA MAESTRO 2'!AG$8,'DATA MAESTRO 2'!AG$9,'DATA MAESTRO 2'!AG$10,'DATA MAESTRO 2'!AG$11,'DATA MAESTRO 2'!AG$12,'DATA MAESTRO 2'!AG$13,'DATA MAESTRO 2'!AG$14,'DATA MAESTRO 2'!AG$15,'DATA MAESTRO 2'!AG$16,'DATA MAESTRO 2'!AG$17,'DATA MAESTRO 2'!AG$18,'DATA MAESTRO 2'!AG$19,'DATA MAESTRO 2'!AG$20,'DATA MAESTRO 2'!AG$21,'DATA MAESTRO 2'!AG$22,'DATA MAESTRO 2'!AG$23,'DATA MAESTRO 2'!AG$24,'DATA MAESTRO 2'!AG$25,'DATA MAESTRO 2'!AG$26,'DATA MAESTRO 2'!AG$27,'DATA MAESTRO 2'!AG$28,'DATA MAESTRO 2'!AG$29,'DATA MAESTRO 2'!AG$30,'DATA MAESTRO 2'!AG$31,'DATA MAESTRO 2'!AG$32,'DATA MAESTRO 2'!AG$33,'DATA MAESTRO 2'!AG$34,'DATA MAESTRO 2'!AG$35,'DATA MAESTRO 2'!AG$36,'DATA MAESTRO 2'!AG$37,'DATA MAESTRO 2'!AG$38,'DATA MAESTRO 2'!AG$39,'DATA MAESTRO 2'!AG$40,)","v":0},{"$f":"CHOOSE($B4,'DATA MAESTRO 2'!AH$6,'DATA MAESTRO 2'!AH$7,'DATA MAESTRO 2'!AH$8,'DATA MAESTRO 2'!AH$9,'DATA MAESTRO 2'!AH$10,'DATA MAESTRO 2'!AH$11,'DATA MAESTRO 2'!AH$12,'DATA MAESTRO 2'!AH$13,'DATA MAESTRO 2'!AH$14,'DATA MAESTRO 2'!AH$15,'DATA MAESTRO 2'!AH$16,'DATA MAESTRO 2'!AH$17,'DATA MAESTRO 2'!AH$18,'DATA MAESTRO 2'!AH$19,'DATA MAESTRO 2'!AH$20,'DATA MAESTRO 2'!AH$21,'DATA MAESTRO 2'!AH$22,'DATA MAESTRO 2'!AH$23,'DATA MAESTRO 2'!AH$24,'DATA MAESTRO 2'!AH$25,'DATA MAESTRO 2'!AH$26,'DATA MAESTRO 2'!AH$27,'DATA MAESTRO 2'!AH$28,'DATA MAESTRO 2'!AH$29,'DATA MAESTRO 2'!AH$30,'DATA MAESTRO 2'!AH$31,'DATA MAESTRO 2'!AH$32,'DATA MAESTRO 2'!AH$33,'DATA MAESTRO 2'!AH$34,'DATA MAESTRO 2'!AH$35,'DATA MAESTRO 2'!AH$36,'DATA MAESTRO 2'!AH$37,'DATA MAESTRO 2'!AH$38,'DATA MAESTRO 2'!AH$39,'DATA MAESTRO 2'!AH$40,)","v":0},{"$f":"CHOOSE($B4,'DATA MAESTRO 2'!AI$6,'DATA MAESTRO 2'!AI$7,'DATA MAESTRO 2'!AI$8,'DATA MAESTRO 2'!AI$9,'DATA MAESTRO 2'!AI$10,'DATA MAESTRO 2'!AI$11,'DATA MAESTRO 2'!AI$12,'DATA MAESTRO 2'!AI$13,'DATA MAESTRO 2'!AI$14,'DATA MAESTRO 2'!AI$15,'DATA MAESTRO 2'!AI$16,'DATA MAESTRO 2'!AI$17,'DATA MAESTRO 2'!AI$18,'DATA MAESTRO 2'!AI$19,'DATA MAESTRO 2'!AI$20,'DATA MAESTRO 2'!AI$21,'DATA MAESTRO 2'!AI$22,'DATA MAESTRO 2'!AI$23,'DATA MAESTRO 2'!AI$24,'DATA MAESTRO 2'!AI$25,'DATA MAESTRO 2'!AI$26,'DATA MAESTRO 2'!AI$27,'DATA MAESTRO 2'!AI$28,'DATA MAESTRO 2'!AI$29,'DATA MAESTRO 2'!AI$30,'DATA MAESTRO 2'!AI$31,'DATA MAESTRO 2'!AI$32,'DATA MAESTRO 2'!AI$33,'DATA MAESTRO 2'!AI$34,'DATA MAESTRO 2'!AI$35,'DATA MAESTRO 2'!AI$36,'DATA MAESTRO 2'!AI$37,'DATA MAESTRO 2'!AI$38,'DATA MAESTRO 2'!AI$39,'DATA MAESTRO 2'!AI$40,)","v":0},{"$f":"CHOOSE($B4,'DATA MAESTRO 2'!AJ$6,'DATA MAESTRO 2'!AJ$7,'DATA MAESTRO 2'!AJ$8,'DATA MAESTRO 2'!AJ$9,'DATA MAESTRO 2'!AJ$10,'DATA MAESTRO 2'!AJ$11,'DATA MAESTRO 2'!AJ$12,'DATA MAESTRO 2'!AJ$13,'DATA MAESTRO 2'!AJ$14,'DATA MAESTRO 2'!AJ$15,'DATA MAESTRO 2'!AJ$16,'DATA MAESTRO 2'!AJ$17,'DATA MAESTRO 2'!AJ$18,'DATA MAESTRO 2'!AJ$19,'DATA MAESTRO 2'!AJ$20,'DATA MAESTRO 2'!AJ$21,'DATA MAESTRO 2'!AJ$22,'DATA MAESTRO 2'!AJ$23,'DATA MAESTRO 2'!AJ$24,'DATA MAESTRO 2'!AJ$25,'DATA MAESTRO 2'!AJ$26,'DATA MAESTRO 2'!AJ$27,'DATA MAESTRO 2'!AJ$28,'DATA MAESTRO 2'!AJ$29,'DATA MAESTRO 2'!AJ$30,'DATA MAESTRO 2'!AJ$31,'DATA MAESTRO 2'!AJ$32,'DATA MAESTRO 2'!AJ$33,'DATA MAESTRO 2'!AJ$34,'DATA MAESTRO 2'!AJ$35,'DATA MAESTRO 2'!AJ$36,'DATA MAESTRO 2'!AJ$37,'DATA MAESTRO 2'!AJ$38,'DATA MAESTRO 2'!AJ$39,'DATA MAESTRO 2'!AJ$40,)","v":0}]
[3,6,{"$f":"+IF(AND(B5>=1,B5<=36),VLOOKUP(B5,'DATA MAESTRO 2'!$A$6:$B$40,2),0)","v":"MAIZ MOLIDO"},{"$f":"+CHOOSE($B5,'DATA MAESTRO 2'!C$6,'DATA MAESTRO 2'!C$7,'DATA MAESTRO 2'!C$8,'DATA MAESTRO 2'!C$9,'DATA MAESTRO 2'!C$10,'DATA MAESTRO 2'!C$11,'DATA MAESTRO 2'!C$12,'DATA MAESTRO 2'!C$13,'DATA MAESTRO 2'!C$14,'DATA MAESTRO 2'!C$15,'DATA MAESTRO 2'!C$16,'DATA MAESTRO 2'!C$17,'DATA MAESTRO 2'!C$18,'DATA MAESTRO 2'!C$19,'DATA MAESTRO 2'!C$20,'DATA MAESTRO 2'!C$21,'DATA MAESTRO 2'!C$22,'DATA MAESTRO 2'!C$23,'DATA MAESTRO 2'!C$24,'DATA MAESTRO 2'!C$25,'DATA MAESTRO 2'!C$26,'DATA MAESTRO 2'!C$27,'DATA MAESTRO 2'!C$28,'DATA MAESTRO 2'!C$29,'DATA MAESTRO 2'!C$30,'DATA MAESTRO 2'!C$31,'DATA MAESTRO 2'!C$32,'DATA MAESTRO 2'!C$33,'DATA MAESTRO 2'!C$34,'DATA MAESTRO 2'!C$35,'DATA MAESTRO 2'!C$36,'DATA MAESTRO 2'!C$37,'DATA MAESTRO 2'!C$38,'DATA MAESTRO 2'!C$39,'DATA MAESTRO 2'!C$40,)","v":0},{"$f":"CHOOSE($B5,'DATA MAESTRO 2'!D$6,'DATA MAESTRO 2'!D$7,'DATA MAESTRO 2'!D$8,'DATA MAESTRO 2'!D$9,'DATA MAESTRO 2'!D$10,'DATA MAESTRO 2'!D$11,'DATA MAESTRO 2'!D$12,'DATA MAESTRO 2'!D$13,'DATA MAESTRO 2'!D$14,'DATA MAESTRO 2'!D$15,'DATA MAESTRO 2'!D$16,'DATA MAESTRO 2'!D$17,'DATA MAESTRO 2'!D$18,'DATA MAESTRO 2'!D$19,'DATA MAESTRO 2'!D$20,'DATA MAESTRO 2'!D$21,'DATA MAESTRO 2'!D$22,'DATA MAESTRO 2'!D$23,'DATA MAESTRO 2'!D$24,'DATA MAESTRO 2'!D$25,'DATA MAESTRO 2'!D$26,'DATA MAESTRO 2'!D$27,'DATA MAESTRO 2'!D$28,'DATA MAESTRO 2'!D$29,'DATA MAESTRO 2'!D$30,'DATA MAESTRO 2'!D$31,'DATA MAESTRO 2'!D$32,'DATA MAESTRO 2'!D$33,'DATA MAESTRO 2'!D$34,'DATA MAESTRO 2'!D$35,'DATA MAESTRO 2'!D$36,'DATA MAESTRO 2'!D$37,'DATA MAESTRO 2'!D$38,'DATA MAESTRO 2'!D$39,'DATA MAESTRO 2'!D$40,)","v":0.89},{"$f":"CHOOSE(B5,'DATA MAESTRO 2'!E$6,'DATA MAESTRO 2'!E$7,'DATA MAESTRO 2'!E$8,'DATA MAESTRO 2'!E$9,'DATA MAESTRO 2'!E$10,'DATA MAESTRO 2'!E$11,'DATA MAESTRO 2'!E$12,'DATA MAESTRO 2'!E$13,'DATA MAESTRO 2'!E$14,'DATA MAESTRO 2'!E$15,'DATA MAESTRO 2'!E$16,'DATA MAESTRO 2'!E$17,'DATA MAESTRO 2'!E$18,'DATA MAESTRO 2'!E$19,'DATA MAESTRO 2'!E$20,'DATA MAESTRO 2'!E$21,'DATA MAESTRO 2'!E$22,'DATA MAESTRO 2'!E$23,'DATA MAESTRO 2'!E$24,'DATA MAESTRO 2'!E$25,'DATA MAESTRO 2'!E$26,'DATA MAESTRO 2'!E$27,'DATA MAESTRO 2'!E$28,'DATA MAESTRO 2'!E$29,'DATA MAESTRO 2'!E$30,'DATA MAESTRO 2'!E$31,'DATA MAESTRO 2'!E$32,'DATA MAESTRO 2'!E$33,'DATA MAESTRO 2'!E$34,'DATA MAESTRO 2'!E$35,'DATA MAESTRO 2'!E$36,'DATA MAESTRO 2'!E$37,'DATA MAESTRO 2'!E$38,'DATA MAESTRO 2'!E$39,'DATA MAESTRO 2'!E$40,)","v":0.91},{"$f":"CHOOSE($B5,'DATA MAESTRO 2'!F$6,'DATA MAESTRO 2'!F$7,'DATA MAESTRO 2'!F$8,'DATA MAESTRO 2'!F$9,'DATA MAESTRO 2'!F$10,'DATA MAESTRO 2'!F$11,'DATA MAESTRO 2'!F$12,'DATA MAESTRO 2'!F$13,'DATA MAESTRO 2'!F$14,'DATA MAESTRO 2'!F$15,'DATA MAESTRO 2'!F$16,'DATA MAESTRO 2'!F$17,'DATA MAESTRO 2'!F$18,'DATA MAESTRO 2'!F$19,'DATA MAESTRO 2'!F$20,'DATA MAESTRO 2'!F$21,'DATA MAESTRO 2'!F$22,'DATA MAESTRO 2'!F$23,'DATA MAESTRO 2'!F$24,'DATA MAESTRO 2'!F$25,'DATA MAESTRO 2'!F$26,'DATA MAESTRO 2'!F$27,'DATA MAESTRO 2'!F$28,'DATA MAESTRO 2'!F$29,'DATA MAESTRO 2'!F$30,'DATA MAESTRO 2'!F$31,'DATA MAESTRO 2'!F$32,'DATA MAESTRO 2'!F$33,'DATA MAESTRO 2'!F$34,'DATA MAESTRO 2'!F$35,'DATA MAESTRO 2'!F$36,'DATA MAESTRO 2'!F$37,'DATA MAESTRO 2'!F$38,'DATA MAESTRO 2'!F$39,'DATA MAESTRO 2'!F$40,)","v":9.5000000000000001E-2},{"$f":"CHOOSE($B5,'DATA MAESTRO 2'!G$6,'DATA MAESTRO 2'!G$7,'DATA MAESTRO 2'!G$8,'DATA MAESTRO 2'!G$9,'DATA MAESTRO 2'!G$10,'DATA MAESTRO 2'!G$11,'DATA MAESTRO 2'!G$12,'DATA MAESTRO 2'!G$13,'DATA MAESTRO 2'!G$14,'DATA MAESTRO 2'!G$15,'DATA MAESTRO 2'!G$16,'DATA MAESTRO 2'!G$17,'DATA MAESTRO 2'!G$18,'DATA MAESTRO 2'!G$19,'DATA MAESTRO 2'!G$20,'DATA MAESTRO 2'!G$21,'DATA MAESTRO 2'!G$22,'DATA MAESTRO 2'!G$23,'DATA MAESTRO 2'!G$24,'DATA MAESTRO 2'!G$25,'DATA MAESTRO 2'!G$26,'DATA MAESTRO 2'!G$27,'DATA MAESTRO 2'!G$28,'DATA MAESTRO 2'!G$29,'DATA MAESTRO 2'!G$30,'DATA MAESTRO 2'!G$31,'DATA MAESTRO 2'!G$32,'DATA MAESTRO 2'!G$33,'DATA MAESTRO 2'!G$34,'DATA MAESTRO 2'!G$35,'DATA MAESTRO 2'!G$36,'DATA MAESTRO 2'!G$37,'DATA MAESTRO 2'!G$38,'DATA MAESTRO 2'!G$39,'DATA MAESTRO 2'!G$40,)","v":0.05},{"$f":"CHOOSE($B5,'DATA MAESTRO 2'!H$6,'DATA MAESTRO 2'!H$7,'DATA MAESTRO 2'!H$8,'DATA MAESTRO 2'!H$9,'DATA MAESTRO 2'!H$10,'DATA MAESTRO 2'!H$11,'DATA MAESTRO 2'!H$12,'DATA MAESTRO 2'!H$13,'DATA MAESTRO 2'!H$14,'DATA MAESTRO 2'!H$15,'DATA MAESTRO 2'!H$16,'DATA MAESTRO 2'!H$17,'DATA MAESTRO 2'!H$18,'DATA MAESTRO 2'!H$19,'DATA MAESTRO 2'!H$20,'DATA MAESTRO 2'!H$21,'DATA MAESTRO 2'!H$22,'DATA MAESTRO 2'!H$23,'DATA MAESTRO 2'!H$24,'DATA MAESTRO 2'!H$25,'DATA MAESTRO 2'!H$26,'DATA MAESTRO 2'!H$27,'DATA MAESTRO 2'!H$28,'DATA MAESTRO 2'!H$29,'DATA MAESTRO 2'!H$30,'DATA MAESTRO 2'!H$31,'DATA MAESTRO 2'!H$32,'DATA MAESTRO 2'!H$33,'DATA MAESTRO 2'!H$34,'DATA MAESTRO 2'!H$35,'DATA MAESTRO 2'!H$36,'DATA MAESTRO 2'!H$37,'DATA MAESTRO 2'!H$38,'DATA MAESTRO 2'!H$39,'DATA MAESTRO 2'!H$40,)","v":9.5000000000000001E-2},{"$f":"CHOOSE($B5,'DATA MAESTRO 2'!I$6,'DATA MAESTRO 2'!I$7,'DATA MAESTRO 2'!I$8,'DATA MAESTRO 2'!I$9,'DATA MAESTRO 2'!I$10,'DATA MAESTRO 2'!I$11,'DATA MAESTRO 2'!I$12,'DATA MAESTRO 2'!I$13,'DATA MAESTRO 2'!I$14,'DATA MAESTRO 2'!I$15,'DATA MAESTRO 2'!I$16,'DATA MAESTRO 2'!I$17,'DATA MAESTRO 2'!I$18,'DATA MAESTRO 2'!I$19,'DATA MAESTRO 2'!I$20,'DATA MAESTRO 2'!I$21,'DATA MAESTRO 2'!I$22,'DATA MAESTRO 2'!I$23,'DATA MAESTRO 2'!I$24,'DATA MAESTRO 2'!I$25,'DATA MAESTRO 2'!I$26,'DATA MAESTRO 2'!I$27,'DATA MAESTRO 2'!I$28,'DATA MAESTRO 2'!I$29,'DATA MAESTRO 2'!I$30,'DATA MAESTRO 2'!I$31,'DATA MAESTRO 2'!I$32,'DATA MAESTRO 2'!I$33,'DATA MAESTRO 2'!I$34,'DATA MAESTRO 2'!I$35,'DATA MAESTRO 2'!I$36,'DATA MAESTRO 2'!I$37,'DATA MAESTRO 2'!I$38,'DATA MAESTRO 2'!I$39,'DATA MAESTRO 2'!I$40,)","v":0.03},{"$f":"CHOOSE($B5,'DATA MAESTRO 2'!J$6,'DATA MAESTRO 2'!J$7,'DATA MAESTRO 2'!J$8,'DATA MAESTRO 2'!J$9,'DATA MAESTRO 2'!J$10,'DATA MAESTRO 2'!J$11,'DATA MAESTRO 2'!J$12,'DATA MAESTRO 2'!J$13,'DATA MAESTRO 2'!J$14,'DATA MAESTRO 2'!J$15,'DATA MAESTRO 2'!J$16,'DATA MAESTRO 2'!J$17,'DATA MAESTRO 2'!J$18,'DATA MAESTRO 2'!J$19,'DATA MAESTRO 2'!J$20,'DATA MAESTRO 2'!J$21,'DATA MAESTRO 2'!J$22,'DATA MAESTRO 2'!J$23,'DATA MAESTRO 2'!J$24,'DATA MAESTRO 2'!J$25,'DATA MAESTRO 2'!J$26,'DATA MAESTRO 2'!J$27,'DATA MAESTRO 2'!J$28,'DATA MAESTRO 2'!J$29,'DATA MAESTRO 2'!J$30,'DATA MAESTRO 2'!J$31,'DATA MAESTRO 2'!J$32,'DATA MAESTRO 2'!J$33,'DATA MAESTRO 2'!J$34,'DATA MAESTRO 2'!J$35,'DATA MAESTRO 2'!J$36,'DATA MAESTRO 2'!J$37,'DATA MAESTRO 2'!J$38,'DATA MAESTRO 2'!J$39,'DATA MAESTRO 2'!J$40,)","v":2.0000000000000001E-4},{"$f":"CHOOSE($B5,'DATA MAESTRO 2'!K$6,'DATA MAESTRO 2'!K$7,'DATA MAESTRO 2'!K$8,'DATA MAESTRO 2'!K$9,'DATA MAESTRO 2'!K$10,'DATA MAESTRO 2'!K$11,'DATA MAESTRO 2'!K$12,'DATA MAESTRO 2'!K$13,'DATA MAESTRO 2'!K$14,'DATA MAESTRO 2'!K$15,'DATA MAESTRO 2'!K$16,'DATA MAESTRO 2'!K$17,'DATA MAESTRO 2'!K$18,'DATA MAESTRO 2'!K$19,'DATA MAESTRO 2'!K$20,'DATA MAESTRO 2'!K$21,'DATA MAESTRO 2'!K$22,'DATA MAESTRO 2'!K$23,'DATA MAESTRO 2'!K$24,'DATA MAESTRO 2'!K$25,'DATA MAESTRO 2'!K$26,'DATA MAESTRO 2'!K$27,'DATA MAESTRO 2'!K$28,'DATA MAESTRO 2'!K$29,'DATA MAESTRO 2'!K$30,'DATA MAESTRO 2'!K$31,'DATA MAESTRO 2'!K$32,'DATA MAESTRO 2'!K$33,'DATA MAESTRO 2'!K$34,'DATA MAESTRO 2'!K$35,'DATA MAESTRO 2'!K$36,'DATA MAESTRO 2'!K$37,'DATA MAESTRO 2'!K$38,'DATA MAESTRO 2'!K$39,'DATA MAESTRO 2'!K$40,)","v":3.0000000000000001E-3},{"$f":"CHOOSE($B5,'DATA MAESTRO 2'!L$6,'DATA MAESTRO 2'!L$7,'DATA MAESTRO 2'!L$8,'DATA MAESTRO 2'!L$9,'DATA MAESTRO 2'!L$10,'DATA MAESTRO 2'!L$11,'DATA MAESTRO 2'!L$12,'DATA MAESTRO 2'!L$13,'DATA MAESTRO 2'!L$14,'DATA MAESTRO 2'!L$15,'DATA MAESTRO 2'!L$16,'DATA MAESTRO 2'!L$17,'DATA MAESTRO 2'!L$18,'DATA MAESTRO 2'!L$19,'DATA MAESTRO 2'!L$20,'DATA MAESTRO 2'!L$21,'DATA MAESTRO 2'!L$22,'DATA MAESTRO 2'!L$23,'DATA MAESTRO 2'!L$24,'DATA MAESTRO 2'!L$25,'DATA MAESTRO 2'!L$26,'DATA MAESTRO 2'!L$27,'DATA MAESTRO 2'!L$28,'DATA MAESTRO 2'!L$29,'DATA MAESTRO 2'!L$30,'DATA MAESTRO 2'!L$31,'DATA MAESTRO 2'!L$32,'DATA MAESTRO 2'!L$33,'DATA MAESTRO 2'!L$34,'DATA MAESTRO 2'!L$35,'DATA MAESTRO 2'!L$36,'DATA MAESTRO 2'!L$37,'DATA MAESTRO 2'!L$38,'DATA MAESTRO 2'!L$39,'DATA MAESTRO 2'!L$40,)","v":3.2899957999999998},{"$f":"CHOOSE($B5,'DATA MAESTRO 2'!M$6,'DATA MAESTRO 2'!M$7,'DATA MAESTRO 2'!M$8,'DATA MAESTRO 2'!M$9,'DATA MAESTRO 2'!M$10,'DATA MAESTRO 2'!M$11,'DATA MAESTRO 2'!M$12,'DATA MAESTRO 2'!M$13,'DATA MAESTRO 2'!M$14,'DATA MAESTRO 2'!M$15,'DATA MAESTRO 2'!M$16,'DATA MAESTRO 2'!M$17,'DATA MAESTRO 2'!M$18,'DATA MAESTRO 2'!M$19,'DATA MAESTRO 2'!M$20,'DATA MAESTRO 2'!M$21,'DATA MAESTRO 2'!M$22,'DATA MAESTRO 2'!M$23,'DATA MAESTRO 2'!M$24,'DATA MAESTRO 2'!M$25,'DATA MAESTRO 2'!M$26,'DATA MAESTRO 2'!M$27,'DATA MAESTRO 2'!M$28,'DATA MAESTRO 2'!M$29,'DATA MAESTRO 2'!M$30,'DATA MAESTRO 2'!M$31,'DATA MAESTRO 2'!M$32,'DATA MAESTRO 2'!M$33,'DATA MAESTRO 2'!M$34,'DATA MAESTRO 2'!M$35,'DATA MAESTRO 2'!M$36,'DATA MAESTRO 2'!M$37,'DATA MAESTRO 2'!M$38,'DATA MAESTRO 2'!M$39,'DATA MAESTRO 2'!M$40,)","v":2.4091968180399999},{"$f":"CHOOSE($B5,'DATA MAESTRO 2'!N$6,'DATA MAESTRO 2'!N$7,'DATA MAESTRO 2'!N$8,'DATA MAESTRO 2'!N$9,'DATA MAESTRO 2'!N$10,'DATA MAESTRO 2'!N$11,'DATA MAESTRO 2'!N$12,'DATA MAESTRO 2'!N$13,'DATA MAESTRO 2'!N$14,'DATA MAESTRO 2'!N$15,'DATA MAESTRO 2'!N$16,'DATA MAESTRO 2'!N$17,'DATA MAESTRO 2'!N$18,'DATA MAESTRO 2'!N$19,'DATA MAESTRO 2'!N$20,'DATA MAESTRO 2'!N$21,'DATA MAESTRO 2'!N$22,'DATA MAESTRO 2'!N$23,'DATA MAESTRO 2'!N$24,'DATA MAESTRO 2'!N$25,'DATA MAESTRO 2'!N$26,'DATA MAESTRO 2'!N$27,'DATA MAESTRO 2'!N$28,'DATA MAESTRO 2'!N$29,'DATA MAESTRO 2'!N$30,'DATA MAESTRO 2'!N$31,'DATA MAESTRO 2'!N$32,'DATA MAESTRO 2'!N$33,'DATA MAESTRO 2'!N$34,'DATA MAESTRO 2'!N$35,'DATA MAESTRO 2'!N$36,'DATA MAESTRO 2'!N$37,'DATA MAESTRO 2'!N$38,'DATA MAESTRO 2'!N$39,'DATA MAESTRO 2'!N$40,)","v":2.1095000000000002},{"$f":"CHOOSE($B5,'DATA MAESTRO 2'!O$6,'DATA MAESTRO 2'!O$7,'DATA MAESTRO 2'!O$8,'DATA MAESTRO 2'!O$9,'DATA MAESTRO 2'!O$10,'DATA MAESTRO 2'!O$11,'DATA MAESTRO 2'!O$12,'DATA MAESTRO 2'!O$13,'DATA MAESTRO 2'!O$14,'DATA MAESTRO 2'!O$15,'DATA MAESTRO 2'!O$16,'DATA MAESTRO 2'!O$17,'DATA MAESTRO 2'!O$18,'DATA MAESTRO 2'!O$19,'DATA MAESTRO 2'!O$20,'DATA MAESTRO 2'!O$21,'DATA MAESTRO 2'!O$22,'DATA MAESTRO 2'!O$23,'DATA MAESTRO 2'!O$24,'DATA MAESTRO 2'!O$25,'DATA MAESTRO 2'!O$26,'DATA MAESTRO 2'!O$27,'DATA MAESTRO 2'!O$28,'DATA MAESTRO 2'!O$29,'DATA MAESTRO 2'!O$30,'DATA MAESTRO 2'!O$31,'DATA MAESTRO 2'!O$32,'DATA MAESTRO 2'!O$33,'DATA MAESTRO 2'!O$34,'DATA MAESTRO 2'!O$35,'DATA MAESTRO 2'!O$36,'DATA MAESTRO 2'!O$37,'DATA MAESTRO 2'!O$38,'DATA MAESTRO 2'!O$39,'DATA MAESTRO 2'!O$40,)","v":2.8987298696999999},{"$f":"CHOOSE($B5,'DATA MAESTRO 2'!P$6,'DATA MAESTRO 2'!P$7,'DATA MAESTRO 2'!P$8,'DATA MAESTRO 2'!P$9,'DATA MAESTRO 2'!P$10,'DATA MAESTRO 2'!P$11,'DATA MAESTRO 2'!P$12,'DATA MAESTRO 2'!P$13,'DATA MAESTRO 2'!P$14,'DATA MAESTRO 2'!P$15,'DATA MAESTRO 2'!P$16,'DATA MAESTRO 2'!P$17,'DATA MAESTRO 2'!P$18,'DATA MAESTRO 2'!P$19,'DATA MAESTRO 2'!P$20,'DATA MAESTRO 2'!P$21,'DATA MAESTRO 2'!P$22,'DATA MAESTRO 2'!P$23,'DATA MAESTRO 2'!P$24,'DATA MAESTRO 2'!P$25,'DATA MAESTRO 2'!P$26,'DATA MAESTRO 2'!P$27,'DATA MAESTRO 2'!P$28,'DATA MAESTRO 2'!P$29,'DATA MAESTRO 2'!P$30,'DATA MAESTRO 2'!P$31,'DATA MAESTRO 2'!P$32,'DATA MAESTRO 2'!P$33,'DATA MAESTRO 2'!P$34,'DATA MAESTRO 2'!P$35,'DATA MAESTRO 2'!P$36,'DATA MAESTRO 2'!P$37,'DATA MAESTRO 2'!P$38,'DATA MAESTRO 2'!P$39,'DATA MAESTRO 2'!P$40,)","v":0.04},{"$f":"CHOOSE($B5,'DATA MAESTRO 2'!Q$6,'DATA MAESTRO 2'!Q$7,'DATA MAESTRO 2'!Q$8,'DATA MAESTRO 2'!Q$9,'DATA MAESTRO 2'!Q$10,'DATA MAESTRO 2'!Q$11,'DATA MAESTRO 2'!Q$12,'DATA MAESTRO 2'!Q$13,'DATA MAESTRO 2'!Q$14,'DATA MAESTRO 2'!Q$15,'DATA MAESTRO 2'!Q$16,'DATA MAESTRO 2'!Q$17,'DATA MAESTRO 2'!Q$18,'DATA MAESTRO 2'!Q$19,'DATA MAESTRO 2'!Q$20,'DATA MAESTRO 2'!Q$21,'DATA MAESTRO 2'!Q$22,'DATA MAESTRO 2'!Q$23,'DATA MAESTRO 2'!Q$24,'DATA MAESTRO 2'!Q$25,'DATA MAESTRO 2'!Q$26,'DATA MAESTRO 2'!Q$27,'DATA MAESTRO 2'!Q$28,'DATA MAESTRO 2'!Q$29,'DATA MAESTRO 2'!Q$30,'DATA MAESTRO 2'!Q$31,'DATA MAESTRO 2'!Q$32,'DATA MAESTRO 2'!Q$33,'DATA MAESTRO 2'!Q$34,'DATA MAESTRO 2'!Q$35,'DATA MAESTRO 2'!Q$36,'DATA MAESTRO 2'!Q$37,'DATA MAESTRO 2'!Q$38,'DATA MAESTRO 2'!Q$39,'DATA MAESTRO 2'!Q$40,)","v":0.75},{"$f":"CHOOSE($B5,'DATA MAESTRO 2'!R$6,'DATA MAESTRO 2'!R$7,'DATA MAESTRO 2'!R$8,'DATA MAESTRO 2'!R$9,'DATA MAESTRO 2'!R$10,'DATA MAESTRO 2'!R$11,'DATA MAESTRO 2'!R$12,'DATA MAESTRO 2'!R$13,'DATA MAESTRO 2'!R$14,'DATA MAESTRO 2'!R$15,'DATA MAESTRO 2'!R$16,'DATA MAESTRO 2'!R$17,'DATA MAESTRO 2'!R$18,'DATA MAESTRO 2'!R$19,'DATA MAESTRO 2'!R$20,'DATA MAESTRO 2'!R$21,'DATA MAESTRO 2'!R$22,'DATA MAESTRO 2'!R$23,'DATA MAESTRO 2'!R$24,'DATA MAESTRO 2'!R$25,'DATA MAESTRO 2'!R$26,'DATA MAESTRO 2'!R$27,'DATA MAESTRO 2'!R$28,'DATA MAESTRO 2'!R$29,'DATA MAESTRO 2'!R$30,'DATA MAESTRO 2'!R$31,'DATA MAESTRO 2'!R$32,'DATA MAESTRO 2'!R$33,'DATA MAESTRO 2'!R$34,'DATA MAESTRO 2'!R$35,'DATA MAESTRO 2'!R$36,'DATA MAESTRO 2'!R$37,'DATA MAESTRO 2'!R$38,'DATA MAESTRO 2'!R$39,'DATA MAESTRO 2'!R$40,)","v":0.5},{"$f":"CHOOSE($B5,'DATA MAESTRO 2'!S$6,'DATA MAESTRO 2'!S$7,'DATA MAESTRO 2'!S$8,'DATA MAESTRO 2'!S$9,'DATA MAESTRO 2'!S$10,'DATA MAESTRO 2'!S$11,'DATA MAESTRO 2'!S$12,'DATA MAESTRO 2'!S$13,'DATA MAESTRO 2'!S$14,'DATA MAESTRO 2'!S$15,'DATA MAESTRO 2'!S$16,'DATA MAESTRO 2'!S$17,'DATA MAESTRO 2'!S$18,'DATA MAESTRO 2'!S$19,'DATA MAESTRO 2'!S$20,'DATA MAESTRO 2'!S$21,'DATA MAESTRO 2'!S$22,'DATA MAESTRO 2'!S$23,'DATA MAESTRO 2'!S$24,'DATA MAESTRO 2'!S$25,'DATA MAESTRO 2'!S$26,'DATA MAESTRO 2'!S$27,'DATA MAESTRO 2'!S$28,'DATA MAESTRO 2'!S$29,'DATA MAESTRO 2'!S$30,'DATA MAESTRO 2'!S$31,'DATA MAESTRO 2'!S$32,'DATA MAESTRO 2'!S$33,'DATA MAESTRO 2'!S$34,'DATA MAESTRO 2'!S$35,'DATA MAESTRO 2'!S$36,'DATA MAESTRO 2'!S$37,'DATA MAESTRO 2'!S$38,'DATA MAESTRO 2'!S$39,'DATA MAESTRO 2'!S$40,)","v":0.5},{"$f":"CHOOSE($B5,'DATA MAESTRO 2'!T$6,'DATA MAESTRO 2'!T$7,'DATA MAESTRO 2'!T$8,'DATA MAESTRO 2'!T$9,'DATA MAESTRO 2'!T$10,'DATA MAESTRO 2'!T$11,'DATA MAESTRO 2'!T$12,'DATA MAESTRO 2'!T$13,'DATA MAESTRO 2'!T$14,'DATA MAESTRO 2'!T$15,'DATA MAESTRO 2'!T$16,'DATA MAESTRO 2'!T$17,'DATA MAESTRO 2'!T$18,'DATA MAESTRO 2'!T$19,'DATA MAESTRO 2'!T$20,'DATA MAESTRO 2'!T$21,'DATA MAESTRO 2'!T$22,'DATA MAESTRO 2'!T$23,'DATA MAESTRO 2'!T$24,'DATA MAESTRO 2'!T$25,'DATA MAESTRO 2'!T$26,'DATA MAESTRO 2'!T$27,'DATA MAESTRO 2'!T$28,'DATA MAESTRO 2'!T$29,'DATA MAESTRO 2'!T$30,'DATA MAESTRO 2'!T$31,'DATA MAESTRO 2'!T$32,'DATA MAESTRO 2'!T$33,'DATA MAESTRO 2'!T$34,'DATA MAESTRO 2'!T$35,'DATA MAESTRO 2'!T$36,'DATA MAESTRO 2'!T$37,'DATA MAESTRO 2'!T$38,'DATA MAESTRO 2'!T$39,'DATA MAESTRO 2'!T$40,)","v":2.0000000000000001E-4},{"$f":"CHOOSE($B5,'DATA MAESTRO 2'!U$6,'DATA MAESTRO 2'!U$7,'DATA MAESTRO 2'!U$8,'DATA MAESTRO 2'!U$9,'DATA MAESTRO 2'!U$10,'DATA MAESTRO 2'!U$11,'DATA MAESTRO 2'!U$12,'DATA MAESTRO 2'!U$13,'DATA MAESTRO 2'!U$14,'DATA MAESTRO 2'!U$15,'DATA MAESTRO 2'!U$16,'DATA MAESTRO 2'!U$17,'DATA MAESTRO 2'!U$18,'DATA MAESTRO 2'!U$19,'DATA MAESTRO 2'!U$20,'DATA MAESTRO 2'!U$21,'DATA MAESTRO 2'!U$22,'DATA MAESTRO 2'!U$23,'DATA MAESTRO 2'!U$24,'DATA MAESTRO 2'!U$25,'DATA MAESTRO 2'!U$26,'DATA MAESTRO 2'!U$27,'DATA MAESTRO 2'!U$28,'DATA MAESTRO 2'!U$29,'DATA MAESTRO 2'!U$30,'DATA MAESTRO 2'!U$31,'DATA MAESTRO 2'!U$32,'DATA MAESTRO 2'!U$33,'DATA MAESTRO 2'!U$34,'DATA MAESTRO 2'!U$35,'DATA MAESTRO 2'!U$36,'DATA MAESTRO 2'!U$37,'DATA MAESTRO 2'!U$38,'DATA MAESTRO 2'!U$39,'DATA MAESTRO 2'!U$40,)","v":1.1999999999999999E-3},{"$f":"CHOOSE($B5,'DATA MAESTRO 2'!V$6,'DATA MAESTRO 2'!V$7,'DATA MAESTRO 2'!V$8,'DATA MAESTRO 2'!V$9,'DATA MAESTRO 2'!V$10,'DATA MAESTRO 2'!V$11,'DATA MAESTRO 2'!V$12,'DATA MAESTRO 2'!V$13,'DATA MAESTRO 2'!V$14,'DATA MAESTRO 2'!V$15,'DATA MAESTRO 2'!V$16,'DATA MAESTRO 2'!V$17,'DATA MAESTRO 2'!V$18,'DATA MAESTRO 2'!V$19,'DATA MAESTRO 2'!V$20,'DATA MAESTRO 2'!V$21,'DATA MAESTRO 2'!V$22,'DATA MAESTRO 2'!V$23,'DATA MAESTRO 2'!V$24,'DATA MAESTRO 2'!V$25,'DATA MAESTRO 2'!V$26,'DATA MAESTRO 2'!V$27,'DATA MAESTRO 2'!V$28,'DATA MAESTRO 2'!V$29,'DATA MAESTRO 2'!V$30,'DATA MAESTRO 2'!V$31,'DATA MAESTRO 2'!V$32,'DATA MAESTRO 2'!V$33,'DATA MAESTRO 2'!V$34,'DATA MAESTRO 2'!V$35,'DATA MAESTRO 2'!V$36,'DATA MAESTRO 2'!V$37,'DATA MAESTRO 2'!V$38,'DATA MAESTRO 2'!V$39,'DATA MAESTRO 2'!V$40,)","v":4.0000000000000001E-3},{"$f":"CHOOSE($B5,'DATA MAESTRO 2'!W$6,'DATA MAESTRO 2'!W$7,'DATA MAESTRO 2'!W$8,'DATA MAESTRO 2'!W$9,'DATA MAESTRO 2'!W$10,'DATA MAESTRO 2'!W$11,'DATA MAESTRO 2'!W$12,'DATA MAESTRO 2'!W$13,'DATA MAESTRO 2'!W$14,'DATA MAESTRO 2'!W$15,'DATA MAESTRO 2'!W$16,'DATA MAESTRO 2'!W$17,'DATA MAESTRO 2'!W$18,'DATA MAESTRO 2'!W$19,'DATA MAESTRO 2'!W$20,'DATA MAESTRO 2'!W$21,'DATA MAESTRO 2'!W$22,'DATA MAESTRO 2'!W$23,'DATA MAESTRO 2'!W$24,'DATA MAESTRO 2'!W$25,'DATA MAESTRO 2'!W$26,'DATA MAESTRO 2'!W$27,'DATA MAESTRO 2'!W$28,'DATA MAESTRO 2'!W$29,'DATA MAESTRO 2'!W$30,'DATA MAESTRO 2'!W$31,'DATA MAESTRO 2'!W$32,'DATA MAESTRO 2'!W$33,'DATA MAESTRO 2'!W$34,'DATA MAESTRO 2'!W$35,'DATA MAESTRO 2'!W$36,'DATA MAESTRO 2'!W$37,'DATA MAESTRO 2'!W$38,'DATA MAESTRO 2'!W$39,'DATA MAESTRO 2'!W$40,)","v":5.0000000000000001E-4},{"$f":"CHOOSE($B5,'DATA MAESTRO 2'!X$6,'DATA MAESTRO 2'!X$7,'DATA MAESTRO 2'!X$8,'DATA MAESTRO 2'!X$9,'DATA MAESTRO 2'!X$10,'DATA MAESTRO 2'!X$11,'DATA MAESTRO 2'!X$12,'DATA MAESTRO 2'!X$13,'DATA MAESTRO 2'!X$14,'DATA MAESTRO 2'!X$15,'DATA MAESTRO 2'!X$16,'DATA MAESTRO 2'!X$17,'DATA MAESTRO 2'!X$18,'DATA MAESTRO 2'!X$19,'DATA MAESTRO 2'!X$20,'DATA MAESTRO 2'!X$21,'DATA MAESTRO 2'!X$22,'DATA MAESTRO 2'!X$23,'DATA MAESTRO 2'!X$24,'DATA MAESTRO 2'!X$25,'DATA MAESTRO 2'!X$26,'DATA MAESTRO 2'!X$27,'DATA MAESTRO 2'!X$28,'DATA MAESTRO 2'!X$29,'DATA MAESTRO 2'!X$30,'DATA MAESTRO 2'!X$31,'DATA MAESTRO 2'!X$32,'DATA MAESTRO 2'!X$33,'DATA MAESTRO 2'!X$34,'DATA MAESTRO 2'!X$35,'DATA MAESTRO 2'!X$36,'DATA MAESTRO 2'!X$37,'DATA MAESTRO 2'!X$38,'DATA MAESTRO 2'!X$39,'DATA MAESTRO 2'!X$40,)","v":1.1999999999999999E-3},{"$f":"CHOOSE($B5,'DATA MAESTRO 2'!Y$6,'DATA MAESTRO 2'!Y$7,'DATA MAESTRO 2'!Y$8,'DATA MAESTRO 2'!Y$9,'DATA MAESTRO 2'!Y$10,'DATA MAESTRO 2'!Y$11,'DATA MAESTRO 2'!Y$12,'DATA MAESTRO 2'!Y$13,'DATA MAESTRO 2'!Y$14,'DATA MAESTRO 2'!Y$15,'DATA MAESTRO 2'!Y$16,'DATA MAESTRO 2'!Y$17,'DATA MAESTRO 2'!Y$18,'DATA MAESTRO 2'!Y$19,'DATA MAESTRO 2'!Y$20,'DATA MAESTRO 2'!Y$21,'DATA MAESTRO 2'!Y$22,'DATA MAESTRO 2'!Y$23,'DATA MAESTRO 2'!Y$24,'DATA MAESTRO 2'!Y$25,'DATA MAESTRO 2'!Y$26,'DATA MAESTRO 2'!Y$27,'DATA MAESTRO 2'!Y$28,'DATA MAESTRO 2'!Y$29,'DATA MAESTRO 2'!Y$30,'DATA MAESTRO 2'!Y$31,'DATA MAESTRO 2'!Y$32,'DATA MAESTRO 2'!Y$33,'DATA MAESTRO 2'!Y$34,'DATA MAESTRO 2'!Y$35,'DATA MAESTRO 2'!Y$36,'DATA MAESTRO 2'!Y$37,'DATA MAESTRO 2'!Y$38,'DATA MAESTRO 2'!Y$39,'DATA MAESTRO 2'!Y$40,)","v":0},{"$f":"CHOOSE($B5,'DATA MAESTRO 2'!Z$6,'DATA MAESTRO 2'!Z$7,'DATA MAESTRO 2'!Z$8,'DATA MAESTRO 2'!Z$9,'DATA MAESTRO 2'!Z$10,'DATA MAESTRO 2'!Z$11,'DATA MAESTRO 2'!Z$12,'DATA MAESTRO 2'!Z$13,'DATA MAESTRO 2'!Z$14,'DATA MAESTRO 2'!Z$15,'DATA MAESTRO 2'!Z$16,'DATA MAESTRO 2'!Z$17,'DATA MAESTRO 2'!Z$18,'DATA MAESTRO 2'!Z$19,'DATA MAESTRO 2'!Z$20,'DATA MAESTRO 2'!Z$21,'DATA MAESTRO 2'!Z$22,'DATA MAESTRO 2'!Z$23,'DATA MAESTRO 2'!Z$24,'DATA MAESTRO 2'!Z$25,'DATA MAESTRO 2'!Z$26,'DATA MAESTRO 2'!Z$27,'DATA MAESTRO 2'!Z$28,'DATA MAESTRO 2'!Z$29,'DATA MAESTRO 2'!Z$30,'DATA MAESTRO 2'!Z$31,'DATA MAESTRO 2'!Z$32,'DATA MAESTRO 2'!Z$33,'DATA MAESTRO 2'!Z$34,'DATA MAESTRO 2'!Z$35,'DATA MAESTRO 2'!Z$36,'DATA MAESTRO 2'!Z$37,'DATA MAESTRO 2'!Z$38,'DATA MAESTRO 2'!Z$39,'DATA MAESTRO 2'!Z$40,)","v":0.63},{"$f":"CHOOSE($B5,'DATA MAESTRO 2'!AA$6,'DATA MAESTRO 2'!AA$7,'DATA MAESTRO 2'!AA$8,'DATA MAESTRO 2'!AA$9,'DATA MAESTRO 2'!AA$10,'DATA MAESTRO 2'!AA$11,'DATA MAESTRO 2'!AA$12,'DATA MAESTRO 2'!AA$13,'DATA MAESTRO 2'!AA$14,'DATA MAESTRO 2'!AA$15,'DATA MAESTRO 2'!AA$16,'DATA MAESTRO 2'!AA$17,'DATA MAESTRO 2'!AA$18,'DATA MAESTRO 2'!AA$19,'DATA MAESTRO 2'!AA$20,'DATA MAESTRO 2'!AA$21,'DATA MAESTRO 2'!AA$22,'DATA MAESTRO 2'!AA$23,'DATA MAESTRO 2'!AA$24,'DATA MAESTRO 2'!AA$25,'DATA MAESTRO 2'!AA$26,'DATA MAESTRO 2'!AA$27,'DATA MAESTRO 2'!AA$28,'DATA MAESTRO 2'!AA$29,'DATA MAESTRO 2'!AA$30,'DATA MAESTRO 2'!AA$31,'DATA MAESTRO 2'!AA$32,'DATA MAESTRO 2'!AA$33,'DATA MAESTRO 2'!AA$34,'DATA MAESTRO 2'!AA$35,'DATA MAESTRO 2'!AA$36,'DATA MAESTRO 2'!AA$37,'DATA MAESTRO 2'!AA$38,'DATA MAESTRO 2'!AA$39,'DATA MAESTRO 2'!AA$40,)","v":0},{"$f":"CHOOSE($B5,'DATA MAESTRO 2'!AB$6,'DATA MAESTRO 2'!AB$7,'DATA MAESTRO 2'!AB$8,'DATA MAESTRO 2'!AB$9,'DATA MAESTRO 2'!AB$10,'DATA MAESTRO 2'!AB$11,'DATA MAESTRO 2'!AB$12,'DATA MAESTRO 2'!AB$13,'DATA MAESTRO 2'!AB$14,'DATA MAESTRO 2'!AB$15,'DATA MAESTRO 2'!AB$16,'DATA MAESTRO 2'!AB$17,'DATA MAESTRO 2'!AB$18,'DATA MAESTRO 2'!AB$19,'DATA MAESTRO 2'!AB$20,'DATA MAESTRO 2'!AB$21,'DATA MAESTRO 2'!AB$22,'DATA MAESTRO 2'!AB$23,'DATA MAESTRO 2'!AB$24,'DATA MAESTRO 2'!AB$25,'DATA MAESTRO 2'!AB$26,'DATA MAESTRO 2'!AB$27,'DATA MAESTRO 2'!AB$28,'DATA MAESTRO 2'!AB$29,'DATA MAESTRO 2'!AB$30,'DATA MAESTRO 2'!AB$31,'DATA MAESTRO 2'!AB$32,'DATA MAESTRO 2'!AB$33,'DATA MAESTRO 2'!AB$34,'DATA MAESTRO 2'!AB$35,'DATA MAESTRO 2'!AB$36,'DATA MAESTRO 2'!AB$37,'DATA MAESTRO 2'!AB$38,'DATA MAESTRO 2'!AB$39,'DATA MAESTRO 2'!AB$40,)","v":0},{"$f":"CHOOSE($B5,'DATA MAESTRO 2'!AC$6,'DATA MAESTRO 2'!AC$7,'DATA MAESTRO 2'!AC$8,'DATA MAESTRO 2'!AC$9,'DATA MAESTRO 2'!AC$10,'DATA MAESTRO 2'!AC$11,'DATA MAESTRO 2'!AC$12,'DATA MAESTRO 2'!AC$13,'DATA MAESTRO 2'!AC$14,'DATA MAESTRO 2'!AC$15,'DATA MAESTRO 2'!AC$16,'DATA MAESTRO 2'!AC$17,'DATA MAESTRO 2'!AC$18,'DATA MAESTRO 2'!AC$19,'DATA MAESTRO 2'!AC$20,'DATA MAESTRO 2'!AC$21,'DATA MAESTRO 2'!AC$22,'DATA MAESTRO 2'!AC$23,'DATA MAESTRO 2'!AC$24,'DATA MAESTRO 2'!AC$25,'DATA MAESTRO 2'!AC$26,'DATA MAESTRO 2'!AC$27,'DATA MAESTRO 2'!AC$28,'DATA MAESTRO 2'!AC$29,'DATA MAESTRO 2'!AC$30,'DATA MAESTRO 2'!AC$31,'DATA MAESTRO 2'!AC$32,'DATA MAESTRO 2'!AC$33,'DATA MAESTRO 2'!AC$34,'DATA MAESTRO 2'!AC$35,'DATA MAESTRO 2'!AC$36,'DATA MAESTRO 2'!AC$37,'DATA MAESTRO 2'!AC$38,'DATA MAESTRO 2'!AC$39,'DATA MAESTRO 2'!AC$40,)","v":0},{"$f":"CHOOSE($B5,'DATA MAESTRO 2'!AD$6,'DATA MAESTRO 2'!AD$7,'DATA MAESTRO 2'!AD$8,'DATA MAESTRO 2'!AD$9,'DATA MAESTRO 2'!AD$10,'DATA MAESTRO 2'!AD$11,'DATA MAESTRO 2'!AD$12,'DATA MAESTRO 2'!AD$13,'DATA MAESTRO 2'!AD$14,'DATA MAESTRO 2'!AD$15,'DATA MAESTRO 2'!AD$16,'DATA MAESTRO 2'!AD$17,'DATA MAESTRO 2'!AD$18,'DATA MAESTRO 2'!AD$19,'DATA MAESTRO 2'!AD$20,'DATA MAESTRO 2'!AD$21,'DATA MAESTRO 2'!AD$22,'DATA MAESTRO 2'!AD$23,'DATA MAESTRO 2'!AD$24,'DATA MAESTRO 2'!AD$25,'DATA MAESTRO 2'!AD$26,'DATA MAESTRO 2'!AD$27,'DATA MAESTRO 2'!AD$28,'DATA MAESTRO 2'!AD$29,'DATA MAESTRO 2'!AD$30,'DATA MAESTRO 2'!AD$31,'DATA MAESTRO 2'!AD$32,'DATA MAESTRO 2'!AD$33,'DATA MAESTRO 2'!AD$34,'DATA MAESTRO 2'!AD$35,'DATA MAESTRO 2'!AD$36,'DATA MAESTRO 2'!AD$37,'DATA MAESTRO 2'!AD$38,'DATA MAESTRO 2'!AD$39,'DATA MAESTRO 2'!AD$40,)","v":0},{"$f":"CHOOSE($B5,'DATA MAESTRO 2'!AE$6,'DATA MAESTRO 2'!AE$7,'DATA MAESTRO 2'!AE$8,'DATA MAESTRO 2'!AE$9,'DATA MAESTRO 2'!AE$10,'DATA MAESTRO 2'!AE$11,'DATA MAESTRO 2'!AE$12,'DATA MAESTRO 2'!AE$13,'DATA MAESTRO 2'!AE$14,'DATA MAESTRO 2'!AE$15,'DATA MAESTRO 2'!AE$16,'DATA MAESTRO 2'!AE$17,'DATA MAESTRO 2'!AE$18,'DATA MAESTRO 2'!AE$19,'DATA MAESTRO 2'!AE$20,'DATA MAESTRO 2'!AE$21,'DATA MAESTRO 2'!AE$22,'DATA MAESTRO 2'!AE$23,'DATA MAESTRO 2'!AE$24,'DATA MAESTRO 2'!AE$25,'DATA MAESTRO 2'!AE$26,'DATA MAESTRO 2'!AE$27,'DATA MAESTRO 2'!AE$28,'DATA MAESTRO 2'!AE$29,'DATA MAESTRO 2'!AE$30,'DATA MAESTRO 2'!AE$31,'DATA MAESTRO 2'!AE$32,'DATA MAESTRO 2'!AE$33,'DATA MAESTRO 2'!AE$34,'DATA MAESTRO 2'!AE$35,'DATA MAESTRO 2'!AE$36,'DATA MAESTRO 2'!AE$37,'DATA MAESTRO 2'!AE$38,'DATA MAESTRO 2'!AE$39,'DATA MAESTRO 2'!AE$40,)","v":0},{"$f":"CHOOSE($B5,'DATA MAESTRO 2'!AF$6,'DATA MAESTRO 2'!AF$7,'DATA MAESTRO 2'!AF$8,'DATA MAESTRO 2'!AF$9,'DATA MAESTRO 2'!AF$10,'DATA MAESTRO 2'!AF$11,'DATA MAESTRO 2'!AF$12,'DATA MAESTRO 2'!AF$13,'DATA MAESTRO 2'!AF$14,'DATA MAESTRO 2'!AF$15,'DATA MAESTRO 2'!AF$16,'DATA MAESTRO 2'!AF$17,'DATA MAESTRO 2'!AF$18,'DATA MAESTRO 2'!AF$19,'DATA MAESTRO 2'!AF$20,'DATA MAESTRO 2'!AF$21,'DATA MAESTRO 2'!AF$22,'DATA MAESTRO 2'!AF$23,'DATA MAESTRO 2'!AF$24,'DATA MAESTRO 2'!AF$25,'DATA MAESTRO 2'!AF$26,'DATA MAESTRO 2'!AF$27,'DATA MAESTRO 2'!AF$28,'DATA MAESTRO 2'!AF$29,'DATA MAESTRO 2'!AF$30,'DATA MAESTRO 2'!AF$31,'DATA MAESTRO 2'!AF$32,'DATA MAESTRO 2'!AF$33,'DATA MAESTRO 2'!AF$34,'DATA MAESTRO 2'!AF$35,'DATA MAESTRO 2'!AF$36,'DATA MAESTRO 2'!AF$37,'DATA MAESTRO 2'!AF$38,'DATA MAESTRO 2'!AF$39,'DATA MAESTRO 2'!AF$40,)","v":0},{"$f":"CHOOSE($B5,'DATA MAESTRO 2'!AG$6,'DATA MAESTRO 2'!AG$7,'DATA MAESTRO 2'!AG$8,'DATA MAESTRO 2'!AG$9,'DATA MAESTRO 2'!AG$10,'DATA MAESTRO 2'!AG$11,'DATA MAESTRO 2'!AG$12,'DATA MAESTRO 2'!AG$13,'DATA MAESTRO 2'!AG$14,'DATA MAESTRO 2'!AG$15,'DATA MAESTRO 2'!AG$16,'DATA MAESTRO 2'!AG$17,'DATA MAESTRO 2'!AG$18,'DATA MAESTRO 2'!AG$19,'DATA MAESTRO 2'!AG$20,'DATA MAESTRO 2'!AG$21,'DATA MAESTRO 2'!AG$22,'DATA MAESTRO 2'!AG$23,'DATA MAESTRO 2'!AG$24,'DATA MAESTRO 2'!AG$25,'DATA MAESTRO 2'!AG$26,'DATA MAESTRO 2'!AG$27,'DATA MAESTRO 2'!AG$28,'DATA MAESTRO 2'!AG$29,'DATA MAESTRO 2'!AG$30,'DATA MAESTRO 2'!AG$31,'DATA MAESTRO 2'!AG$32,'DATA MAESTRO 2'!AG$33,'DATA MAESTRO 2'!AG$34,'DATA MAESTRO 2'!AG$35,'DATA MAESTRO 2'!AG$36,'DATA MAESTRO 2'!AG$37,'DATA MAESTRO 2'!AG$38,'DATA MAESTRO 2'!AG$39,'DATA MAESTRO 2'!AG$40,)","v":0},{"$f":"CHOOSE($B5,'DATA MAESTRO 2'!AH$6,'DATA MAESTRO 2'!AH$7,'DATA MAESTRO 2'!AH$8,'DATA MAESTRO 2'!AH$9,'DATA MAESTRO 2'!AH$10,'DATA MAESTRO 2'!AH$11,'DATA MAESTRO 2'!AH$12,'DATA MAESTRO 2'!AH$13,'DATA MAESTRO 2'!AH$14,'DATA MAESTRO 2'!AH$15,'DATA MAESTRO 2'!AH$16,'DATA MAESTRO 2'!AH$17,'DATA MAESTRO 2'!AH$18,'DATA MAESTRO 2'!AH$19,'DATA MAESTRO 2'!AH$20,'DATA MAESTRO 2'!AH$21,'DATA MAESTRO 2'!AH$22,'DATA MAESTRO 2'!AH$23,'DATA MAESTRO 2'!AH$24,'DATA MAESTRO 2'!AH$25,'DATA MAESTRO 2'!AH$26,'DATA MAESTRO 2'!AH$27,'DATA MAESTRO 2'!AH$28,'DATA MAESTRO 2'!AH$29,'DATA MAESTRO 2'!AH$30,'DATA MAESTRO 2'!AH$31,'DATA MAESTRO 2'!AH$32,'DATA MAESTRO 2'!AH$33,'DATA MAESTRO 2'!AH$34,'DATA MAESTRO 2'!AH$35,'DATA MAESTRO 2'!AH$36,'DATA MAESTRO 2'!AH$37,'DATA MAESTRO 2'!AH$38,'DATA MAESTRO 2'!AH$39,'DATA MAESTRO 2'!AH$40,)","v":0},{"$f":"CHOOSE($B5,'DATA MAESTRO 2'!AI$6,'DATA MAESTRO 2'!AI$7,'DATA MAESTRO 2'!AI$8,'DATA MAESTRO 2'!AI$9,'DATA MAESTRO 2'!AI$10,'DATA MAESTRO 2'!AI$11,'DATA MAESTRO 2'!AI$12,'DATA MAESTRO 2'!AI$13,'DATA MAESTRO 2'!AI$14,'DATA MAESTRO 2'!AI$15,'DATA MAESTRO 2'!AI$16,'DATA MAESTRO 2'!AI$17,'DATA MAESTRO 2'!AI$18,'DATA MAESTRO 2'!AI$19,'DATA MAESTRO 2'!AI$20,'DATA MAESTRO 2'!AI$21,'DATA MAESTRO 2'!AI$22,'DATA MAESTRO 2'!AI$23,'DATA MAESTRO 2'!AI$24,'DATA MAESTRO 2'!AI$25,'DATA MAESTRO 2'!AI$26,'DATA MAESTRO 2'!AI$27,'DATA MAESTRO 2'!AI$28,'DATA MAESTRO 2'!AI$29,'DATA MAESTRO 2'!AI$30,'DATA MAESTRO 2'!AI$31,'DATA MAESTRO 2'!AI$32,'DATA MAESTRO 2'!AI$33,'DATA MAESTRO 2'!AI$34,'DATA MAESTRO 2'!AI$35,'DATA MAESTRO 2'!AI$36,'DATA MAESTRO 2'!AI$37,'DATA MAESTRO 2'!AI$38,'DATA MAESTRO 2'!AI$39,'DATA MAESTRO 2'!AI$40,)","v":0},{"$f":"CHOOSE($B5,'DATA MAESTRO 2'!AJ$6,'DATA MAESTRO 2'!AJ$7,'DATA MAESTRO 2'!AJ$8,'DATA MAESTRO 2'!AJ$9,'DATA MAESTRO 2'!AJ$10,'DATA MAESTRO 2'!AJ$11,'DATA MAESTRO 2'!AJ$12,'DATA MAESTRO 2'!AJ$13,'DATA MAESTRO 2'!AJ$14,'DATA MAESTRO 2'!AJ$15,'DATA MAESTRO 2'!AJ$16,'DATA MAESTRO 2'!AJ$17,'DATA MAESTRO 2'!AJ$18,'DATA MAESTRO 2'!AJ$19,'DATA MAESTRO 2'!AJ$20,'DATA MAESTRO 2'!AJ$21,'DATA MAESTRO 2'!AJ$22,'DATA MAESTRO 2'!AJ$23,'DATA MAESTRO 2'!AJ$24,'DATA MAESTRO 2'!AJ$25,'DATA MAESTRO 2'!AJ$26,'DATA MAESTRO 2'!AJ$27,'DATA MAESTRO 2'!AJ$28,'DATA MAESTRO 2'!AJ$29,'DATA MAESTRO 2'!AJ$30,'DATA MAESTRO 2'!AJ$31,'DATA MAESTRO 2'!AJ$32,'DATA MAESTRO 2'!AJ$33,'DATA MAESTRO 2'!AJ$34,'DATA MAESTRO 2'!AJ$35,'DATA MAESTRO 2'!AJ$36,'DATA MAESTRO 2'!AJ$37,'DATA MAESTRO 2'!AJ$38,'DATA MAESTRO 2'!AJ$39,'DATA MAESTRO 2'!AJ$40,)","v":0}]
[4,2,{"$f":"+IF(AND(B6>=1,B6<=36),VLOOKUP(B6,'DATA MAESTRO 2'!$A$6:$B$40,2),0)","v":"SOYA INTEGRAL"},{"$f":"+CHOOSE($B6,'DATA MAESTRO 2'!C$6,'DATA MAESTRO 2'!C$7,'DATA MAESTRO 2'!C$8,'DATA MAESTRO 2'!C$9,'DATA MAESTRO 2'!C$10,'DATA MAESTRO 2'!C$11,'DATA MAESTRO 2'!C$12,'DATA MAESTRO 2'!C$13,'DATA MAESTRO 2'!C$14,'DATA MAESTRO 2'!C$15,'DATA MAESTRO 2'!C$16,'DATA MAESTRO 2'!C$17,'DATA MAESTRO 2'!C$18,'DATA MAESTRO 2'!C$19,'DATA MAESTRO 2'!C$20,'DATA MAESTRO 2'!C$21,'DATA MAESTRO 2'!C$22,'DATA MAESTRO 2'!C$23,'DATA MAESTRO 2'!C$24,'DATA MAESTRO 2'!C$25,'DATA MAESTRO 2'!C$26,'DATA MAESTRO 2'!C$27,'DATA MAESTRO 2'!C$28,'DATA MAESTRO 2'!C$29,'DATA MAESTRO 2'!C$30,'DATA MAESTRO 2'!C$31,'DATA MAESTRO 2'!C$32,'DATA MAESTRO 2'!C$33,'DATA MAESTRO 2'!C$34,'DATA MAESTRO 2'!C$35,'DATA MAESTRO 2'!C$36,'DATA MAESTRO 2'!C$37,'DATA MAESTRO 2'!C$38,'DATA MAESTRO 2'!C$39,'DATA MAESTRO 2'!C$40,)","v":0},{"$f":"CHOOSE($B6,'DATA MAESTRO 2'!D$6,'DATA MAESTRO 2'!D$7,'DATA MAESTRO 2'!D$8,'DATA MAESTRO 2'!D$9,'DATA MAESTRO 2'!D$10,'DATA MAESTRO 2'!D$11,'DATA MAESTRO 2'!D$12,'DATA MAESTRO 2'!D$13,'DATA MAESTRO 2'!D$14,'DATA MAESTRO 2'!D$15,'DATA MAESTRO 2'!D$16,'DATA MAESTRO 2'!D$17,'DATA MAESTRO 2'!D$18,'DATA MAESTRO 2'!D$19,'DATA MAESTRO 2'!D$20,'DATA MAESTRO 2'!D$21,'DATA MAESTRO 2'!D$22,'DATA MAESTRO 2'!D$23,'DATA MAESTRO 2'!D$24,'DATA MAESTRO 2'!D$25,'DATA MAESTRO 2'!D$26,'DATA MAESTRO 2'!D$27,'DATA MAESTRO 2'!D$28,'DATA MAESTRO 2'!D$29,'DATA MAESTRO 2'!D$30,'DATA MAESTRO 2'!D$31,'DATA MAESTRO 2'!D$32,'DATA MAESTRO 2'!D$33,'DATA MAESTRO 2'!D$34,'DATA MAESTRO 2'!D$35,'DATA MAESTRO 2'!D$36,'DATA MAESTRO 2'!D$37,'DATA MAESTRO 2'!D$38,'DATA MAESTRO 2'!D$39,'DATA MAESTRO 2'!D$40,)","v":0.9},{"$f":"CHOOSE(B6,'DATA MAESTRO 2'!E$6,'DATA MAESTRO 2'!E$7,'DATA MAESTRO 2'!E$8,'DATA MAESTRO 2'!E$9,'DATA MAESTRO 2'!E$10,'DATA MAESTRO 2'!E$11,'DATA MAESTRO 2'!E$12,'DATA MAESTRO 2'!E$13,'DATA MAESTRO 2'!E$14,'DATA MAESTRO 2'!E$15,'DATA MAESTRO 2'!E$16,'DATA MAESTRO 2'!E$17,'DATA MAESTRO 2'!E$18,'DATA MAESTRO 2'!E$19,'DATA MAESTRO 2'!E$20,'DATA MAESTRO 2'!E$21,'DATA MAESTRO 2'!E$22,'DATA MAESTRO 2'!E$23,'DATA MAESTRO 2'!E$24,'DATA MAESTRO 2'!E$25,'DATA MAESTRO 2'!E$26,'DATA MAESTRO 2'!E$27,'DATA MAESTRO 2'!E$28,'DATA MAESTRO 2'!E$29,'DATA MAESTRO 2'!E$30,'DATA MAESTRO 2'!E$31,'DATA MAESTRO 2'!E$32,'DATA MAESTRO 2'!E$33,'DATA MAESTRO 2'!E$34,'DATA MAESTRO 2'!E$35,'DATA MAESTRO 2'!E$36,'DATA MAESTRO 2'!E$37,'DATA MAESTRO 2'!E$38,'DATA MAESTRO 2'!E$39,'DATA MAESTRO 2'!E$40,)","v":0.95},{"$f":"CHOOSE($B6,'DATA MAESTRO 2'!F$6,'DATA MAESTRO 2'!F$7,'DATA MAESTRO 2'!F$8,'DATA MAESTRO 2'!F$9,'DATA MAESTRO 2'!F$10,'DATA MAESTRO 2'!F$11,'DATA MAESTRO 2'!F$12,'DATA MAESTRO 2'!F$13,'DATA MAESTRO 2'!F$14,'DATA MAESTRO 2'!F$15,'DATA MAESTRO 2'!F$16,'DATA MAESTRO 2'!F$17,'DATA MAESTRO 2'!F$18,'DATA MAESTRO 2'!F$19,'DATA MAESTRO 2'!F$20,'DATA MAESTRO 2'!F$21,'DATA MAESTRO 2'!F$22,'DATA MAESTRO 2'!F$23,'DATA MAESTRO 2'!F$24,'DATA MAESTRO 2'!F$25,'DATA MAESTRO 2'!F$26,'DATA MAESTRO 2'!F$27,'DATA MAESTRO 2'!F$28,'DATA MAESTRO 2'!F$29,'DATA MAESTRO 2'!F$30,'DATA MAESTRO 2'!F$31,'DATA MAESTRO 2'!F$32,'DATA MAESTRO 2'!F$33,'DATA MAESTRO 2'!F$34,'DATA MAESTRO 2'!F$35,'DATA MAESTRO 2'!F$36,'DATA MAESTRO 2'!F$37,'DATA MAESTRO 2'!F$38,'DATA MAESTRO 2'!F$39,'DATA MAESTRO 2'!F$40,)","v":0.35},{"$f":"CHOOSE($B6,'DATA MAESTRO 2'!G$6,'DATA MAESTRO 2'!G$7,'DATA MAESTRO 2'!G$8,'DATA MAESTRO 2'!G$9,'DATA MAESTRO 2'!G$10,'DATA MAESTRO 2'!G$11,'DATA MAESTRO 2'!G$12,'DATA MAESTRO 2'!G$13,'DATA MAESTRO 2'!G$14,'DATA MAESTRO 2'!G$15,'DATA MAESTRO 2'!G$16,'DATA MAESTRO 2'!G$17,'DATA MAESTRO 2'!G$18,'DATA MAESTRO 2'!G$19,'DATA MAESTRO 2'!G$20,'DATA MAESTRO 2'!G$21,'DATA MAESTRO 2'!G$22,'DATA MAESTRO 2'!G$23,'DATA MAESTRO 2'!G$24,'DATA MAESTRO 2'!G$25,'DATA MAESTRO 2'!G$26,'DATA MAESTRO 2'!G$27,'DATA MAESTRO 2'!G$28,'DATA MAESTRO 2'!G$29,'DATA MAESTRO 2'!G$30,'DATA MAESTRO 2'!G$31,'DATA MAESTRO 2'!G$32,'DATA MAESTRO 2'!G$33,'DATA MAESTRO 2'!G$34,'DATA MAESTRO 2'!G$35,'DATA MAESTRO 2'!G$36,'DATA MAESTRO 2'!G$37,'DATA MAESTRO 2'!G$38,'DATA MAESTRO 2'!G$39,'DATA MAESTRO 2'!G$40,)","v":0.06},{"$f":"CHOOSE($B6,'DATA MAESTRO 2'!H$6,'DATA MAESTRO 2'!H$7,'DATA MAESTRO 2'!H$8,'DATA MAESTRO 2'!H$9,'DATA MAESTRO 2'!H$10,'DATA MAESTRO 2'!H$11,'DATA MAESTRO 2'!H$12,'DATA MAESTRO 2'!H$13,'DATA MAESTRO 2'!H$14,'DATA MAESTRO 2'!H$15,'DATA MAESTRO 2'!H$16,'DATA MAESTRO 2'!H$17,'DATA MAESTRO 2'!H$18,'DATA MAESTRO 2'!H$19,'DATA MAESTRO 2'!H$20,'DATA MAESTRO 2'!H$21,'DATA MAESTRO 2'!H$22,'DATA MAESTRO 2'!H$23,'DATA MAESTRO 2'!H$24,'DATA MAESTRO 2'!H$25,'DATA MAESTRO 2'!H$26,'DATA MAESTRO 2'!H$27,'DATA MAESTRO 2'!H$28,'DATA MAESTRO 2'!H$29,'DATA MAESTRO 2'!H$30,'DATA MAESTRO 2'!H$31,'DATA MAESTRO 2'!H$32,'DATA MAESTRO 2'!H$33,'DATA MAESTRO 2'!H$34,'DATA MAESTRO 2'!H$35,'DATA MAESTRO 2'!H$36,'DATA MAESTRO 2'!H$37,'DATA MAESTRO 2'!H$38,'DATA MAESTRO 2'!H$39,'DATA MAESTRO 2'!H$40,)","v":0.2},{"$f":"CHOOSE($B6,'DATA MAESTRO 2'!I$6,'DATA MAESTRO 2'!I$7,'DATA MAESTRO 2'!I$8,'DATA MAESTRO 2'!I$9,'DATA MAESTRO 2'!I$10,'DATA MAESTRO 2'!I$11,'DATA MAESTRO 2'!I$12,'DATA MAESTRO 2'!I$13,'DATA MAESTRO 2'!I$14,'DATA MAESTRO 2'!I$15,'DATA MAESTRO 2'!I$16,'DATA MAESTRO 2'!I$17,'DATA MAESTRO 2'!I$18,'DATA MAESTRO 2'!I$19,'DATA MAESTRO 2'!I$20,'DATA MAESTRO 2'!I$21,'DATA MAESTRO 2'!I$22,'DATA MAESTRO 2'!I$23,'DATA MAESTRO 2'!I$24,'DATA MAESTRO 2'!I$25,'DATA MAESTRO 2'!I$26,'DATA MAESTRO 2'!I$27,'DATA MAESTRO 2'!I$28,'DATA MAESTRO 2'!I$29,'DATA MAESTRO 2'!I$30,'DATA MAESTRO 2'!I$31,'DATA MAESTRO 2'!I$32,'DATA MAESTRO 2'!I$33,'DATA MAESTRO 2'!I$34,'DATA MAESTRO 2'!I$35,'DATA MAESTRO 2'!I$36,'DATA MAESTRO 2'!I$37,'DATA MAESTRO 2'!I$38,'DATA MAESTRO 2'!I$39,'DATA MAESTRO 2'!I$40,)","v":0.1},{"$f":"CHOOSE($B6,'DATA MAESTRO 2'!J$6,'DATA MAESTRO 2'!J$7,'DATA MAESTRO 2'!J$8,'DATA MAESTRO 2'!J$9,'DATA MAESTRO 2'!J$10,'DATA MAESTRO 2'!J$11,'DATA MAESTRO 2'!J$12,'DATA MAESTRO 2'!J$13,'DATA MAESTRO 2'!J$14,'DATA MAESTRO 2'!J$15,'DATA MAESTRO 2'!J$16,'DATA MAESTRO 2'!J$17,'DATA MAESTRO 2'!J$18,'DATA MAESTRO 2'!J$19,'DATA MAESTRO 2'!J$20,'DATA MAESTRO 2'!J$21,'DATA MAESTRO 2'!J$22,'DATA MAESTRO 2'!J$23,'DATA MAESTRO 2'!J$24,'DATA MAESTRO 2'!J$25,'DATA MAESTRO 2'!J$26,'DATA MAESTRO 2'!J$27,'DATA MAESTRO 2'!J$28,'DATA MAESTRO 2'!J$29,'DATA MAESTRO 2'!J$30,'DATA MAESTRO 2'!J$31,'DATA MAESTRO 2'!J$32,'DATA MAESTRO 2'!J$33,'DATA MAESTRO 2'!J$34,'DATA MAESTRO 2'!J$35,'DATA MAESTRO 2'!J$36,'DATA MAESTRO 2'!J$37,'DATA MAESTRO 2'!J$38,'DATA MAESTRO 2'!J$39,'DATA MAESTRO 2'!J$40,)","v":3.0000000000000001E-3},{"$f":"CHOOSE($B6,'DATA MAESTRO 2'!K$6,'DATA MAESTRO 2'!K$7,'DATA MAESTRO 2'!K$8,'DATA MAESTRO 2'!K$9,'DATA MAESTRO 2'!K$10,'DATA MAESTRO 2'!K$11,'DATA MAESTRO 2'!K$12,'DATA MAESTRO 2'!K$13,'DATA MAESTRO 2'!K$14,'DATA MAESTRO 2'!K$15,'DATA MAESTRO 2'!K$16,'DATA MAESTRO 2'!K$17,'DATA MAESTRO 2'!K$18,'DATA MAESTRO 2'!K$19,'DATA MAESTRO 2'!K$20,'DATA MAESTRO 2'!K$21,'DATA MAESTRO 2'!K$22,'DATA MAESTRO 2'!K$23,'DATA MAESTRO 2'!K$24,'DATA MAESTRO 2'!K$25,'DATA MAESTRO 2'!K$26,'DATA MAESTRO 2'!K$27,'DATA MAESTRO 2'!K$28,'DATA MAESTRO 2'!K$29,'DATA MAESTRO 2'!K$30,'DATA MAESTRO 2'!K$31,'DATA MAESTRO 2'!K$32,'DATA MAESTRO 2'!K$33,'DATA MAESTRO 2'!K$34,'DATA MAESTRO 2'!K$35,'DATA MAESTRO 2'!K$36,'DATA MAESTRO 2'!K$37,'DATA MAESTRO 2'!K$38,'DATA MAESTRO 2'!K$39,'DATA MAESTRO 2'!K$40,)","v":6.3E-3},{"$f":"CHOOSE($B6,'DATA MAESTRO 2'!L$6,'DATA MAESTRO 2'!L$7,'DATA MAESTRO 2'!L$8,'DATA MAESTRO 2'!L$9,'DATA MAESTRO 2'!L$10,'DATA MAESTRO 2'!L$11,'DATA MAESTRO 2'!L$12,'DATA MAESTRO 2'!L$13,'DATA MAESTRO 2'!L$14,'DATA MAESTRO 2'!L$15,'DATA MAESTRO 2'!L$16,'DATA MAESTRO 2'!L$17,'DATA MAESTRO 2'!L$18,'DATA MAESTRO 2'!L$19,'DATA MAESTRO 2'!L$20,'DATA MAESTRO 2'!L$21,'DATA MAESTRO 2'!L$22,'DATA MAESTRO 2'!L$23,'DATA MAESTRO 2'!L$24,'DATA MAESTRO 2'!L$25,'DATA MAESTRO 2'!L$26,'DATA MAESTRO 2'!L$27,'DATA MAESTRO 2'!L$28,'DATA MAESTRO 2'!L$29,'DATA MAESTRO 2'!L$30,'DATA MAESTRO 2'!L$31,'DATA MAESTRO 2'!L$32,'DATA MAESTRO 2'!L$33,'DATA MAESTRO 2'!L$34,'DATA MAESTRO 2'!L$35,'DATA MAESTRO 2'!L$36,'DATA MAESTRO 2'!L$37,'DATA MAESTRO 2'!L$38,'DATA MAESTRO 2'!L$39,'DATA MAESTRO 2'!L$40,)","v":3.4346109999999994},{"$f":"CHOOSE($B6,'DATA MAESTRO 2'!M$6,'DATA MAESTRO 2'!M$7,'DATA MAESTRO 2'!M$8,'DATA MAESTRO 2'!M$9,'DATA MAESTRO 2'!M$10,'DATA MAESTRO 2'!M$11,'DATA MAESTRO 2'!M$12,'DATA MAESTRO 2'!M$13,'DATA MAESTRO 2'!M$14,'DATA MAESTRO 2'!M$15,'DATA MAESTRO 2'!M$16,'DATA MAESTRO 2'!M$17,'DATA MAESTRO 2'!M$18,'DATA MAESTRO 2'!M$19,'DATA MAESTRO 2'!M$20,'DATA MAESTRO 2'!M$21,'DATA MAESTRO 2'!M$22,'DATA MAESTRO 2'!M$23,'DATA MAESTRO 2'!M$24,'DATA MAESTRO 2'!M$25,'DATA MAESTRO 2'!M$26,'DATA MAESTRO 2'!M$27,'DATA MAESTRO 2'!M$28,'DATA MAESTRO 2'!M$29,'DATA MAESTRO 2'!M$30,'DATA MAESTRO 2'!M$31,'DATA MAESTRO 2'!M$32,'DATA MAESTRO 2'!M$33,'DATA MAESTRO 2'!M$34,'DATA MAESTRO 2'!M$35,'DATA MAESTRO 2'!M$36,'DATA MAESTRO 2'!M$37,'DATA MAESTRO 2'!M$38,'DATA MAESTRO 2'!M$39,'DATA MAESTRO 2'!M$40,)","v":2.5876230517999987},{"$f":"CHOOSE($B6,'DATA MAESTRO 2'!N$6,'DATA MAESTRO 2'!N$7,'DATA MAESTRO 2'!N$8,'DATA MAESTRO 2'!N$9,'DATA MAESTRO 2'!N$10,'DATA MAESTRO 2'!N$11,'DATA MAESTRO 2'!N$12,'DATA MAESTRO 2'!N$13,'DATA MAESTRO 2'!N$14,'DATA MAESTRO 2'!N$15,'DATA MAESTRO 2'!N$16,'DATA MAESTRO 2'!N$17,'DATA MAESTRO 2'!N$18,'DATA MAESTRO 2'!N$19,'DATA MAESTRO 2'!N$20,'DATA MAESTRO 2'!N$21,'DATA MAESTRO 2'!N$22,'DATA MAESTRO 2'!N$23,'DATA MAESTRO 2'!N$24,'DATA MAESTRO 2'!N$25,'DATA MAESTRO 2'!N$26,'DATA MAESTRO 2'!N$27,'DATA MAESTRO 2'!N$28,'DATA MAESTRO 2'!N$29,'DATA MAESTRO 2'!N$30,'DATA MAESTRO 2'!N$31,'DATA MAESTRO 2'!N$32,'DATA MAESTRO 2'!N$33,'DATA MAESTRO 2'!N$34,'DATA MAESTRO 2'!N$35,'DATA MAESTRO 2'!N$36,'DATA MAESTRO 2'!N$37,'DATA MAESTRO 2'!N$38,'DATA MAESTRO 2'!N$39,'DATA MAESTRO 2'!N$40,)","v":2.2075},{"$f":"CHOOSE($B6,'DATA MAESTRO 2'!O$6,'DATA MAESTRO 2'!O$7,'DATA MAESTRO 2'!O$8,'DATA MAESTRO 2'!O$9,'DATA MAESTRO 2'!O$10,'DATA MAESTRO 2'!O$11,'DATA MAESTRO 2'!O$12,'DATA MAESTRO 2'!O$13,'DATA MAESTRO 2'!O$14,'DATA MAESTRO 2'!O$15,'DATA MAESTRO 2'!O$16,'DATA MAESTRO 2'!O$17,'DATA MAESTRO 2'!O$18,'DATA MAESTRO 2'!O$19,'DATA MAESTRO 2'!O$20,'DATA MAESTRO 2'!O$21,'DATA MAESTRO 2'!O$22,'DATA MAESTRO 2'!O$23,'DATA MAESTRO 2'!O$24,'DATA MAESTRO 2'!O$25,'DATA MAESTRO 2'!O$26,'DATA MAESTRO 2'!O$27,'DATA MAESTRO 2'!O$28,'DATA MAESTRO 2'!O$29,'DATA MAESTRO 2'!O$30,'DATA MAESTRO 2'!O$31,'DATA MAESTRO 2'!O$32,'DATA MAESTRO 2'!O$33,'DATA MAESTRO 2'!O$34,'DATA MAESTRO 2'!O$35,'DATA MAESTRO 2'!O$36,'DATA MAESTRO 2'!O$37,'DATA MAESTRO 2'!O$38,'DATA MAESTRO 2'!O$39,'DATA MAESTRO 2'!O$40,)","v":3.075377336499999},{"$f":"CHOOSE($B6,'DATA MAESTRO 2'!P$6,'DATA MAESTRO 2'!P$7,'DATA MAESTRO 2'!P$8,'DATA MAESTRO 2'!P$9,'DATA MAESTRO 2'!P$10,'DATA MAESTRO 2'!P$11,'DATA MAESTRO 2'!P$12,'DATA MAESTRO 2'!P$13,'DATA MAESTRO 2'!P$14,'DATA MAESTRO 2'!P$15,'DATA MAESTRO 2'!P$16,'DATA MAESTRO 2'!P$17,'DATA MAESTRO 2'!P$18,'DATA MAESTRO 2'!P$19,'DATA MAESTRO 2'!P$20,'DATA MAESTRO 2'!P$21,'DATA MAESTRO 2'!P$22,'DATA MAESTRO 2'!P$23,'DATA MAESTRO 2'!P$24,'DATA MAESTRO 2'!P$25,'DATA MAESTRO 2'!P$26,'DATA MAESTRO 2'!P$27,'DATA MAESTRO 2'!P$28,'DATA MAESTRO 2'!P$29,'DATA MAESTRO 2'!P$30,'DATA MAESTRO 2'!P$31,'DATA MAESTRO 2'!P$32,'DATA MAESTRO 2'!P$33,'DATA MAESTRO 2'!P$34,'DATA MAESTRO 2'!P$35,'DATA MAESTRO 2'!P$36,'DATA MAESTRO 2'!P$37,'DATA MAESTRO 2'!P$38,'DATA MAESTRO 2'!P$39,'DATA MAESTRO 2'!P$40,)","v":0.22},{"$f":"CHOOSE($B6,'DATA MAESTRO 2'!Q$6,'DATA MAESTRO 2'!Q$7,'DATA MAESTRO 2'!Q$8,'DATA MAESTRO 2'!Q$9,'DATA MAESTRO 2'!Q$10,'DATA MAESTRO 2'!Q$11,'DATA MAESTRO 2'!Q$12,'DATA MAESTRO 2'!Q$13,'DATA MAESTRO 2'!Q$14,'DATA MAESTRO 2'!Q$15,'DATA MAESTRO 2'!Q$16,'DATA MAESTRO 2'!Q$17,'DATA MAESTRO 2'!Q$18,'DATA MAESTRO 2'!Q$19,'DATA MAESTRO 2'!Q$20,'DATA MAESTRO 2'!Q$21,'DATA MAESTRO 2'!Q$22,'DATA MAESTRO 2'!Q$23,'DATA MAESTRO 2'!Q$24,'DATA MAESTRO 2'!Q$25,'DATA MAESTRO 2'!Q$26,'DATA MAESTRO 2'!Q$27,'DATA MAESTRO 2'!Q$28,'DATA MAESTRO 2'!Q$29,'DATA MAESTRO 2'!Q$30,'DATA MAESTRO 2'!Q$31,'DATA MAESTRO 2'!Q$32,'DATA MAESTRO 2'!Q$33,'DATA MAESTRO 2'!Q$34,'DATA MAESTRO 2'!Q$35,'DATA MAESTRO 2'!Q$36,'DATA MAESTRO 2'!Q$37,'DATA MAESTRO 2'!Q$38,'DATA MAESTRO 2'!Q$39,'DATA MAESTRO 2'!Q$40,)","v":0.18},{"$f":"CHOOSE($B6,'DATA MAESTRO 2'!R$6,'DATA MAESTRO 2'!R$7,'DATA MAESTRO 2'!R$8,'DATA MAESTRO 2'!R$9,'DATA MAESTRO 2'!R$10,'DATA MAESTRO 2'!R$11,'DATA MAESTRO 2'!R$12,'DATA MAESTRO 2'!R$13,'DATA MAESTRO 2'!R$14,'DATA MAESTRO 2'!R$15,'DATA MAESTRO 2'!R$16,'DATA MAESTRO 2'!R$17,'DATA MAESTRO 2'!R$18,'DATA MAESTRO 2'!R$19,'DATA MAESTRO 2'!R$20,'DATA MAESTRO 2'!R$21,'DATA MAESTRO 2'!R$22,'DATA MAESTRO 2'!R$23,'DATA MAESTRO 2'!R$24,'DATA MAESTRO 2'!R$25,'DATA MAESTRO 2'!R$26,'DATA MAESTRO 2'!R$27,'DATA MAESTRO 2'!R$28,'DATA MAESTRO 2'!R$29,'DATA MAESTRO 2'!R$30,'DATA MAESTRO 2'!R$31,'DATA MAESTRO 2'!R$32,'DATA MAESTRO 2'!R$33,'DATA MAESTRO 2'!R$34,'DATA MAESTRO 2'!R$35,'DATA MAESTRO 2'!R$36,'DATA MAESTRO 2'!R$37,'DATA MAESTRO 2'!R$38,'DATA MAESTRO 2'!R$39,'DATA MAESTRO 2'!R$40,)","v":0.5},{"$f":"CHOOSE($B6,'DATA MAESTRO 2'!S$6,'DATA MAESTRO 2'!S$7,'DATA MAESTRO 2'!S$8,'DATA MAESTRO 2'!S$9,'DATA MAESTRO 2'!S$10,'DATA MAESTRO 2'!S$11,'DATA MAESTRO 2'!S$12,'DATA MAESTRO 2'!S$13,'DATA MAESTRO 2'!S$14,'DATA MAESTRO 2'!S$15,'DATA MAESTRO 2'!S$16,'DATA MAESTRO 2'!S$17,'DATA MAESTRO 2'!S$18,'DATA MAESTRO 2'!S$19,'DATA MAESTRO 2'!S$20,'DATA MAESTRO 2'!S$21,'DATA MAESTRO 2'!S$22,'DATA MAESTRO 2'!S$23,'DATA MAESTRO 2'!S$24,'DATA MAESTRO 2'!S$25,'DATA MAESTRO 2'!S$26,'DATA MAESTRO 2'!S$27,'DATA MAESTRO 2'!S$28,'DATA MAESTRO 2'!S$29,'DATA MAESTRO 2'!S$30,'DATA MAESTRO 2'!S$31,'DATA MAESTRO 2'!S$32,'DATA MAESTRO 2'!S$33,'DATA MAESTRO 2'!S$34,'DATA MAESTRO 2'!S$35,'DATA MAESTRO 2'!S$36,'DATA MAESTRO 2'!S$37,'DATA MAESTRO 2'!S$38,'DATA MAESTRO 2'!S$39,'DATA MAESTRO 2'!S$40,)","v":0.5},{"$f":"CHOOSE($B6,'DATA MAESTRO 2'!T$6,'DATA MAESTRO 2'!T$7,'DATA MAESTRO 2'!T$8,'DATA MAESTRO 2'!T$9,'DATA MAESTRO 2'!T$10,'DATA MAESTRO 2'!T$11,'DATA MAESTRO 2'!T$12,'DATA MAESTRO 2'!T$13,'DATA MAESTRO 2'!T$14,'DATA MAESTRO 2'!T$15,'DATA MAESTRO 2'!T$16,'DATA MAESTRO 2'!T$17,'DATA MAESTRO 2'!T$18,'DATA MAESTRO 2'!T$19,'DATA MAESTRO 2'!T$20,'DATA MAESTRO 2'!T$21,'DATA MAESTRO 2'!T$22,'DATA MAESTRO 2'!T$23,'DATA MAESTRO 2'!T$24,'DATA MAESTRO 2'!T$25,'DATA MAESTRO 2'!T$26,'DATA MAESTRO 2'!T$27,'DATA MAESTRO 2'!T$28,'DATA MAESTRO 2'!T$29,'DATA MAESTRO 2'!T$30,'DATA MAESTRO 2'!T$31,'DATA MAESTRO 2'!T$32,'DATA MAESTRO 2'!T$33,'DATA MAESTRO 2'!T$34,'DATA MAESTRO 2'!T$35,'DATA MAESTRO 2'!T$36,'DATA MAESTRO 2'!T$37,'DATA MAESTRO 2'!T$38,'DATA MAESTRO 2'!T$39,'DATA MAESTRO 2'!T$40,)","v":2.0000000000000001E-4},{"$f":"CHOOSE($B6,'DATA MAESTRO 2'!U$6,'DATA MAESTRO 2'!U$7,'DATA MAESTRO 2'!U$8,'DATA MAESTRO 2'!U$9,'DATA MAESTRO 2'!U$10,'DATA MAESTRO 2'!U$11,'DATA MAESTRO 2'!U$12,'DATA MAESTRO 2'!U$13,'DATA MAESTRO 2'!U$14,'DATA MAESTRO 2'!U$15,'DATA MAESTRO 2'!U$16,'DATA MAESTRO 2'!U$17,'DATA MAESTRO 2'!U$18,'DATA MAESTRO 2'!U$19,'DATA MAESTRO 2'!U$20,'DATA MAESTRO 2'!U$21,'DATA MAESTRO 2'!U$22,'DATA MAESTRO 2'!U$23,'DATA MAESTRO 2'!U$24,'DATA MAESTRO 2'!U$25,'DATA MAESTRO 2'!U$26,'DATA MAESTRO 2'!U$27,'DATA MAESTRO 2'!U$28,'DATA MAESTRO 2'!U$29,'DATA MAESTRO 2'!U$30,'DATA MAESTRO 2'!U$31,'DATA MAESTRO 2'!U$32,'DATA MAESTRO 2'!U$33,'DATA MAESTRO 2'!U$34,'DATA MAESTRO 2'!U$35,'DATA MAESTRO 2'!U$36,'DATA MAESTRO 2'!U$37,'DATA MAESTRO 2'!U$38,'DATA MAESTRO 2'!U$39,'DATA MAESTRO 2'!U$40,)","v":3.2000000000000002E-3},{"$f":"CHOOSE($B6,'DATA MAESTRO 2'!V$6,'DATA MAESTRO 2'!V$7,'DATA MAESTRO 2'!V$8,'DATA MAESTRO 2'!V$9,'DATA MAESTRO 2'!V$10,'DATA MAESTRO 2'!V$11,'DATA MAESTRO 2'!V$12,'DATA MAESTRO 2'!V$13,'DATA MAESTRO 2'!V$14,'DATA MAESTRO 2'!V$15,'DATA MAESTRO 2'!V$16,'DATA MAESTRO 2'!V$17,'DATA MAESTRO 2'!V$18,'DATA MAESTRO 2'!V$19,'DATA MAESTRO 2'!V$20,'DATA MAESTRO 2'!V$21,'DATA MAESTRO 2'!V$22,'DATA MAESTRO 2'!V$23,'DATA MAESTRO 2'!V$24,'DATA MAESTRO 2'!V$25,'DATA MAESTRO 2'!V$26,'DATA MAESTRO 2'!V$27,'DATA MAESTRO 2'!V$28,'DATA MAESTRO 2'!V$29,'DATA MAESTRO 2'!V$30,'DATA MAESTRO 2'!V$31,'DATA MAESTRO 2'!V$32,'DATA MAESTRO 2'!V$33,'DATA MAESTRO 2'!V$34,'DATA MAESTRO 2'!V$35,'DATA MAESTRO 2'!V$36,'DATA MAESTRO 2'!V$37,'DATA MAESTRO 2'!V$38,'DATA MAESTRO 2'!V$39,'DATA MAESTRO 2'!V$40,)","v":1.67E-2},{"$f":"CHOOSE($B6,'DATA MAESTRO 2'!W$6,'DATA MAESTRO 2'!W$7,'DATA MAESTRO 2'!W$8,'DATA MAESTRO 2'!W$9,'DATA MAESTRO 2'!W$10,'DATA MAESTRO 2'!W$11,'DATA MAESTRO 2'!W$12,'DATA MAESTRO 2'!W$13,'DATA MAESTRO 2'!W$14,'DATA MAESTRO 2'!W$15,'DATA MAESTRO 2'!W$16,'DATA MAESTRO 2'!W$17,'DATA MAESTRO 2'!W$18,'DATA MAESTRO 2'!W$19,'DATA MAESTRO 2'!W$20,'DATA MAESTRO 2'!W$21,'DATA MAESTRO 2'!W$22,'DATA MAESTRO 2'!W$23,'DATA MAESTRO 2'!W$24,'DATA MAESTRO 2'!W$25,'DATA MAESTRO 2'!W$26,'DATA MAESTRO 2'!W$27,'DATA MAESTRO 2'!W$28,'DATA MAESTRO 2'!W$29,'DATA MAESTRO 2'!W$30,'DATA MAESTRO 2'!W$31,'DATA MAESTRO 2'!W$32,'DATA MAESTRO 2'!W$33,'DATA MAESTRO 2'!W$34,'DATA MAESTRO 2'!W$35,'DATA MAESTRO 2'!W$36,'DATA MAESTRO 2'!W$37,'DATA MAESTRO 2'!W$38,'DATA MAESTRO 2'!W$39,'DATA MAESTRO 2'!W$40,)","v":2.0000000000000001E-4},{"$f":"CHOOSE($B6,'DATA MAESTRO 2'!X$6,'DATA MAESTRO 2'!X$7,'DATA MAESTRO 2'!X$8,'DATA MAESTRO 2'!X$9,'DATA MAESTRO 2'!X$10,'DATA MAESTRO 2'!X$11,'DATA MAESTRO 2'!X$12,'DATA MAESTRO 2'!X$13,'DATA MAESTRO 2'!X$14,'DATA MAESTRO 2'!X$15,'DATA MAESTRO 2'!X$16,'DATA MAESTRO 2'!X$17,'DATA MAESTRO 2'!X$18,'DATA MAESTRO 2'!X$19,'DATA MAESTRO 2'!X$20,'DATA MAESTRO 2'!X$21,'DATA MAESTRO 2'!X$22,'DATA MAESTRO 2'!X$23,'DATA MAESTRO 2'!X$24,'DATA MAESTRO 2'!X$25,'DATA MAESTRO 2'!X$26,'DATA MAESTRO 2'!X$27,'DATA MAESTRO 2'!X$28,'DATA MAESTRO 2'!X$29,'DATA MAESTRO 2'!X$30,'DATA MAESTRO 2'!X$31,'DATA MAESTRO 2'!X$32,'DATA MAESTRO 2'!X$33,'DATA MAESTRO 2'!X$34,'DATA MAESTRO 2'!X$35,'DATA MAESTRO 2'!X$36,'DATA MAESTRO 2'!X$37,'DATA MAESTRO 2'!X$38,'DATA MAESTRO 2'!X$39,'DATA MAESTRO 2'!X$40,)","v":4.0000000000000001E-3},{"$f":"CHOOSE($B6,'DATA MAESTRO 2'!Y$6,'DATA MAESTRO 2'!Y$7,'DATA MAESTRO 2'!Y$8,'DATA MAESTRO 2'!Y$9,'DATA MAESTRO 2'!Y$10,'DATA MAESTRO 2'!Y$11,'DATA MAESTRO 2'!Y$12,'DATA MAESTRO 2'!Y$13,'DATA MAESTRO 2'!Y$14,'DATA MAESTRO 2'!Y$15,'DATA MAESTRO 2'!Y$16,'DATA MAESTRO 2'!Y$17,'DATA MAESTRO 2'!Y$18,'DATA MAESTRO 2'!Y$19,'DATA MAESTRO 2'!Y$20,'DATA MAESTRO 2'!Y$21,'DATA MAESTRO 2'!Y$22,'DATA MAESTRO 2'!Y$23,'DATA MAESTRO 2'!Y$24,'DATA MAESTRO 2'!Y$25,'DATA MAESTRO 2'!Y$26,'DATA MAESTRO 2'!Y$27,'DATA MAESTRO 2'!Y$28,'DATA MAESTRO 2'!Y$29,'DATA MAESTRO 2'!Y$30,'DATA MAESTRO 2'!Y$31,'DATA MAESTRO 2'!Y$32,'DATA MAESTRO 2'!Y$33,'DATA MAESTRO 2'!Y$34,'DATA MAESTRO 2'!Y$35,'DATA MAESTRO 2'!Y$36,'DATA MAESTRO 2'!Y$37,'DATA MAESTRO 2'!Y$38,'DATA MAESTRO 2'!Y$39,'DATA MAESTRO 2'!Y$40,)","v":0},{"$f":"CHOOSE($B6,'DATA MAESTRO 2'!Z$6,'DATA MAESTRO 2'!Z$7,'DATA MAESTRO 2'!Z$8,'DATA MAESTRO 2'!Z$9,'DATA MAESTRO 2'!Z$10,'DATA MAESTRO 2'!Z$11,'DATA MAESTRO 2'!Z$12,'DATA MAESTRO 2'!Z$13,'DATA MAESTRO 2'!Z$14,'DATA MAESTRO 2'!Z$15,'DATA MAESTRO 2'!Z$16,'DATA MAESTRO 2'!Z$17,'DATA MAESTRO 2'!Z$18,'DATA MAESTRO 2'!Z$19,'DATA MAESTRO 2'!Z$20,'DATA MAESTRO 2'!Z$21,'DATA MAESTRO 2'!Z$22,'DATA MAESTRO 2'!Z$23,'DATA MAESTRO 2'!Z$24,'DATA MAESTRO 2'!Z$25,'DATA MAESTRO 2'!Z$26,'DATA MAESTRO 2'!Z$27,'DATA MAESTRO 2'!Z$28,'DATA MAESTRO 2'!Z$29,'DATA MAESTRO 2'!Z$30,'DATA MAESTRO 2'!Z$31,'DATA MAESTRO 2'!Z$32,'DATA MAESTRO 2'!Z$33,'DATA MAESTRO 2'!Z$34,'DATA MAESTRO 2'!Z$35,'DATA MAESTRO 2'!Z$36,'DATA MAESTRO 2'!Z$37,'DATA MAESTRO 2'!Z$38,'DATA MAESTRO 2'!Z$39,'DATA MAESTRO 2'!Z$40,)","v":6.7000000000000004E-2},{"$f":"CHOOSE($B6,'DATA MAESTRO 2'!AA$6,'DATA MAESTRO 2'!AA$7,'DATA MAESTRO 2'!AA$8,'DATA MAESTRO 2'!AA$9,'DATA MAESTRO 2'!AA$10,'DATA MAESTRO 2'!AA$11,'DATA MAESTRO 2'!AA$12,'DATA MAESTRO 2'!AA$13,'DATA MAESTRO 2'!AA$14,'DATA MAESTRO 2'!AA$15,'DATA MAESTRO 2'!AA$16,'DATA MAESTRO 2'!AA$17,'DATA MAESTRO 2'!AA$18,'DATA MAESTRO 2'!AA$19,'DATA MAESTRO 2'!AA$20,'DATA MAESTRO 2'!AA$21,'DATA MAESTRO 2'!AA$22,'DATA MAESTRO 2'!AA$23,'DATA MAESTRO 2'!AA$24,'DATA MAESTRO 2'!AA$25,'DATA MAESTRO 2'!AA$26,'DATA MAESTRO 2'!AA$27,'DATA MAESTRO 2'!AA$28,'DATA MAESTRO 2'!AA$29,'DATA MAESTRO 2'!AA$30,'DATA MAESTRO 2'!AA$31,'DATA MAESTRO 2'!AA$32,'DATA MAESTRO 2'!AA$33,'DATA MAESTRO 2'!AA$34,'DATA MAESTRO 2'!AA$35,'DATA MAESTRO 2'!AA$36,'DATA MAESTRO 2'!AA$37,'DATA MAESTRO 2'!AA$38,'DATA MAESTRO 2'!AA$39,'DATA MAESTRO 2'!AA$40,)","v":0},{"$f":"CHOOSE($B6,'DATA MAESTRO 2'!AB$6,'DATA MAESTRO 2'!AB$7,'DATA MAESTRO 2'!AB$8,'DATA MAESTRO 2'!AB$9,'DATA MAESTRO 2'!AB$10,'DATA MAESTRO 2'!AB$11,'DATA MAESTRO 2'!AB$12,'DATA MAESTRO 2'!AB$13,'DATA MAESTRO 2'!AB$14,'DATA MAESTRO 2'!AB$15,'DATA MAESTRO 2'!AB$16,'DATA MAESTRO 2'!AB$17,'DATA MAESTRO 2'!AB$18,'DATA MAESTRO 2'!AB$19,'DATA MAESTRO 2'!AB$20,'DATA MAESTRO 2'!AB$21,'DATA MAESTRO 2'!AB$22,'DATA MAESTRO 2'!AB$23,'DATA MAESTRO 2'!AB$24,'DATA MAESTRO 2'!AB$25,'DATA MAESTRO 2'!AB$26,'DATA MAESTRO 2'!AB$27,'DATA MAESTRO 2'!AB$28,'DATA MAESTRO 2'!AB$29,'DATA MAESTRO 2'!AB$30,'DATA MAESTRO 2'!AB$31,'DATA MAESTRO 2'!AB$32,'DATA MAESTRO 2'!AB$33,'DATA MAESTRO 2'!AB$34,'DATA MAESTRO 2'!AB$35,'DATA MAESTRO 2'!AB$36,'DATA MAESTRO 2'!AB$37,'DATA MAESTRO 2'!AB$38,'DATA MAESTRO 2'!AB$39,'DATA MAESTRO 2'!AB$40,)","v":0},{"$f":"CHOOSE($B6,'DATA MAESTRO 2'!AC$6,'DATA MAESTRO 2'!AC$7,'DATA MAESTRO 2'!AC$8,'DATA MAESTRO 2'!AC$9,'DATA MAESTRO 2'!AC$10,'DATA MAESTRO 2'!AC$11,'DATA MAESTRO 2'!AC$12,'DATA MAESTRO 2'!AC$13,'DATA MAESTRO 2'!AC$14,'DATA MAESTRO 2'!AC$15,'DATA MAESTRO 2'!AC$16,'DATA MAESTRO 2'!AC$17,'DATA MAESTRO 2'!AC$18,'DATA MAESTRO 2'!AC$19,'DATA MAESTRO 2'!AC$20,'DATA MAESTRO 2'!AC$21,'DATA MAESTRO 2'!AC$22,'DATA MAESTRO 2'!AC$23,'DATA MAESTRO 2'!AC$24,'DATA MAESTRO 2'!AC$25,'DATA MAESTRO 2'!AC$26,'DATA MAESTRO 2'!AC$27,'DATA MAESTRO 2'!AC$28,'DATA MAESTRO 2'!AC$29,'DATA MAESTRO 2'!AC$30,'DATA MAESTRO 2'!AC$31,'DATA MAESTRO 2'!AC$32,'DATA MAESTRO 2'!AC$33,'DATA MAESTRO 2'!AC$34,'DATA MAESTRO 2'!AC$35,'DATA MAESTRO 2'!AC$36,'DATA MAESTRO 2'!AC$37,'DATA MAESTRO 2'!AC$38,'DATA MAESTRO 2'!AC$39,'DATA MAESTRO 2'!AC$40,)","v":0},{"$f":"CHOOSE($B6,'DATA MAESTRO 2'!AD$6,'DATA MAESTRO 2'!AD$7,'DATA MAESTRO 2'!AD$8,'DATA MAESTRO 2'!AD$9,'DATA MAESTRO 2'!AD$10,'DATA MAESTRO 2'!AD$11,'DATA MAESTRO 2'!AD$12,'DATA MAESTRO 2'!AD$13,'DATA MAESTRO 2'!AD$14,'DATA MAESTRO 2'!AD$15,'DATA MAESTRO 2'!AD$16,'DATA MAESTRO 2'!AD$17,'DATA MAESTRO 2'!AD$18,'DATA MAESTRO 2'!AD$19,'DATA MAESTRO 2'!AD$20,'DATA MAESTRO 2'!AD$21,'DATA MAESTRO 2'!AD$22,'DATA MAESTRO 2'!AD$23,'DATA MAESTRO 2'!AD$24,'DATA MAESTRO 2'!AD$25,'DATA MAESTRO 2'!AD$26,'DATA MAESTRO 2'!AD$27,'DATA MAESTRO 2'!AD$28,'DATA MAESTRO 2'!AD$29,'DATA MAESTRO 2'!AD$30,'DATA MAESTRO 2'!AD$31,'DATA MAESTRO 2'!AD$32,'DATA MAESTRO 2'!AD$33,'DATA MAESTRO 2'!AD$34,'DATA MAESTRO 2'!AD$35,'DATA MAESTRO 2'!AD$36,'DATA MAESTRO 2'!AD$37,'DATA MAESTRO 2'!AD$38,'DATA MAESTRO 2'!AD$39,'DATA MAESTRO 2'!AD$40,)","v":0},{"$f":"CHOOSE($B6,'DATA MAESTRO 2'!AE$6,'DATA MAESTRO 2'!AE$7,'DATA MAESTRO 2'!AE$8,'DATA MAESTRO 2'!AE$9,'DATA MAESTRO 2'!AE$10,'DATA MAESTRO 2'!AE$11,'DATA MAESTRO 2'!AE$12,'DATA MAESTRO 2'!AE$13,'DATA MAESTRO 2'!AE$14,'DATA MAESTRO 2'!AE$15,'DATA MAESTRO 2'!AE$16,'DATA MAESTRO 2'!AE$17,'DATA MAESTRO 2'!AE$18,'DATA MAESTRO 2'!AE$19,'DATA MAESTRO 2'!AE$20,'DATA MAESTRO 2'!AE$21,'DATA MAESTRO 2'!AE$22,'DATA MAESTRO 2'!AE$23,'DATA MAESTRO 2'!AE$24,'DATA MAESTRO 2'!AE$25,'DATA MAESTRO 2'!AE$26,'DATA MAESTRO 2'!AE$27,'DATA MAESTRO 2'!AE$28,'DATA MAESTRO 2'!AE$29,'DATA MAESTRO 2'!AE$30,'DATA MAESTRO 2'!AE$31,'DATA MAESTRO 2'!AE$32,'DATA MAESTRO 2'!AE$33,'DATA MAESTRO 2'!AE$34,'DATA MAESTRO 2'!AE$35,'DATA MAESTRO 2'!AE$36,'DATA MAESTRO 2'!AE$37,'DATA MAESTRO 2'!AE$38,'DATA MAESTRO 2'!AE$39,'DATA MAESTRO 2'!AE$40,)","v":0},{"$f":"CHOOSE($B6,'DATA MAESTRO 2'!AF$6,'DATA MAESTRO 2'!AF$7,'DATA MAESTRO 2'!AF$8,'DATA MAESTRO 2'!AF$9,'DATA MAESTRO 2'!AF$10,'DATA MAESTRO 2'!AF$11,'DATA MAESTRO 2'!AF$12,'DATA MAESTRO 2'!AF$13,'DATA MAESTRO 2'!AF$14,'DATA MAESTRO 2'!AF$15,'DATA MAESTRO 2'!AF$16,'DATA MAESTRO 2'!AF$17,'DATA MAESTRO 2'!AF$18,'DATA MAESTRO 2'!AF$19,'DATA MAESTRO 2'!AF$20,'DATA MAESTRO 2'!AF$21,'DATA MAESTRO 2'!AF$22,'DATA MAESTRO 2'!AF$23,'DATA MAESTRO 2'!AF$24,'DATA MAESTRO 2'!AF$25,'DATA MAESTRO 2'!AF$26,'DATA MAESTRO 2'!AF$27,'DATA MAESTRO 2'!AF$28,'DATA MAESTRO 2'!AF$29,'DATA MAESTRO 2'!AF$30,'DATA MAESTRO 2'!AF$31,'DATA MAESTRO 2'!AF$32,'DATA MAESTRO 2'!AF$33,'DATA MAESTRO 2'!AF$34,'DATA MAESTRO 2'!AF$35,'DATA MAESTRO 2'!AF$36,'DATA MAESTRO 2'!AF$37,'DATA MAESTRO 2'!AF$38,'DATA MAESTRO 2'!AF$39,'DATA MAESTRO 2'!AF$40,)","v":0},{"$f":"CHOOSE($B6,'DATA MAESTRO 2'!AG$6,'DATA MAESTRO 2'!AG$7,'DATA MAESTRO 2'!AG$8,'DATA MAESTRO 2'!AG$9,'DATA MAESTRO 2'!AG$10,'DATA MAESTRO 2'!AG$11,'DATA MAESTRO 2'!AG$12,'DATA MAESTRO 2'!AG$13,'DATA MAESTRO 2'!AG$14,'DATA MAESTRO 2'!AG$15,'DATA MAESTRO 2'!AG$16,'DATA MAESTRO 2'!AG$17,'DATA MAESTRO 2'!AG$18,'DATA MAESTRO 2'!AG$19,'DATA MAESTRO 2'!AG$20,'DATA MAESTRO 2'!AG$21,'DATA MAESTRO 2'!AG$22,'DATA MAESTRO 2'!AG$23,'DATA MAESTRO 2'!AG$24,'DATA MAESTRO 2'!AG$25,'DATA MAESTRO 2'!AG$26,'DATA MAESTRO 2'!AG$27,'DATA MAESTRO 2'!AG$28,'DATA MAESTRO 2'!AG$29,'DATA MAESTRO 2'!AG$30,'DATA MAESTRO 2'!AG$31,'DATA MAESTRO 2'!AG$32,'DATA MAESTRO 2'!AG$33,'DATA MAESTRO 2'!AG$34,'DATA MAESTRO 2'!AG$35,'DATA MAESTRO 2'!AG$36,'DATA MAESTRO 2'!AG$37,'DATA MAESTRO 2'!AG$38,'DATA MAESTRO 2'!AG$39,'DATA MAESTRO 2'!AG$40,)","v":0},{"$f":"CHOOSE($B6,'DATA MAESTRO 2'!AH$6,'DATA MAESTRO 2'!AH$7,'DATA MAESTRO 2'!AH$8,'DATA MAESTRO 2'!AH$9,'DATA MAESTRO 2'!AH$10,'DATA MAESTRO 2'!AH$11,'DATA MAESTRO 2'!AH$12,'DATA MAESTRO 2'!AH$13,'DATA MAESTRO 2'!AH$14,'DATA MAESTRO 2'!AH$15,'DATA MAESTRO 2'!AH$16,'DATA MAESTRO 2'!AH$17,'DATA MAESTRO 2'!AH$18,'DATA MAESTRO 2'!AH$19,'DATA MAESTRO 2'!AH$20,'DATA MAESTRO 2'!AH$21,'DATA MAESTRO 2'!AH$22,'DATA MAESTRO 2'!AH$23,'DATA MAESTRO 2'!AH$24,'DATA MAESTRO 2'!AH$25,'DATA MAESTRO 2'!AH$26,'DATA MAESTRO 2'!AH$27,'DATA MAESTRO 2'!AH$28,'DATA MAESTRO 2'!AH$29,'DATA MAESTRO 2'!AH$30,'DATA MAESTRO 2'!AH$31,'DATA MAESTRO 2'!AH$32,'DATA MAESTRO 2'!AH$33,'DATA MAESTRO 2'!AH$34,'DATA MAESTRO 2'!AH$35,'DATA MAESTRO 2'!AH$36,'DATA MAESTRO 2'!AH$37,'DATA MAESTRO 2'!AH$38,'DATA MAESTRO 2'!AH$39,'DATA MAESTRO 2'!AH$40,)","v":0},{"$f":"CHOOSE($B6,'DATA MAESTRO 2'!AI$6,'DATA MAESTRO 2'!AI$7,'DATA MAESTRO 2'!AI$8,'DATA MAESTRO 2'!AI$9,'DATA MAESTRO 2'!AI$10,'DATA MAESTRO 2'!AI$11,'DATA MAESTRO 2'!AI$12,'DATA MAESTRO 2'!AI$13,'DATA MAESTRO 2'!AI$14,'DATA MAESTRO 2'!AI$15,'DATA MAESTRO 2'!AI$16,'DATA MAESTRO 2'!AI$17,'DATA MAESTRO 2'!AI$18,'DATA MAESTRO 2'!AI$19,'DATA MAESTRO 2'!AI$20,'DATA MAESTRO 2'!AI$21,'DATA MAESTRO 2'!AI$22,'DATA MAESTRO 2'!AI$23,'DATA MAESTRO 2'!AI$24,'DATA MAESTRO 2'!AI$25,'DATA MAESTRO 2'!AI$26,'DATA MAESTRO 2'!AI$27,'DATA MAESTRO 2'!AI$28,'DATA MAESTRO 2'!AI$29,'DATA MAESTRO 2'!AI$30,'DATA MAESTRO 2'!AI$31,'DATA MAESTRO 2'!AI$32,'DATA MAESTRO 2'!AI$33,'DATA MAESTRO 2'!AI$34,'DATA MAESTRO 2'!AI$35,'DATA MAESTRO 2'!AI$36,'DATA MAESTRO 2'!AI$37,'DATA MAESTRO 2'!AI$38,'DATA MAESTRO 2'!AI$39,'DATA MAESTRO 2'!AI$40,)","v":0},{"$f":"CHOOSE($B6,'DATA MAESTRO 2'!AJ$6,'DATA MAESTRO 2'!AJ$7,'DATA MAESTRO 2'!AJ$8,'DATA MAESTRO 2'!AJ$9,'DATA MAESTRO 2'!AJ$10,'DATA MAESTRO 2'!AJ$11,'DATA MAESTRO 2'!AJ$12,'DATA MAESTRO 2'!AJ$13,'DATA MAESTRO 2'!AJ$14,'DATA MAESTRO 2'!AJ$15,'DATA MAESTRO 2'!AJ$16,'DATA MAESTRO 2'!AJ$17,'DATA MAESTRO 2'!AJ$18,'DATA MAESTRO 2'!AJ$19,'DATA MAESTRO 2'!AJ$20,'DATA MAESTRO 2'!AJ$21,'DATA MAESTRO 2'!AJ$22,'DATA MAESTRO 2'!AJ$23,'DATA MAESTRO 2'!AJ$24,'DATA MAESTRO 2'!AJ$25,'DATA MAESTRO 2'!AJ$26,'DATA MAESTRO 2'!AJ$27,'DATA MAESTRO 2'!AJ$28,'DATA MAESTRO 2'!AJ$29,'DATA MAESTRO 2'!AJ$30,'DATA MAESTRO 2'!AJ$31,'DATA MAESTRO 2'!AJ$32,'DATA MAESTRO 2'!AJ$33,'DATA MAESTRO 2'!AJ$34,'DATA MAESTRO 2'!AJ$35,'DATA MAESTRO 2'!AJ$36,'DATA MAESTRO 2'!AJ$37,'DATA MAESTRO 2'!AJ$38,'DATA MAESTRO 2'!AJ$39,'DATA MAESTRO 2'!AJ$40,)","v":0}]
[5,13,{"$f":"+IF(AND(B7>=1,B7<=36),VLOOKUP(B7,'DATA MAESTRO 2'!$A$6:$B$40,2),0)","v":"CARBONATO DE CALCIO"},{"$f":"+CHOOSE($B7,'DATA MAESTRO 2'!C$6,'DATA MAESTRO 2'!C$7,'DATA MAESTRO 2'!C$8,'DATA MAESTRO 2'!C$9,'DATA MAESTRO 2'!C$10,'DATA MAESTRO 2'!C$11,'DATA MAESTRO 2'!C$12,'DATA MAESTRO 2'!C$13,'DATA MAESTRO 2'!C$14,'DATA MAESTRO 2'!C$15,'DATA MAESTRO 2'!C$16,'DATA MAESTRO 2'!C$17,'DATA MAESTRO 2'!C$18,'DATA MAESTRO 2'!C$19,'DATA MAESTRO 2'!C$20,'DATA MAESTRO 2'!C$21,'DATA MAESTRO 2'!C$22,'DATA MAESTRO 2'!C$23,'DATA MAESTRO 2'!C$24,'DATA MAESTRO 2'!C$25,'DATA MAESTRO 2'!C$26,'DATA MAESTRO 2'!C$27,'DATA MAESTRO 2'!C$28,'DATA MAESTRO 2'!C$29,'DATA MAESTRO 2'!C$30,'DATA MAESTRO 2'!C$31,'DATA MAESTRO 2'!C$32,'DATA MAESTRO 2'!C$33,'DATA MAESTRO 2'!C$34,'DATA MAESTRO 2'!C$35,'DATA MAESTRO 2'!C$36,'DATA MAESTRO 2'!C$37,'DATA MAESTRO 2'!C$38,'DATA MAESTRO 2'!C$39,'DATA MAESTRO 2'!C$40,)","v":0},{"$f":"CHOOSE($B7,'DATA MAESTRO 2'!D$6,'DATA MAESTRO 2'!D$7,'DATA MAESTRO 2'!D$8,'DATA MAESTRO 2'!D$9,'DATA MAESTRO 2'!D$10,'DATA MAESTRO 2'!D$11,'DATA MAESTRO 2'!D$12,'DATA MAESTRO 2'!D$13,'DATA MAESTRO 2'!D$14,'DATA MAESTRO 2'!D$15,'DATA MAESTRO 2'!D$16,'DATA MAESTRO 2'!D$17,'DATA MAESTRO 2'!D$18,'DATA MAESTRO 2'!D$19,'DATA MAESTRO 2'!D$20,'DATA MAESTRO 2'!D$21,'DATA MAESTRO 2'!D$22,'DATA MAESTRO 2'!D$23,'DATA MAESTRO 2'!D$24,'DATA MAESTRO 2'!D$25,'DATA MAESTRO 2'!D$26,'DATA MAESTRO 2'!D$27,'DATA MAESTRO 2'!D$28,'DATA MAESTRO 2'!D$29,'DATA MAESTRO 2'!D$30,'DATA MAESTRO 2'!D$31,'DATA MAESTRO 2'!D$32,'DATA MAESTRO 2'!D$33,'DATA MAESTRO 2'!D$34,'DATA MAESTRO 2'!D$35,'DATA MAESTRO 2'!D$36,'DATA MAESTRO 2'!D$37,'DATA MAESTRO 2'!D$38,'DATA MAESTRO 2'!D$39,'DATA MAESTRO 2'!D$40,)","v":0.98},{"$f":"CHOOSE(B7,'DATA MAESTRO 2'!E$6,'DATA MAESTRO 2'!E$7,'DATA MAESTRO 2'!E$8,'DATA MAESTRO 2'!E$9,'DATA MAESTRO 2'!E$10,'DATA MAESTRO 2'!E$11,'DATA MAESTRO 2'!E$12,'DATA MAESTRO 2'!E$13,'DATA MAESTRO 2'!E$14,'DATA MAESTRO 2'!E$15,'DATA MAESTRO 2'!E$16,'DATA MAESTRO 2'!E$17,'DATA MAESTRO 2'!E$18,'DATA MAESTRO 2'!E$19,'DATA MAESTRO 2'!E$20,'DATA MAESTRO 2'!E$21,'DATA MAESTRO 2'!E$22,'DATA MAESTRO 2'!E$23,'DATA MAESTRO 2'!E$24,'DATA MAESTRO 2'!E$25,'DATA MAESTRO 2'!E$26,'DATA MAESTRO 2'!E$27,'DATA MAESTRO 2'!E$28,'DATA MAESTRO 2'!E$29,'DATA MAESTRO 2'!E$30,'DATA MAESTRO 2'!E$31,'DATA MAESTRO 2'!E$32,'DATA MAESTRO 2'!E$33,'DATA MAESTRO 2'!E$34,'DATA MAESTRO 2'!E$35,'DATA MAESTRO 2'!E$36,'DATA MAESTRO 2'!E$37,'DATA MAESTRO 2'!E$38,'DATA MAESTRO 2'!E$39,'DATA MAESTRO 2'!E$40,)","v":0},{"$f":"CHOOSE($B7,'DATA MAESTRO 2'!F$6,'DATA MAESTRO 2'!F$7,'DATA MAESTRO 2'!F$8,'DATA MAESTRO 2'!F$9,'DATA MAESTRO 2'!F$10,'DATA MAESTRO 2'!F$11,'DATA MAESTRO 2'!F$12,'DATA MAESTRO 2'!F$13,'DATA MAESTRO 2'!F$14,'DATA MAESTRO 2'!F$15,'DATA MAESTRO 2'!F$16,'DATA MAESTRO 2'!F$17,'DATA MAESTRO 2'!F$18,'DATA MAESTRO 2'!F$19,'DATA MAESTRO 2'!F$20,'DATA MAESTRO 2'!F$21,'DATA MAESTRO 2'!F$22,'DATA MAESTRO 2'!F$23,'DATA MAESTRO 2'!F$24,'DATA MAESTRO 2'!F$25,'DATA MAESTRO 2'!F$26,'DATA MAESTRO 2'!F$27,'DATA MAESTRO 2'!F$28,'DATA MAESTRO 2'!F$29,'DATA MAESTRO 2'!F$30,'DATA MAESTRO 2'!F$31,'DATA MAESTRO 2'!F$32,'DATA MAESTRO 2'!F$33,'DATA MAESTRO 2'!F$34,'DATA MAESTRO 2'!F$35,'DATA MAESTRO 2'!F$36,'DATA MAESTRO 2'!F$37,'DATA MAESTRO 2'!F$38,'DATA MAESTRO 2'!F$39,'DATA MAESTRO 2'!F$40,)","v":0},{"$f":"CHOOSE($B7,'DATA MAESTRO 2'!G$6,'DATA MAESTRO 2'!G$7,'DATA MAESTRO 2'!G$8,'DATA MAESTRO 2'!G$9,'DATA MAESTRO 2'!G$10,'DATA MAESTRO 2'!G$11,'DATA MAESTRO 2'!G$12,'DATA MAESTRO 2'!G$13,'DATA MAESTRO 2'!G$14,'DATA MAESTRO 2'!G$15,'DATA MAESTRO 2'!G$16,'DATA MAESTRO 2'!G$17,'DATA MAESTRO 2'!G$18,'DATA MAESTRO 2'!G$19,'DATA MAESTRO 2'!G$20,'DATA MAESTRO 2'!G$21,'DATA MAESTRO 2'!G$22,'DATA MAESTRO 2'!G$23,'DATA MAESTRO 2'!G$24,'DATA MAESTRO 2'!G$25,'DATA MAESTRO 2'!G$26,'DATA MAESTRO 2'!G$27,'DATA MAESTRO 2'!G$28,'DATA MAESTRO 2'!G$29,'DATA MAESTRO 2'!G$30,'DATA MAESTRO 2'!G$31,'DATA MAESTRO 2'!G$32,'DATA MAESTRO 2'!G$33,'DATA MAESTRO 2'!G$34,'DATA MAESTRO 2'!G$35,'DATA MAESTRO 2'!G$36,'DATA MAESTRO 2'!G$37,'DATA MAESTRO 2'!G$38,'DATA MAESTRO 2'!G$39,'DATA MAESTRO 2'!G$40,)","v":0},{"$f":"CHOOSE($B7,'DATA MAESTRO 2'!H$6,'DATA MAESTRO 2'!H$7,'DATA MAESTRO 2'!H$8,'DATA MAESTRO 2'!H$9,'DATA MAESTRO 2'!H$10,'DATA MAESTRO 2'!H$11,'DATA MAESTRO 2'!H$12,'DATA MAESTRO 2'!H$13,'DATA MAESTRO 2'!H$14,'DATA MAESTRO 2'!H$15,'DATA MAESTRO 2'!H$16,'DATA MAESTRO 2'!H$17,'DATA MAESTRO 2'!H$18,'DATA MAESTRO 2'!H$19,'DATA MAESTRO 2'!H$20,'DATA MAESTRO 2'!H$21,'DATA MAESTRO 2'!H$22,'DATA MAESTRO 2'!H$23,'DATA MAESTRO 2'!H$24,'DATA MAESTRO 2'!H$25,'DATA MAESTRO 2'!H$26,'DATA MAESTRO 2'!H$27,'DATA MAESTRO 2'!H$28,'DATA MAESTRO 2'!H$29,'DATA MAESTRO 2'!H$30,'DATA MAESTRO 2'!H$31,'DATA MAESTRO 2'!H$32,'DATA MAESTRO 2'!H$33,'DATA MAESTRO 2'!H$34,'DATA MAESTRO 2'!H$35,'DATA MAESTRO 2'!H$36,'DATA MAESTRO 2'!H$37,'DATA MAESTRO 2'!H$38,'DATA MAESTRO 2'!H$39,'DATA MAESTRO 2'!H$40,)","v":0},{"$f":"CHOOSE($B7,'DATA MAESTRO 2'!I$6,'DATA MAESTRO 2'!I$7,'DATA MAESTRO 2'!I$8,'DATA MAESTRO 2'!I$9,'DATA MAESTRO 2'!I$10,'DATA MAESTRO 2'!I$11,'DATA MAESTRO 2'!I$12,'DATA MAESTRO 2'!I$13,'DATA MAESTRO 2'!I$14,'DATA MAESTRO 2'!I$15,'DATA MAESTRO 2'!I$16,'DATA MAESTRO 2'!I$17,'DATA MAESTRO 2'!I$18,'DATA MAESTRO 2'!I$19,'DATA MAESTRO 2'!I$20,'DATA MAESTRO 2'!I$21,'DATA MAESTRO 2'!I$22,'DATA MAESTRO 2'!I$23,'DATA MAESTRO 2'!I$24,'DATA MAESTRO 2'!I$25,'DATA MAESTRO 2'!I$26,'DATA MAESTRO 2'!I$27,'DATA MAESTRO 2'!I$28,'DATA MAESTRO 2'!I$29,'DATA MAESTRO 2'!I$30,'DATA MAESTRO 2'!I$31,'DATA MAESTRO 2'!I$32,'DATA MAESTRO 2'!I$33,'DATA MAESTRO 2'!I$34,'DATA MAESTRO 2'!I$35,'DATA MAESTRO 2'!I$36,'DATA MAESTRO 2'!I$37,'DATA MAESTRO 2'!I$38,'DATA MAESTRO 2'!I$39,'DATA MAESTRO 2'!I$40,)","v":0},{"$f":"CHOOSE($B7,'DATA MAESTRO 2'!J$6,'DATA MAESTRO 2'!J$7,'DATA MAESTRO 2'!J$8,'DATA MAESTRO 2'!J$9,'DATA MAESTRO 2'!J$10,'DATA MAESTRO 2'!J$11,'DATA MAESTRO 2'!J$12,'DATA MAESTRO 2'!J$13,'DATA MAESTRO 2'!J$14,'DATA MAESTRO 2'!J$15,'DATA MAESTRO 2'!J$16,'DATA MAESTRO 2'!J$17,'DATA MAESTRO 2'!J$18,'DATA MAESTRO 2'!J$19,'DATA MAESTRO 2'!J$20,'DATA MAESTRO 2'!J$21,'DATA MAESTRO 2'!J$22,'DATA MAESTRO 2'!J$23,'DATA MAESTRO 2'!J$24,'DATA MAESTRO 2'!J$25,'DATA MAESTRO 2'!J$26,'DATA MAESTRO 2'!J$27,'DATA MAESTRO 2'!J$28,'DATA MAESTRO 2'!J$29,'DATA MAESTRO 2'!J$30,'DATA MAESTRO 2'!J$31,'DATA MAESTRO 2'!J$32,'DATA MAESTRO 2'!J$33,'DATA MAESTRO 2'!J$34,'DATA MAESTRO 2'!J$35,'DATA MAESTRO 2'!J$36,'DATA MAESTRO 2'!J$37,'DATA MAESTRO 2'!J$38,'DATA MAESTRO 2'!J$39,'DATA MAESTRO 2'!J$40,)","v":0.38},{"$f":"CHOOSE($B7,'DATA MAESTRO 2'!K$6,'DATA MAESTRO 2'!K$7,'DATA MAESTRO 2'!K$8,'DATA MAESTRO 2'!K$9,'DATA MAESTRO 2'!K$10,'DATA MAESTRO 2'!K$11,'DATA MAESTRO 2'!K$12,'DATA MAESTRO 2'!K$13,'DATA MAESTRO 2'!K$14,'DATA MAESTRO 2'!K$15,'DATA MAESTRO 2'!K$16,'DATA MAESTRO 2'!K$17,'DATA MAESTRO 2'!K$18,'DATA MAESTRO 2'!K$19,'DATA MAESTRO 2'!K$20,'DATA MAESTRO 2'!K$21,'DATA MAESTRO 2'!K$22,'DATA MAESTRO 2'!K$23,'DATA MAESTRO 2'!K$24,'DATA MAESTRO 2'!K$25,'DATA MAESTRO 2'!K$26,'DATA MAESTRO 2'!K$27,'DATA MAESTRO 2'!K$28,'DATA MAESTRO 2'!K$29,'DATA MAESTRO 2'!K$30,'DATA MAESTRO 2'!K$31,'DATA MAESTRO 2'!K$32,'DATA MAESTRO 2'!K$33,'DATA MAESTRO 2'!K$34,'DATA MAESTRO 2'!K$35,'DATA MAESTRO 2'!K$36,'DATA MAESTRO 2'!K$37,'DATA MAESTRO 2'!K$38,'DATA MAESTRO 2'!K$39,'DATA MAESTRO 2'!K$40,)","v":0},{"$f":"CHOOSE($B7,'DATA MAESTRO 2'!L$6,'DATA MAESTRO 2'!L$7,'DATA MAESTRO 2'!L$8,'DATA MAESTRO 2'!L$9,'DATA MAESTRO 2'!L$10,'DATA MAESTRO 2'!L$11,'DATA MAESTRO 2'!L$12,'DATA MAESTRO 2'!L$13,'DATA MAESTRO 2'!L$14,'DATA MAESTRO 2'!L$15,'DATA MAESTRO 2'!L$16,'DATA MAESTRO 2'!L$17,'DATA MAESTRO 2'!L$18,'DATA MAESTRO 2'!L$19,'DATA MAESTRO 2'!L$20,'DATA MAESTRO 2'!L$21,'DATA MAESTRO 2'!L$22,'DATA MAESTRO 2'!L$23,'DATA MAESTRO 2'!L$24,'DATA MAESTRO 2'!L$25,'DATA MAESTRO 2'!L$26,'DATA MAESTRO 2'!L$27,'DATA MAESTRO 2'!L$28,'DATA MAESTRO 2'!L$29,'DATA MAESTRO 2'!L$30,'DATA MAESTRO 2'!L$31,'DATA MAESTRO 2'!L$32,'DATA MAESTRO 2'!L$33,'DATA MAESTRO 2'!L$34,'DATA MAESTRO 2'!L$35,'DATA MAESTRO 2'!L$36,'DATA MAESTRO 2'!L$37,'DATA MAESTRO 2'!L$38,'DATA MAESTRO 2'!L$39,'DATA MAESTRO 2'!L$40,)","v":0},{"$f":"CHOOSE($B7,'DATA MAESTRO 2'!M$6,'DATA MAESTRO 2'!M$7,'DATA MAESTRO 2'!M$8,'DATA MAESTRO 2'!M$9,'DATA MAESTRO 2'!M$10,'DATA MAESTRO 2'!M$11,'DATA MAESTRO 2'!M$12,'DATA MAESTRO 2'!M$13,'DATA MAESTRO 2'!M$14,'DATA MAESTRO 2'!M$15,'DATA MAESTRO 2'!M$16,'DATA MAESTRO 2'!M$17,'DATA MAESTRO 2'!M$18,'DATA MAESTRO 2'!M$19,'DATA MAESTRO 2'!M$20,'DATA MAESTRO 2'!M$21,'DATA MAESTRO 2'!M$22,'DATA MAESTRO 2'!M$23,'DATA MAESTRO 2'!M$24,'DATA MAESTRO 2'!M$25,'DATA MAESTRO 2'!M$26,'DATA MAESTRO 2'!M$27,'DATA MAESTRO 2'!M$28,'DATA MAESTRO 2'!M$29,'DATA MAESTRO 2'!M$30,'DATA MAESTRO 2'!M$31,'DATA MAESTRO 2'!M$32,'DATA MAESTRO 2'!M$33,'DATA MAESTRO 2'!M$34,'DATA MAESTRO 2'!M$35,'DATA MAESTRO 2'!M$36,'DATA MAESTRO 2'!M$37,'DATA MAESTRO 2'!M$38,'DATA MAESTRO 2'!M$39,'DATA MAESTRO 2'!M$40,)","v":0},{"$f":"CHOOSE($B7,'DATA MAESTRO 2'!N$6,'DATA MAESTRO 2'!N$7,'DATA MAESTRO 2'!N$8,'DATA MAESTRO 2'!N$9,'DATA MAESTRO 2'!N$10,'DATA MAESTRO 2'!N$11,'DATA MAESTRO 2'!N$12,'DATA MAESTRO 2'!N$13,'DATA MAESTRO 2'!N$14,'DATA MAESTRO 2'!N$15,'DATA MAESTRO 2'!N$16,'DATA MAESTRO 2'!N$17,'DATA MAESTRO 2'!N$18,'DATA MAESTRO 2'!N$19,'DATA MAESTRO 2'!N$20,'DATA MAESTRO 2'!N$21,'DATA MAESTRO 2'!N$22,'DATA MAESTRO 2'!N$23,'DATA MAESTRO 2'!N$24,'DATA MAESTRO 2'!N$25,'DATA MAESTRO 2'!N$26,'DATA MAESTRO 2'!N$27,'DATA MAESTRO 2'!N$28,'DATA MAESTRO 2'!N$29,'DATA MAESTRO 2'!N$30,'DATA MAESTRO 2'!N$31,'DATA MAESTRO 2'!N$32,'DATA MAESTRO 2'!N$33,'DATA MAESTRO 2'!N$34,'DATA MAESTRO 2'!N$35,'DATA MAESTRO 2'!N$36,'DATA MAESTRO 2'!N$37,'DATA MAESTRO 2'!N$38,'DATA MAESTRO 2'!N$39,'DATA MAESTRO 2'!N$40,)","v":0},{"$f":"CHOOSE($B7,'DATA MAESTRO 2'!O$6,'DATA MAESTRO 2'!O$7,'DATA MAESTRO 2'!O$8,'DATA MAESTRO 2'!O$9,'DATA MAESTRO 2'!O$10,'DATA MAESTRO 2'!O$11,'DATA MAESTRO 2'!O$12,'DATA MAESTRO 2'!O$13,'DATA MAESTRO 2'!O$14,'DATA MAESTRO 2'!O$15,'DATA MAESTRO 2'!O$16,'DATA MAESTRO 2'!O$17,'DATA MAESTRO 2'!O$18,'DATA MAESTRO 2'!O$19,'DATA MAESTRO 2'!O$20,'DATA MAESTRO 2'!O$21,'DATA MAESTRO 2'!O$22,'DATA MAESTRO 2'!O$23,'DATA MAESTRO 2'!O$24,'DATA MAESTRO 2'!O$25,'DATA MAESTRO 2'!O$26,'DATA MAESTRO 2'!O$27,'DATA MAESTRO 2'!O$28,'DATA MAESTRO 2'!O$29,'DATA MAESTRO 2'!O$30,'DATA MAESTRO 2'!O$31,'DATA MAESTRO 2'!O$32,'DATA MAESTRO 2'!O$33,'DATA MAESTRO 2'!O$34,'DATA MAESTRO 2'!O$35,'DATA MAESTRO 2'!O$36,'DATA MAESTRO 2'!O$37,'DATA MAESTRO 2'!O$38,'DATA MAESTRO 2'!O$39,'DATA MAESTRO 2'!O$40,)","v":0},{"$f":"CHOOSE($B7,'DATA MAESTRO 2'!P$6,'DATA MAESTRO 2'!P$7,'DATA MAESTRO 2'!P$8,'DATA MAESTRO 2'!P$9,'DATA MAESTRO 2'!P$10,'DATA MAESTRO 2'!P$11,'DATA MAESTRO 2'!P$12,'DATA MAESTRO 2'!P$13,'DATA MAESTRO 2'!P$14,'DATA MAESTRO 2'!P$15,'DATA MAESTRO 2'!P$16,'DATA MAESTRO 2'!P$17,'DATA MAESTRO 2'!P$18,'DATA MAESTRO 2'!P$19,'DATA MAESTRO 2'!P$20,'DATA MAESTRO 2'!P$21,'DATA MAESTRO 2'!P$22,'DATA MAESTRO 2'!P$23,'DATA MAESTRO 2'!P$24,'DATA MAESTRO 2'!P$25,'DATA MAESTRO 2'!P$26,'DATA MAESTRO 2'!P$27,'DATA MAESTRO 2'!P$28,'DATA MAESTRO 2'!P$29,'DATA MAESTRO 2'!P$30,'DATA MAESTRO 2'!P$31,'DATA MAESTRO 2'!P$32,'DATA MAESTRO 2'!P$33,'DATA MAESTRO 2'!P$34,'DATA MAESTRO 2'!P$35,'DATA MAESTRO 2'!P$36,'DATA MAESTRO 2'!P$37,'DATA MAESTRO 2'!P$38,'DATA MAESTRO 2'!P$39,'DATA MAESTRO 2'!P$40,)","v":0},{"$f":"CHOOSE($B7,'DATA MAESTRO 2'!Q$6,'DATA MAESTRO 2'!Q$7,'DATA MAESTRO 2'!Q$8,'DATA MAESTRO 2'!Q$9,'DATA MAESTRO 2'!Q$10,'DATA MAESTRO 2'!Q$11,'DATA MAESTRO 2'!Q$12,'DATA MAESTRO 2'!Q$13,'DATA MAESTRO 2'!Q$14,'DATA MAESTRO 2'!Q$15,'DATA MAESTRO 2'!Q$16,'DATA MAESTRO 2'!Q$17,'DATA MAESTRO 2'!Q$18,'DATA MAESTRO 2'!Q$19,'DATA MAESTRO 2'!Q$20,'DATA MAESTRO 2'!Q$21,'DATA MAESTRO 2'!Q$22,'DATA MAESTRO 2'!Q$23,'DATA MAESTRO 2'!Q$24,'DATA MAESTRO 2'!Q$25,'DATA MAESTRO 2'!Q$26,'DATA MAESTRO 2'!Q$27,'DATA MAESTRO 2'!Q$28,'DATA MAESTRO 2'!Q$29,'DATA MAESTRO 2'!Q$30,'DATA MAESTRO 2'!Q$31,'DATA MAESTRO 2'!Q$32,'DATA MAESTRO 2'!Q$33,'DATA MAESTRO 2'!Q$34,'DATA MAESTRO 2'!Q$35,'DATA MAESTRO 2'!Q$36,'DATA MAESTRO 2'!Q$37,'DATA MAESTRO 2'!Q$38,'DATA MAESTRO 2'!Q$39,'DATA MAESTRO 2'!Q$40,)","v":0},{"$f":"CHOOSE($B7,'DATA MAESTRO 2'!R$6,'DATA MAESTRO 2'!R$7,'DATA MAESTRO 2'!R$8,'DATA MAESTRO 2'!R$9,'DATA MAESTRO 2'!R$10,'DATA MAESTRO 2'!R$11,'DATA MAESTRO 2'!R$12,'DATA MAESTRO 2'!R$13,'DATA MAESTRO 2'!R$14,'DATA MAESTRO 2'!R$15,'DATA MAESTRO 2'!R$16,'DATA MAESTRO 2'!R$17,'DATA MAESTRO 2'!R$18,'DATA MAESTRO 2'!R$19,'DATA MAESTRO 2'!R$20,'DATA MAESTRO 2'!R$21,'DATA MAESTRO 2'!R$22,'DATA MAESTRO 2'!R$23,'DATA MAESTRO 2'!R$24,'DATA MAESTRO 2'!R$25,'DATA MAESTRO 2'!R$26,'DATA MAESTRO 2'!R$27,'DATA MAESTRO 2'!R$28,'DATA MAESTRO 2'!R$29,'DATA MAESTRO 2'!R$30,'DATA MAESTRO 2'!R$31,'DATA MAESTRO 2'!R$32,'DATA MAESTRO 2'!R$33,'DATA MAESTRO 2'!R$34,'DATA MAESTRO 2'!R$35,'DATA MAESTRO 2'!R$36,'DATA MAESTRO 2'!R$37,'DATA MAESTRO 2'!R$38,'DATA MAESTRO 2'!R$39,'DATA MAESTRO 2'!R$40,)","v":0},{"$f":"CHOOSE($B7,'DATA MAESTRO 2'!S$6,'DATA MAESTRO 2'!S$7,'DATA MAESTRO 2'!S$8,'DATA MAESTRO 2'!S$9,'DATA MAESTRO 2'!S$10,'DATA MAESTRO 2'!S$11,'DATA MAESTRO 2'!S$12,'DATA MAESTRO 2'!S$13,'DATA MAESTRO 2'!S$14,'DATA MAESTRO 2'!S$15,'DATA MAESTRO 2'!S$16,'DATA MAESTRO 2'!S$17,'DATA MAESTRO 2'!S$18,'DATA MAESTRO 2'!S$19,'DATA MAESTRO 2'!S$20,'DATA MAESTRO 2'!S$21,'DATA MAESTRO 2'!S$22,'DATA MAESTRO 2'!S$23,'DATA MAESTRO 2'!S$24,'DATA MAESTRO 2'!S$25,'DATA MAESTRO 2'!S$26,'DATA MAESTRO 2'!S$27,'DATA MAESTRO 2'!S$28,'DATA MAESTRO 2'!S$29,'DATA MAESTRO 2'!S$30,'DATA MAESTRO 2'!S$31,'DATA MAESTRO 2'!S$32,'DATA MAESTRO 2'!S$33,'DATA MAESTRO 2'!S$34,'DATA MAESTRO 2'!S$35,'DATA MAESTRO 2'!S$36,'DATA MAESTRO 2'!S$37,'DATA MAESTRO 2'!S$38,'DATA MAESTRO 2'!S$39,'DATA MAESTRO 2'!S$40,)","v":0},{"$f":"CHOOSE($B7,'DATA MAESTRO 2'!T$6,'DATA MAESTRO 2'!T$7,'DATA MAESTRO 2'!T$8,'DATA MAESTRO 2'!T$9,'DATA MAESTRO 2'!T$10,'DATA MAESTRO 2'!T$11,'DATA MAESTRO 2'!T$12,'DATA MAESTRO 2'!T$13,'DATA MAESTRO 2'!T$14,'DATA MAESTRO 2'!T$15,'DATA MAESTRO 2'!T$16,'DATA MAESTRO 2'!T$17,'DATA MAESTRO 2'!T$18,'DATA MAESTRO 2'!T$19,'DATA MAESTRO 2'!T$20,'DATA MAESTRO 2'!T$21,'DATA MAESTRO 2'!T$22,'DATA MAESTRO 2'!T$23,'DATA MAESTRO 2'!T$24,'DATA MAESTRO 2'!T$25,'DATA MAESTRO 2'!T$26,'DATA MAESTRO 2'!T$27,'DATA MAESTRO 2'!T$28,'DATA MAESTRO 2'!T$29,'DATA MAESTRO 2'!T$30,'DATA MAESTRO 2'!T$31,'DATA MAESTRO 2'!T$32,'DATA MAESTRO 2'!T$33,'DATA MAESTRO 2'!T$34,'DATA MAESTRO 2'!T$35,'DATA MAESTRO 2'!T$36,'DATA MAESTRO 2'!T$37,'DATA MAESTRO 2'!T$38,'DATA MAESTRO 2'!T$39,'DATA MAESTRO 2'!T$40,)","v":0},{"$f":"CHOOSE($B7,'DATA MAESTRO 2'!U$6,'DATA MAESTRO 2'!U$7,'DATA MAESTRO 2'!U$8,'DATA MAESTRO 2'!U$9,'DATA MAESTRO 2'!U$10,'DATA MAESTRO 2'!U$11,'DATA MAESTRO 2'!U$12,'DATA MAESTRO 2'!U$13,'DATA MAESTRO 2'!U$14,'DATA MAESTRO 2'!U$15,'DATA MAESTRO 2'!U$16,'DATA MAESTRO 2'!U$17,'DATA MAESTRO 2'!U$18,'DATA MAESTRO 2'!U$19,'DATA MAESTRO 2'!U$20,'DATA MAESTRO 2'!U$21,'DATA MAESTRO 2'!U$22,'DATA MAESTRO 2'!U$23,'DATA MAESTRO 2'!U$24,'DATA MAESTRO 2'!U$25,'DATA MAESTRO 2'!U$26,'DATA MAESTRO 2'!U$27,'DATA MAESTRO 2'!U$28,'DATA MAESTRO 2'!U$29,'DATA MAESTRO 2'!U$30,'DATA MAESTRO 2'!U$31,'DATA MAESTRO 2'!U$32,'DATA MAESTRO 2'!U$33,'DATA MAESTRO 2'!U$34,'DATA MAESTRO 2'!U$35,'DATA MAESTRO 2'!U$36,'DATA MAESTRO 2'!U$37,'DATA MAESTRO 2'!U$38,'DATA MAESTRO 2'!U$39,'DATA MAESTRO 2'!U$40,)","v":0},{"$f":"CHOOSE($B7,'DATA MAESTRO 2'!V$6,'DATA MAESTRO 2'!V$7,'DATA MAESTRO 2'!V$8,'DATA MAESTRO 2'!V$9,'DATA MAESTRO 2'!V$10,'DATA MAESTRO 2'!V$11,'DATA MAESTRO 2'!V$12,'DATA MAESTRO 2'!V$13,'DATA MAESTRO 2'!V$14,'DATA MAESTRO 2'!V$15,'DATA MAESTRO 2'!V$16,'DATA MAESTRO 2'!V$17,'DATA MAESTRO 2'!V$18,'DATA MAESTRO 2'!V$19,'DATA MAESTRO 2'!V$20,'DATA MAESTRO 2'!V$21,'DATA MAESTRO 2'!V$22,'DATA MAESTRO 2'!V$23,'DATA MAESTRO 2'!V$24,'DATA MAESTRO 2'!V$25,'DATA MAESTRO 2'!V$26,'DATA MAESTRO 2'!V$27,'DATA MAESTRO 2'!V$28,'DATA MAESTRO 2'!V$29,'DATA MAESTRO 2'!V$30,'DATA MAESTRO 2'!V$31,'DATA MAESTRO 2'!V$32,'DATA MAESTRO 2'!V$33,'DATA MAESTRO 2'!V$34,'DATA MAESTRO 2'!V$35,'DATA MAESTRO 2'!V$36,'DATA MAESTRO 2'!V$37,'DATA MAESTRO 2'!V$38,'DATA MAESTRO 2'!V$39,'DATA MAESTRO 2'!V$40,)","v":0},{"$f":"CHOOSE($B7,'DATA MAESTRO 2'!W$6,'DATA MAESTRO 2'!W$7,'DATA MAESTRO 2'!W$8,'DATA MAESTRO 2'!W$9,'DATA MAESTRO 2'!W$10,'DATA MAESTRO 2'!W$11,'DATA MAESTRO 2'!W$12,'DATA MAESTRO 2'!W$13,'DATA MAESTRO 2'!W$14,'DATA MAESTRO 2'!W$15,'DATA MAESTRO 2'!W$16,'DATA MAESTRO 2'!W$17,'DATA MAESTRO 2'!W$18,'DATA MAESTRO 2'!W$19,'DATA MAESTRO 2'!W$20,'DATA MAESTRO 2'!W$21,'DATA MAESTRO 2'!W$22,'DATA MAESTRO 2'!W$23,'DATA MAESTRO 2'!W$24,'DATA MAESTRO 2'!W$25,'DATA MAESTRO 2'!W$26,'DATA MAESTRO 2'!W$27,'DATA MAESTRO 2'!W$28,'DATA MAESTRO 2'!W$29,'DATA MAESTRO 2'!W$30,'DATA MAESTRO 2'!W$31,'DATA MAESTRO 2'!W$32,'DATA MAESTRO 2'!W$33,'DATA MAESTRO 2'!W$34,'DATA MAESTRO 2'!W$35,'DATA MAESTRO 2'!W$36,'DATA MAESTRO 2'!W$37,'DATA MAESTRO 2'!W$38,'DATA MAESTRO 2'!W$39,'DATA MAESTRO 2'!W$40,)","v":0},{"$f":"CHOOSE($B7,'DATA MAESTRO 2'!X$6,'DATA MAESTRO 2'!X$7,'DATA MAESTRO 2'!X$8,'DATA MAESTRO 2'!X$9,'DATA MAESTRO 2'!X$10,'DATA MAESTRO 2'!X$11,'DATA MAESTRO 2'!X$12,'DATA MAESTRO 2'!X$13,'DATA MAESTRO 2'!X$14,'DATA MAESTRO 2'!X$15,'DATA MAESTRO 2'!X$16,'DATA MAESTRO 2'!X$17,'DATA MAESTRO 2'!X$18,'DATA MAESTRO 2'!X$19,'DATA MAESTRO 2'!X$20,'DATA MAESTRO 2'!X$21,'DATA MAESTRO 2'!X$22,'DATA MAESTRO 2'!X$23,'DATA MAESTRO 2'!X$24,'DATA MAESTRO 2'!X$25,'DATA MAESTRO 2'!X$26,'DATA MAESTRO 2'!X$27,'DATA MAESTRO 2'!X$28,'DATA MAESTRO 2'!X$29,'DATA MAESTRO 2'!X$30,'DATA MAESTRO 2'!X$31,'DATA MAESTRO 2'!X$32,'DATA MAESTRO 2'!X$33,'DATA MAESTRO 2'!X$34,'DATA MAESTRO 2'!X$35,'DATA MAESTRO 2'!X$36,'DATA MAESTRO 2'!X$37,'DATA MAESTRO 2'!X$38,'DATA MAESTRO 2'!X$39,'DATA MAESTRO 2'!X$40,)","v":0},{"$f":"CHOOSE($B7,'DATA MAESTRO 2'!Y$6,'DATA MAESTRO 2'!Y$7,'DATA MAESTRO 2'!Y$8,'DATA MAESTRO 2'!Y$9,'DATA MAESTRO 2'!Y$10,'DATA MAESTRO 2'!Y$11,'DATA MAESTRO 2'!Y$12,'DATA MAESTRO 2'!Y$13,'DATA MAESTRO 2'!Y$14,'DATA MAESTRO 2'!Y$15,'DATA MAESTRO 2'!Y$16,'DATA MAESTRO 2'!Y$17,'DATA MAESTRO 2'!Y$18,'DATA MAESTRO 2'!Y$19,'DATA MAESTRO 2'!Y$20,'DATA MAESTRO 2'!Y$21,'DATA MAESTRO 2'!Y$22,'DATA MAESTRO 2'!Y$23,'DATA MAESTRO 2'!Y$24,'DATA MAESTRO 2'!Y$25,'DATA MAESTRO 2'!Y$26,'DATA MAESTRO 2'!Y$27,'DATA MAESTRO 2'!Y$28,'DATA MAESTRO 2'!Y$29,'DATA MAESTRO 2'!Y$30,'DATA MAESTRO 2'!Y$31,'DATA MAESTRO 2'!Y$32,'DATA MAESTRO 2'!Y$33,'DATA MAESTRO 2'!Y$34,'DATA MAESTRO 2'!Y$35,'DATA MAESTRO 2'!Y$36,'DATA MAESTRO 2'!Y$37,'DATA MAESTRO 2'!Y$38,'DATA MAESTRO 2'!Y$39,'DATA MAESTRO 2'!Y$40,)","v":0},{"$f":"CHOOSE($B7,'DATA MAESTRO 2'!Z$6,'DATA MAESTRO 2'!Z$7,'DATA MAESTRO 2'!Z$8,'DATA MAESTRO 2'!Z$9,'DATA MAESTRO 2'!Z$10,'DATA MAESTRO 2'!Z$11,'DATA MAESTRO 2'!Z$12,'DATA MAESTRO 2'!Z$13,'DATA MAESTRO 2'!Z$14,'DATA MAESTRO 2'!Z$15,'DATA MAESTRO 2'!Z$16,'DATA MAESTRO 2'!Z$17,'DATA MAESTRO 2'!Z$18,'DATA MAESTRO 2'!Z$19,'DATA MAESTRO 2'!Z$20,'DATA MAESTRO 2'!Z$21,'DATA MAESTRO 2'!Z$22,'DATA MAESTRO 2'!Z$23,'DATA MAESTRO 2'!Z$24,'DATA MAESTRO 2'!Z$25,'DATA MAESTRO 2'!Z$26,'DATA MAESTRO 2'!Z$27,'DATA MAESTRO 2'!Z$28,'DATA MAESTRO 2'!Z$29,'DATA MAESTRO 2'!Z$30,'DATA MAESTRO 2'!Z$31,'DATA MAESTRO 2'!Z$32,'DATA MAESTRO 2'!Z$33,'DATA MAESTRO 2'!Z$34,'DATA MAESTRO 2'!Z$35,'DATA MAESTRO 2'!Z$36,'DATA MAESTRO 2'!Z$37,'DATA MAESTRO 2'!Z$38,'DATA MAESTRO 2'!Z$39,'DATA MAESTRO 2'!Z$40,)","v":0},{"$f":"CHOOSE($B7,'DATA MAESTRO 2'!AA$6,'DATA MAESTRO 2'!AA$7,'DATA MAESTRO 2'!AA$8,'DATA MAESTRO 2'!AA$9,'DATA MAESTRO 2'!AA$10,'DATA MAESTRO 2'!AA$11,'DATA MAESTRO 2'!AA$12,'DATA MAESTRO 2'!AA$13,'DATA MAESTRO 2'!AA$14,'DATA MAESTRO 2'!AA$15,'DATA MAESTRO 2'!AA$16,'DATA MAESTRO 2'!AA$17,'DATA MAESTRO 2'!AA$18,'DATA MAESTRO 2'!AA$19,'DATA MAESTRO 2'!AA$20,'DATA MAESTRO 2'!AA$21,'DATA MAESTRO 2'!AA$22,'DATA MAESTRO 2'!AA$23,'DATA MAESTRO 2'!AA$24,'DATA MAESTRO 2'!AA$25,'DATA MAESTRO 2'!AA$26,'DATA MAESTRO 2'!AA$27,'DATA MAESTRO 2'!AA$28,'DATA MAESTRO 2'!AA$29,'DATA MAESTRO 2'!AA$30,'DATA MAESTRO 2'!AA$31,'DATA MAESTRO 2'!AA$32,'DATA MAESTRO 2'!AA$33,'DATA MAESTRO 2'!AA$34,'DATA MAESTRO 2'!AA$35,'DATA MAESTRO 2'!AA$36,'DATA MAESTRO 2'!AA$37,'DATA MAESTRO 2'!AA$38,'DATA MAESTRO 2'!AA$39,'DATA MAESTRO 2'!AA$40,)","v":0},{"$f":"CHOOSE($B7,'DATA MAESTRO 2'!AB$6,'DATA MAESTRO 2'!AB$7,'DATA MAESTRO 2'!AB$8,'DATA MAESTRO 2'!AB$9,'DATA MAESTRO 2'!AB$10,'DATA MAESTRO 2'!AB$11,'DATA MAESTRO 2'!AB$12,'DATA MAESTRO 2'!AB$13,'DATA MAESTRO 2'!AB$14,'DATA MAESTRO 2'!AB$15,'DATA MAESTRO 2'!AB$16,'DATA MAESTRO 2'!AB$17,'DATA MAESTRO 2'!AB$18,'DATA MAESTRO 2'!AB$19,'DATA MAESTRO 2'!AB$20,'DATA MAESTRO 2'!AB$21,'DATA MAESTRO 2'!AB$22,'DATA MAESTRO 2'!AB$23,'DATA MAESTRO 2'!AB$24,'DATA MAESTRO 2'!AB$25,'DATA MAESTRO 2'!AB$26,'DATA MAESTRO 2'!AB$27,'DATA MAESTRO 2'!AB$28,'DATA MAESTRO 2'!AB$29,'DATA MAESTRO 2'!AB$30,'DATA MAESTRO 2'!AB$31,'DATA MAESTRO 2'!AB$32,'DATA MAESTRO 2'!AB$33,'DATA MAESTRO 2'!AB$34,'DATA MAESTRO 2'!AB$35,'DATA MAESTRO 2'!AB$36,'DATA MAESTRO 2'!AB$37,'DATA MAESTRO 2'!AB$38,'DATA MAESTRO 2'!AB$39,'DATA MAESTRO 2'!AB$40,)","v":0},{"$f":"CHOOSE($B7,'DATA MAESTRO 2'!AC$6,'DATA MAESTRO 2'!AC$7,'DATA MAESTRO 2'!AC$8,'DATA MAESTRO 2'!AC$9,'DATA MAESTRO 2'!AC$10,'DATA MAESTRO 2'!AC$11,'DATA MAESTRO 2'!AC$12,'DATA MAESTRO 2'!AC$13,'DATA MAESTRO 2'!AC$14,'DATA MAESTRO 2'!AC$15,'DATA MAESTRO 2'!AC$16,'DATA MAESTRO 2'!AC$17,'DATA MAESTRO 2'!AC$18,'DATA MAESTRO 2'!AC$19,'DATA MAESTRO 2'!AC$20,'DATA MAESTRO 2'!AC$21,'DATA MAESTRO 2'!AC$22,'DATA MAESTRO 2'!AC$23,'DATA MAESTRO 2'!AC$24,'DATA MAESTRO 2'!AC$25,'DATA MAESTRO 2'!AC$26,'DATA MAESTRO 2'!AC$27,'DATA MAESTRO 2'!AC$28,'DATA MAESTRO 2'!AC$29,'DATA MAESTRO 2'!AC$30,'DATA MAESTRO 2'!AC$31,'DATA MAESTRO 2'!AC$32,'DATA MAESTRO 2'!AC$33,'DATA MAESTRO 2'!AC$34,'DATA MAESTRO 2'!AC$35,'DATA MAESTRO 2'!AC$36,'DATA MAESTRO 2'!AC$37,'DATA MAESTRO 2'!AC$38,'DATA MAESTRO 2'!AC$39,'DATA MAESTRO 2'!AC$40,)","v":0},{"$f":"CHOOSE($B7,'DATA MAESTRO 2'!AD$6,'DATA MAESTRO 2'!AD$7,'DATA MAESTRO 2'!AD$8,'DATA MAESTRO 2'!AD$9,'DATA MAESTRO 2'!AD$10,'DATA MAESTRO 2'!AD$11,'DATA MAESTRO 2'!AD$12,'DATA MAESTRO 2'!AD$13,'DATA MAESTRO 2'!AD$14,'DATA MAESTRO 2'!AD$15,'DATA MAESTRO 2'!AD$16,'DATA MAESTRO 2'!AD$17,'DATA MAESTRO 2'!AD$18,'DATA MAESTRO 2'!AD$19,'DATA MAESTRO 2'!AD$20,'DATA MAESTRO 2'!AD$21,'DATA MAESTRO 2'!AD$22,'DATA MAESTRO 2'!AD$23,'DATA MAESTRO 2'!AD$24,'DATA MAESTRO 2'!AD$25,'DATA MAESTRO 2'!AD$26,'DATA MAESTRO 2'!AD$27,'DATA MAESTRO 2'!AD$28,'DATA MAESTRO 2'!AD$29,'DATA MAESTRO 2'!AD$30,'DATA MAESTRO 2'!AD$31,'DATA MAESTRO 2'!AD$32,'DATA MAESTRO 2'!AD$33,'DATA MAESTRO 2'!AD$34,'DATA MAESTRO 2'!AD$35,'DATA MAESTRO 2'!AD$36,'DATA MAESTRO 2'!AD$37,'DATA MAESTRO 2'!AD$38,'DATA MAESTRO 2'!AD$39,'DATA MAESTRO 2'!AD$40,)","v":0},{"$f":"CHOOSE($B7,'DATA MAESTRO 2'!AE$6,'DATA MAESTRO 2'!AE$7,'DATA MAESTRO 2'!AE$8,'DATA MAESTRO 2'!AE$9,'DATA MAESTRO 2'!AE$10,'DATA MAESTRO 2'!AE$11,'DATA MAESTRO 2'!AE$12,'DATA MAESTRO 2'!AE$13,'DATA MAESTRO 2'!AE$14,'DATA MAESTRO 2'!AE$15,'DATA MAESTRO 2'!AE$16,'DATA MAESTRO 2'!AE$17,'DATA MAESTRO 2'!AE$18,'DATA MAESTRO 2'!AE$19,'DATA MAESTRO 2'!AE$20,'DATA MAESTRO 2'!AE$21,'DATA MAESTRO 2'!AE$22,'DATA MAESTRO 2'!AE$23,'DATA MAESTRO 2'!AE$24,'DATA MAESTRO 2'!AE$25,'DATA MAESTRO 2'!AE$26,'DATA MAESTRO 2'!AE$27,'DATA MAESTRO 2'!AE$28,'DATA MAESTRO 2'!AE$29,'DATA MAESTRO 2'!AE$30,'DATA MAESTRO 2'!AE$31,'DATA MAESTRO 2'!AE$32,'DATA MAESTRO 2'!AE$33,'DATA MAESTRO 2'!AE$34,'DATA MAESTRO 2'!AE$35,'DATA MAESTRO 2'!AE$36,'DATA MAESTRO 2'!AE$37,'DATA MAESTRO 2'!AE$38,'DATA MAESTRO 2'!AE$39,'DATA MAESTRO 2'!AE$40,)","v":0},{"$f":"CHOOSE($B7,'DATA MAESTRO 2'!AF$6,'DATA MAESTRO 2'!AF$7,'DATA MAESTRO 2'!AF$8,'DATA MAESTRO 2'!AF$9,'DATA MAESTRO 2'!AF$10,'DATA MAESTRO 2'!AF$11,'DATA MAESTRO 2'!AF$12,'DATA MAESTRO 2'!AF$13,'DATA MAESTRO 2'!AF$14,'DATA MAESTRO 2'!AF$15,'DATA MAESTRO 2'!AF$16,'DATA MAESTRO 2'!AF$17,'DATA MAESTRO 2'!AF$18,'DATA MAESTRO 2'!AF$19,'DATA MAESTRO 2'!AF$20,'DATA MAESTRO 2'!AF$21,'DATA MAESTRO 2'!AF$22,'DATA MAESTRO 2'!AF$23,'DATA MAESTRO 2'!AF$24,'DATA MAESTRO 2'!AF$25,'DATA MAESTRO 2'!AF$26,'DATA MAESTRO 2'!AF$27,'DATA MAESTRO 2'!AF$28,'DATA MAESTRO 2'!AF$29,'DATA MAESTRO 2'!AF$30,'DATA MAESTRO 2'!AF$31,'DATA MAESTRO 2'!AF$32,'DATA MAESTRO 2'!AF$33,'DATA MAESTRO 2'!AF$34,'DATA MAESTRO 2'!AF$35,'DATA MAESTRO 2'!AF$36,'DATA MAESTRO 2'!AF$37,'DATA MAESTRO 2'!AF$38,'DATA MAESTRO 2'!AF$39,'DATA MAESTRO 2'!AF$40,)","v":0},{"$f":"CHOOSE($B7,'DATA MAESTRO 2'!AG$6,'DATA MAESTRO 2'!AG$7,'DATA MAESTRO 2'!AG$8,'DATA MAESTRO 2'!AG$9,'DATA MAESTRO 2'!AG$10,'DATA MAESTRO 2'!AG$11,'DATA MAESTRO 2'!AG$12,'DATA MAESTRO 2'!AG$13,'DATA MAESTRO 2'!AG$14,'DATA MAESTRO 2'!AG$15,'DATA MAESTRO 2'!AG$16,'DATA MAESTRO 2'!AG$17,'DATA MAESTRO 2'!AG$18,'DATA MAESTRO 2'!AG$19,'DATA MAESTRO 2'!AG$20,'DATA MAESTRO 2'!AG$21,'DATA MAESTRO 2'!AG$22,'DATA MAESTRO 2'!AG$23,'DATA MAESTRO 2'!AG$24,'DATA MAESTRO 2'!AG$25,'DATA MAESTRO 2'!AG$26,'DATA MAESTRO 2'!AG$27,'DATA MAESTRO 2'!AG$28,'DATA MAESTRO 2'!AG$29,'DATA MAESTRO 2'!AG$30,'DATA MAESTRO 2'!AG$31,'DATA MAESTRO 2'!AG$32,'DATA MAESTRO 2'!AG$33,'DATA MAESTRO 2'!AG$34,'DATA MAESTRO 2'!AG$35,'DATA MAESTRO 2'!AG$36,'DATA MAESTRO 2'!AG$37,'DATA MAESTRO 2'!AG$38,'DATA MAESTRO 2'!AG$39,'DATA MAESTRO 2'!AG$40,)","v":0},{"$f":"CHOOSE($B7,'DATA MAESTRO 2'!AH$6,'DATA MAESTRO 2'!AH$7,'DATA MAESTRO 2'!AH$8,'DATA MAESTRO 2'!AH$9,'DATA MAESTRO 2'!AH$10,'DATA MAESTRO 2'!AH$11,'DATA MAESTRO 2'!AH$12,'DATA MAESTRO 2'!AH$13,'DATA MAESTRO 2'!AH$14,'DATA MAESTRO 2'!AH$15,'DATA MAESTRO 2'!AH$16,'DATA MAESTRO 2'!AH$17,'DATA MAESTRO 2'!AH$18,'DATA MAESTRO 2'!AH$19,'DATA MAESTRO 2'!AH$20,'DATA MAESTRO 2'!AH$21,'DATA MAESTRO 2'!AH$22,'DATA MAESTRO 2'!AH$23,'DATA MAESTRO 2'!AH$24,'DATA MAESTRO 2'!AH$25,'DATA MAESTRO 2'!AH$26,'DATA MAESTRO 2'!AH$27,'DATA MAESTRO 2'!AH$28,'DATA MAESTRO 2'!AH$29,'DATA MAESTRO 2'!AH$30,'DATA MAESTRO 2'!AH$31,'DATA MAESTRO 2'!AH$32,'DATA MAESTRO 2'!AH$33,'DATA MAESTRO 2'!AH$34,'DATA MAESTRO 2'!AH$35,'DATA MAESTRO 2'!AH$36,'DATA MAESTRO 2'!AH$37,'DATA MAESTRO 2'!AH$38,'DATA MAESTRO 2'!AH$39,'DATA MAESTRO 2'!AH$40,)","v":0},{"$f":"CHOOSE($B7,'DATA MAESTRO 2'!AI$6,'DATA MAESTRO 2'!AI$7,'DATA MAESTRO 2'!AI$8,'DATA MAESTRO 2'!AI$9,'DATA MAESTRO 2'!AI$10,'DATA MAESTRO 2'!AI$11,'DATA MAESTRO 2'!AI$12,'DATA MAESTRO 2'!AI$13,'DATA MAESTRO 2'!AI$14,'DATA MAESTRO 2'!AI$15,'DATA MAESTRO 2'!AI$16,'DATA MAESTRO 2'!AI$17,'DATA MAESTRO 2'!AI$18,'DATA MAESTRO 2'!AI$19,'DATA MAESTRO 2'!AI$20,'DATA MAESTRO 2'!AI$21,'DATA MAESTRO 2'!AI$22,'DATA MAESTRO 2'!AI$23,'DATA MAESTRO 2'!AI$24,'DATA MAESTRO 2'!AI$25,'DATA MAESTRO 2'!AI$26,'DATA MAESTRO 2'!AI$27,'DATA MAESTRO 2'!AI$28,'DATA MAESTRO 2'!AI$29,'DATA MAESTRO 2'!AI$30,'DATA MAESTRO 2'!AI$31,'DATA MAESTRO 2'!AI$32,'DATA MAESTRO 2'!AI$33,'DATA MAESTRO 2'!AI$34,'DATA MAESTRO 2'!AI$35,'DATA MAESTRO 2'!AI$36,'DATA MAESTRO 2'!AI$37,'DATA MAESTRO 2'!AI$38,'DATA MAESTRO 2'!AI$39,'DATA MAESTRO 2'!AI$40,)","v":0},{"$f":"CHOOSE($B7,'DATA MAESTRO 2'!AJ$6,'DATA MAESTRO 2'!AJ$7,'DATA MAESTRO 2'!AJ$8,'DATA MAESTRO 2'!AJ$9,'DATA MAESTRO 2'!AJ$10,'DATA MAESTRO 2'!AJ$11,'DATA MAESTRO 2'!AJ$12,'DATA MAESTRO 2'!AJ$13,'DATA MAESTRO 2'!AJ$14,'DATA MAESTRO 2'!AJ$15,'DATA MAESTRO 2'!AJ$16,'DATA MAESTRO 2'!AJ$17,'DATA MAESTRO 2'!AJ$18,'DATA MAESTRO 2'!AJ$19,'DATA MAESTRO 2'!AJ$20,'DATA MAESTRO 2'!AJ$21,'DATA MAESTRO 2'!AJ$22,'DATA MAESTRO 2'!AJ$23,'DATA MAESTRO 2'!AJ$24,'DATA MAESTRO 2'!AJ$25,'DATA MAESTRO 2'!AJ$26,'DATA MAESTRO 2'!AJ$27,'DATA MAESTRO 2'!AJ$28,'DATA MAESTRO 2'!AJ$29,'DATA MAESTRO 2'!AJ$30,'DATA MAESTRO 2'!AJ$31,'DATA MAESTRO 2'!AJ$32,'DATA MAESTRO 2'!AJ$33,'DATA MAESTRO 2'!AJ$34,'DATA MAESTRO 2'!AJ$35,'DATA MAESTRO 2'!AJ$36,'DATA MAESTRO 2'!AJ$37,'DATA MAESTRO 2'!AJ$38,'DATA MAESTRO 2'!AJ$39,'DATA MAESTRO 2'!AJ$40,)","v":0}]
[6,14,{"$f":"+IF(AND(B8>=1,B8<=36),VLOOKUP(B8,'DATA MAESTRO 2'!$A$6:$B$40,2),0)","v":"SAL"},{"$f":"+CHOOSE($B8,'DATA MAESTRO 2'!C$6,'DATA MAESTRO 2'!C$7,'DATA MAESTRO 2'!C$8,'DATA MAESTRO 2'!C$9,'DATA MAESTRO 2'!C$10,'DATA MAESTRO 2'!C$11,'DATA MAESTRO 2'!C$12,'DATA MAESTRO 2'!C$13,'DATA MAESTRO 2'!C$14,'DATA MAESTRO 2'!C$15,'DATA MAESTRO 2'!C$16,'DATA MAESTRO 2'!C$17,'DATA MAESTRO 2'!C$18,'DATA MAESTRO 2'!C$19,'DATA MAESTRO 2'!C$20,'DATA MAESTRO 2'!C$21,'DATA MAESTRO 2'!C$22,'DATA MAESTRO 2'!C$23,'DATA MAESTRO 2'!C$24,'DATA MAESTRO 2'!C$25,'DATA MAESTRO 2'!C$26,'DATA MAESTRO 2'!C$27,'DATA MAESTRO 2'!C$28,'DATA MAESTRO 2'!C$29,'DATA MAESTRO 2'!C$30,'DATA MAESTRO 2'!C$31,'DATA MAESTRO 2'!C$32,'DATA MAESTRO 2'!C$33,'DATA MAESTRO 2'!C$34,'DATA MAESTRO 2'!C$35,'DATA MAESTRO 2'!C$36,'DATA MAESTRO 2'!C$37,'DATA MAESTRO 2'!C$38,'DATA MAESTRO 2'!C$39,'DATA MAESTRO 2'!C$40,)","v":0},{"$f":"CHOOSE($B8,'DATA MAESTRO 2'!D$6,'DATA MAESTRO 2'!D$7,'DATA MAESTRO 2'!D$8,'DATA MAESTRO 2'!D$9,'DATA MAESTRO 2'!D$10,'DATA MAESTRO 2'!D$11,'DATA MAESTRO 2'!D$12,'DATA MAESTRO 2'!D$13,'DATA MAESTRO 2'!D$14,'DATA MAESTRO 2'!D$15,'DATA MAESTRO 2'!D$16,'DATA MAESTRO 2'!D$17,'DATA MAESTRO 2'!D$18,'DATA MAESTRO 2'!D$19,'DATA MAESTRO 2'!D$20,'DATA MAESTRO 2'!D$21,'DATA MAESTRO 2'!D$22,'DATA MAESTRO 2'!D$23,'DATA MAESTRO 2'!D$24,'DATA MAESTRO 2'!D$25,'DATA MAESTRO 2'!D$26,'DATA MAESTRO 2'!D$27,'DATA MAESTRO 2'!D$28,'DATA MAESTRO 2'!D$29,'DATA MAESTRO 2'!D$30,'DATA MAESTRO 2'!D$31,'DATA MAESTRO 2'!D$32,'DATA MAESTRO 2'!D$33,'DATA MAESTRO 2'!D$34,'DATA MAESTRO 2'!D$35,'DATA MAESTRO 2'!D$36,'DATA MAESTRO 2'!D$37,'DATA MAESTRO 2'!D$38,'DATA MAESTRO 2'!D$39,'DATA MAESTRO 2'!D$40,)","v":0.99},{"$f":"CHOOSE(B8,'DATA MAESTRO 2'!E$6,'DATA MAESTRO 2'!E$7,'DATA MAESTRO 2'!E$8,'DATA MAESTRO 2'!E$9,'DATA MAESTRO 2'!E$10,'DATA MAESTRO 2'!E$11,'DATA MAESTRO 2'!E$12,'DATA MAESTRO 2'!E$13,'DATA MAESTRO 2'!E$14,'DATA MAESTRO 2'!E$15,'DATA MAESTRO 2'!E$16,'DATA MAESTRO 2'!E$17,'DATA MAESTRO 2'!E$18,'DATA MAESTRO 2'!E$19,'DATA MAESTRO 2'!E$20,'DATA MAESTRO 2'!E$21,'DATA MAESTRO 2'!E$22,'DATA MAESTRO 2'!E$23,'DATA MAESTRO 2'!E$24,'DATA MAESTRO 2'!E$25,'DATA MAESTRO 2'!E$26,'DATA MAESTRO 2'!E$27,'DATA MAESTRO 2'!E$28,'DATA MAESTRO 2'!E$29,'DATA MAESTRO 2'!E$30,'DATA MAESTRO 2'!E$31,'DATA MAESTRO 2'!E$32,'DATA MAESTRO 2'!E$33,'DATA MAESTRO 2'!E$34,'DATA MAESTRO 2'!E$35,'DATA MAESTRO 2'!E$36,'DATA MAESTRO 2'!E$37,'DATA MAESTRO 2'!E$38,'DATA MAESTRO 2'!E$39,'DATA MAESTRO 2'!E$40,)","v":0},{"$f":"CHOOSE($B8,'DATA MAESTRO 2'!F$6,'DATA MAESTRO 2'!F$7,'DATA MAESTRO 2'!F$8,'DATA MAESTRO 2'!F$9,'DATA MAESTRO 2'!F$10,'DATA MAESTRO 2'!F$11,'DATA MAESTRO 2'!F$12,'DATA MAESTRO 2'!F$13,'DATA MAESTRO 2'!F$14,'DATA MAESTRO 2'!F$15,'DATA MAESTRO 2'!F$16,'DATA MAESTRO 2'!F$17,'DATA MAESTRO 2'!F$18,'DATA MAESTRO 2'!F$19,'DATA MAESTRO 2'!F$20,'DATA MAESTRO 2'!F$21,'DATA MAESTRO 2'!F$22,'DATA MAESTRO 2'!F$23,'DATA MAESTRO 2'!F$24,'DATA MAESTRO 2'!F$25,'DATA MAESTRO 2'!F$26,'DATA MAESTRO 2'!F$27,'DATA MAESTRO 2'!F$28,'DATA MAESTRO 2'!F$29,'DATA MAESTRO 2'!F$30,'DATA MAESTRO 2'!F$31,'DATA MAESTRO 2'!F$32,'DATA MAESTRO 2'!F$33,'DATA MAESTRO 2'!F$34,'DATA MAESTRO 2'!F$35,'DATA MAESTRO 2'!F$36,'DATA MAESTRO 2'!F$37,'DATA MAESTRO 2'!F$38,'DATA MAESTRO 2'!F$39,'DATA MAESTRO 2'!F$40,)","v":0},{"$f":"CHOOSE($B8,'DATA MAESTRO 2'!G$6,'DATA MAESTRO 2'!G$7,'DATA MAESTRO 2'!G$8,'DATA MAESTRO 2'!G$9,'DATA MAESTRO 2'!G$10,'DATA MAESTRO 2'!G$11,'DATA MAESTRO 2'!G$12,'DATA MAESTRO 2'!G$13,'DATA MAESTRO 2'!G$14,'DATA MAESTRO 2'!G$15,'DATA MAESTRO 2'!G$16,'DATA MAESTRO 2'!G$17,'DATA MAESTRO 2'!G$18,'DATA MAESTRO 2'!G$19,'DATA MAESTRO 2'!G$20,'DATA MAESTRO 2'!G$21,'DATA MAESTRO 2'!G$22,'DATA MAESTRO 2'!G$23,'DATA MAESTRO 2'!G$24,'DATA MAESTRO 2'!G$25,'DATA MAESTRO 2'!G$26,'DATA MAESTRO 2'!G$27,'DATA MAESTRO 2'!G$28,'DATA MAESTRO 2'!G$29,'DATA MAESTRO 2'!G$30,'DATA MAESTRO 2'!G$31,'DATA MAESTRO 2'!G$32,'DATA MAESTRO 2'!G$33,'DATA MAESTRO 2'!G$34,'DATA MAESTRO 2'!G$35,'DATA MAESTRO 2'!G$36,'DATA MAESTRO 2'!G$37,'DATA MAESTRO 2'!G$38,'DATA MAESTRO 2'!G$39,'DATA MAESTRO 2'!G$40,)","v":0},{"$f":"CHOOSE($B8,'DATA MAESTRO 2'!H$6,'DATA MAESTRO 2'!H$7,'DATA MAESTRO 2'!H$8,'DATA MAESTRO 2'!H$9,'DATA MAESTRO 2'!H$10,'DATA MAESTRO 2'!H$11,'DATA MAESTRO 2'!H$12,'DATA MAESTRO 2'!H$13,'DATA MAESTRO 2'!H$14,'DATA MAESTRO 2'!H$15,'DATA MAESTRO 2'!H$16,'DATA MAESTRO 2'!H$17,'DATA MAESTRO 2'!H$18,'DATA MAESTRO 2'!H$19,'DATA MAESTRO 2'!H$20,'DATA MAESTRO 2'!H$21,'DATA MAESTRO 2'!H$22,'DATA MAESTRO 2'!H$23,'DATA MAESTRO 2'!H$24,'DATA MAESTRO 2'!H$25,'DATA MAESTRO 2'!H$26,'DATA MAESTRO 2'!H$27,'DATA MAESTRO 2'!H$28,'DATA MAESTRO 2'!H$29,'DATA MAESTRO 2'!H$30,'DATA MAESTRO 2'!H$31,'DATA MAESTRO 2'!H$32,'DATA MAESTRO 2'!H$33,'DATA MAESTRO 2'!H$34,'DATA MAESTRO 2'!H$35,'DATA MAESTRO 2'!H$36,'DATA MAESTRO 2'!H$37,'DATA MAESTRO 2'!H$38,'DATA MAESTRO 2'!H$39,'DATA MAESTRO 2'!H$40,)","v":0},{"$f":"CHOOSE($B8,'DATA MAESTRO 2'!I$6,'DATA MAESTRO 2'!I$7,'DATA MAESTRO 2'!I$8,'DATA MAESTRO 2'!I$9,'DATA MAESTRO 2'!I$10,'DATA MAESTRO 2'!I$11,'DATA MAESTRO 2'!I$12,'DATA MAESTRO 2'!I$13,'DATA MAESTRO 2'!I$14,'DATA MAESTRO 2'!I$15,'DATA MAESTRO 2'!I$16,'DATA MAESTRO 2'!I$17,'DATA MAESTRO 2'!I$18,'DATA MAESTRO 2'!I$19,'DATA MAESTRO 2'!I$20,'DATA MAESTRO 2'!I$21,'DATA MAESTRO 2'!I$22,'DATA MAESTRO 2'!I$23,'DATA MAESTRO 2'!I$24,'DATA MAESTRO 2'!I$25,'DATA MAESTRO 2'!I$26,'DATA MAESTRO 2'!I$27,'DATA MAESTRO 2'!I$28,'DATA MAESTRO 2'!I$29,'DATA MAESTRO 2'!I$30,'DATA MAESTRO 2'!I$31,'DATA MAESTRO 2'!I$32,'DATA MAESTRO 2'!I$33,'DATA MAESTRO 2'!I$34,'DATA MAESTRO 2'!I$35,'DATA MAESTRO 2'!I$36,'DATA MAESTRO 2'!I$37,'DATA MAESTRO 2'!I$38,'DATA MAESTRO 2'!I$39,'DATA MAESTRO 2'!I$40,)","v":0},{"$f":"CHOOSE($B8,'DATA MAESTRO 2'!J$6,'DATA MAESTRO 2'!J$7,'DATA MAESTRO 2'!J$8,'DATA MAESTRO 2'!J$9,'DATA MAESTRO 2'!J$10,'DATA MAESTRO 2'!J$11,'DATA MAESTRO 2'!J$12,'DATA MAESTRO 2'!J$13,'DATA MAESTRO 2'!J$14,'DATA MAESTRO 2'!J$15,'DATA MAESTRO 2'!J$16,'DATA MAESTRO 2'!J$17,'DATA MAESTRO 2'!J$18,'DATA MAESTRO 2'!J$19,'DATA MAESTRO 2'!J$20,'DATA MAESTRO 2'!J$21,'DATA MAESTRO 2'!J$22,'DATA MAESTRO 2'!J$23,'DATA MAESTRO 2'!J$24,'DATA MAESTRO 2'!J$25,'DATA MAESTRO 2'!J$26,'DATA MAESTRO 2'!J$27,'DATA MAESTRO 2'!J$28,'DATA MAESTRO 2'!J$29,'DATA MAESTRO 2'!J$30,'DATA MAESTRO 2'!J$31,'DATA MAESTRO 2'!J$32,'DATA MAESTRO 2'!J$33,'DATA MAESTRO 2'!J$34,'DATA MAESTRO 2'!J$35,'DATA MAESTRO 2'!J$36,'DATA MAESTRO 2'!J$37,'DATA MAESTRO 2'!J$38,'DATA MAESTRO 2'!J$39,'DATA MAESTRO 2'!J$40,)","v":0},{"$f":"CHOOSE($B8,'DATA MAESTRO 2'!K$6,'DATA MAESTRO 2'!K$7,'DATA MAESTRO 2'!K$8,'DATA MAESTRO 2'!K$9,'DATA MAESTRO 2'!K$10,'DATA MAESTRO 2'!K$11,'DATA MAESTRO 2'!K$12,'DATA MAESTRO 2'!K$13,'DATA MAESTRO 2'!K$14,'DATA MAESTRO 2'!K$15,'DATA MAESTRO 2'!K$16,'DATA MAESTRO 2'!K$17,'DATA MAESTRO 2'!K$18,'DATA MAESTRO 2'!K$19,'DATA MAESTRO 2'!K$20,'DATA MAESTRO 2'!K$21,'DATA MAESTRO 2'!K$22,'DATA MAESTRO 2'!K$23,'DATA MAESTRO 2'!K$24,'DATA MAESTRO 2'!K$25,'DATA MAESTRO 2'!K$26,'DATA MAESTRO 2'!K$27,'DATA MAESTRO 2'!K$28,'DATA MAESTRO 2'!K$29,'DATA MAESTRO 2'!K$30,'DATA MAESTRO 2'!K$31,'DATA MAESTRO 2'!K$32,'DATA MAESTRO 2'!K$33,'DATA MAESTRO 2'!K$34,'DATA MAESTRO 2'!K$35,'DATA MAESTRO 2'!K$36,'DATA MAESTRO 2'!K$37,'DATA MAESTRO 2'!K$38,'DATA MAESTRO 2'!K$39,'DATA MAESTRO 2'!K$40,)","v":0},{"$f":"CHOOSE($B8,'DATA MAESTRO 2'!L$6,'DATA MAESTRO 2'!L$7,'DATA MAESTRO 2'!L$8,'DATA MAESTRO 2'!L$9,'DATA MAESTRO 2'!L$10,'DATA MAESTRO 2'!L$11,'DATA MAESTRO 2'!L$12,'DATA MAESTRO 2'!L$13,'DATA MAESTRO 2'!L$14,'DATA MAESTRO 2'!L$15,'DATA MAESTRO 2'!L$16,'DATA MAESTRO 2'!L$17,'DATA MAESTRO 2'!L$18,'DATA MAESTRO 2'!L$19,'DATA MAESTRO 2'!L$20,'DATA MAESTRO 2'!L$21,'DATA MAESTRO 2'!L$22,'DATA MAESTRO 2'!L$23,'DATA MAESTRO 2'!L$24,'DATA MAESTRO 2'!L$25,'DATA MAESTRO 2'!L$26,'DATA MAESTRO 2'!L$27,'DATA MAESTRO 2'!L$28,'DATA MAESTRO 2'!L$29,'DATA MAESTRO 2'!L$30,'DATA MAESTRO 2'!L$31,'DATA MAESTRO 2'!L$32,'DATA MAESTRO 2'!L$33,'DATA MAESTRO 2'!L$34,'DATA MAESTRO 2'!L$35,'DATA MAESTRO 2'!L$36,'DATA MAESTRO 2'!L$37,'DATA MAESTRO 2'!L$38,'DATA MAESTRO 2'!L$39,'DATA MAESTRO 2'!L$40,)","v":0},{"$f":"CHOOSE($B8,'DATA MAESTRO 2'!M$6,'DATA MAESTRO 2'!M$7,'DATA MAESTRO 2'!M$8,'DATA MAESTRO 2'!M$9,'DATA MAESTRO 2'!M$10,'DATA MAESTRO 2'!M$11,'DATA MAESTRO 2'!M$12,'DATA MAESTRO 2'!M$13,'DATA MAESTRO 2'!M$14,'DATA MAESTRO 2'!M$15,'DATA MAESTRO 2'!M$16,'DATA MAESTRO 2'!M$17,'DATA MAESTRO 2'!M$18,'DATA MAESTRO 2'!M$19,'DATA MAESTRO 2'!M$20,'DATA MAESTRO 2'!M$21,'DATA MAESTRO 2'!M$22,'DATA MAESTRO 2'!M$23,'DATA MAESTRO 2'!M$24,'DATA MAESTRO 2'!M$25,'DATA MAESTRO 2'!M$26,'DATA MAESTRO 2'!M$27,'DATA MAESTRO 2'!M$28,'DATA MAESTRO 2'!M$29,'DATA MAESTRO 2'!M$30,'DATA MAESTRO 2'!M$31,'DATA MAESTRO 2'!M$32,'DATA MAESTRO 2'!M$33,'DATA MAESTRO 2'!M$34,'DATA MAESTRO 2'!M$35,'DATA MAESTRO 2'!M$36,'DATA MAESTRO 2'!M$37,'DATA MAESTRO 2'!M$38,'DATA MAESTRO 2'!M$39,'DATA MAESTRO 2'!M$40,)","v":0},{"$f":"CHOOSE($B8,'DATA MAESTRO 2'!N$6,'DATA MAESTRO 2'!N$7,'DATA MAESTRO 2'!N$8,'DATA MAESTRO 2'!N$9,'DATA MAESTRO 2'!N$10,'DATA MAESTRO 2'!N$11,'DATA MAESTRO 2'!N$12,'DATA MAESTRO 2'!N$13,'DATA MAESTRO 2'!N$14,'DATA MAESTRO 2'!N$15,'DATA MAESTRO 2'!N$16,'DATA MAESTRO 2'!N$17,'DATA MAESTRO 2'!N$18,'DATA MAESTRO 2'!N$19,'DATA MAESTRO 2'!N$20,'DATA MAESTRO 2'!N$21,'DATA MAESTRO 2'!N$22,'DATA MAESTRO 2'!N$23,'DATA MAESTRO 2'!N$24,'DATA MAESTRO 2'!N$25,'DATA MAESTRO 2'!N$26,'DATA MAESTRO 2'!N$27,'DATA MAESTRO 2'!N$28,'DATA MAESTRO 2'!N$29,'DATA MAESTRO 2'!N$30,'DATA MAESTRO 2'!N$31,'DATA MAESTRO 2'!N$32,'DATA MAESTRO 2'!N$33,'DATA MAESTRO 2'!N$34,'DATA MAESTRO 2'!N$35,'DATA MAESTRO 2'!N$36,'DATA MAESTRO 2'!N$37,'DATA MAESTRO 2'!N$38,'DATA MAESTRO 2'!N$39,'DATA MAESTRO 2'!N$40,)","v":0},{"$f":"CHOOSE($B8,'DATA MAESTRO 2'!O$6,'DATA MAESTRO 2'!O$7,'DATA MAESTRO 2'!O$8,'DATA MAESTRO 2'!O$9,'DATA MAESTRO 2'!O$10,'DATA MAESTRO 2'!O$11,'DATA MAESTRO 2'!O$12,'DATA MAESTRO 2'!O$13,'DATA MAESTRO 2'!O$14,'DATA MAESTRO 2'!O$15,'DATA MAESTRO 2'!O$16,'DATA MAESTRO 2'!O$17,'DATA MAESTRO 2'!O$18,'DATA MAESTRO 2'!O$19,'DATA MAESTRO 2'!O$20,'DATA MAESTRO 2'!O$21,'DATA MAESTRO 2'!O$22,'DATA MAESTRO 2'!O$23,'DATA MAESTRO 2'!O$24,'DATA MAESTRO 2'!O$25,'DATA MAESTRO 2'!O$26,'DATA MAESTRO 2'!O$27,'DATA MAESTRO 2'!O$28,'DATA MAESTRO 2'!O$29,'DATA MAESTRO 2'!O$30,'DATA MAESTRO 2'!O$31,'DATA MAESTRO 2'!O$32,'DATA MAESTRO 2'!O$33,'DATA MAESTRO 2'!O$34,'DATA MAESTRO 2'!O$35,'DATA MAESTRO 2'!O$36,'DATA MAESTRO 2'!O$37,'DATA MAESTRO 2'!O$38,'DATA MAESTRO 2'!O$39,'DATA MAESTRO 2'!O$40,)","v":0},{"$f":"CHOOSE($B8,'DATA MAESTRO 2'!P$6,'DATA MAESTRO 2'!P$7,'DATA MAESTRO 2'!P$8,'DATA MAESTRO 2'!P$9,'DATA MAESTRO 2'!P$10,'DATA MAESTRO 2'!P$11,'DATA MAESTRO 2'!P$12,'DATA MAESTRO 2'!P$13,'DATA MAESTRO 2'!P$14,'DATA MAESTRO 2'!P$15,'DATA MAESTRO 2'!P$16,'DATA MAESTRO 2'!P$17,'DATA MAESTRO 2'!P$18,'DATA MAESTRO 2'!P$19,'DATA MAESTRO 2'!P$20,'DATA MAESTRO 2'!P$21,'DATA MAESTRO 2'!P$22,'DATA MAESTRO 2'!P$23,'DATA MAESTRO 2'!P$24,'DATA MAESTRO 2'!P$25,'DATA MAESTRO 2'!P$26,'DATA MAESTRO 2'!P$27,'DATA MAESTRO 2'!P$28,'DATA MAESTRO 2'!P$29,'DATA MAESTRO 2'!P$30,'DATA MAESTRO 2'!P$31,'DATA MAESTRO 2'!P$32,'DATA MAESTRO 2'!P$33,'DATA MAESTRO 2'!P$34,'DATA MAESTRO 2'!P$35,'DATA MAESTRO 2'!P$36,'DATA MAESTRO 2'!P$37,'DATA MAESTRO 2'!P$38,'DATA MAESTRO 2'!P$39,'DATA MAESTRO 2'!P$40,)","v":0},{"$f":"CHOOSE($B8,'DATA MAESTRO 2'!Q$6,'DATA MAESTRO 2'!Q$7,'DATA MAESTRO 2'!Q$8,'DATA MAESTRO 2'!Q$9,'DATA MAESTRO 2'!Q$10,'DATA MAESTRO 2'!Q$11,'DATA MAESTRO 2'!Q$12,'DATA MAESTRO 2'!Q$13,'DATA MAESTRO 2'!Q$14,'DATA MAESTRO 2'!Q$15,'DATA MAESTRO 2'!Q$16,'DATA MAESTRO 2'!Q$17,'DATA MAESTRO 2'!Q$18,'DATA MAESTRO 2'!Q$19,'DATA MAESTRO 2'!Q$20,'DATA MAESTRO 2'!Q$21,'DATA MAESTRO 2'!Q$22,'DATA MAESTRO 2'!Q$23,'DATA MAESTRO 2'!Q$24,'DATA MAESTRO 2'!Q$25,'DATA MAESTRO 2'!Q$26,'DATA MAESTRO 2'!Q$27,'DATA MAESTRO 2'!Q$28,'DATA MAESTRO 2'!Q$29,'DATA MAESTRO 2'!Q$30,'DATA MAESTRO 2'!Q$31,'DATA MAESTRO 2'!Q$32,'DATA MAESTRO 2'!Q$33,'DATA MAESTRO 2'!Q$34,'DATA MAESTRO 2'!Q$35,'DATA MAESTRO 2'!Q$36,'DATA MAESTRO 2'!Q$37,'DATA MAESTRO 2'!Q$38,'DATA MAESTRO 2'!Q$39,'DATA MAESTRO 2'!Q$40,)","v":0},{"$f":"CHOOSE($B8,'DATA MAESTRO 2'!R$6,'DATA MAESTRO 2'!R$7,'DATA MAESTRO 2'!R$8,'DATA MAESTRO 2'!R$9,'DATA MAESTRO 2'!R$10,'DATA MAESTRO 2'!R$11,'DATA MAESTRO 2'!R$12,'DATA MAESTRO 2'!R$13,'DATA MAESTRO 2'!R$14,'DATA MAESTRO 2'!R$15,'DATA MAESTRO 2'!R$16,'DATA MAESTRO 2'!R$17,'DATA MAESTRO 2'!R$18,'DATA MAESTRO 2'!R$19,'DATA MAESTRO 2'!R$20,'DATA MAESTRO 2'!R$21,'DATA MAESTRO 2'!R$22,'DATA MAESTRO 2'!R$23,'DATA MAESTRO 2'!R$24,'DATA MAESTRO 2'!R$25,'DATA MAESTRO 2'!R$26,'DATA MAESTRO 2'!R$27,'DATA MAESTRO 2'!R$28,'DATA MAESTRO 2'!R$29,'DATA MAESTRO 2'!R$30,'DATA MAESTRO 2'!R$31,'DATA MAESTRO 2'!R$32,'DATA MAESTRO 2'!R$33,'DATA MAESTRO 2'!R$34,'DATA MAESTRO 2'!R$35,'DATA MAESTRO 2'!R$36,'DATA MAESTRO 2'!R$37,'DATA MAESTRO 2'!R$38,'DATA MAESTRO 2'!R$39,'DATA MAESTRO 2'!R$40,)","v":0},{"$f":"CHOOSE($B8,'DATA MAESTRO 2'!S$6,'DATA MAESTRO 2'!S$7,'DATA MAESTRO 2'!S$8,'DATA MAESTRO 2'!S$9,'DATA MAESTRO 2'!S$10,'DATA MAESTRO 2'!S$11,'DATA MAESTRO 2'!S$12,'DATA MAESTRO 2'!S$13,'DATA MAESTRO 2'!S$14,'DATA MAESTRO 2'!S$15,'DATA MAESTRO 2'!S$16,'DATA MAESTRO 2'!S$17,'DATA MAESTRO 2'!S$18,'DATA MAESTRO 2'!S$19,'DATA MAESTRO 2'!S$20,'DATA MAESTRO 2'!S$21,'DATA MAESTRO 2'!S$22,'DATA MAESTRO 2'!S$23,'DATA MAESTRO 2'!S$24,'DATA MAESTRO 2'!S$25,'DATA MAESTRO 2'!S$26,'DATA MAESTRO 2'!S$27,'DATA MAESTRO 2'!S$28,'DATA MAESTRO 2'!S$29,'DATA MAESTRO 2'!S$30,'DATA MAESTRO 2'!S$31,'DATA MAESTRO 2'!S$32,'DATA MAESTRO 2'!S$33,'DATA MAESTRO 2'!S$34,'DATA MAESTRO 2'!S$35,'DATA MAESTRO 2'!S$36,'DATA MAESTRO 2'!S$37,'DATA MAESTRO 2'!S$38,'DATA MAESTRO 2'!S$39,'DATA MAESTRO 2'!S$40,)","v":0},{"$f":"CHOOSE($B8,'DATA MAESTRO 2'!T$6,'DATA MAESTRO 2'!T$7,'DATA MAESTRO 2'!T$8,'DATA MAESTRO 2'!T$9,'DATA MAESTRO 2'!T$10,'DATA MAESTRO 2'!T$11,'DATA MAESTRO 2'!T$12,'DATA MAESTRO 2'!T$13,'DATA MAESTRO 2'!T$14,'DATA MAESTRO 2'!T$15,'DATA MAESTRO 2'!T$16,'DATA MAESTRO 2'!T$17,'DATA MAESTRO 2'!T$18,'DATA MAESTRO 2'!T$19,'DATA MAESTRO 2'!T$20,'DATA MAESTRO 2'!T$21,'DATA MAESTRO 2'!T$22,'DATA MAESTRO 2'!T$23,'DATA MAESTRO 2'!T$24,'DATA MAESTRO 2'!T$25,'DATA MAESTRO 2'!T$26,'DATA MAESTRO 2'!T$27,'DATA MAESTRO 2'!T$28,'DATA MAESTRO 2'!T$29,'DATA MAESTRO 2'!T$30,'DATA MAESTRO 2'!T$31,'DATA MAESTRO 2'!T$32,'DATA MAESTRO 2'!T$33,'DATA MAESTRO 2'!T$34,'DATA MAESTRO 2'!T$35,'DATA MAESTRO 2'!T$36,'DATA MAESTRO 2'!T$37,'DATA MAESTRO 2'!T$38,'DATA MAESTRO 2'!T$39,'DATA MAESTRO 2'!T$40,)","v":0.39},{"$f":"CHOOSE($B8,'DATA MAESTRO 2'!U$6,'DATA MAESTRO 2'!U$7,'DATA MAESTRO 2'!U$8,'DATA MAESTRO 2'!U$9,'DATA MAESTRO 2'!U$10,'DATA MAESTRO 2'!U$11,'DATA MAESTRO 2'!U$12,'DATA MAESTRO 2'!U$13,'DATA MAESTRO 2'!U$14,'DATA MAESTRO 2'!U$15,'DATA MAESTRO 2'!U$16,'DATA MAESTRO 2'!U$17,'DATA MAESTRO 2'!U$18,'DATA MAESTRO 2'!U$19,'DATA MAESTRO 2'!U$20,'DATA MAESTRO 2'!U$21,'DATA MAESTRO 2'!U$22,'DATA MAESTRO 2'!U$23,'DATA MAESTRO 2'!U$24,'DATA MAESTRO 2'!U$25,'DATA MAESTRO 2'!U$26,'DATA MAESTRO 2'!U$27,'DATA MAESTRO 2'!U$28,'DATA MAESTRO 2'!U$29,'DATA MAESTRO 2'!U$30,'DATA MAESTRO 2'!U$31,'DATA MAESTRO 2'!U$32,'DATA MAESTRO 2'!U$33,'DATA MAESTRO 2'!U$34,'DATA MAESTRO 2'!U$35,'DATA MAESTRO 2'!U$36,'DATA MAESTRO 2'!U$37,'DATA MAESTRO 2'!U$38,'DATA MAESTRO 2'!U$39,'DATA MAESTRO 2'!U$40,)","v":0},{"$f":"CHOOSE($B8,'DATA MAESTRO 2'!V$6,'DATA MAESTRO 2'!V$7,'DATA MAESTRO 2'!V$8,'DATA MAESTRO 2'!V$9,'DATA MAESTRO 2'!V$10,'DATA MAESTRO 2'!V$11,'DATA MAESTRO 2'!V$12,'DATA MAESTRO 2'!V$13,'DATA MAESTRO 2'!V$14,'DATA MAESTRO 2'!V$15,'DATA MAESTRO 2'!V$16,'DATA MAESTRO 2'!V$17,'DATA MAESTRO 2'!V$18,'DATA MAESTRO 2'!V$19,'DATA MAESTRO 2'!V$20,'DATA MAESTRO 2'!V$21,'DATA MAESTRO 2'!V$22,'DATA MAESTRO 2'!V$23,'DATA MAESTRO 2'!V$24,'DATA MAESTRO 2'!V$25,'DATA MAESTRO 2'!V$26,'DATA MAESTRO 2'!V$27,'DATA MAESTRO 2'!V$28,'DATA MAESTRO 2'!V$29,'DATA MAESTRO 2'!V$30,'DATA MAESTRO 2'!V$31,'DATA MAESTRO 2'!V$32,'DATA MAESTRO 2'!V$33,'DATA MAESTRO 2'!V$34,'DATA MAESTRO 2'!V$35,'DATA MAESTRO 2'!V$36,'DATA MAESTRO 2'!V$37,'DATA MAESTRO 2'!V$38,'DATA MAESTRO 2'!V$39,'DATA MAESTRO 2'!V$40,)","v":0},{"$f":"CHOOSE($B8,'DATA MAESTRO 2'!W$6,'DATA MAESTRO 2'!W$7,'DATA MAESTRO 2'!W$8,'DATA MAESTRO 2'!W$9,'DATA MAESTRO 2'!W$10,'DATA MAESTRO 2'!W$11,'DATA MAESTRO 2'!W$12,'DATA MAESTRO 2'!W$13,'DATA MAESTRO 2'!W$14,'DATA MAESTRO 2'!W$15,'DATA MAESTRO 2'!W$16,'DATA MAESTRO 2'!W$17,'DATA MAESTRO 2'!W$18,'DATA MAESTRO 2'!W$19,'DATA MAESTRO 2'!W$20,'DATA MAESTRO 2'!W$21,'DATA MAESTRO 2'!W$22,'DATA MAESTRO 2'!W$23,'DATA MAESTRO 2'!W$24,'DATA MAESTRO 2'!W$25,'DATA MAESTRO 2'!W$26,'DATA MAESTRO 2'!W$27,'DATA MAESTRO 2'!W$28,'DATA MAESTRO 2'!W$29,'DATA MAESTRO 2'!W$30,'DATA MAESTRO 2'!W$31,'DATA MAESTRO 2'!W$32,'DATA MAESTRO 2'!W$33,'DATA MAESTRO 2'!W$34,'DATA MAESTRO 2'!W$35,'DATA MAESTRO 2'!W$36,'DATA MAESTRO 2'!W$37,'DATA MAESTRO 2'!W$38,'DATA MAESTRO 2'!W$39,'DATA MAESTRO 2'!W$40,)","v":0.6},{"$f":"CHOOSE($B8,'DATA MAESTRO 2'!X$6,'DATA MAESTRO 2'!X$7,'DATA MAESTRO 2'!X$8,'DATA MAESTRO 2'!X$9,'DATA MAESTRO 2'!X$10,'DATA MAESTRO 2'!X$11,'DATA MAESTRO 2'!X$12,'DATA MAESTRO 2'!X$13,'DATA MAESTRO 2'!X$14,'DATA MAESTRO 2'!X$15,'DATA MAESTRO 2'!X$16,'DATA MAESTRO 2'!X$17,'DATA MAESTRO 2'!X$18,'DATA MAESTRO 2'!X$19,'DATA MAESTRO 2'!X$20,'DATA MAESTRO 2'!X$21,'DATA MAESTRO 2'!X$22,'DATA MAESTRO 2'!X$23,'DATA MAESTRO 2'!X$24,'DATA MAESTRO 2'!X$25,'DATA MAESTRO 2'!X$26,'DATA MAESTRO 2'!X$27,'DATA MAESTRO 2'!X$28,'DATA MAESTRO 2'!X$29,'DATA MAESTRO 2'!X$30,'DATA MAESTRO 2'!X$31,'DATA MAESTRO 2'!X$32,'DATA MAESTRO 2'!X$33,'DATA MAESTRO 2'!X$34,'DATA MAESTRO 2'!X$35,'DATA MAESTRO 2'!X$36,'DATA MAESTRO 2'!X$37,'DATA MAESTRO 2'!X$38,'DATA MAESTRO 2'!X$39,'DATA MAESTRO 2'!X$40,)","v":0},{"$f":"CHOOSE($B8,'DATA MAESTRO 2'!Y$6,'DATA MAESTRO 2'!Y$7,'DATA MAESTRO 2'!Y$8,'DATA MAESTRO 2'!Y$9,'DATA MAESTRO 2'!Y$10,'DATA MAESTRO 2'!Y$11,'DATA MAESTRO 2'!Y$12,'DATA MAESTRO 2'!Y$13,'DATA MAESTRO 2'!Y$14,'DATA MAESTRO 2'!Y$15,'DATA MAESTRO 2'!Y$16,'DATA MAESTRO 2'!Y$17,'DATA MAESTRO 2'!Y$18,'DATA MAESTRO 2'!Y$19,'DATA MAESTRO 2'!Y$20,'DATA MAESTRO 2'!Y$21,'DATA MAESTRO 2'!Y$22,'DATA MAESTRO 2'!Y$23,'DATA MAESTRO 2'!Y$24,'DATA MAESTRO 2'!Y$25,'DATA MAESTRO 2'!Y$26,'DATA MAESTRO 2'!Y$27,'DATA MAESTRO 2'!Y$28,'DATA MAESTRO 2'!Y$29,'DATA MAESTRO 2'!Y$30,'DATA MAESTRO 2'!Y$31,'DATA MAESTRO 2'!Y$32,'DATA MAESTRO 2'!Y$33,'DATA MAESTRO 2'!Y$34,'DATA MAESTRO 2'!Y$35,'DATA MAESTRO 2'!Y$36,'DATA MAESTRO 2'!Y$37,'DATA MAESTRO 2'!Y$38,'DATA MAESTRO 2'!Y$39,'DATA MAESTRO 2'!Y$40,)","v":0},{"$f":"CHOOSE($B8,'DATA MAESTRO 2'!Z$6,'DATA MAESTRO 2'!Z$7,'DATA MAESTRO 2'!Z$8,'DATA MAESTRO 2'!Z$9,'DATA MAESTRO 2'!Z$10,'DATA MAESTRO 2'!Z$11,'DATA MAESTRO 2'!Z$12,'DATA MAESTRO 2'!Z$13,'DATA MAESTRO 2'!Z$14,'DATA MAESTRO 2'!Z$15,'DATA MAESTRO 2'!Z$16,'DATA MAESTRO 2'!Z$17,'DATA MAESTRO 2'!Z$18,'DATA MAESTRO 2'!Z$19,'DATA MAESTRO 2'!Z$20,'DATA MAESTRO 2'!Z$21,'DATA MAESTRO 2'!Z$22,'DATA MAESTRO 2'!Z$23,'DATA MAESTRO 2'!Z$24,'DATA MAESTRO 2'!Z$25,'DATA MAESTRO 2'!Z$26,'DATA MAESTRO 2'!Z$27,'DATA MAESTRO 2'!Z$28,'DATA MAESTRO 2'!Z$29,'DATA MAESTRO 2'!Z$30,'DATA MAESTRO 2'!Z$31,'DATA MAESTRO 2'!Z$32,'DATA MAESTRO 2'!Z$33,'DATA MAESTRO 2'!Z$34,'DATA MAESTRO 2'!Z$35,'DATA MAESTRO 2'!Z$36,'DATA MAESTRO 2'!Z$37,'DATA MAESTRO 2'!Z$38,'DATA MAESTRO 2'!Z$39,'DATA MAESTRO 2'!Z$40,)","v":0},{"$f":"CHOOSE($B8,'DATA MAESTRO 2'!AA$6,'DATA MAESTRO 2'!AA$7,'DATA MAESTRO 2'!AA$8,'DATA MAESTRO 2'!AA$9,'DATA MAESTRO 2'!AA$10,'DATA MAESTRO 2'!AA$11,'DATA MAESTRO 2'!AA$12,'DATA MAESTRO 2'!AA$13,'DATA MAESTRO 2'!AA$14,'DATA MAESTRO 2'!AA$15,'DATA MAESTRO 2'!AA$16,'DATA MAESTRO 2'!AA$17,'DATA MAESTRO 2'!AA$18,'DATA MAESTRO 2'!AA$19,'DATA MAESTRO 2'!AA$20,'DATA MAESTRO 2'!AA$21,'DATA MAESTRO 2'!AA$22,'DATA MAESTRO 2'!AA$23,'DATA MAESTRO 2'!AA$24,'DATA MAESTRO 2'!AA$25,'DATA MAESTRO 2'!AA$26,'DATA MAESTRO 2'!AA$27,'DATA MAESTRO 2'!AA$28,'DATA MAESTRO 2'!AA$29,'DATA MAESTRO 2'!AA$30,'DATA MAESTRO 2'!AA$31,'DATA MAESTRO 2'!AA$32,'DATA MAESTRO 2'!AA$33,'DATA MAESTRO 2'!AA$34,'DATA MAESTRO 2'!AA$35,'DATA MAESTRO 2'!AA$36,'DATA MAESTRO 2'!AA$37,'DATA MAESTRO 2'!AA$38,'DATA MAESTRO 2'!AA$39,'DATA MAESTRO 2'!AA$40,)","v":0},{"$f":"CHOOSE($B8,'DATA MAESTRO 2'!AB$6,'DATA MAESTRO 2'!AB$7,'DATA MAESTRO 2'!AB$8,'DATA MAESTRO 2'!AB$9,'DATA MAESTRO 2'!AB$10,'DATA MAESTRO 2'!AB$11,'DATA MAESTRO 2'!AB$12,'DATA MAESTRO 2'!AB$13,'DATA MAESTRO 2'!AB$14,'DATA MAESTRO 2'!AB$15,'DATA MAESTRO 2'!AB$16,'DATA MAESTRO 2'!AB$17,'DATA MAESTRO 2'!AB$18,'DATA MAESTRO 2'!AB$19,'DATA MAESTRO 2'!AB$20,'DATA MAESTRO 2'!AB$21,'DATA MAESTRO 2'!AB$22,'DATA MAESTRO 2'!AB$23,'DATA MAESTRO 2'!AB$24,'DATA MAESTRO 2'!AB$25,'DATA MAESTRO 2'!AB$26,'DATA MAESTRO 2'!AB$27,'DATA MAESTRO 2'!AB$28,'DATA MAESTRO 2'!AB$29,'DATA MAESTRO 2'!AB$30,'DATA MAESTRO 2'!AB$31,'DATA MAESTRO 2'!AB$32,'DATA MAESTRO 2'!AB$33,'DATA MAESTRO 2'!AB$34,'DATA MAESTRO 2'!AB$35,'DATA MAESTRO 2'!AB$36,'DATA MAESTRO 2'!AB$37,'DATA MAESTRO 2'!AB$38,'DATA MAESTRO 2'!AB$39,'DATA MAESTRO 2'!AB$40,)","v":0},{"$f":"CHOOSE($B8,'DATA MAESTRO 2'!AC$6,'DATA MAESTRO 2'!AC$7,'DATA MAESTRO 2'!AC$8,'DATA MAESTRO 2'!AC$9,'DATA MAESTRO 2'!AC$10,'DATA MAESTRO 2'!AC$11,'DATA MAESTRO 2'!AC$12,'DATA MAESTRO 2'!AC$13,'DATA MAESTRO 2'!AC$14,'DATA MAESTRO 2'!AC$15,'DATA MAESTRO 2'!AC$16,'DATA MAESTRO 2'!AC$17,'DATA MAESTRO 2'!AC$18,'DATA MAESTRO 2'!AC$19,'DATA MAESTRO 2'!AC$20,'DATA MAESTRO 2'!AC$21,'DATA MAESTRO 2'!AC$22,'DATA MAESTRO 2'!AC$23,'DATA MAESTRO 2'!AC$24,'DATA MAESTRO 2'!AC$25,'DATA MAESTRO 2'!AC$26,'DATA MAESTRO 2'!AC$27,'DATA MAESTRO 2'!AC$28,'DATA MAESTRO 2'!AC$29,'DATA MAESTRO 2'!AC$30,'DATA MAESTRO 2'!AC$31,'DATA MAESTRO 2'!AC$32,'DATA MAESTRO 2'!AC$33,'DATA MAESTRO 2'!AC$34,'DATA MAESTRO 2'!AC$35,'DATA MAESTRO 2'!AC$36,'DATA MAESTRO 2'!AC$37,'DATA MAESTRO 2'!AC$38,'DATA MAESTRO 2'!AC$39,'DATA MAESTRO 2'!AC$40,)","v":0},{"$f":"CHOOSE($B8,'DATA MAESTRO 2'!AD$6,'DATA MAESTRO 2'!AD$7,'DATA MAESTRO 2'!AD$8,'DATA MAESTRO 2'!AD$9,'DATA MAESTRO 2'!AD$10,'DATA MAESTRO 2'!AD$11,'DATA MAESTRO 2'!AD$12,'DATA MAESTRO 2'!AD$13,'DATA MAESTRO 2'!AD$14,'DATA MAESTRO 2'!AD$15,'DATA MAESTRO 2'!AD$16,'DATA MAESTRO 2'!AD$17,'DATA MAESTRO 2'!AD$18,'DATA MAESTRO 2'!AD$19,'DATA MAESTRO 2'!AD$20,'DATA MAESTRO 2'!AD$21,'DATA MAESTRO 2'!AD$22,'DATA MAESTRO 2'!AD$23,'DATA MAESTRO 2'!AD$24,'DATA MAESTRO 2'!AD$25,'DATA MAESTRO 2'!AD$26,'DATA MAESTRO 2'!AD$27,'DATA MAESTRO 2'!AD$28,'DATA MAESTRO 2'!AD$29,'DATA MAESTRO 2'!AD$30,'DATA MAESTRO 2'!AD$31,'DATA MAESTRO 2'!AD$32,'DATA MAESTRO 2'!AD$33,'DATA MAESTRO 2'!AD$34,'DATA MAESTRO 2'!AD$35,'DATA MAESTRO 2'!AD$36,'DATA MAESTRO 2'!AD$37,'DATA MAESTRO 2'!AD$38,'DATA MAESTRO 2'!AD$39,'DATA MAESTRO 2'!AD$40,)","v":0},{"$f":"CHOOSE($B8,'DATA MAESTRO 2'!AE$6,'DATA MAESTRO 2'!AE$7,'DATA MAESTRO 2'!AE$8,'DATA MAESTRO 2'!AE$9,'DATA MAESTRO 2'!AE$10,'DATA MAESTRO 2'!AE$11,'DATA MAESTRO 2'!AE$12,'DATA MAESTRO 2'!AE$13,'DATA MAESTRO 2'!AE$14,'DATA MAESTRO 2'!AE$15,'DATA MAESTRO 2'!AE$16,'DATA MAESTRO 2'!AE$17,'DATA MAESTRO 2'!AE$18,'DATA MAESTRO 2'!AE$19,'DATA MAESTRO 2'!AE$20,'DATA MAESTRO 2'!AE$21,'DATA MAESTRO 2'!AE$22,'DATA MAESTRO 2'!AE$23,'DATA MAESTRO 2'!AE$24,'DATA MAESTRO 2'!AE$25,'DATA MAESTRO 2'!AE$26,'DATA MAESTRO 2'!AE$27,'DATA MAESTRO 2'!AE$28,'DATA MAESTRO 2'!AE$29,'DATA MAESTRO 2'!AE$30,'DATA MAESTRO 2'!AE$31,'DATA MAESTRO 2'!AE$32,'DATA MAESTRO 2'!AE$33,'DATA MAESTRO 2'!AE$34,'DATA MAESTRO 2'!AE$35,'DATA MAESTRO 2'!AE$36,'DATA MAESTRO 2'!AE$37,'DATA MAESTRO 2'!AE$38,'DATA MAESTRO 2'!AE$39,'DATA MAESTRO 2'!AE$40,)","v":0},{"$f":"CHOOSE($B8,'DATA MAESTRO 2'!AF$6,'DATA MAESTRO 2'!AF$7,'DATA MAESTRO 2'!AF$8,'DATA MAESTRO 2'!AF$9,'DATA MAESTRO 2'!AF$10,'DATA MAESTRO 2'!AF$11,'DATA MAESTRO 2'!AF$12,'DATA MAESTRO 2'!AF$13,'DATA MAESTRO 2'!AF$14,'DATA MAESTRO 2'!AF$15,'DATA MAESTRO 2'!AF$16,'DATA MAESTRO 2'!AF$17,'DATA MAESTRO 2'!AF$18,'DATA MAESTRO 2'!AF$19,'DATA MAESTRO 2'!AF$20,'DATA MAESTRO 2'!AF$21,'DATA MAESTRO 2'!AF$22,'DATA MAESTRO 2'!AF$23,'DATA MAESTRO 2'!AF$24,'DATA MAESTRO 2'!AF$25,'DATA MAESTRO 2'!AF$26,'DATA MAESTRO 2'!AF$27,'DATA MAESTRO 2'!AF$28,'DATA MAESTRO 2'!AF$29,'DATA MAESTRO 2'!AF$30,'DATA MAESTRO 2'!AF$31,'DATA MAESTRO 2'!AF$32,'DATA MAESTRO 2'!AF$33,'DATA MAESTRO 2'!AF$34,'DATA MAESTRO 2'!AF$35,'DATA MAESTRO 2'!AF$36,'DATA MAESTRO 2'!AF$37,'DATA MAESTRO 2'!AF$38,'DATA MAESTRO 2'!AF$39,'DATA MAESTRO 2'!AF$40,)","v":0},{"$f":"CHOOSE($B8,'DATA MAESTRO 2'!AG$6,'DATA MAESTRO 2'!AG$7,'DATA MAESTRO 2'!AG$8,'DATA MAESTRO 2'!AG$9,'DATA MAESTRO 2'!AG$10,'DATA MAESTRO 2'!AG$11,'DATA MAESTRO 2'!AG$12,'DATA MAESTRO 2'!AG$13,'DATA MAESTRO 2'!AG$14,'DATA MAESTRO 2'!AG$15,'DATA MAESTRO 2'!AG$16,'DATA MAESTRO 2'!AG$17,'DATA MAESTRO 2'!AG$18,'DATA MAESTRO 2'!AG$19,'DATA MAESTRO 2'!AG$20,'DATA MAESTRO 2'!AG$21,'DATA MAESTRO 2'!AG$22,'DATA MAESTRO 2'!AG$23,'DATA MAESTRO 2'!AG$24,'DATA MAESTRO 2'!AG$25,'DATA MAESTRO 2'!AG$26,'DATA MAESTRO 2'!AG$27,'DATA MAESTRO 2'!AG$28,'DATA MAESTRO 2'!AG$29,'DATA MAESTRO 2'!AG$30,'DATA MAESTRO 2'!AG$31,'DATA MAESTRO 2'!AG$32,'DATA MAESTRO 2'!AG$33,'DATA MAESTRO 2'!AG$34,'DATA MAESTRO 2'!AG$35,'DATA MAESTRO 2'!AG$36,'DATA MAESTRO 2'!AG$37,'DATA MAESTRO 2'!AG$38,'DATA MAESTRO 2'!AG$39,'DATA MAESTRO 2'!AG$40,)","v":0},{"$f":"CHOOSE($B8,'DATA MAESTRO 2'!AH$6,'DATA MAESTRO 2'!AH$7,'DATA MAESTRO 2'!AH$8,'DATA MAESTRO 2'!AH$9,'DATA MAESTRO 2'!AH$10,'DATA MAESTRO 2'!AH$11,'DATA MAESTRO 2'!AH$12,'DATA MAESTRO 2'!AH$13,'DATA MAESTRO 2'!AH$14,'DATA MAESTRO 2'!AH$15,'DATA MAESTRO 2'!AH$16,'DATA MAESTRO 2'!AH$17,'DATA MAESTRO 2'!AH$18,'DATA MAESTRO 2'!AH$19,'DATA MAESTRO 2'!AH$20,'DATA MAESTRO 2'!AH$21,'DATA MAESTRO 2'!AH$22,'DATA MAESTRO 2'!AH$23,'DATA MAESTRO 2'!AH$24,'DATA MAESTRO 2'!AH$25,'DATA MAESTRO 2'!AH$26,'DATA MAESTRO 2'!AH$27,'DATA MAESTRO 2'!AH$28,'DATA MAESTRO 2'!AH$29,'DATA MAESTRO 2'!AH$30,'DATA MAESTRO 2'!AH$31,'DATA MAESTRO 2'!AH$32,'DATA MAESTRO 2'!AH$33,'DATA MAESTRO 2'!AH$34,'DATA MAESTRO 2'!AH$35,'DATA MAESTRO 2'!AH$36,'DATA MAESTRO 2'!AH$37,'DATA MAESTRO 2'!AH$38,'DATA MAESTRO 2'!AH$39,'DATA MAESTRO 2'!AH$40,)","v":0},{"$f":"CHOOSE($B8,'DATA MAESTRO 2'!AI$6,'DATA MAESTRO 2'!AI$7,'DATA MAESTRO 2'!AI$8,'DATA MAESTRO 2'!AI$9,'DATA MAESTRO 2'!AI$10,'DATA MAESTRO 2'!AI$11,'DATA MAESTRO 2'!AI$12,'DATA MAESTRO 2'!AI$13,'DATA MAESTRO 2'!AI$14,'DATA MAESTRO 2'!AI$15,'DATA MAESTRO 2'!AI$16,'DATA MAESTRO 2'!AI$17,'DATA MAESTRO 2'!AI$18,'DATA MAESTRO 2'!AI$19,'DATA MAESTRO 2'!AI$20,'DATA MAESTRO 2'!AI$21,'DATA MAESTRO 2'!AI$22,'DATA MAESTRO 2'!AI$23,'DATA MAESTRO 2'!AI$24,'DATA MAESTRO 2'!AI$25,'DATA MAESTRO 2'!AI$26,'DATA MAESTRO 2'!AI$27,'DATA MAESTRO 2'!AI$28,'DATA MAESTRO 2'!AI$29,'DATA MAESTRO 2'!AI$30,'DATA MAESTRO 2'!AI$31,'DATA MAESTRO 2'!AI$32,'DATA MAESTRO 2'!AI$33,'DATA MAESTRO 2'!AI$34,'DATA MAESTRO 2'!AI$35,'DATA MAESTRO 2'!AI$36,'DATA MAESTRO 2'!AI$37,'DATA MAESTRO 2'!AI$38,'DATA MAESTRO 2'!AI$39,'DATA MAESTRO 2'!AI$40,)","v":0},{"$f":"CHOOSE($B8,'DATA MAESTRO 2'!AJ$6,'DATA MAESTRO 2'!AJ$7,'DATA MAESTRO 2'!AJ$8,'DATA MAESTRO 2'!AJ$9,'DATA MAESTRO 2'!AJ$10,'DATA MAESTRO 2'!AJ$11,'DATA MAESTRO 2'!AJ$12,'DATA MAESTRO 2'!AJ$13,'DATA MAESTRO 2'!AJ$14,'DATA MAESTRO 2'!AJ$15,'DATA MAESTRO 2'!AJ$16,'DATA MAESTRO 2'!AJ$17,'DATA MAESTRO 2'!AJ$18,'DATA MAESTRO 2'!AJ$19,'DATA MAESTRO 2'!AJ$20,'DATA MAESTRO 2'!AJ$21,'DATA MAESTRO 2'!AJ$22,'DATA MAESTRO 2'!AJ$23,'DATA MAESTRO 2'!AJ$24,'DATA MAESTRO 2'!AJ$25,'DATA MAESTRO 2'!AJ$26,'DATA MAESTRO 2'!AJ$27,'DATA MAESTRO 2'!AJ$28,'DATA MAESTRO 2'!AJ$29,'DATA MAESTRO 2'!AJ$30,'DATA MAESTRO 2'!AJ$31,'DATA MAESTRO 2'!AJ$32,'DATA MAESTRO 2'!AJ$33,'DATA MAESTRO 2'!AJ$34,'DATA MAESTRO 2'!AJ$35,'DATA MAESTRO 2'!AJ$36,'DATA MAESTRO 2'!AJ$37,'DATA MAESTRO 2'!AJ$38,'DATA MAESTRO 2'!AJ$39,'DATA MAESTRO 2'!AJ$40,)","v":0}]
[7,11,{"$f":"+IF(AND(B9>=1,B9<=36),VLOOKUP(B9,'DATA MAESTRO 2'!$A$6:$B$40,2),0)","v":"BICARBONATO"},{"$f":"+CHOOSE($B9,'DATA MAESTRO 2'!C$6,'DATA MAESTRO 2'!C$7,'DATA MAESTRO 2'!C$8,'DATA MAESTRO 2'!C$9,'DATA MAESTRO 2'!C$10,'DATA MAESTRO 2'!C$11,'DATA MAESTRO 2'!C$12,'DATA MAESTRO 2'!C$13,'DATA MAESTRO 2'!C$14,'DATA MAESTRO 2'!C$15,'DATA MAESTRO 2'!C$16,'DATA MAESTRO 2'!C$17,'DATA MAESTRO 2'!C$18,'DATA MAESTRO 2'!C$19,'DATA MAESTRO 2'!C$20,'DATA MAESTRO 2'!C$21,'DATA MAESTRO 2'!C$22,'DATA MAESTRO 2'!C$23,'DATA MAESTRO 2'!C$24,'DATA MAESTRO 2'!C$25,'DATA MAESTRO 2'!C$26,'DATA MAESTRO 2'!C$27,'DATA MAESTRO 2'!C$28,'DATA MAESTRO 2'!C$29,'DATA MAESTRO 2'!C$30,'DATA MAESTRO 2'!C$31,'DATA MAESTRO 2'!C$32,'DATA MAESTRO 2'!C$33,'DATA MAESTRO 2'!C$34,'DATA MAESTRO 2'!C$35,'DATA MAESTRO 2'!C$36,'DATA MAESTRO 2'!C$37,'DATA MAESTRO 2'!C$38,'DATA MAESTRO 2'!C$39,'DATA MAESTRO 2'!C$40,)","v":0},{"$f":"CHOOSE($B9,'DATA MAESTRO 2'!D$6,'DATA MAESTRO 2'!D$7,'DATA MAESTRO 2'!D$8,'DATA MAESTRO 2'!D$9,'DATA MAESTRO 2'!D$10,'DATA MAESTRO 2'!D$11,'DATA MAESTRO 2'!D$12,'DATA MAESTRO 2'!D$13,'DATA MAESTRO 2'!D$14,'DATA MAESTRO 2'!D$15,'DATA MAESTRO 2'!D$16,'DATA MAESTRO 2'!D$17,'DATA MAESTRO 2'!D$18,'DATA MAESTRO 2'!D$19,'DATA MAESTRO 2'!D$20,'DATA MAESTRO 2'!D$21,'DATA MAESTRO 2'!D$22,'DATA MAESTRO 2'!D$23,'DATA MAESTRO 2'!D$24,'DATA MAESTRO 2'!D$25,'DATA MAESTRO 2'!D$26,'DATA MAESTRO 2'!D$27,'DATA MAESTRO 2'!D$28,'DATA MAESTRO 2'!D$29,'DATA MAESTRO 2'!D$30,'DATA MAESTRO 2'!D$31,'DATA MAESTRO 2'!D$32,'DATA MAESTRO 2'!D$33,'DATA MAESTRO 2'!D$34,'DATA MAESTRO 2'!D$35,'DATA MAESTRO 2'!D$36,'DATA MAESTRO 2'!D$37,'DATA MAESTRO 2'!D$38,'DATA MAESTRO 2'!D$39,'DATA MAESTRO 2'!D$40,)","v":0.99},{"$f":"CHOOSE(B9,'DATA MAESTRO 2'!E$6,'DATA MAESTRO 2'!E$7,'DATA MAESTRO 2'!E$8,'DATA MAESTRO 2'!E$9,'DATA MAESTRO 2'!E$10,'DATA MAESTRO 2'!E$11,'DATA MAESTRO 2'!E$12,'DATA MAESTRO 2'!E$13,'DATA MAESTRO 2'!E$14,'DATA MAESTRO 2'!E$15,'DATA MAESTRO 2'!E$16,'DATA MAESTRO 2'!E$17,'DATA MAESTRO 2'!E$18,'DATA MAESTRO 2'!E$19,'DATA MAESTRO 2'!E$20,'DATA MAESTRO 2'!E$21,'DATA MAESTRO 2'!E$22,'DATA MAESTRO 2'!E$23,'DATA MAESTRO 2'!E$24,'DATA MAESTRO 2'!E$25,'DATA MAESTRO 2'!E$26,'DATA MAESTRO 2'!E$27,'DATA MAESTRO 2'!E$28,'DATA MAESTRO 2'!E$29,'DATA MAESTRO 2'!E$30,'DATA MAESTRO 2'!E$31,'DATA MAESTRO 2'!E$32,'DATA MAESTRO 2'!E$33,'DATA MAESTRO 2'!E$34,'DATA MAESTRO 2'!E$35,'DATA MAESTRO 2'!E$36,'DATA MAESTRO 2'!E$37,'DATA MAESTRO 2'!E$38,'DATA MAESTRO 2'!E$39,'DATA MAESTRO 2'!E$40,)","v":0},{"$f":"CHOOSE($B9,'DATA MAESTRO 2'!F$6,'DATA MAESTRO 2'!F$7,'DATA MAESTRO 2'!F$8,'DATA MAESTRO 2'!F$9,'DATA MAESTRO 2'!F$10,'DATA MAESTRO 2'!F$11,'DATA MAESTRO 2'!F$12,'DATA MAESTRO 2'!F$13,'DATA MAESTRO 2'!F$14,'DATA MAESTRO 2'!F$15,'DATA MAESTRO 2'!F$16,'DATA MAESTRO 2'!F$17,'DATA MAESTRO 2'!F$18,'DATA MAESTRO 2'!F$19,'DATA MAESTRO 2'!F$20,'DATA MAESTRO 2'!F$21,'DATA MAESTRO 2'!F$22,'DATA MAESTRO 2'!F$23,'DATA MAESTRO 2'!F$24,'DATA MAESTRO 2'!F$25,'DATA MAESTRO 2'!F$26,'DATA MAESTRO 2'!F$27,'DATA MAESTRO 2'!F$28,'DATA MAESTRO 2'!F$29,'DATA MAESTRO 2'!F$30,'DATA MAESTRO 2'!F$31,'DATA MAESTRO 2'!F$32,'DATA MAESTRO 2'!F$33,'DATA MAESTRO 2'!F$34,'DATA MAESTRO 2'!F$35,'DATA MAESTRO 2'!F$36,'DATA MAESTRO 2'!F$37,'DATA MAESTRO 2'!F$38,'DATA MAESTRO 2'!F$39,'DATA MAESTRO 2'!F$40,)","v":0},{"$f":"CHOOSE($B9,'DATA MAESTRO 2'!G$6,'DATA MAESTRO 2'!G$7,'DATA MAESTRO 2'!G$8,'DATA MAESTRO 2'!G$9,'DATA MAESTRO 2'!G$10,'DATA MAESTRO 2'!G$11,'DATA MAESTRO 2'!G$12,'DATA MAESTRO 2'!G$13,'DATA MAESTRO 2'!G$14,'DATA MAESTRO 2'!G$15,'DATA MAESTRO 2'!G$16,'DATA MAESTRO 2'!G$17,'DATA MAESTRO 2'!G$18,'DATA MAESTRO 2'!G$19,'DATA MAESTRO 2'!G$20,'DATA MAESTRO 2'!G$21,'DATA MAESTRO 2'!G$22,'DATA MAESTRO 2'!G$23,'DATA MAESTRO 2'!G$24,'DATA MAESTRO 2'!G$25,'DATA MAESTRO 2'!G$26,'DATA MAESTRO 2'!G$27,'DATA MAESTRO 2'!G$28,'DATA MAESTRO 2'!G$29,'DATA MAESTRO 2'!G$30,'DATA MAESTRO 2'!G$31,'DATA MAESTRO 2'!G$32,'DATA MAESTRO 2'!G$33,'DATA MAESTRO 2'!G$34,'DATA MAESTRO 2'!G$35,'DATA MAESTRO 2'!G$36,'DATA MAESTRO 2'!G$37,'DATA MAESTRO 2'!G$38,'DATA MAESTRO 2'!G$39,'DATA MAESTRO 2'!G$40,)","v":0},{"$f":"CHOOSE($B9,'DATA MAESTRO 2'!H$6,'DATA MAESTRO 2'!H$7,'DATA MAESTRO 2'!H$8,'DATA MAESTRO 2'!H$9,'DATA MAESTRO 2'!H$10,'DATA MAESTRO 2'!H$11,'DATA MAESTRO 2'!H$12,'DATA MAESTRO 2'!H$13,'DATA MAESTRO 2'!H$14,'DATA MAESTRO 2'!H$15,'DATA MAESTRO 2'!H$16,'DATA MAESTRO 2'!H$17,'DATA MAESTRO 2'!H$18,'DATA MAESTRO 2'!H$19,'DATA MAESTRO 2'!H$20,'DATA MAESTRO 2'!H$21,'DATA MAESTRO 2'!H$22,'DATA MAESTRO 2'!H$23,'DATA MAESTRO 2'!H$24,'DATA MAESTRO 2'!H$25,'DATA MAESTRO 2'!H$26,'DATA MAESTRO 2'!H$27,'DATA MAESTRO 2'!H$28,'DATA MAESTRO 2'!H$29,'DATA MAESTRO 2'!H$30,'DATA MAESTRO 2'!H$31,'DATA MAESTRO 2'!H$32,'DATA MAESTRO 2'!H$33,'DATA MAESTRO 2'!H$34,'DATA MAESTRO 2'!H$35,'DATA MAESTRO 2'!H$36,'DATA MAESTRO 2'!H$37,'DATA MAESTRO 2'!H$38,'DATA MAESTRO 2'!H$39,'DATA MAESTRO 2'!H$40,)","v":0},{"$f":"CHOOSE($B9,'DATA MAESTRO 2'!I$6,'DATA MAESTRO 2'!I$7,'DATA MAESTRO 2'!I$8,'DATA MAESTRO 2'!I$9,'DATA MAESTRO 2'!I$10,'DATA MAESTRO 2'!I$11,'DATA MAESTRO 2'!I$12,'DATA MAESTRO 2'!I$13,'DATA MAESTRO 2'!I$14,'DATA MAESTRO 2'!I$15,'DATA MAESTRO 2'!I$16,'DATA MAESTRO 2'!I$17,'DATA MAESTRO 2'!I$18,'DATA MAESTRO 2'!I$19,'DATA MAESTRO 2'!I$20,'DATA MAESTRO 2'!I$21,'DATA MAESTRO 2'!I$22,'DATA MAESTRO 2'!I$23,'DATA MAESTRO 2'!I$24,'DATA MAESTRO 2'!I$25,'DATA MAESTRO 2'!I$26,'DATA MAESTRO 2'!I$27,'DATA MAESTRO 2'!I$28,'DATA MAESTRO 2'!I$29,'DATA MAESTRO 2'!I$30,'DATA MAESTRO 2'!I$31,'DATA MAESTRO 2'!I$32,'DATA MAESTRO 2'!I$33,'DATA MAESTRO 2'!I$34,'DATA MAESTRO 2'!I$35,'DATA MAESTRO 2'!I$36,'DATA MAESTRO 2'!I$37,'DATA MAESTRO 2'!I$38,'DATA MAESTRO 2'!I$39,'DATA MAESTRO 2'!I$40,)","v":0},{"$f":"CHOOSE($B9,'DATA MAESTRO 2'!J$6,'DATA MAESTRO 2'!J$7,'DATA MAESTRO 2'!J$8,'DATA MAESTRO 2'!J$9,'DATA MAESTRO 2'!J$10,'DATA MAESTRO 2'!J$11,'DATA MAESTRO 2'!J$12,'DATA MAESTRO 2'!J$13,'DATA MAESTRO 2'!J$14,'DATA MAESTRO 2'!J$15,'DATA MAESTRO 2'!J$16,'DATA MAESTRO 2'!J$17,'DATA MAESTRO 2'!J$18,'DATA MAESTRO 2'!J$19,'DATA MAESTRO 2'!J$20,'DATA MAESTRO 2'!J$21,'DATA MAESTRO 2'!J$22,'DATA MAESTRO 2'!J$23,'DATA MAESTRO 2'!J$24,'DATA MAESTRO 2'!J$25,'DATA MAESTRO 2'!J$26,'DATA MAESTRO 2'!J$27,'DATA MAESTRO 2'!J$28,'DATA MAESTRO 2'!J$29,'DATA MAESTRO 2'!J$30,'DATA MAESTRO 2'!J$31,'DATA MAESTRO 2'!J$32,'DATA MAESTRO 2'!J$33,'DATA MAESTRO 2'!J$34,'DATA MAESTRO 2'!J$35,'DATA MAESTRO 2'!J$36,'DATA MAESTRO 2'!J$37,'DATA MAESTRO 2'!J$38,'DATA MAESTRO 2'!J$39,'DATA MAESTRO 2'!J$40,)","v":0},{"$f":"CHOOSE($B9,'DATA MAESTRO 2'!K$6,'DATA MAESTRO 2'!K$7,'DATA MAESTRO 2'!K$8,'DATA MAESTRO 2'!K$9,'DATA MAESTRO 2'!K$10,'DATA MAESTRO 2'!K$11,'DATA MAESTRO 2'!K$12,'DATA MAESTRO 2'!K$13,'DATA MAESTRO 2'!K$14,'DATA MAESTRO 2'!K$15,'DATA MAESTRO 2'!K$16,'DATA MAESTRO 2'!K$17,'DATA MAESTRO 2'!K$18,'DATA MAESTRO 2'!K$19,'DATA MAESTRO 2'!K$20,'DATA MAESTRO 2'!K$21,'DATA MAESTRO 2'!K$22,'DATA MAESTRO 2'!K$23,'DATA MAESTRO 2'!K$24,'DATA MAESTRO 2'!K$25,'DATA MAESTRO 2'!K$26,'DATA MAESTRO 2'!K$27,'DATA MAESTRO 2'!K$28,'DATA MAESTRO 2'!K$29,'DATA MAESTRO 2'!K$30,'DATA MAESTRO 2'!K$31,'DATA MAESTRO 2'!K$32,'DATA MAESTRO 2'!K$33,'DATA MAESTRO 2'!K$34,'DATA MAESTRO 2'!K$35,'DATA MAESTRO 2'!K$36,'DATA MAESTRO 2'!K$37,'DATA MAESTRO 2'!K$38,'DATA MAESTRO 2'!K$39,'DATA MAESTRO 2'!K$40,)","v":0},{"$f":"CHOOSE($B9,'DATA MAESTRO 2'!L$6,'DATA MAESTRO 2'!L$7,'DATA MAESTRO 2'!L$8,'DATA MAESTRO 2'!L$9,'DATA MAESTRO 2'!L$10,'DATA MAESTRO 2'!L$11,'DATA MAESTRO 2'!L$12,'DATA MAESTRO 2'!L$13,'DATA MAESTRO 2'!L$14,'DATA MAESTRO 2'!L$15,'DATA MAESTRO 2'!L$16,'DATA MAESTRO 2'!L$17,'DATA MAESTRO 2'!L$18,'DATA MAESTRO 2'!L$19,'DATA MAESTRO 2'!L$20,'DATA MAESTRO 2'!L$21,'DATA MAESTRO 2'!L$22,'DATA MAESTRO 2'!L$23,'DATA MAESTRO 2'!L$24,'DATA MAESTRO 2'!L$25,'DATA MAESTRO 2'!L$26,'DATA MAESTRO 2'!L$27,'DATA MAESTRO 2'!L$28,'DATA MAESTRO 2'!L$29,'DATA MAESTRO 2'!L$30,'DATA MAESTRO 2'!L$31,'DATA MAESTRO 2'!L$32,'DATA MAESTRO 2'!L$33,'DATA MAESTRO 2'!L$34,'DATA MAESTRO 2'!L$35,'DATA MAESTRO 2'!L$36,'DATA MAESTRO 2'!L$37,'DATA MAESTRO 2'!L$38,'DATA MAESTRO 2'!L$39,'DATA MAESTRO 2'!L$40,)","v":0},{"$f":"CHOOSE($B9,'DATA MAESTRO 2'!M$6,'DATA MAESTRO 2'!M$7,'DATA MAESTRO 2'!M$8,'DATA MAESTRO 2'!M$9,'DATA MAESTRO 2'!M$10,'DATA MAESTRO 2'!M$11,'DATA MAESTRO 2'!M$12,'DATA MAESTRO 2'!M$13,'DATA MAESTRO 2'!M$14,'DATA MAESTRO 2'!M$15,'DATA MAESTRO 2'!M$16,'DATA MAESTRO 2'!M$17,'DATA MAESTRO 2'!M$18,'DATA MAESTRO 2'!M$19,'DATA MAESTRO 2'!M$20,'DATA MAESTRO 2'!M$21,'DATA MAESTRO 2'!M$22,'DATA MAESTRO 2'!M$23,'DATA MAESTRO 2'!M$24,'DATA MAESTRO 2'!M$25,'DATA MAESTRO 2'!M$26,'DATA MAESTRO 2'!M$27,'DATA MAESTRO 2'!M$28,'DATA MAESTRO 2'!M$29,'DATA MAESTRO 2'!M$30,'DATA MAESTRO 2'!M$31,'DATA MAESTRO 2'!M$32,'DATA MAESTRO 2'!M$33,'DATA MAESTRO 2'!M$34,'DATA MAESTRO 2'!M$35,'DATA MAESTRO 2'!M$36,'DATA MAESTRO 2'!M$37,'DATA MAESTRO 2'!M$38,'DATA MAESTRO 2'!M$39,'DATA MAESTRO 2'!M$40,)","v":0},{"$f":"CHOOSE($B9,'DATA MAESTRO 2'!N$6,'DATA MAESTRO 2'!N$7,'DATA MAESTRO 2'!N$8,'DATA MAESTRO 2'!N$9,'DATA MAESTRO 2'!N$10,'DATA MAESTRO 2'!N$11,'DATA MAESTRO 2'!N$12,'DATA MAESTRO 2'!N$13,'DATA MAESTRO 2'!N$14,'DATA MAESTRO 2'!N$15,'DATA MAESTRO 2'!N$16,'DATA MAESTRO 2'!N$17,'DATA MAESTRO 2'!N$18,'DATA MAESTRO 2'!N$19,'DATA MAESTRO 2'!N$20,'DATA MAESTRO 2'!N$21,'DATA MAESTRO 2'!N$22,'DATA MAESTRO 2'!N$23,'DATA MAESTRO 2'!N$24,'DATA MAESTRO 2'!N$25,'DATA MAESTRO 2'!N$26,'DATA MAESTRO 2'!N$27,'DATA MAESTRO 2'!N$28,'DATA MAESTRO 2'!N$29,'DATA MAESTRO 2'!N$30,'DATA MAESTRO 2'!N$31,'DATA MAESTRO 2'!N$32,'DATA MAESTRO 2'!N$33,'DATA MAESTRO 2'!N$34,'DATA MAESTRO 2'!N$35,'DATA MAESTRO 2'!N$36,'DATA MAESTRO 2'!N$37,'DATA MAESTRO 2'!N$38,'DATA MAESTRO 2'!N$39,'DATA MAESTRO 2'!N$40,)","v":0},{"$f":"CHOOSE($B9,'DATA MAESTRO 2'!O$6,'DATA MAESTRO 2'!O$7,'DATA MAESTRO 2'!O$8,'DATA MAESTRO 2'!O$9,'DATA MAESTRO 2'!O$10,'DATA MAESTRO 2'!O$11,'DATA MAESTRO 2'!O$12,'DATA MAESTRO 2'!O$13,'DATA MAESTRO 2'!O$14,'DATA MAESTRO 2'!O$15,'DATA MAESTRO 2'!O$16,'DATA MAESTRO 2'!O$17,'DATA MAESTRO 2'!O$18,'DATA MAESTRO 2'!O$19,'DATA MAESTRO 2'!O$20,'DATA MAESTRO 2'!O$21,'DATA MAESTRO 2'!O$22,'DATA MAESTRO 2'!O$23,'DATA MAESTRO 2'!O$24,'DATA MAESTRO 2'!O$25,'DATA MAESTRO 2'!O$26,'DATA MAESTRO 2'!O$27,'DATA MAESTRO 2'!O$28,'DATA MAESTRO 2'!O$29,'DATA MAESTRO 2'!O$30,'DATA MAESTRO 2'!O$31,'DATA MAESTRO 2'!O$32,'DATA MAESTRO 2'!O$33,'DATA MAESTRO 2'!O$34,'DATA MAESTRO 2'!O$35,'DATA MAESTRO 2'!O$36,'DATA MAESTRO 2'!O$37,'DATA MAESTRO 2'!O$38,'DATA MAESTRO 2'!O$39,'DATA MAESTRO 2'!O$40,)","v":0},{"$f":"CHOOSE($B9,'DATA MAESTRO 2'!P$6,'DATA MAESTRO 2'!P$7,'DATA MAESTRO 2'!P$8,'DATA MAESTRO 2'!P$9,'DATA MAESTRO 2'!P$10,'DATA MAESTRO 2'!P$11,'DATA MAESTRO 2'!P$12,'DATA MAESTRO 2'!P$13,'DATA MAESTRO 2'!P$14,'DATA MAESTRO 2'!P$15,'DATA MAESTRO 2'!P$16,'DATA MAESTRO 2'!P$17,'DATA MAESTRO 2'!P$18,'DATA MAESTRO 2'!P$19,'DATA MAESTRO 2'!P$20,'DATA MAESTRO 2'!P$21,'DATA MAESTRO 2'!P$22,'DATA MAESTRO 2'!P$23,'DATA MAESTRO 2'!P$24,'DATA MAESTRO 2'!P$25,'DATA MAESTRO 2'!P$26,'DATA MAESTRO 2'!P$27,'DATA MAESTRO 2'!P$28,'DATA MAESTRO 2'!P$29,'DATA MAESTRO 2'!P$30,'DATA MAESTRO 2'!P$31,'DATA MAESTRO 2'!P$32,'DATA MAESTRO 2'!P$33,'DATA MAESTRO 2'!P$34,'DATA MAESTRO 2'!P$35,'DATA MAESTRO 2'!P$36,'DATA MAESTRO 2'!P$37,'DATA MAESTRO 2'!P$38,'DATA MAESTRO 2'!P$39,'DATA MAESTRO 2'!P$40,)","v":0},{"$f":"CHOOSE($B9,'DATA MAESTRO 2'!Q$6,'DATA MAESTRO 2'!Q$7,'DATA MAESTRO 2'!Q$8,'DATA MAESTRO 2'!Q$9,'DATA MAESTRO 2'!Q$10,'DATA MAESTRO 2'!Q$11,'DATA MAESTRO 2'!Q$12,'DATA MAESTRO 2'!Q$13,'DATA MAESTRO 2'!Q$14,'DATA MAESTRO 2'!Q$15,'DATA MAESTRO 2'!Q$16,'DATA MAESTRO 2'!Q$17,'DATA MAESTRO 2'!Q$18,'DATA MAESTRO 2'!Q$19,'DATA MAESTRO 2'!Q$20,'DATA MAESTRO 2'!Q$21,'DATA MAESTRO 2'!Q$22,'DATA MAESTRO 2'!Q$23,'DATA MAESTRO 2'!Q$24,'DATA MAESTRO 2'!Q$25,'DATA MAESTRO 2'!Q$26,'DATA MAESTRO 2'!Q$27,'DATA MAESTRO 2'!Q$28,'DATA MAESTRO 2'!Q$29,'DATA MAESTRO 2'!Q$30,'DATA MAESTRO 2'!Q$31,'DATA MAESTRO 2'!Q$32,'DATA MAESTRO 2'!Q$33,'DATA MAESTRO 2'!Q$34,'DATA MAESTRO 2'!Q$35,'DATA MAESTRO 2'!Q$36,'DATA MAESTRO 2'!Q$37,'DATA MAESTRO 2'!Q$38,'DATA MAESTRO 2'!Q$39,'DATA MAESTRO 2'!Q$40,)","v":0},{"$f":"CHOOSE($B9,'DATA MAESTRO 2'!R$6,'DATA MAESTRO 2'!R$7,'DATA MAESTRO 2'!R$8,'DATA MAESTRO 2'!R$9,'DATA MAESTRO 2'!R$10,'DATA MAESTRO 2'!R$11,'DATA MAESTRO 2'!R$12,'DATA MAESTRO 2'!R$13,'DATA MAESTRO 2'!R$14,'DATA MAESTRO 2'!R$15,'DATA MAESTRO 2'!R$16,'DATA MAESTRO 2'!R$17,'DATA MAESTRO 2'!R$18,'DATA MAESTRO 2'!R$19,'DATA MAESTRO 2'!R$20,'DATA MAESTRO 2'!R$21,'DATA MAESTRO 2'!R$22,'DATA MAESTRO 2'!R$23,'DATA MAESTRO 2'!R$24,'DATA MAESTRO 2'!R$25,'DATA MAESTRO 2'!R$26,'DATA MAESTRO 2'!R$27,'DATA MAESTRO 2'!R$28,'DATA MAESTRO 2'!R$29,'DATA MAESTRO 2'!R$30,'DATA MAESTRO 2'!R$31,'DATA MAESTRO 2'!R$32,'DATA MAESTRO 2'!R$33,'DATA MAESTRO 2'!R$34,'DATA MAESTRO 2'!R$35,'DATA MAESTRO 2'!R$36,'DATA MAESTRO 2'!R$37,'DATA MAESTRO 2'!R$38,'DATA MAESTRO 2'!R$39,'DATA MAESTRO 2'!R$40,)","v":0},{"$f":"CHOOSE($B9,'DATA MAESTRO 2'!S$6,'DATA MAESTRO 2'!S$7,'DATA MAESTRO 2'!S$8,'DATA MAESTRO 2'!S$9,'DATA MAESTRO 2'!S$10,'DATA MAESTRO 2'!S$11,'DATA MAESTRO 2'!S$12,'DATA MAESTRO 2'!S$13,'DATA MAESTRO 2'!S$14,'DATA MAESTRO 2'!S$15,'DATA MAESTRO 2'!S$16,'DATA MAESTRO 2'!S$17,'DATA MAESTRO 2'!S$18,'DATA MAESTRO 2'!S$19,'DATA MAESTRO 2'!S$20,'DATA MAESTRO 2'!S$21,'DATA MAESTRO 2'!S$22,'DATA MAESTRO 2'!S$23,'DATA MAESTRO 2'!S$24,'DATA MAESTRO 2'!S$25,'DATA MAESTRO 2'!S$26,'DATA MAESTRO 2'!S$27,'DATA MAESTRO 2'!S$28,'DATA MAESTRO 2'!S$29,'DATA MAESTRO 2'!S$30,'DATA MAESTRO 2'!S$31,'DATA MAESTRO 2'!S$32,'DATA MAESTRO 2'!S$33,'DATA MAESTRO 2'!S$34,'DATA MAESTRO 2'!S$35,'DATA MAESTRO 2'!S$36,'DATA MAESTRO 2'!S$37,'DATA MAESTRO 2'!S$38,'DATA MAESTRO 2'!S$39,'DATA MAESTRO 2'!S$40,)","v":0},{"$f":"CHOOSE($B9,'DATA MAESTRO 2'!T$6,'DATA MAESTRO 2'!T$7,'DATA MAESTRO 2'!T$8,'DATA MAESTRO 2'!T$9,'DATA MAESTRO 2'!T$10,'DATA MAESTRO 2'!T$11,'DATA MAESTRO 2'!T$12,'DATA MAESTRO 2'!T$13,'DATA MAESTRO 2'!T$14,'DATA MAESTRO 2'!T$15,'DATA MAESTRO 2'!T$16,'DATA MAESTRO 2'!T$17,'DATA MAESTRO 2'!T$18,'DATA MAESTRO 2'!T$19,'DATA MAESTRO 2'!T$20,'DATA MAESTRO 2'!T$21,'DATA MAESTRO 2'!T$22,'DATA MAESTRO 2'!T$23,'DATA MAESTRO 2'!T$24,'DATA MAESTRO 2'!T$25,'DATA MAESTRO 2'!T$26,'DATA MAESTRO 2'!T$27,'DATA MAESTRO 2'!T$28,'DATA MAESTRO 2'!T$29,'DATA MAESTRO 2'!T$30,'DATA MAESTRO 2'!T$31,'DATA MAESTRO 2'!T$32,'DATA MAESTRO 2'!T$33,'DATA MAESTRO 2'!T$34,'DATA MAESTRO 2'!T$35,'DATA MAESTRO 2'!T$36,'DATA MAESTRO 2'!T$37,'DATA MAESTRO 2'!T$38,'DATA MAESTRO 2'!T$39,'DATA MAESTRO 2'!T$40,)","v":0},{"$f":"CHOOSE($B9,'DATA MAESTRO 2'!U$6,'DATA MAESTRO 2'!U$7,'DATA MAESTRO 2'!U$8,'DATA MAESTRO 2'!U$9,'DATA MAESTRO 2'!U$10,'DATA MAESTRO 2'!U$11,'DATA MAESTRO 2'!U$12,'DATA MAESTRO 2'!U$13,'DATA MAESTRO 2'!U$14,'DATA MAESTRO 2'!U$15,'DATA MAESTRO 2'!U$16,'DATA MAESTRO 2'!U$17,'DATA MAESTRO 2'!U$18,'DATA MAESTRO 2'!U$19,'DATA MAESTRO 2'!U$20,'DATA MAESTRO 2'!U$21,'DATA MAESTRO 2'!U$22,'DATA MAESTRO 2'!U$23,'DATA MAESTRO 2'!U$24,'DATA MAESTRO 2'!U$25,'DATA MAESTRO 2'!U$26,'DATA MAESTRO 2'!U$27,'DATA MAESTRO 2'!U$28,'DATA MAESTRO 2'!U$29,'DATA MAESTRO 2'!U$30,'DATA MAESTRO 2'!U$31,'DATA MAESTRO 2'!U$32,'DATA MAESTRO 2'!U$33,'DATA MAESTRO 2'!U$34,'DATA MAESTRO 2'!U$35,'DATA MAESTRO 2'!U$36,'DATA MAESTRO 2'!U$37,'DATA MAESTRO 2'!U$38,'DATA MAESTRO 2'!U$39,'DATA MAESTRO 2'!U$40,)","v":0},{"$f":"CHOOSE($B9,'DATA MAESTRO 2'!V$6,'DATA MAESTRO 2'!V$7,'DATA MAESTRO 2'!V$8,'DATA MAESTRO 2'!V$9,'DATA MAESTRO 2'!V$10,'DATA MAESTRO 2'!V$11,'DATA MAESTRO 2'!V$12,'DATA MAESTRO 2'!V$13,'DATA MAESTRO 2'!V$14,'DATA MAESTRO 2'!V$15,'DATA MAESTRO 2'!V$16,'DATA MAESTRO 2'!V$17,'DATA MAESTRO 2'!V$18,'DATA MAESTRO 2'!V$19,'DATA MAESTRO 2'!V$20,'DATA MAESTRO 2'!V$21,'DATA MAESTRO 2'!V$22,'DATA MAESTRO 2'!V$23,'DATA MAESTRO 2'!V$24,'DATA MAESTRO 2'!V$25,'DATA MAESTRO 2'!V$26,'DATA MAESTRO 2'!V$27,'DATA MAESTRO 2'!V$28,'DATA MAESTRO 2'!V$29,'DATA MAESTRO 2'!V$30,'DATA MAESTRO 2'!V$31,'DATA MAESTRO 2'!V$32,'DATA MAESTRO 2'!V$33,'DATA MAESTRO 2'!V$34,'DATA MAESTRO 2'!V$35,'DATA MAESTRO 2'!V$36,'DATA MAESTRO 2'!V$37,'DATA MAESTRO 2'!V$38,'DATA MAESTRO 2'!V$39,'DATA MAESTRO 2'!V$40,)","v":0},{"$f":"CHOOSE($B9,'DATA MAESTRO 2'!W$6,'DATA MAESTRO 2'!W$7,'DATA MAESTRO 2'!W$8,'DATA MAESTRO 2'!W$9,'DATA MAESTRO 2'!W$10,'DATA MAESTRO 2'!W$11,'DATA MAESTRO 2'!W$12,'DATA MAESTRO 2'!W$13,'DATA MAESTRO 2'!W$14,'DATA MAESTRO 2'!W$15,'DATA MAESTRO 2'!W$16,'DATA MAESTRO 2'!W$17,'DATA MAESTRO 2'!W$18,'DATA MAESTRO 2'!W$19,'DATA MAESTRO 2'!W$20,'DATA MAESTRO 2'!W$21,'DATA MAESTRO 2'!W$22,'DATA MAESTRO 2'!W$23,'DATA MAESTRO 2'!W$24,'DATA MAESTRO 2'!W$25,'DATA MAESTRO 2'!W$26,'DATA MAESTRO 2'!W$27,'DATA MAESTRO 2'!W$28,'DATA MAESTRO 2'!W$29,'DATA MAESTRO 2'!W$30,'DATA MAESTRO 2'!W$31,'DATA MAESTRO 2'!W$32,'DATA MAESTRO 2'!W$33,'DATA MAESTRO 2'!W$34,'DATA MAESTRO 2'!W$35,'DATA MAESTRO 2'!W$36,'DATA MAESTRO 2'!W$37,'DATA MAESTRO 2'!W$38,'DATA MAESTRO 2'!W$39,'DATA MAESTRO 2'!W$40,)","v":0},{"$f":"CHOOSE($B9,'DATA MAESTRO 2'!X$6,'DATA MAESTRO 2'!X$7,'DATA MAESTRO 2'!X$8,'DATA MAESTRO 2'!X$9,'DATA MAESTRO 2'!X$10,'DATA MAESTRO 2'!X$11,'DATA MAESTRO 2'!X$12,'DATA MAESTRO 2'!X$13,'DATA MAESTRO 2'!X$14,'DATA MAESTRO 2'!X$15,'DATA MAESTRO 2'!X$16,'DATA MAESTRO 2'!X$17,'DATA MAESTRO 2'!X$18,'DATA MAESTRO 2'!X$19,'DATA MAESTRO 2'!X$20,'DATA MAESTRO 2'!X$21,'DATA MAESTRO 2'!X$22,'DATA MAESTRO 2'!X$23,'DATA MAESTRO 2'!X$24,'DATA MAESTRO 2'!X$25,'DATA MAESTRO 2'!X$26,'DATA MAESTRO 2'!X$27,'DATA MAESTRO 2'!X$28,'DATA MAESTRO 2'!X$29,'DATA MAESTRO 2'!X$30,'DATA MAESTRO 2'!X$31,'DATA MAESTRO 2'!X$32,'DATA MAESTRO 2'!X$33,'DATA MAESTRO 2'!X$34,'DATA MAESTRO 2'!X$35,'DATA MAESTRO 2'!X$36,'DATA MAESTRO 2'!X$37,'DATA MAESTRO 2'!X$38,'DATA MAESTRO 2'!X$39,'DATA MAESTRO 2'!X$40,)","v":0},{"$f":"CHOOSE($B9,'DATA MAESTRO 2'!Y$6,'DATA MAESTRO 2'!Y$7,'DATA MAESTRO 2'!Y$8,'DATA MAESTRO 2'!Y$9,'DATA MAESTRO 2'!Y$10,'DATA MAESTRO 2'!Y$11,'DATA MAESTRO 2'!Y$12,'DATA MAESTRO 2'!Y$13,'DATA MAESTRO 2'!Y$14,'DATA MAESTRO 2'!Y$15,'DATA MAESTRO 2'!Y$16,'DATA MAESTRO 2'!Y$17,'DATA MAESTRO 2'!Y$18,'DATA MAESTRO 2'!Y$19,'DATA MAESTRO 2'!Y$20,'DATA MAESTRO 2'!Y$21,'DATA MAESTRO 2'!Y$22,'DATA MAESTRO 2'!Y$23,'DATA MAESTRO 2'!Y$24,'DATA MAESTRO 2'!Y$25,'DATA MAESTRO 2'!Y$26,'DATA MAESTRO 2'!Y$27,'DATA MAESTRO 2'!Y$28,'DATA MAESTRO 2'!Y$29,'DATA MAESTRO 2'!Y$30,'DATA MAESTRO 2'!Y$31,'DATA MAESTRO 2'!Y$32,'DATA MAESTRO 2'!Y$33,'DATA MAESTRO 2'!Y$34,'DATA MAESTRO 2'!Y$35,'DATA MAESTRO 2'!Y$36,'DATA MAESTRO 2'!Y$37,'DATA MAESTRO 2'!Y$38,'DATA MAESTRO 2'!Y$39,'DATA MAESTRO 2'!Y$40,)","v":0},{"$f":"CHOOSE($B9,'DATA MAESTRO 2'!Z$6,'DATA MAESTRO 2'!Z$7,'DATA MAESTRO 2'!Z$8,'DATA MAESTRO 2'!Z$9,'DATA MAESTRO 2'!Z$10,'DATA MAESTRO 2'!Z$11,'DATA MAESTRO 2'!Z$12,'DATA MAESTRO 2'!Z$13,'DATA MAESTRO 2'!Z$14,'DATA MAESTRO 2'!Z$15,'DATA MAESTRO 2'!Z$16,'DATA MAESTRO 2'!Z$17,'DATA MAESTRO 2'!Z$18,'DATA MAESTRO 2'!Z$19,'DATA MAESTRO 2'!Z$20,'DATA MAESTRO 2'!Z$21,'DATA MAESTRO 2'!Z$22,'DATA MAESTRO 2'!Z$23,'DATA MAESTRO 2'!Z$24,'DATA MAESTRO 2'!Z$25,'DATA MAESTRO 2'!Z$26,'DATA MAESTRO 2'!Z$27,'DATA MAESTRO 2'!Z$28,'DATA MAESTRO 2'!Z$29,'DATA MAESTRO 2'!Z$30,'DATA MAESTRO 2'!Z$31,'DATA MAESTRO 2'!Z$32,'DATA MAESTRO 2'!Z$33,'DATA MAESTRO 2'!Z$34,'DATA MAESTRO 2'!Z$35,'DATA MAESTRO 2'!Z$36,'DATA MAESTRO 2'!Z$37,'DATA MAESTRO 2'!Z$38,'DATA MAESTRO 2'!Z$39,'DATA MAESTRO 2'!Z$40,)","v":0},{"$f":"CHOOSE($B9,'DATA MAESTRO 2'!AA$6,'DATA MAESTRO 2'!AA$7,'DATA MAESTRO 2'!AA$8,'DATA MAESTRO 2'!AA$9,'DATA MAESTRO 2'!AA$10,'DATA MAESTRO 2'!AA$11,'DATA MAESTRO 2'!AA$12,'DATA MAESTRO 2'!AA$13,'DATA MAESTRO 2'!AA$14,'DATA MAESTRO 2'!AA$15,'DATA MAESTRO 2'!AA$16,'DATA MAESTRO 2'!AA$17,'DATA MAESTRO 2'!AA$18,'DATA MAESTRO 2'!AA$19,'DATA MAESTRO 2'!AA$20,'DATA MAESTRO 2'!AA$21,'DATA MAESTRO 2'!AA$22,'DATA MAESTRO 2'!AA$23,'DATA MAESTRO 2'!AA$24,'DATA MAESTRO 2'!AA$25,'DATA MAESTRO 2'!AA$26,'DATA MAESTRO 2'!AA$27,'DATA MAESTRO 2'!AA$28,'DATA MAESTRO 2'!AA$29,'DATA MAESTRO 2'!AA$30,'DATA MAESTRO 2'!AA$31,'DATA MAESTRO 2'!AA$32,'DATA MAESTRO 2'!AA$33,'DATA MAESTRO 2'!AA$34,'DATA MAESTRO 2'!AA$35,'DATA MAESTRO 2'!AA$36,'DATA MAESTRO 2'!AA$37,'DATA MAESTRO 2'!AA$38,'DATA MAESTRO 2'!AA$39,'DATA MAESTRO 2'!AA$40,)","v":0},{"$f":"CHOOSE($B9,'DATA MAESTRO 2'!AB$6,'DATA MAESTRO 2'!AB$7,'DATA MAESTRO 2'!AB$8,'DATA MAESTRO 2'!AB$9,'DATA MAESTRO 2'!AB$10,'DATA MAESTRO 2'!AB$11,'DATA MAESTRO 2'!AB$12,'DATA MAESTRO 2'!AB$13,'DATA MAESTRO 2'!AB$14,'DATA MAESTRO 2'!AB$15,'DATA MAESTRO 2'!AB$16,'DATA MAESTRO 2'!AB$17,'DATA MAESTRO 2'!AB$18,'DATA MAESTRO 2'!AB$19,'DATA MAESTRO 2'!AB$20,'DATA MAESTRO 2'!AB$21,'DATA MAESTRO 2'!AB$22,'DATA MAESTRO 2'!AB$23,'DATA MAESTRO 2'!AB$24,'DATA MAESTRO 2'!AB$25,'DATA MAESTRO 2'!AB$26,'DATA MAESTRO 2'!AB$27,'DATA MAESTRO 2'!AB$28,'DATA MAESTRO 2'!AB$29,'DATA MAESTRO 2'!AB$30,'DATA MAESTRO 2'!AB$31,'DATA MAESTRO 2'!AB$32,'DATA MAESTRO 2'!AB$33,'DATA MAESTRO 2'!AB$34,'DATA MAESTRO 2'!AB$35,'DATA MAESTRO 2'!AB$36,'DATA MAESTRO 2'!AB$37,'DATA MAESTRO 2'!AB$38,'DATA MAESTRO 2'!AB$39,'DATA MAESTRO 2'!AB$40,)","v":0},{"$f":"CHOOSE($B9,'DATA MAESTRO 2'!AC$6,'DATA MAESTRO 2'!AC$7,'DATA MAESTRO 2'!AC$8,'DATA MAESTRO 2'!AC$9,'DATA MAESTRO 2'!AC$10,'DATA MAESTRO 2'!AC$11,'DATA MAESTRO 2'!AC$12,'DATA MAESTRO 2'!AC$13,'DATA MAESTRO 2'!AC$14,'DATA MAESTRO 2'!AC$15,'DATA MAESTRO 2'!AC$16,'DATA MAESTRO 2'!AC$17,'DATA MAESTRO 2'!AC$18,'DATA MAESTRO 2'!AC$19,'DATA MAESTRO 2'!AC$20,'DATA MAESTRO 2'!AC$21,'DATA MAESTRO 2'!AC$22,'DATA MAESTRO 2'!AC$23,'DATA MAESTRO 2'!AC$24,'DATA MAESTRO 2'!AC$25,'DATA MAESTRO 2'!AC$26,'DATA MAESTRO 2'!AC$27,'DATA MAESTRO 2'!AC$28,'DATA MAESTRO 2'!AC$29,'DATA MAESTRO 2'!AC$30,'DATA MAESTRO 2'!AC$31,'DATA MAESTRO 2'!AC$32,'DATA MAESTRO 2'!AC$33,'DATA MAESTRO 2'!AC$34,'DATA MAESTRO 2'!AC$35,'DATA MAESTRO 2'!AC$36,'DATA MAESTRO 2'!AC$37,'DATA MAESTRO 2'!AC$38,'DATA MAESTRO 2'!AC$39,'DATA MAESTRO 2'!AC$40,)","v":0},{"$f":"CHOOSE($B9,'DATA MAESTRO 2'!AD$6,'DATA MAESTRO 2'!AD$7,'DATA MAESTRO 2'!AD$8,'DATA MAESTRO 2'!AD$9,'DATA MAESTRO 2'!AD$10,'DATA MAESTRO 2'!AD$11,'DATA MAESTRO 2'!AD$12,'DATA MAESTRO 2'!AD$13,'DATA MAESTRO 2'!AD$14,'DATA MAESTRO 2'!AD$15,'DATA MAESTRO 2'!AD$16,'DATA MAESTRO 2'!AD$17,'DATA MAESTRO 2'!AD$18,'DATA MAESTRO 2'!AD$19,'DATA MAESTRO 2'!AD$20,'DATA MAESTRO 2'!AD$21,'DATA MAESTRO 2'!AD$22,'DATA MAESTRO 2'!AD$23,'DATA MAESTRO 2'!AD$24,'DATA MAESTRO 2'!AD$25,'DATA MAESTRO 2'!AD$26,'DATA MAESTRO 2'!AD$27,'DATA MAESTRO 2'!AD$28,'DATA MAESTRO 2'!AD$29,'DATA MAESTRO 2'!AD$30,'DATA MAESTRO 2'!AD$31,'DATA MAESTRO 2'!AD$32,'DATA MAESTRO 2'!AD$33,'DATA MAESTRO 2'!AD$34,'DATA MAESTRO 2'!AD$35,'DATA MAESTRO 2'!AD$36,'DATA MAESTRO 2'!AD$37,'DATA MAESTRO 2'!AD$38,'DATA MAESTRO 2'!AD$39,'DATA MAESTRO 2'!AD$40,)","v":0},{"$f":"CHOOSE($B9,'DATA MAESTRO 2'!AE$6,'DATA MAESTRO 2'!AE$7,'DATA MAESTRO 2'!AE$8,'DATA MAESTRO 2'!AE$9,'DATA MAESTRO 2'!AE$10,'DATA MAESTRO 2'!AE$11,'DATA MAESTRO 2'!AE$12,'DATA MAESTRO 2'!AE$13,'DATA MAESTRO 2'!AE$14,'DATA MAESTRO 2'!AE$15,'DATA MAESTRO 2'!AE$16,'DATA MAESTRO 2'!AE$17,'DATA MAESTRO 2'!AE$18,'DATA MAESTRO 2'!AE$19,'DATA MAESTRO 2'!AE$20,'DATA MAESTRO 2'!AE$21,'DATA MAESTRO 2'!AE$22,'DATA MAESTRO 2'!AE$23,'DATA MAESTRO 2'!AE$24,'DATA MAESTRO 2'!AE$25,'DATA MAESTRO 2'!AE$26,'DATA MAESTRO 2'!AE$27,'DATA MAESTRO 2'!AE$28,'DATA MAESTRO 2'!AE$29,'DATA MAESTRO 2'!AE$30,'DATA MAESTRO 2'!AE$31,'DATA MAESTRO 2'!AE$32,'DATA MAESTRO 2'!AE$33,'DATA MAESTRO 2'!AE$34,'DATA MAESTRO 2'!AE$35,'DATA MAESTRO 2'!AE$36,'DATA MAESTRO 2'!AE$37,'DATA MAESTRO 2'!AE$38,'DATA MAESTRO 2'!AE$39,'DATA MAESTRO 2'!AE$40,)","v":0},{"$f":"CHOOSE($B9,'DATA MAESTRO 2'!AF$6,'DATA MAESTRO 2'!AF$7,'DATA MAESTRO 2'!AF$8,'DATA MAESTRO 2'!AF$9,'DATA MAESTRO 2'!AF$10,'DATA MAESTRO 2'!AF$11,'DATA MAESTRO 2'!AF$12,'DATA MAESTRO 2'!AF$13,'DATA MAESTRO 2'!AF$14,'DATA MAESTRO 2'!AF$15,'DATA MAESTRO 2'!AF$16,'DATA MAESTRO 2'!AF$17,'DATA MAESTRO 2'!AF$18,'DATA MAESTRO 2'!AF$19,'DATA MAESTRO 2'!AF$20,'DATA MAESTRO 2'!AF$21,'DATA MAESTRO 2'!AF$22,'DATA MAESTRO 2'!AF$23,'DATA MAESTRO 2'!AF$24,'DATA MAESTRO 2'!AF$25,'DATA MAESTRO 2'!AF$26,'DATA MAESTRO 2'!AF$27,'DATA MAESTRO 2'!AF$28,'DATA MAESTRO 2'!AF$29,'DATA MAESTRO 2'!AF$30,'DATA MAESTRO 2'!AF$31,'DATA MAESTRO 2'!AF$32,'DATA MAESTRO 2'!AF$33,'DATA MAESTRO 2'!AF$34,'DATA MAESTRO 2'!AF$35,'DATA MAESTRO 2'!AF$36,'DATA MAESTRO 2'!AF$37,'DATA MAESTRO 2'!AF$38,'DATA MAESTRO 2'!AF$39,'DATA MAESTRO 2'!AF$40,)","v":0},{"$f":"CHOOSE($B9,'DATA MAESTRO 2'!AG$6,'DATA MAESTRO 2'!AG$7,'DATA MAESTRO 2'!AG$8,'DATA MAESTRO 2'!AG$9,'DATA MAESTRO 2'!AG$10,'DATA MAESTRO 2'!AG$11,'DATA MAESTRO 2'!AG$12,'DATA MAESTRO 2'!AG$13,'DATA MAESTRO 2'!AG$14,'DATA MAESTRO 2'!AG$15,'DATA MAESTRO 2'!AG$16,'DATA MAESTRO 2'!AG$17,'DATA MAESTRO 2'!AG$18,'DATA MAESTRO 2'!AG$19,'DATA MAESTRO 2'!AG$20,'DATA MAESTRO 2'!AG$21,'DATA MAESTRO 2'!AG$22,'DATA MAESTRO 2'!AG$23,'DATA MAESTRO 2'!AG$24,'DATA MAESTRO 2'!AG$25,'DATA MAESTRO 2'!AG$26,'DATA MAESTRO 2'!AG$27,'DATA MAESTRO 2'!AG$28,'DATA MAESTRO 2'!AG$29,'DATA MAESTRO 2'!AG$30,'DATA MAESTRO 2'!AG$31,'DATA MAESTRO 2'!AG$32,'DATA MAESTRO 2'!AG$33,'DATA MAESTRO 2'!AG$34,'DATA MAESTRO 2'!AG$35,'DATA MAESTRO 2'!AG$36,'DATA MAESTRO 2'!AG$37,'DATA MAESTRO 2'!AG$38,'DATA MAESTRO 2'!AG$39,'DATA MAESTRO 2'!AG$40,)","v":0},{"$f":"CHOOSE($B9,'DATA MAESTRO 2'!AH$6,'DATA MAESTRO 2'!AH$7,'DATA MAESTRO 2'!AH$8,'DATA MAESTRO 2'!AH$9,'DATA MAESTRO 2'!AH$10,'DATA MAESTRO 2'!AH$11,'DATA MAESTRO 2'!AH$12,'DATA MAESTRO 2'!AH$13,'DATA MAESTRO 2'!AH$14,'DATA MAESTRO 2'!AH$15,'DATA MAESTRO 2'!AH$16,'DATA MAESTRO 2'!AH$17,'DATA MAESTRO 2'!AH$18,'DATA MAESTRO 2'!AH$19,'DATA MAESTRO 2'!AH$20,'DATA MAESTRO 2'!AH$21,'DATA MAESTRO 2'!AH$22,'DATA MAESTRO 2'!AH$23,'DATA MAESTRO 2'!AH$24,'DATA MAESTRO 2'!AH$25,'DATA MAESTRO 2'!AH$26,'DATA MAESTRO 2'!AH$27,'DATA MAESTRO 2'!AH$28,'DATA MAESTRO 2'!AH$29,'DATA MAESTRO 2'!AH$30,'DATA MAESTRO 2'!AH$31,'DATA MAESTRO 2'!AH$32,'DATA MAESTRO 2'!AH$33,'DATA MAESTRO 2'!AH$34,'DATA MAESTRO 2'!AH$35,'DATA MAESTRO 2'!AH$36,'DATA MAESTRO 2'!AH$37,'DATA MAESTRO 2'!AH$38,'DATA MAESTRO 2'!AH$39,'DATA MAESTRO 2'!AH$40,)","v":0},{"$f":"CHOOSE($B9,'DATA MAESTRO 2'!AI$6,'DATA MAESTRO 2'!AI$7,'DATA MAESTRO 2'!AI$8,'DATA MAESTRO 2'!AI$9,'DATA MAESTRO 2'!AI$10,'DATA MAESTRO 2'!AI$11,'DATA MAESTRO 2'!AI$12,'DATA MAESTRO 2'!AI$13,'DATA MAESTRO 2'!AI$14,'DATA MAESTRO 2'!AI$15,'DATA MAESTRO 2'!AI$16,'DATA MAESTRO 2'!AI$17,'DATA MAESTRO 2'!AI$18,'DATA MAESTRO 2'!AI$19,'DATA MAESTRO 2'!AI$20,'DATA MAESTRO 2'!AI$21,'DATA MAESTRO 2'!AI$22,'DATA MAESTRO 2'!AI$23,'DATA MAESTRO 2'!AI$24,'DATA MAESTRO 2'!AI$25,'DATA MAESTRO 2'!AI$26,'DATA MAESTRO 2'!AI$27,'DATA MAESTRO 2'!AI$28,'DATA MAESTRO 2'!AI$29,'DATA MAESTRO 2'!AI$30,'DATA MAESTRO 2'!AI$31,'DATA MAESTRO 2'!AI$32,'DATA MAESTRO 2'!AI$33,'DATA MAESTRO 2'!AI$34,'DATA MAESTRO 2'!AI$35,'DATA MAESTRO 2'!AI$36,'DATA MAESTRO 2'!AI$37,'DATA MAESTRO 2'!AI$38,'DATA MAESTRO 2'!AI$39,'DATA MAESTRO 2'!AI$40,)","v":0},{"$f":"CHOOSE($B9,'DATA MAESTRO 2'!AJ$6,'DATA MAESTRO 2'!AJ$7,'DATA MAESTRO 2'!AJ$8,'DATA MAESTRO 2'!AJ$9,'DATA MAESTRO 2'!AJ$10,'DATA MAESTRO 2'!AJ$11,'DATA MAESTRO 2'!AJ$12,'DATA MAESTRO 2'!AJ$13,'DATA MAESTRO 2'!AJ$14,'DATA MAESTRO 2'!AJ$15,'DATA MAESTRO 2'!AJ$16,'DATA MAESTRO 2'!AJ$17,'DATA MAESTRO 2'!AJ$18,'DATA MAESTRO 2'!AJ$19,'DATA MAESTRO 2'!AJ$20,'DATA MAESTRO 2'!AJ$21,'DATA MAESTRO 2'!AJ$22,'DATA MAESTRO 2'!AJ$23,'DATA MAESTRO 2'!AJ$24,'DATA MAESTRO 2'!AJ$25,'DATA MAESTRO 2'!AJ$26,'DATA MAESTRO 2'!AJ$27,'DATA MAESTRO 2'!AJ$28,'DATA MAESTRO 2'!AJ$29,'DATA MAESTRO 2'!AJ$30,'DATA MAESTRO 2'!AJ$31,'DATA MAESTRO 2'!AJ$32,'DATA MAESTRO 2'!AJ$33,'DATA MAESTRO 2'!AJ$34,'DATA MAESTRO 2'!AJ$35,'DATA MAESTRO 2'!AJ$36,'DATA MAESTRO 2'!AJ$37,'DATA MAESTRO 2'!AJ$38,'DATA MAESTRO 2'!AJ$39,'DATA MAESTRO 2'!AJ$40,)","v":0}]
[8,23,{"$f":"+IF(AND(B10>=1,B10<=36),VLOOKUP(B10,'DATA MAESTRO 2'!$A$6:$B$40,2),0)","v":"SUPLAMIN DIFOS"},{"$f":"+CHOOSE($B10,'DATA MAESTRO 2'!C$6,'DATA MAESTRO 2'!C$7,'DATA MAESTRO 2'!C$8,'DATA MAESTRO 2'!C$9,'DATA MAESTRO 2'!C$10,'DATA MAESTRO 2'!C$11,'DATA MAESTRO 2'!C$12,'DATA MAESTRO 2'!C$13,'DATA MAESTRO 2'!C$14,'DATA MAESTRO 2'!C$15,'DATA MAESTRO 2'!C$16,'DATA MAESTRO 2'!C$17,'DATA MAESTRO 2'!C$18,'DATA MAESTRO 2'!C$19,'DATA MAESTRO 2'!C$20,'DATA MAESTRO 2'!C$21,'DATA MAESTRO 2'!C$22,'DATA MAESTRO 2'!C$23,'DATA MAESTRO 2'!C$24,'DATA MAESTRO 2'!C$25,'DATA MAESTRO 2'!C$26,'DATA MAESTRO 2'!C$27,'DATA MAESTRO 2'!C$28,'DATA MAESTRO 2'!C$29,'DATA MAESTRO 2'!C$30,'DATA MAESTRO 2'!C$31,'DATA MAESTRO 2'!C$32,'DATA MAESTRO 2'!C$33,'DATA MAESTRO 2'!C$34,'DATA MAESTRO 2'!C$35,'DATA MAESTRO 2'!C$36,'DATA MAESTRO 2'!C$37,'DATA MAESTRO 2'!C$38,'DATA MAESTRO 2'!C$39,'DATA MAESTRO 2'!C$40,)","v":0},{"$f":"CHOOSE($B10,'DATA MAESTRO 2'!D$6,'DATA MAESTRO 2'!D$7,'DATA MAESTRO 2'!D$8,'DATA MAESTRO 2'!D$9,'DATA MAESTRO 2'!D$10,'DATA MAESTRO 2'!D$11,'DATA MAESTRO 2'!D$12,'DATA MAESTRO 2'!D$13,'DATA MAESTRO 2'!D$14,'DATA MAESTRO 2'!D$15,'DATA MAESTRO 2'!D$16,'DATA MAESTRO 2'!D$17,'DATA MAESTRO 2'!D$18,'DATA MAESTRO 2'!D$19,'DATA MAESTRO 2'!D$20,'DATA MAESTRO 2'!D$21,'DATA MAESTRO 2'!D$22,'DATA MAESTRO 2'!D$23,'DATA MAESTRO 2'!D$24,'DATA MAESTRO 2'!D$25,'DATA MAESTRO 2'!D$26,'DATA MAESTRO 2'!D$27,'DATA MAESTRO 2'!D$28,'DATA MAESTRO 2'!D$29,'DATA MAESTRO 2'!D$30,'DATA MAESTRO 2'!D$31,'DATA MAESTRO 2'!D$32,'DATA MAESTRO 2'!D$33,'DATA MAESTRO 2'!D$34,'DATA MAESTRO 2'!D$35,'DATA MAESTRO 2'!D$36,'DATA MAESTRO 2'!D$37,'DATA MAESTRO 2'!D$38,'DATA MAESTRO 2'!D$39,'DATA MAESTRO 2'!D$40,)","v":0.98},{"$f":"CHOOSE(B10,'DATA MAESTRO 2'!E$6,'DATA MAESTRO 2'!E$7,'DATA MAESTRO 2'!E$8,'DATA MAESTRO 2'!E$9,'DATA MAESTRO 2'!E$10,'DATA MAESTRO 2'!E$11,'DATA MAESTRO 2'!E$12,'DATA MAESTRO 2'!E$13,'DATA MAESTRO 2'!E$14,'DATA MAESTRO 2'!E$15,'DATA MAESTRO 2'!E$16,'DATA MAESTRO 2'!E$17,'DATA MAESTRO 2'!E$18,'DATA MAESTRO 2'!E$19,'DATA MAESTRO 2'!E$20,'DATA MAESTRO 2'!E$21,'DATA MAESTRO 2'!E$22,'DATA MAESTRO 2'!E$23,'DATA MAESTRO 2'!E$24,'DATA MAESTRO 2'!E$25,'DATA MAESTRO 2'!E$26,'DATA MAESTRO 2'!E$27,'DATA MAESTRO 2'!E$28,'DATA MAESTRO 2'!E$29,'DATA MAESTRO 2'!E$30,'DATA MAESTRO 2'!E$31,'DATA MAESTRO 2'!E$32,'DATA MAESTRO 2'!E$33,'DATA MAESTRO 2'!E$34,'DATA MAESTRO 2'!E$35,'DATA MAESTRO 2'!E$36,'DATA MAESTRO 2'!E$37,'DATA MAESTRO 2'!E$38,'DATA MAESTRO 2'!E$39,'DATA MAESTRO 2'!E$40,)","v":0},{"$f":"CHOOSE($B10,'DATA MAESTRO 2'!F$6,'DATA MAESTRO 2'!F$7,'DATA MAESTRO 2'!F$8,'DATA MAESTRO 2'!F$9,'DATA MAESTRO 2'!F$10,'DATA MAESTRO 2'!F$11,'DATA MAESTRO 2'!F$12,'DATA MAESTRO 2'!F$13,'DATA MAESTRO 2'!F$14,'DATA MAESTRO 2'!F$15,'DATA MAESTRO 2'!F$16,'DATA MAESTRO 2'!F$17,'DATA MAESTRO 2'!F$18,'DATA MAESTRO 2'!F$19,'DATA MAESTRO 2'!F$20,'DATA MAESTRO 2'!F$21,'DATA MAESTRO 2'!F$22,'DATA MAESTRO 2'!F$23,'DATA MAESTRO 2'!F$24,'DATA MAESTRO 2'!F$25,'DATA MAESTRO 2'!F$26,'DATA MAESTRO 2'!F$27,'DATA MAESTRO 2'!F$28,'DATA MAESTRO 2'!F$29,'DATA MAESTRO 2'!F$30,'DATA MAESTRO 2'!F$31,'DATA MAESTRO 2'!F$32,'DATA MAESTRO 2'!F$33,'DATA MAESTRO 2'!F$34,'DATA MAESTRO 2'!F$35,'DATA MAESTRO 2'!F$36,'DATA MAESTRO 2'!F$37,'DATA MAESTRO 2'!F$38,'DATA MAESTRO 2'!F$39,'DATA MAESTRO 2'!F$40,)","v":0},{"$f":"CHOOSE($B10,'DATA MAESTRO 2'!G$6,'DATA MAESTRO 2'!G$7,'DATA MAESTRO 2'!G$8,'DATA MAESTRO 2'!G$9,'DATA MAESTRO 2'!G$10,'DATA MAESTRO 2'!G$11,'DATA MAESTRO 2'!G$12,'DATA MAESTRO 2'!G$13,'DATA MAESTRO 2'!G$14,'DATA MAESTRO 2'!G$15,'DATA MAESTRO 2'!G$16,'DATA MAESTRO 2'!G$17,'DATA MAESTRO 2'!G$18,'DATA MAESTRO 2'!G$19,'DATA MAESTRO 2'!G$20,'DATA MAESTRO 2'!G$21,'DATA MAESTRO 2'!G$22,'DATA MAESTRO 2'!G$23,'DATA MAESTRO 2'!G$24,'DATA MAESTRO 2'!G$25,'DATA MAESTRO 2'!G$26,'DATA MAESTRO 2'!G$27,'DATA MAESTRO 2'!G$28,'DATA MAESTRO 2'!G$29,'DATA MAESTRO 2'!G$30,'DATA MAESTRO 2'!G$31,'DATA MAESTRO 2'!G$32,'DATA MAESTRO 2'!G$33,'DATA MAESTRO 2'!G$34,'DATA MAESTRO 2'!G$35,'DATA MAESTRO 2'!G$36,'DATA MAESTRO 2'!G$37,'DATA MAESTRO 2'!G$38,'DATA MAESTRO 2'!G$39,'DATA MAESTRO 2'!G$40,)","v":0},{"$f":"CHOOSE($B10,'DATA MAESTRO 2'!H$6,'DATA MAESTRO 2'!H$7,'DATA MAESTRO 2'!H$8,'DATA MAESTRO 2'!H$9,'DATA MAESTRO 2'!H$10,'DATA MAESTRO 2'!H$11,'DATA MAESTRO 2'!H$12,'DATA MAESTRO 2'!H$13,'DATA MAESTRO 2'!H$14,'DATA MAESTRO 2'!H$15,'DATA MAESTRO 2'!H$16,'DATA MAESTRO 2'!H$17,'DATA MAESTRO 2'!H$18,'DATA MAESTRO 2'!H$19,'DATA MAESTRO 2'!H$20,'DATA MAESTRO 2'!H$21,'DATA MAESTRO 2'!H$22,'DATA MAESTRO 2'!H$23,'DATA MAESTRO 2'!H$24,'DATA MAESTRO 2'!H$25,'DATA MAESTRO 2'!H$26,'DATA MAESTRO 2'!H$27,'DATA MAESTRO 2'!H$28,'DATA MAESTRO 2'!H$29,'DATA MAESTRO 2'!H$30,'DATA MAESTRO 2'!H$31,'DATA MAESTRO 2'!H$32,'DATA MAESTRO 2'!H$33,'DATA MAESTRO 2'!H$34,'DATA MAESTRO 2'!H$35,'DATA MAESTRO 2'!H$36,'DATA MAESTRO 2'!H$37,'DATA MAESTRO 2'!H$38,'DATA MAESTRO 2'!H$39,'DATA MAESTRO 2'!H$40,)","v":0},{"$f":"CHOOSE($B10,'DATA MAESTRO 2'!I$6,'DATA MAESTRO 2'!I$7,'DATA MAESTRO 2'!I$8,'DATA MAESTRO 2'!I$9,'DATA MAESTRO 2'!I$10,'DATA MAESTRO 2'!I$11,'DATA MAESTRO 2'!I$12,'DATA MAESTRO 2'!I$13,'DATA MAESTRO 2'!I$14,'DATA MAESTRO 2'!I$15,'DATA MAESTRO 2'!I$16,'DATA MAESTRO 2'!I$17,'DATA MAESTRO 2'!I$18,'DATA MAESTRO 2'!I$19,'DATA MAESTRO 2'!I$20,'DATA MAESTRO 2'!I$21,'DATA MAESTRO 2'!I$22,'DATA MAESTRO 2'!I$23,'DATA MAESTRO 2'!I$24,'DATA MAESTRO 2'!I$25,'DATA MAESTRO 2'!I$26,'DATA MAESTRO 2'!I$27,'DATA MAESTRO 2'!I$28,'DATA MAESTRO 2'!I$29,'DATA MAESTRO 2'!I$30,'DATA MAESTRO 2'!I$31,'DATA MAESTRO 2'!I$32,'DATA MAESTRO 2'!I$33,'DATA MAESTRO 2'!I$34,'DATA MAESTRO 2'!I$35,'DATA MAESTRO 2'!I$36,'DATA MAESTRO 2'!I$37,'DATA MAESTRO 2'!I$38,'DATA MAESTRO 2'!I$39,'DATA MAESTRO 2'!I$40,)","v":0},{"$f":"CHOOSE($B10,'DATA MAESTRO 2'!J$6,'DATA MAESTRO 2'!J$7,'DATA MAESTRO 2'!J$8,'DATA MAESTRO 2'!J$9,'DATA MAESTRO 2'!J$10,'DATA MAESTRO 2'!J$11,'DATA MAESTRO 2'!J$12,'DATA MAESTRO 2'!J$13,'DATA MAESTRO 2'!J$14,'DATA MAESTRO 2'!J$15,'DATA MAESTRO 2'!J$16,'DATA MAESTRO 2'!J$17,'DATA MAESTRO 2'!J$18,'DATA MAESTRO 2'!J$19,'DATA MAESTRO 2'!J$20,'DATA MAESTRO 2'!J$21,'DATA MAESTRO 2'!J$22,'DATA MAESTRO 2'!J$23,'DATA MAESTRO 2'!J$24,'DATA MAESTRO 2'!J$25,'DATA MAESTRO 2'!J$26,'DATA MAESTRO 2'!J$27,'DATA MAESTRO 2'!J$28,'DATA MAESTRO 2'!J$29,'DATA MAESTRO 2'!J$30,'DATA MAESTRO 2'!J$31,'DATA MAESTRO 2'!J$32,'DATA MAESTRO 2'!J$33,'DATA MAESTRO 2'!J$34,'DATA MAESTRO 2'!J$35,'DATA MAESTRO 2'!J$36,'DATA MAESTRO 2'!J$37,'DATA MAESTRO 2'!J$38,'DATA MAESTRO 2'!J$39,'DATA MAESTRO 2'!J$40,)","v":0.185},{"$f":"CHOOSE($B10,'DATA MAESTRO 2'!K$6,'DATA MAESTRO 2'!K$7,'DATA MAESTRO 2'!K$8,'DATA MAESTRO 2'!K$9,'DATA MAESTRO 2'!K$10,'DATA MAESTRO 2'!K$11,'DATA MAESTRO 2'!K$12,'DATA MAESTRO 2'!K$13,'DATA MAESTRO 2'!K$14,'DATA MAESTRO 2'!K$15,'DATA MAESTRO 2'!K$16,'DATA MAESTRO 2'!K$17,'DATA MAESTRO 2'!K$18,'DATA MAESTRO 2'!K$19,'DATA MAESTRO 2'!K$20,'DATA MAESTRO 2'!K$21,'DATA MAESTRO 2'!K$22,'DATA MAESTRO 2'!K$23,'DATA MAESTRO 2'!K$24,'DATA MAESTRO 2'!K$25,'DATA MAESTRO 2'!K$26,'DATA MAESTRO 2'!K$27,'DATA MAESTRO 2'!K$28,'DATA MAESTRO 2'!K$29,'DATA MAESTRO 2'!K$30,'DATA MAESTRO 2'!K$31,'DATA MAESTRO 2'!K$32,'DATA MAESTRO 2'!K$33,'DATA MAESTRO 2'!K$34,'DATA MAESTRO 2'!K$35,'DATA MAESTRO 2'!K$36,'DATA MAESTRO 2'!K$37,'DATA MAESTRO 2'!K$38,'DATA MAESTRO 2'!K$39,'DATA MAESTRO 2'!K$40,)","v":0.15060000000000001},{"$f":"CHOOSE($B10,'DATA MAESTRO 2'!L$6,'DATA MAESTRO 2'!L$7,'DATA MAESTRO 2'!L$8,'DATA MAESTRO 2'!L$9,'DATA MAESTRO 2'!L$10,'DATA MAESTRO 2'!L$11,'DATA MAESTRO 2'!L$12,'DATA MAESTRO 2'!L$13,'DATA MAESTRO 2'!L$14,'DATA MAESTRO 2'!L$15,'DATA MAESTRO 2'!L$16,'DATA MAESTRO 2'!L$17,'DATA MAESTRO 2'!L$18,'DATA MAESTRO 2'!L$19,'DATA MAESTRO 2'!L$20,'DATA MAESTRO 2'!L$21,'DATA MAESTRO 2'!L$22,'DATA MAESTRO 2'!L$23,'DATA MAESTRO 2'!L$24,'DATA MAESTRO 2'!L$25,'DATA MAESTRO 2'!L$26,'DATA MAESTRO 2'!L$27,'DATA MAESTRO 2'!L$28,'DATA MAESTRO 2'!L$29,'DATA MAESTRO 2'!L$30,'DATA MAESTRO 2'!L$31,'DATA MAESTRO 2'!L$32,'DATA MAESTRO 2'!L$33,'DATA MAESTRO 2'!L$34,'DATA MAESTRO 2'!L$35,'DATA MAESTRO 2'!L$36,'DATA MAESTRO 2'!L$37,'DATA MAESTRO 2'!L$38,'DATA MAESTRO 2'!L$39,'DATA MAESTRO 2'!L$40,)","v":0},{"$f":"CHOOSE($B10,'DATA MAESTRO 2'!M$6,'DATA MAESTRO 2'!M$7,'DATA MAESTRO 2'!M$8,'DATA MAESTRO 2'!M$9,'DATA MAESTRO 2'!M$10,'DATA MAESTRO 2'!M$11,'DATA MAESTRO 2'!M$12,'DATA MAESTRO 2'!M$13,'DATA MAESTRO 2'!M$14,'DATA MAESTRO 2'!M$15,'DATA MAESTRO 2'!M$16,'DATA MAESTRO 2'!M$17,'DATA MAESTRO 2'!M$18,'DATA MAESTRO 2'!M$19,'DATA MAESTRO 2'!M$20,'DATA MAESTRO 2'!M$21,'DATA MAESTRO 2'!M$22,'DATA MAESTRO 2'!M$23,'DATA MAESTRO 2'!M$24,'DATA MAESTRO 2'!M$25,'DATA MAESTRO 2'!M$26,'DATA MAESTRO 2'!M$27,'DATA MAESTRO 2'!M$28,'DATA MAESTRO 2'!M$29,'DATA MAESTRO 2'!M$30,'DATA MAESTRO 2'!M$31,'DATA MAESTRO 2'!M$32,'DATA MAESTRO 2'!M$33,'DATA MAESTRO 2'!M$34,'DATA MAESTRO 2'!M$35,'DATA MAESTRO 2'!M$36,'DATA MAESTRO 2'!M$37,'DATA MAESTRO 2'!M$38,'DATA MAESTRO 2'!M$39,'DATA MAESTRO 2'!M$40,)","v":0},{"$f":"CHOOSE($B10,'DATA MAESTRO 2'!N$6,'DATA MAESTRO 2'!N$7,'DATA MAESTRO 2'!N$8,'DATA MAESTRO 2'!N$9,'DATA MAESTRO 2'!N$10,'DATA MAESTRO 2'!N$11,'DATA MAESTRO 2'!N$12,'DATA MAESTRO 2'!N$13,'DATA MAESTRO 2'!N$14,'DATA MAESTRO 2'!N$15,'DATA MAESTRO 2'!N$16,'DATA MAESTRO 2'!N$17,'DATA MAESTRO 2'!N$18,'DATA MAESTRO 2'!N$19,'DATA MAESTRO 2'!N$20,'DATA MAESTRO 2'!N$21,'DATA MAESTRO 2'!N$22,'DATA MAESTRO 2'!N$23,'DATA MAESTRO 2'!N$24,'DATA MAESTRO 2'!N$25,'DATA MAESTRO 2'!N$26,'DATA MAESTRO 2'!N$27,'DATA MAESTRO 2'!N$28,'DATA MAESTRO 2'!N$29,'DATA MAESTRO 2'!N$30,'DATA MAESTRO 2'!N$31,'DATA MAESTRO 2'!N$32,'DATA MAESTRO 2'!N$33,'DATA MAESTRO 2'!N$34,'DATA MAESTRO 2'!N$35,'DATA MAESTRO 2'!N$36,'DATA MAESTRO 2'!N$37,'DATA MAESTRO 2'!N$38,'DATA MAESTRO 2'!N$39,'DATA MAESTRO 2'!N$40,)","v":0},{"$f":"CHOOSE($B10,'DATA MAESTRO 2'!O$6,'DATA MAESTRO 2'!O$7,'DATA MAESTRO 2'!O$8,'DATA MAESTRO 2'!O$9,'DATA MAESTRO 2'!O$10,'DATA MAESTRO 2'!O$11,'DATA MAESTRO 2'!O$12,'DATA MAESTRO 2'!O$13,'DATA MAESTRO 2'!O$14,'DATA MAESTRO 2'!O$15,'DATA MAESTRO 2'!O$16,'DATA MAESTRO 2'!O$17,'DATA MAESTRO 2'!O$18,'DATA MAESTRO 2'!O$19,'DATA MAESTRO 2'!O$20,'DATA MAESTRO 2'!O$21,'DATA MAESTRO 2'!O$22,'DATA MAESTRO 2'!O$23,'DATA MAESTRO 2'!O$24,'DATA MAESTRO 2'!O$25,'DATA MAESTRO 2'!O$26,'DATA MAESTRO 2'!O$27,'DATA MAESTRO 2'!O$28,'DATA MAESTRO 2'!O$29,'DATA MAESTRO 2'!O$30,'DATA MAESTRO 2'!O$31,'DATA MAESTRO 2'!O$32,'DATA MAESTRO 2'!O$33,'DATA MAESTRO 2'!O$34,'DATA MAESTRO 2'!O$35,'DATA MAESTRO 2'!O$36,'DATA MAESTRO 2'!O$37,'DATA MAESTRO 2'!O$38,'DATA MAESTRO 2'!O$39,'DATA MAESTRO 2'!O$40,)","v":0},{"$f":"CHOOSE($B10,'DATA MAESTRO 2'!P$6,'DATA MAESTRO 2'!P$7,'DATA MAESTRO 2'!P$8,'DATA MAESTRO 2'!P$9,'DATA MAESTRO 2'!P$10,'DATA MAESTRO 2'!P$11,'DATA MAESTRO 2'!P$12,'DATA MAESTRO 2'!P$13,'DATA MAESTRO 2'!P$14,'DATA MAESTRO 2'!P$15,'DATA MAESTRO 2'!P$16,'DATA MAESTRO 2'!P$17,'DATA MAESTRO 2'!P$18,'DATA MAESTRO 2'!P$19,'DATA MAESTRO 2'!P$20,'DATA MAESTRO 2'!P$21,'DATA MAESTRO 2'!P$22,'DATA MAESTRO 2'!P$23,'DATA MAESTRO 2'!P$24,'DATA MAESTRO 2'!P$25,'DATA MAESTRO 2'!P$26,'DATA MAESTRO 2'!P$27,'DATA MAESTRO 2'!P$28,'DATA MAESTRO 2'!P$29,'DATA MAESTRO 2'!P$30,'DATA MAESTRO 2'!P$31,'DATA MAESTRO 2'!P$32,'DATA MAESTRO 2'!P$33,'DATA MAESTRO 2'!P$34,'DATA MAESTRO 2'!P$35,'DATA MAESTRO 2'!P$36,'DATA MAESTRO 2'!P$37,'DATA MAESTRO 2'!P$38,'DATA MAESTRO 2'!P$39,'DATA MAESTRO 2'!P$40,)","v":0},{"$f":"CHOOSE($B10,'DATA MAESTRO 2'!Q$6,'DATA MAESTRO 2'!Q$7,'DATA MAESTRO 2'!Q$8,'DATA MAESTRO 2'!Q$9,'DATA MAESTRO 2'!Q$10,'DATA MAESTRO 2'!Q$11,'DATA MAESTRO 2'!Q$12,'DATA MAESTRO 2'!Q$13,'DATA MAESTRO 2'!Q$14,'DATA MAESTRO 2'!Q$15,'DATA MAESTRO 2'!Q$16,'DATA MAESTRO 2'!Q$17,'DATA MAESTRO 2'!Q$18,'DATA MAESTRO 2'!Q$19,'DATA MAESTRO 2'!Q$20,'DATA MAESTRO 2'!Q$21,'DATA MAESTRO 2'!Q$22,'DATA MAESTRO 2'!Q$23,'DATA MAESTRO 2'!Q$24,'DATA MAESTRO 2'!Q$25,'DATA MAESTRO 2'!Q$26,'DATA MAESTRO 2'!Q$27,'DATA MAESTRO 2'!Q$28,'DATA MAESTRO 2'!Q$29,'DATA MAESTRO 2'!Q$30,'DATA MAESTRO 2'!Q$31,'DATA MAESTRO 2'!Q$32,'DATA MAESTRO 2'!Q$33,'DATA MAESTRO 2'!Q$34,'DATA MAESTRO 2'!Q$35,'DATA MAESTRO 2'!Q$36,'DATA MAESTRO 2'!Q$37,'DATA MAESTRO 2'!Q$38,'DATA MAESTRO 2'!Q$39,'DATA MAESTRO 2'!Q$40,)","v":0},{"$f":"CHOOSE($B10,'DATA MAESTRO 2'!R$6,'DATA MAESTRO 2'!R$7,'DATA MAESTRO 2'!R$8,'DATA MAESTRO 2'!R$9,'DATA MAESTRO 2'!R$10,'DATA MAESTRO 2'!R$11,'DATA MAESTRO 2'!R$12,'DATA MAESTRO 2'!R$13,'DATA MAESTRO 2'!R$14,'DATA MAESTRO 2'!R$15,'DATA MAESTRO 2'!R$16,'DATA MAESTRO 2'!R$17,'DATA MAESTRO 2'!R$18,'DATA MAESTRO 2'!R$19,'DATA MAESTRO 2'!R$20,'DATA MAESTRO 2'!R$21,'DATA MAESTRO 2'!R$22,'DATA MAESTRO 2'!R$23,'DATA MAESTRO 2'!R$24,'DATA MAESTRO 2'!R$25,'DATA MAESTRO 2'!R$26,'DATA MAESTRO 2'!R$27,'DATA MAESTRO 2'!R$28,'DATA MAESTRO 2'!R$29,'DATA MAESTRO 2'!R$30,'DATA MAESTRO 2'!R$31,'DATA MAESTRO 2'!R$32,'DATA MAESTRO 2'!R$33,'DATA MAESTRO 2'!R$34,'DATA MAESTRO 2'!R$35,'DATA MAESTRO 2'!R$36,'DATA MAESTRO 2'!R$37,'DATA MAESTRO 2'!R$38,'DATA MAESTRO 2'!R$39,'DATA MAESTRO 2'!R$40,)","v":0},{"$f":"CHOOSE($B10,'DATA MAESTRO 2'!S$6,'DATA MAESTRO 2'!S$7,'DATA MAESTRO 2'!S$8,'DATA MAESTRO 2'!S$9,'DATA MAESTRO 2'!S$10,'DATA MAESTRO 2'!S$11,'DATA MAESTRO 2'!S$12,'DATA MAESTRO 2'!S$13,'DATA MAESTRO 2'!S$14,'DATA MAESTRO 2'!S$15,'DATA MAESTRO 2'!S$16,'DATA MAESTRO 2'!S$17,'DATA MAESTRO 2'!S$18,'DATA MAESTRO 2'!S$19,'DATA MAESTRO 2'!S$20,'DATA MAESTRO 2'!S$21,'DATA MAESTRO 2'!S$22,'DATA MAESTRO 2'!S$23,'DATA MAESTRO 2'!S$24,'DATA MAESTRO 2'!S$25,'DATA MAESTRO 2'!S$26,'DATA MAESTRO 2'!S$27,'DATA MAESTRO 2'!S$28,'DATA MAESTRO 2'!S$29,'DATA MAESTRO 2'!S$30,'DATA MAESTRO 2'!S$31,'DATA MAESTRO 2'!S$32,'DATA MAESTRO 2'!S$33,'DATA MAESTRO 2'!S$34,'DATA MAESTRO 2'!S$35,'DATA MAESTRO 2'!S$36,'DATA MAESTRO 2'!S$37,'DATA MAESTRO 2'!S$38,'DATA MAESTRO 2'!S$39,'DATA MAESTRO 2'!S$40,)","v":0},{"$f":"CHOOSE($B10,'DATA MAESTRO 2'!T$6,'DATA MAESTRO 2'!T$7,'DATA MAESTRO 2'!T$8,'DATA MAESTRO 2'!T$9,'DATA MAESTRO 2'!T$10,'DATA MAESTRO 2'!T$11,'DATA MAESTRO 2'!T$12,'DATA MAESTRO 2'!T$13,'DATA MAESTRO 2'!T$14,'DATA MAESTRO 2'!T$15,'DATA MAESTRO 2'!T$16,'DATA MAESTRO 2'!T$17,'DATA MAESTRO 2'!T$18,'DATA MAESTRO 2'!T$19,'DATA MAESTRO 2'!T$20,'DATA MAESTRO 2'!T$21,'DATA MAESTRO 2'!T$22,'DATA MAESTRO 2'!T$23,'DATA MAESTRO 2'!T$24,'DATA MAESTRO 2'!T$25,'DATA MAESTRO 2'!T$26,'DATA MAESTRO 2'!T$27,'DATA MAESTRO 2'!T$28,'DATA MAESTRO 2'!T$29,'DATA MAESTRO 2'!T$30,'DATA MAESTRO 2'!T$31,'DATA MAESTRO 2'!T$32,'DATA MAESTRO 2'!T$33,'DATA MAESTRO 2'!T$34,'DATA MAESTRO 2'!T$35,'DATA MAESTRO 2'!T$36,'DATA MAESTRO 2'!T$37,'DATA MAESTRO 2'!T$38,'DATA MAESTRO 2'!T$39,'DATA MAESTRO 2'!T$40,)","v":2.35E-2},{"$f":"CHOOSE($B10,'DATA MAESTRO 2'!U$6,'DATA MAESTRO 2'!U$7,'DATA MAESTRO 2'!U$8,'DATA MAESTRO 2'!U$9,'DATA MAESTRO 2'!U$10,'DATA MAESTRO 2'!U$11,'DATA MAESTRO 2'!U$12,'DATA MAESTRO 2'!U$13,'DATA MAESTRO 2'!U$14,'DATA MAESTRO 2'!U$15,'DATA MAESTRO 2'!U$16,'DATA MAESTRO 2'!U$17,'DATA MAESTRO 2'!U$18,'DATA MAESTRO 2'!U$19,'DATA MAESTRO 2'!U$20,'DATA MAESTRO 2'!U$21,'DATA MAESTRO 2'!U$22,'DATA MAESTRO 2'!U$23,'DATA MAESTRO 2'!U$24,'DATA MAESTRO 2'!U$25,'DATA MAESTRO 2'!U$26,'DATA MAESTRO 2'!U$27,'DATA MAESTRO 2'!U$28,'DATA MAESTRO 2'!U$29,'DATA MAESTRO 2'!U$30,'DATA MAESTRO 2'!U$31,'DATA MAESTRO 2'!U$32,'DATA MAESTRO 2'!U$33,'DATA MAESTRO 2'!U$34,'DATA MAESTRO 2'!U$35,'DATA MAESTRO 2'!U$36,'DATA MAESTRO 2'!U$37,'DATA MAESTRO 2'!U$38,'DATA MAESTRO 2'!U$39,'DATA MAESTRO 2'!U$40,)","v":4.8640000000000003E-3},{"$f":"CHOOSE($B10,'DATA MAESTRO 2'!V$6,'DATA MAESTRO 2'!V$7,'DATA MAESTRO 2'!V$8,'DATA MAESTRO 2'!V$9,'DATA MAESTRO 2'!V$10,'DATA MAESTRO 2'!V$11,'DATA MAESTRO 2'!V$12,'DATA MAESTRO 2'!V$13,'DATA MAESTRO 2'!V$14,'DATA MAESTRO 2'!V$15,'DATA MAESTRO 2'!V$16,'DATA MAESTRO 2'!V$17,'DATA MAESTRO 2'!V$18,'DATA MAESTRO 2'!V$19,'DATA MAESTRO 2'!V$20,'DATA MAESTRO 2'!V$21,'DATA MAESTRO 2'!V$22,'DATA MAESTRO 2'!V$23,'DATA MAESTRO 2'!V$24,'DATA MAESTRO 2'!V$25,'DATA MAESTRO 2'!V$26,'DATA MAESTRO 2'!V$27,'DATA MAESTRO 2'!V$28,'DATA MAESTRO 2'!V$29,'DATA MAESTRO 2'!V$30,'DATA MAESTRO 2'!V$31,'DATA MAESTRO 2'!V$32,'DATA MAESTRO 2'!V$33,'DATA MAESTRO 2'!V$34,'DATA MAESTRO 2'!V$35,'DATA MAESTRO 2'!V$36,'DATA MAESTRO 2'!V$37,'DATA MAESTRO 2'!V$38,'DATA MAESTRO 2'!V$39,'DATA MAESTRO 2'!V$40,)","v":6.9999999999999999E-6},{"$f":"CHOOSE($B10,'DATA MAESTRO 2'!W$6,'DATA MAESTRO 2'!W$7,'DATA MAESTRO 2'!W$8,'DATA MAESTRO 2'!W$9,'DATA MAESTRO 2'!W$10,'DATA MAESTRO 2'!W$11,'DATA MAESTRO 2'!W$12,'DATA MAESTRO 2'!W$13,'DATA MAESTRO 2'!W$14,'DATA MAESTRO 2'!W$15,'DATA MAESTRO 2'!W$16,'DATA MAESTRO 2'!W$17,'DATA MAESTRO 2'!W$18,'DATA MAESTRO 2'!W$19,'DATA MAESTRO 2'!W$20,'DATA MAESTRO 2'!W$21,'DATA MAESTRO 2'!W$22,'DATA MAESTRO 2'!W$23,'DATA MAESTRO 2'!W$24,'DATA MAESTRO 2'!W$25,'DATA MAESTRO 2'!W$26,'DATA MAESTRO 2'!W$27,'DATA MAESTRO 2'!W$28,'DATA MAESTRO 2'!W$29,'DATA MAESTRO 2'!W$30,'DATA MAESTRO 2'!W$31,'DATA MAESTRO 2'!W$32,'DATA MAESTRO 2'!W$33,'DATA MAESTRO 2'!W$34,'DATA MAESTRO 2'!W$35,'DATA MAESTRO 2'!W$36,'DATA MAESTRO 2'!W$37,'DATA MAESTRO 2'!W$38,'DATA MAESTRO 2'!W$39,'DATA MAESTRO 2'!W$40,)","v":0},{"$f":"CHOOSE($B10,'DATA MAESTRO 2'!X$6,'DATA MAESTRO 2'!X$7,'DATA MAESTRO 2'!X$8,'DATA MAESTRO 2'!X$9,'DATA MAESTRO 2'!X$10,'DATA MAESTRO 2'!X$11,'DATA MAESTRO 2'!X$12,'DATA MAESTRO 2'!X$13,'DATA MAESTRO 2'!X$14,'DATA MAESTRO 2'!X$15,'DATA MAESTRO 2'!X$16,'DATA MAESTRO 2'!X$17,'DATA MAESTRO 2'!X$18,'DATA MAESTRO 2'!X$19,'DATA MAESTRO 2'!X$20,'DATA MAESTRO 2'!X$21,'DATA MAESTRO 2'!X$22,'DATA MAESTRO 2'!X$23,'DATA MAESTRO 2'!X$24,'DATA MAESTRO 2'!X$25,'DATA MAESTRO 2'!X$26,'DATA MAESTRO 2'!X$27,'DATA MAESTRO 2'!X$28,'DATA MAESTRO 2'!X$29,'DATA MAESTRO 2'!X$30,'DATA MAESTRO 2'!X$31,'DATA MAESTRO 2'!X$32,'DATA MAESTRO 2'!X$33,'DATA MAESTRO 2'!X$34,'DATA MAESTRO 2'!X$35,'DATA MAESTRO 2'!X$36,'DATA MAESTRO 2'!X$37,'DATA MAESTRO 2'!X$38,'DATA MAESTRO 2'!X$39,'DATA MAESTRO 2'!X$40,)","v":9.3999999999999997E-4},{"$f":"CHOOSE($B10,'DATA MAESTRO 2'!Y$6,'DATA MAESTRO 2'!Y$7,'DATA MAESTRO 2'!Y$8,'DATA MAESTRO 2'!Y$9,'DATA MAESTRO 2'!Y$10,'DATA MAESTRO 2'!Y$11,'DATA MAESTRO 2'!Y$12,'DATA MAESTRO 2'!Y$13,'DATA MAESTRO 2'!Y$14,'DATA MAESTRO 2'!Y$15,'DATA MAESTRO 2'!Y$16,'DATA MAESTRO 2'!Y$17,'DATA MAESTRO 2'!Y$18,'DATA MAESTRO 2'!Y$19,'DATA MAESTRO 2'!Y$20,'DATA MAESTRO 2'!Y$21,'DATA MAESTRO 2'!Y$22,'DATA MAESTRO 2'!Y$23,'DATA MAESTRO 2'!Y$24,'DATA MAESTRO 2'!Y$25,'DATA MAESTRO 2'!Y$26,'DATA MAESTRO 2'!Y$27,'DATA MAESTRO 2'!Y$28,'DATA MAESTRO 2'!Y$29,'DATA MAESTRO 2'!Y$30,'DATA MAESTRO 2'!Y$31,'DATA MAESTRO 2'!Y$32,'DATA MAESTRO 2'!Y$33,'DATA MAESTRO 2'!Y$34,'DATA MAESTRO 2'!Y$35,'DATA MAESTRO 2'!Y$36,'DATA MAESTRO 2'!Y$37,'DATA MAESTRO 2'!Y$38,'DATA MAESTRO 2'!Y$39,'DATA MAESTRO 2'!Y$40,)","v":0},{"$f":"CHOOSE($B10,'DATA MAESTRO 2'!Z$6,'DATA MAESTRO 2'!Z$7,'DATA MAESTRO 2'!Z$8,'DATA MAESTRO 2'!Z$9,'DATA MAESTRO 2'!Z$10,'DATA MAESTRO 2'!Z$11,'DATA MAESTRO 2'!Z$12,'DATA MAESTRO 2'!Z$13,'DATA MAESTRO 2'!Z$14,'DATA MAESTRO 2'!Z$15,'DATA MAESTRO 2'!Z$16,'DATA MAESTRO 2'!Z$17,'DATA MAESTRO 2'!Z$18,'DATA MAESTRO 2'!Z$19,'DATA MAESTRO 2'!Z$20,'DATA MAESTRO 2'!Z$21,'DATA MAESTRO 2'!Z$22,'DATA MAESTRO 2'!Z$23,'DATA MAESTRO 2'!Z$24,'DATA MAESTRO 2'!Z$25,'DATA MAESTRO 2'!Z$26,'DATA MAESTRO 2'!Z$27,'DATA MAESTRO 2'!Z$28,'DATA MAESTRO 2'!Z$29,'DATA MAESTRO 2'!Z$30,'DATA MAESTRO 2'!Z$31,'DATA MAESTRO 2'!Z$32,'DATA MAESTRO 2'!Z$33,'DATA MAESTRO 2'!Z$34,'DATA MAESTRO 2'!Z$35,'DATA MAESTRO 2'!Z$36,'DATA MAESTRO 2'!Z$37,'DATA MAESTRO 2'!Z$38,'DATA MAESTRO 2'!Z$39,'DATA MAESTRO 2'!Z$40,)","v":0},{"$f":"CHOOSE($B10,'DATA MAESTRO 2'!AA$6,'DATA MAESTRO 2'!AA$7,'DATA MAESTRO 2'!AA$8,'DATA MAESTRO 2'!AA$9,'DATA MAESTRO 2'!AA$10,'DATA MAESTRO 2'!AA$11,'DATA MAESTRO 2'!AA$12,'DATA MAESTRO 2'!AA$13,'DATA MAESTRO 2'!AA$14,'DATA MAESTRO 2'!AA$15,'DATA MAESTRO 2'!AA$16,'DATA MAESTRO 2'!AA$17,'DATA MAESTRO 2'!AA$18,'DATA MAESTRO 2'!AA$19,'DATA MAESTRO 2'!AA$20,'DATA MAESTRO 2'!AA$21,'DATA MAESTRO 2'!AA$22,'DATA MAESTRO 2'!AA$23,'DATA MAESTRO 2'!AA$24,'DATA MAESTRO 2'!AA$25,'DATA MAESTRO 2'!AA$26,'DATA MAESTRO 2'!AA$27,'DATA MAESTRO 2'!AA$28,'DATA MAESTRO 2'!AA$29,'DATA MAESTRO 2'!AA$30,'DATA MAESTRO 2'!AA$31,'DATA MAESTRO 2'!AA$32,'DATA MAESTRO 2'!AA$33,'DATA MAESTRO 2'!AA$34,'DATA MAESTRO 2'!AA$35,'DATA MAESTRO 2'!AA$36,'DATA MAESTRO 2'!AA$37,'DATA MAESTRO 2'!AA$38,'DATA MAESTRO 2'!AA$39,'DATA MAESTRO 2'!AA$40,)","v":0},{"$f":"CHOOSE($B10,'DATA MAESTRO 2'!AB$6,'DATA MAESTRO 2'!AB$7,'DATA MAESTRO 2'!AB$8,'DATA MAESTRO 2'!AB$9,'DATA MAESTRO 2'!AB$10,'DATA MAESTRO 2'!AB$11,'DATA MAESTRO 2'!AB$12,'DATA MAESTRO 2'!AB$13,'DATA MAESTRO 2'!AB$14,'DATA MAESTRO 2'!AB$15,'DATA MAESTRO 2'!AB$16,'DATA MAESTRO 2'!AB$17,'DATA MAESTRO 2'!AB$18,'DATA MAESTRO 2'!AB$19,'DATA MAESTRO 2'!AB$20,'DATA MAESTRO 2'!AB$21,'DATA MAESTRO 2'!AB$22,'DATA MAESTRO 2'!AB$23,'DATA MAESTRO 2'!AB$24,'DATA MAESTRO 2'!AB$25,'DATA MAESTRO 2'!AB$26,'DATA MAESTRO 2'!AB$27,'DATA MAESTRO 2'!AB$28,'DATA MAESTRO 2'!AB$29,'DATA MAESTRO 2'!AB$30,'DATA MAESTRO 2'!AB$31,'DATA MAESTRO 2'!AB$32,'DATA MAESTRO 2'!AB$33,'DATA MAESTRO 2'!AB$34,'DATA MAESTRO 2'!AB$35,'DATA MAESTRO 2'!AB$36,'DATA MAESTRO 2'!AB$37,'DATA MAESTRO 2'!AB$38,'DATA MAESTRO 2'!AB$39,'DATA MAESTRO 2'!AB$40,)","v":0},{"$f":"CHOOSE($B10,'DATA MAESTRO 2'!AC$6,'DATA MAESTRO 2'!AC$7,'DATA MAESTRO 2'!AC$8,'DATA MAESTRO 2'!AC$9,'DATA MAESTRO 2'!AC$10,'DATA MAESTRO 2'!AC$11,'DATA MAESTRO 2'!AC$12,'DATA MAESTRO 2'!AC$13,'DATA MAESTRO 2'!AC$14,'DATA MAESTRO 2'!AC$15,'DATA MAESTRO 2'!AC$16,'DATA MAESTRO 2'!AC$17,'DATA MAESTRO 2'!AC$18,'DATA MAESTRO 2'!AC$19,'DATA MAESTRO 2'!AC$20,'DATA MAESTRO 2'!AC$21,'DATA MAESTRO 2'!AC$22,'DATA MAESTRO 2'!AC$23,'DATA MAESTRO 2'!AC$24,'DATA MAESTRO 2'!AC$25,'DATA MAESTRO 2'!AC$26,'DATA MAESTRO 2'!AC$27,'DATA MAESTRO 2'!AC$28,'DATA MAESTRO 2'!AC$29,'DATA MAESTRO 2'!AC$30,'DATA MAESTRO 2'!AC$31,'DATA MAESTRO 2'!AC$32,'DATA MAESTRO 2'!AC$33,'DATA MAESTRO 2'!AC$34,'DATA MAESTRO 2'!AC$35,'DATA MAESTRO 2'!AC$36,'DATA MAESTRO 2'!AC$37,'DATA MAESTRO 2'!AC$38,'DATA MAESTRO 2'!AC$39,'DATA MAESTRO 2'!AC$40,)","v":0},{"$f":"CHOOSE($B10,'DATA MAESTRO 2'!AD$6,'DATA MAESTRO 2'!AD$7,'DATA MAESTRO 2'!AD$8,'DATA MAESTRO 2'!AD$9,'DATA MAESTRO 2'!AD$10,'DATA MAESTRO 2'!AD$11,'DATA MAESTRO 2'!AD$12,'DATA MAESTRO 2'!AD$13,'DATA MAESTRO 2'!AD$14,'DATA MAESTRO 2'!AD$15,'DATA MAESTRO 2'!AD$16,'DATA MAESTRO 2'!AD$17,'DATA MAESTRO 2'!AD$18,'DATA MAESTRO 2'!AD$19,'DATA MAESTRO 2'!AD$20,'DATA MAESTRO 2'!AD$21,'DATA MAESTRO 2'!AD$22,'DATA MAESTRO 2'!AD$23,'DATA MAESTRO 2'!AD$24,'DATA MAESTRO 2'!AD$25,'DATA MAESTRO 2'!AD$26,'DATA MAESTRO 2'!AD$27,'DATA MAESTRO 2'!AD$28,'DATA MAESTRO 2'!AD$29,'DATA MAESTRO 2'!AD$30,'DATA MAESTRO 2'!AD$31,'DATA MAESTRO 2'!AD$32,'DATA MAESTRO 2'!AD$33,'DATA MAESTRO 2'!AD$34,'DATA MAESTRO 2'!AD$35,'DATA MAESTRO 2'!AD$36,'DATA MAESTRO 2'!AD$37,'DATA MAESTRO 2'!AD$38,'DATA MAESTRO 2'!AD$39,'DATA MAESTRO 2'!AD$40,)","v":0},{"$f":"CHOOSE($B10,'DATA MAESTRO 2'!AE$6,'DATA MAESTRO 2'!AE$7,'DATA MAESTRO 2'!AE$8,'DATA MAESTRO 2'!AE$9,'DATA MAESTRO 2'!AE$10,'DATA MAESTRO 2'!AE$11,'DATA MAESTRO 2'!AE$12,'DATA MAESTRO 2'!AE$13,'DATA MAESTRO 2'!AE$14,'DATA MAESTRO 2'!AE$15,'DATA MAESTRO 2'!AE$16,'DATA MAESTRO 2'!AE$17,'DATA MAESTRO 2'!AE$18,'DATA MAESTRO 2'!AE$19,'DATA MAESTRO 2'!AE$20,'DATA MAESTRO 2'!AE$21,'DATA MAESTRO 2'!AE$22,'DATA MAESTRO 2'!AE$23,'DATA MAESTRO 2'!AE$24,'DATA MAESTRO 2'!AE$25,'DATA MAESTRO 2'!AE$26,'DATA MAESTRO 2'!AE$27,'DATA MAESTRO 2'!AE$28,'DATA MAESTRO 2'!AE$29,'DATA MAESTRO 2'!AE$30,'DATA MAESTRO 2'!AE$31,'DATA MAESTRO 2'!AE$32,'DATA MAESTRO 2'!AE$33,'DATA MAESTRO 2'!AE$34,'DATA MAESTRO 2'!AE$35,'DATA MAESTRO 2'!AE$36,'DATA MAESTRO 2'!AE$37,'DATA MAESTRO 2'!AE$38,'DATA MAESTRO 2'!AE$39,'DATA MAESTRO 2'!AE$40,)","v":1209},{"$f":"CHOOSE($B10,'DATA MAESTRO 2'!AF$6,'DATA MAESTRO 2'!AF$7,'DATA MAESTRO 2'!AF$8,'DATA MAESTRO 2'!AF$9,'DATA MAESTRO 2'!AF$10,'DATA MAESTRO 2'!AF$11,'DATA MAESTRO 2'!AF$12,'DATA MAESTRO 2'!AF$13,'DATA MAESTRO 2'!AF$14,'DATA MAESTRO 2'!AF$15,'DATA MAESTRO 2'!AF$16,'DATA MAESTRO 2'!AF$17,'DATA MAESTRO 2'!AF$18,'DATA MAESTRO 2'!AF$19,'DATA MAESTRO 2'!AF$20,'DATA MAESTRO 2'!AF$21,'DATA MAESTRO 2'!AF$22,'DATA MAESTRO 2'!AF$23,'DATA MAESTRO 2'!AF$24,'DATA MAESTRO 2'!AF$25,'DATA MAESTRO 2'!AF$26,'DATA MAESTRO 2'!AF$27,'DATA MAESTRO 2'!AF$28,'DATA MAESTRO 2'!AF$29,'DATA MAESTRO 2'!AF$30,'DATA MAESTRO 2'!AF$31,'DATA MAESTRO 2'!AF$32,'DATA MAESTRO 2'!AF$33,'DATA MAESTRO 2'!AF$34,'DATA MAESTRO 2'!AF$35,'DATA MAESTRO 2'!AF$36,'DATA MAESTRO 2'!AF$37,'DATA MAESTRO 2'!AF$38,'DATA MAESTRO 2'!AF$39,'DATA MAESTRO 2'!AF$40,)","v":10},{"$f":"CHOOSE($B10,'DATA MAESTRO 2'!AG$6,'DATA MAESTRO 2'!AG$7,'DATA MAESTRO 2'!AG$8,'DATA MAESTRO 2'!AG$9,'DATA MAESTRO 2'!AG$10,'DATA MAESTRO 2'!AG$11,'DATA MAESTRO 2'!AG$12,'DATA MAESTRO 2'!AG$13,'DATA MAESTRO 2'!AG$14,'DATA MAESTRO 2'!AG$15,'DATA MAESTRO 2'!AG$16,'DATA MAESTRO 2'!AG$17,'DATA MAESTRO 2'!AG$18,'DATA MAESTRO 2'!AG$19,'DATA MAESTRO 2'!AG$20,'DATA MAESTRO 2'!AG$21,'DATA MAESTRO 2'!AG$22,'DATA MAESTRO 2'!AG$23,'DATA MAESTRO 2'!AG$24,'DATA MAESTRO 2'!AG$25,'DATA MAESTRO 2'!AG$26,'DATA MAESTRO 2'!AG$27,'DATA MAESTRO 2'!AG$28,'DATA MAESTRO 2'!AG$29,'DATA MAESTRO 2'!AG$30,'DATA MAESTRO 2'!AG$31,'DATA MAESTRO 2'!AG$32,'DATA MAESTRO 2'!AG$33,'DATA MAESTRO 2'!AG$34,'DATA MAESTRO 2'!AG$35,'DATA MAESTRO 2'!AG$36,'DATA MAESTRO 2'!AG$37,'DATA MAESTRO 2'!AG$38,'DATA MAESTRO 2'!AG$39,'DATA MAESTRO 2'!AG$40,)","v":2500},{"$f":"CHOOSE($B10,'DATA MAESTRO 2'!AH$6,'DATA MAESTRO 2'!AH$7,'DATA MAESTRO 2'!AH$8,'DATA MAESTRO 2'!AH$9,'DATA MAESTRO 2'!AH$10,'DATA MAESTRO 2'!AH$11,'DATA MAESTRO 2'!AH$12,'DATA MAESTRO 2'!AH$13,'DATA MAESTRO 2'!AH$14,'DATA MAESTRO 2'!AH$15,'DATA MAESTRO 2'!AH$16,'DATA MAESTRO 2'!AH$17,'DATA MAESTRO 2'!AH$18,'DATA MAESTRO 2'!AH$19,'DATA MAESTRO 2'!AH$20,'DATA MAESTRO 2'!AH$21,'DATA MAESTRO 2'!AH$22,'DATA MAESTRO 2'!AH$23,'DATA MAESTRO 2'!AH$24,'DATA MAESTRO 2'!AH$25,'DATA MAESTRO 2'!AH$26,'DATA MAESTRO 2'!AH$27,'DATA MAESTRO 2'!AH$28,'DATA MAESTRO 2'!AH$29,'DATA MAESTRO 2'!AH$30,'DATA MAESTRO 2'!AH$31,'DATA MAESTRO 2'!AH$32,'DATA MAESTRO 2'!AH$33,'DATA MAESTRO 2'!AH$34,'DATA MAESTRO 2'!AH$35,'DATA MAESTRO 2'!AH$36,'DATA MAESTRO 2'!AH$37,'DATA MAESTRO 2'!AH$38,'DATA MAESTRO 2'!AH$39,'DATA MAESTRO 2'!AH$40,)","v":515},{"$f":"CHOOSE($B10,'DATA MAESTRO 2'!AI$6,'DATA MAESTRO 2'!AI$7,'DATA MAESTRO 2'!AI$8,'DATA MAESTRO 2'!AI$9,'DATA MAESTRO 2'!AI$10,'DATA MAESTRO 2'!AI$11,'DATA MAESTRO 2'!AI$12,'DATA MAESTRO 2'!AI$13,'DATA MAESTRO 2'!AI$14,'DATA MAESTRO 2'!AI$15,'DATA MAESTRO 2'!AI$16,'DATA MAESTRO 2'!AI$17,'DATA MAESTRO 2'!AI$18,'DATA MAESTRO 2'!AI$19,'DATA MAESTRO 2'!AI$20,'DATA MAESTRO 2'!AI$21,'DATA MAESTRO 2'!AI$22,'DATA MAESTRO 2'!AI$23,'DATA MAESTRO 2'!AI$24,'DATA MAESTRO 2'!AI$25,'DATA MAESTRO 2'!AI$26,'DATA MAESTRO 2'!AI$27,'DATA MAESTRO 2'!AI$28,'DATA MAESTRO 2'!AI$29,'DATA MAESTRO 2'!AI$30,'DATA MAESTRO 2'!AI$31,'DATA MAESTRO 2'!AI$32,'DATA MAESTRO 2'!AI$33,'DATA MAESTRO 2'!AI$34,'DATA MAESTRO 2'!AI$35,'DATA MAESTRO 2'!AI$36,'DATA MAESTRO 2'!AI$37,'DATA MAESTRO 2'!AI$38,'DATA MAESTRO 2'!AI$39,'DATA MAESTRO 2'!AI$40,)","v":650},{"$f":"CHOOSE($B10,'DATA MAESTRO 2'!AJ$6,'DATA MAESTRO 2'!AJ$7,'DATA MAESTRO 2'!AJ$8,'DATA MAESTRO 2'!AJ$9,'DATA MAESTRO 2'!AJ$10,'DATA MAESTRO 2'!AJ$11,'DATA MAESTRO 2'!AJ$12,'DATA MAESTRO 2'!AJ$13,'DATA MAESTRO 2'!AJ$14,'DATA MAESTRO 2'!AJ$15,'DATA MAESTRO 2'!AJ$16,'DATA MAESTRO 2'!AJ$17,'DATA MAESTRO 2'!AJ$18,'DATA MAESTRO 2'!AJ$19,'DATA MAESTRO 2'!AJ$20,'DATA MAESTRO 2'!AJ$21,'DATA MAESTRO 2'!AJ$22,'DATA MAESTRO 2'!AJ$23,'DATA MAESTRO 2'!AJ$24,'DATA MAESTRO 2'!AJ$25,'DATA MAESTRO 2'!AJ$26,'DATA MAESTRO 2'!AJ$27,'DATA MAESTRO 2'!AJ$28,'DATA MAESTRO 2'!AJ$29,'DATA MAESTRO 2'!AJ$30,'DATA MAESTRO 2'!AJ$31,'DATA MAESTRO 2'!AJ$32,'DATA MAESTRO 2'!AJ$33,'DATA MAESTRO 2'!AJ$34,'DATA MAESTRO 2'!AJ$35,'DATA MAESTRO 2'!AJ$36,'DATA MAESTRO 2'!AJ$37,'DATA MAESTRO 2'!AJ$38,'DATA MAESTRO 2'!AJ$39,'DATA MAESTRO 2'!AJ$40,)","v":100}]
[9,4,{"$f":"+IF(AND(B11>=1,B11<=36),VLOOKUP(B11,'DATA MAESTRO 2'!$A$6:$B$40,2),0)","v":"MELAZA"},{"$f":"+CHOOSE($B11,'DATA MAESTRO 2'!C$6,'DATA MAESTRO 2'!C$7,'DATA MAESTRO 2'!C$8,'DATA MAESTRO 2'!C$9,'DATA MAESTRO 2'!C$10,'DATA MAESTRO 2'!C$11,'DATA MAESTRO 2'!C$12,'DATA MAESTRO 2'!C$13,'DATA MAESTRO 2'!C$14,'DATA MAESTRO 2'!C$15,'DATA MAESTRO 2'!C$16,'DATA MAESTRO 2'!C$17,'DATA MAESTRO 2'!C$18,'DATA MAESTRO 2'!C$19,'DATA MAESTRO 2'!C$20,'DATA MAESTRO 2'!C$21,'DATA MAESTRO 2'!C$22,'DATA MAESTRO 2'!C$23,'DATA MAESTRO 2'!C$24,'DATA MAESTRO 2'!C$25,'DATA MAESTRO 2'!C$26,'DATA MAESTRO 2'!C$27,'DATA MAESTRO 2'!C$28,'DATA MAESTRO 2'!C$29,'DATA MAESTRO 2'!C$30,'DATA MAESTRO 2'!C$31,'DATA MAESTRO 2'!C$32,'DATA MAESTRO 2'!C$33,'DATA MAESTRO 2'!C$34,'DATA MAESTRO 2'!C$35,'DATA MAESTRO 2'!C$36,'DATA MAESTRO 2'!C$37,'DATA MAESTRO 2'!C$38,'DATA MAESTRO 2'!C$39,'DATA MAESTRO 2'!C$40,)","v":0},{"$f":"CHOOSE($B11,'DATA MAESTRO 2'!D$6,'DATA MAESTRO 2'!D$7,'DATA MAESTRO 2'!D$8,'DATA MAESTRO 2'!D$9,'DATA MAESTRO 2'!D$10,'DATA MAESTRO 2'!D$11,'DATA MAESTRO 2'!D$12,'DATA MAESTRO 2'!D$13,'DATA MAESTRO 2'!D$14,'DATA MAESTRO 2'!D$15,'DATA MAESTRO 2'!D$16,'DATA MAESTRO 2'!D$17,'DATA MAESTRO 2'!D$18,'DATA MAESTRO 2'!D$19,'DATA MAESTRO 2'!D$20,'DATA MAESTRO 2'!D$21,'DATA MAESTRO 2'!D$22,'DATA MAESTRO 2'!D$23,'DATA MAESTRO 2'!D$24,'DATA MAESTRO 2'!D$25,'DATA MAESTRO 2'!D$26,'DATA MAESTRO 2'!D$27,'DATA MAESTRO 2'!D$28,'DATA MAESTRO 2'!D$29,'DATA MAESTRO 2'!D$30,'DATA MAESTRO 2'!D$31,'DATA MAESTRO 2'!D$32,'DATA MAESTRO 2'!D$33,'DATA MAESTRO 2'!D$34,'DATA MAESTRO 2'!D$35,'DATA MAESTRO 2'!D$36,'DATA MAESTRO 2'!D$37,'DATA MAESTRO 2'!D$38,'DATA MAESTRO 2'!D$39,'DATA MAESTRO 2'!D$40,)","v":0.75},{"$f":"CHOOSE(B11,'DATA MAESTRO 2'!E$6,'DATA MAESTRO 2'!E$7,'DATA MAESTRO 2'!E$8,'DATA MAESTRO 2'!E$9,'DATA MAESTRO 2'!E$10,'DATA MAESTRO 2'!E$11,'DATA MAESTRO 2'!E$12,'DATA MAESTRO 2'!E$13,'DATA MAESTRO 2'!E$14,'DATA MAESTRO 2'!E$15,'DATA MAESTRO 2'!E$16,'DATA MAESTRO 2'!E$17,'DATA MAESTRO 2'!E$18,'DATA MAESTRO 2'!E$19,'DATA MAESTRO 2'!E$20,'DATA MAESTRO 2'!E$21,'DATA MAESTRO 2'!E$22,'DATA MAESTRO 2'!E$23,'DATA MAESTRO 2'!E$24,'DATA MAESTRO 2'!E$25,'DATA MAESTRO 2'!E$26,'DATA MAESTRO 2'!E$27,'DATA MAESTRO 2'!E$28,'DATA MAESTRO 2'!E$29,'DATA MAESTRO 2'!E$30,'DATA MAESTRO 2'!E$31,'DATA MAESTRO 2'!E$32,'DATA MAESTRO 2'!E$33,'DATA MAESTRO 2'!E$34,'DATA MAESTRO 2'!E$35,'DATA MAESTRO 2'!E$36,'DATA MAESTRO 2'!E$37,'DATA MAESTRO 2'!E$38,'DATA MAESTRO 2'!E$39,'DATA MAESTRO 2'!E$40,)","v":0.76},{"$f":"CHOOSE($B11,'DATA MAESTRO 2'!F$6,'DATA MAESTRO 2'!F$7,'DATA MAESTRO 2'!F$8,'DATA MAESTRO 2'!F$9,'DATA MAESTRO 2'!F$10,'DATA MAESTRO 2'!F$11,'DATA MAESTRO 2'!F$12,'DATA MAESTRO 2'!F$13,'DATA MAESTRO 2'!F$14,'DATA MAESTRO 2'!F$15,'DATA MAESTRO 2'!F$16,'DATA MAESTRO 2'!F$17,'DATA MAESTRO 2'!F$18,'DATA MAESTRO 2'!F$19,'DATA MAESTRO 2'!F$20,'DATA MAESTRO 2'!F$21,'DATA MAESTRO 2'!F$22,'DATA MAESTRO 2'!F$23,'DATA MAESTRO 2'!F$24,'DATA MAESTRO 2'!F$25,'DATA MAESTRO 2'!F$26,'DATA MAESTRO 2'!F$27,'DATA MAESTRO 2'!F$28,'DATA MAESTRO 2'!F$29,'DATA MAESTRO 2'!F$30,'DATA MAESTRO 2'!F$31,'DATA MAESTRO 2'!F$32,'DATA MAESTRO 2'!F$33,'DATA MAESTRO 2'!F$34,'DATA MAESTRO 2'!F$35,'DATA MAESTRO 2'!F$36,'DATA MAESTRO 2'!F$37,'DATA MAESTRO 2'!F$38,'DATA MAESTRO 2'!F$39,'DATA MAESTRO 2'!F$40,)","v":0.05},{"$f":"CHOOSE($B11,'DATA MAESTRO 2'!G$6,'DATA MAESTRO 2'!G$7,'DATA MAESTRO 2'!G$8,'DATA MAESTRO 2'!G$9,'DATA MAESTRO 2'!G$10,'DATA MAESTRO 2'!G$11,'DATA MAESTRO 2'!G$12,'DATA MAESTRO 2'!G$13,'DATA MAESTRO 2'!G$14,'DATA MAESTRO 2'!G$15,'DATA MAESTRO 2'!G$16,'DATA MAESTRO 2'!G$17,'DATA MAESTRO 2'!G$18,'DATA MAESTRO 2'!G$19,'DATA MAESTRO 2'!G$20,'DATA MAESTRO 2'!G$21,'DATA MAESTRO 2'!G$22,'DATA MAESTRO 2'!G$23,'DATA MAESTRO 2'!G$24,'DATA MAESTRO 2'!G$25,'DATA MAESTRO 2'!G$26,'DATA MAESTRO 2'!G$27,'DATA MAESTRO 2'!G$28,'DATA MAESTRO 2'!G$29,'DATA MAESTRO 2'!G$30,'DATA MAESTRO 2'!G$31,'DATA MAESTRO 2'!G$32,'DATA MAESTRO 2'!G$33,'DATA MAESTRO 2'!G$34,'DATA MAESTRO 2'!G$35,'DATA MAESTRO 2'!G$36,'DATA MAESTRO 2'!G$37,'DATA MAESTRO 2'!G$38,'DATA MAESTRO 2'!G$39,'DATA MAESTRO 2'!G$40,)","v":0},{"$f":"CHOOSE($B11,'DATA MAESTRO 2'!H$6,'DATA MAESTRO 2'!H$7,'DATA MAESTRO 2'!H$8,'DATA MAESTRO 2'!H$9,'DATA MAESTRO 2'!H$10,'DATA MAESTRO 2'!H$11,'DATA MAESTRO 2'!H$12,'DATA MAESTRO 2'!H$13,'DATA MAESTRO 2'!H$14,'DATA MAESTRO 2'!H$15,'DATA MAESTRO 2'!H$16,'DATA MAESTRO 2'!H$17,'DATA MAESTRO 2'!H$18,'DATA MAESTRO 2'!H$19,'DATA MAESTRO 2'!H$20,'DATA MAESTRO 2'!H$21,'DATA MAESTRO 2'!H$22,'DATA MAESTRO 2'!H$23,'DATA MAESTRO 2'!H$24,'DATA MAESTRO 2'!H$25,'DATA MAESTRO 2'!H$26,'DATA MAESTRO 2'!H$27,'DATA MAESTRO 2'!H$28,'DATA MAESTRO 2'!H$29,'DATA MAESTRO 2'!H$30,'DATA MAESTRO 2'!H$31,'DATA MAESTRO 2'!H$32,'DATA MAESTRO 2'!H$33,'DATA MAESTRO 2'!H$34,'DATA MAESTRO 2'!H$35,'DATA MAESTRO 2'!H$36,'DATA MAESTRO 2'!H$37,'DATA MAESTRO 2'!H$38,'DATA MAESTRO 2'!H$39,'DATA MAESTRO 2'!H$40,)","v":0},{"$f":"CHOOSE($B11,'DATA MAESTRO 2'!I$6,'DATA MAESTRO 2'!I$7,'DATA MAESTRO 2'!I$8,'DATA MAESTRO 2'!I$9,'DATA MAESTRO 2'!I$10,'DATA MAESTRO 2'!I$11,'DATA MAESTRO 2'!I$12,'DATA MAESTRO 2'!I$13,'DATA MAESTRO 2'!I$14,'DATA MAESTRO 2'!I$15,'DATA MAESTRO 2'!I$16,'DATA MAESTRO 2'!I$17,'DATA MAESTRO 2'!I$18,'DATA MAESTRO 2'!I$19,'DATA MAESTRO 2'!I$20,'DATA MAESTRO 2'!I$21,'DATA MAESTRO 2'!I$22,'DATA MAESTRO 2'!I$23,'DATA MAESTRO 2'!I$24,'DATA MAESTRO 2'!I$25,'DATA MAESTRO 2'!I$26,'DATA MAESTRO 2'!I$27,'DATA MAESTRO 2'!I$28,'DATA MAESTRO 2'!I$29,'DATA MAESTRO 2'!I$30,'DATA MAESTRO 2'!I$31,'DATA MAESTRO 2'!I$32,'DATA MAESTRO 2'!I$33,'DATA MAESTRO 2'!I$34,'DATA MAESTRO 2'!I$35,'DATA MAESTRO 2'!I$36,'DATA MAESTRO 2'!I$37,'DATA MAESTRO 2'!I$38,'DATA MAESTRO 2'!I$39,'DATA MAESTRO 2'!I$40,)","v":0},{"$f":"CHOOSE($B11,'DATA MAESTRO 2'!J$6,'DATA MAESTRO 2'!J$7,'DATA MAESTRO 2'!J$8,'DATA MAESTRO 2'!J$9,'DATA MAESTRO 2'!J$10,'DATA MAESTRO 2'!J$11,'DATA MAESTRO 2'!J$12,'DATA MAESTRO 2'!J$13,'DATA MAESTRO 2'!J$14,'DATA MAESTRO 2'!J$15,'DATA MAESTRO 2'!J$16,'DATA MAESTRO 2'!J$17,'DATA MAESTRO 2'!J$18,'DATA MAESTRO 2'!J$19,'DATA MAESTRO 2'!J$20,'DATA MAESTRO 2'!J$21,'DATA MAESTRO 2'!J$22,'DATA MAESTRO 2'!J$23,'DATA MAESTRO 2'!J$24,'DATA MAESTRO 2'!J$25,'DATA MAESTRO 2'!J$26,'DATA MAESTRO 2'!J$27,'DATA MAESTRO 2'!J$28,'DATA MAESTRO 2'!J$29,'DATA MAESTRO 2'!J$30,'DATA MAESTRO 2'!J$31,'DATA MAESTRO 2'!J$32,'DATA MAESTRO 2'!J$33,'DATA MAESTRO 2'!J$34,'DATA MAESTRO 2'!J$35,'DATA MAESTRO 2'!J$36,'DATA MAESTRO 2'!J$37,'DATA MAESTRO 2'!J$38,'DATA MAESTRO 2'!J$39,'DATA MAESTRO 2'!J$40,)","v":1.0999999999999999E-2},{"$f":"CHOOSE($B11,'DATA MAESTRO 2'!K$6,'DATA MAESTRO 2'!K$7,'DATA MAESTRO 2'!K$8,'DATA MAESTRO 2'!K$9,'DATA MAESTRO 2'!K$10,'DATA MAESTRO 2'!K$11,'DATA MAESTRO 2'!K$12,'DATA MAESTRO 2'!K$13,'DATA MAESTRO 2'!K$14,'DATA MAESTRO 2'!K$15,'DATA MAESTRO 2'!K$16,'DATA MAESTRO 2'!K$17,'DATA MAESTRO 2'!K$18,'DATA MAESTRO 2'!K$19,'DATA MAESTRO 2'!K$20,'DATA MAESTRO 2'!K$21,'DATA MAESTRO 2'!K$22,'DATA MAESTRO 2'!K$23,'DATA MAESTRO 2'!K$24,'DATA MAESTRO 2'!K$25,'DATA MAESTRO 2'!K$26,'DATA MAESTRO 2'!K$27,'DATA MAESTRO 2'!K$28,'DATA MAESTRO 2'!K$29,'DATA MAESTRO 2'!K$30,'DATA MAESTRO 2'!K$31,'DATA MAESTRO 2'!K$32,'DATA MAESTRO 2'!K$33,'DATA MAESTRO 2'!K$34,'DATA MAESTRO 2'!K$35,'DATA MAESTRO 2'!K$36,'DATA MAESTRO 2'!K$37,'DATA MAESTRO 2'!K$38,'DATA MAESTRO 2'!K$39,'DATA MAESTRO 2'!K$40,)","v":1.5E-3},{"$f":"CHOOSE($B11,'DATA MAESTRO 2'!L$6,'DATA MAESTRO 2'!L$7,'DATA MAESTRO 2'!L$8,'DATA MAESTRO 2'!L$9,'DATA MAESTRO 2'!L$10,'DATA MAESTRO 2'!L$11,'DATA MAESTRO 2'!L$12,'DATA MAESTRO 2'!L$13,'DATA MAESTRO 2'!L$14,'DATA MAESTRO 2'!L$15,'DATA MAESTRO 2'!L$16,'DATA MAESTRO 2'!L$17,'DATA MAESTRO 2'!L$18,'DATA MAESTRO 2'!L$19,'DATA MAESTRO 2'!L$20,'DATA MAESTRO 2'!L$21,'DATA MAESTRO 2'!L$22,'DATA MAESTRO 2'!L$23,'DATA MAESTRO 2'!L$24,'DATA MAESTRO 2'!L$25,'DATA MAESTRO 2'!L$26,'DATA MAESTRO 2'!L$27,'DATA MAESTRO 2'!L$28,'DATA MAESTRO 2'!L$29,'DATA MAESTRO 2'!L$30,'DATA MAESTRO 2'!L$31,'DATA MAESTRO 2'!L$32,'DATA MAESTRO 2'!L$33,'DATA MAESTRO 2'!L$34,'DATA MAESTRO 2'!L$35,'DATA MAESTRO 2'!L$36,'DATA MAESTRO 2'!L$37,'DATA MAESTRO 2'!L$38,'DATA MAESTRO 2'!L$39,'DATA MAESTRO 2'!L$40,)","v":2.7476887999999997},{"$f":"CHOOSE($B11,'DATA MAESTRO 2'!M$6,'DATA MAESTRO 2'!M$7,'DATA MAESTRO 2'!M$8,'DATA MAESTRO 2'!M$9,'DATA MAESTRO 2'!M$10,'DATA MAESTRO 2'!M$11,'DATA MAESTRO 2'!M$12,'DATA MAESTRO 2'!M$13,'DATA MAESTRO 2'!M$14,'DATA MAESTRO 2'!M$15,'DATA MAESTRO 2'!M$16,'DATA MAESTRO 2'!M$17,'DATA MAESTRO 2'!M$18,'DATA MAESTRO 2'!M$19,'DATA MAESTRO 2'!M$20,'DATA MAESTRO 2'!M$21,'DATA MAESTRO 2'!M$22,'DATA MAESTRO 2'!M$23,'DATA MAESTRO 2'!M$24,'DATA MAESTRO 2'!M$25,'DATA MAESTRO 2'!M$26,'DATA MAESTRO 2'!M$27,'DATA MAESTRO 2'!M$28,'DATA MAESTRO 2'!M$29,'DATA MAESTRO 2'!M$30,'DATA MAESTRO 2'!M$31,'DATA MAESTRO 2'!M$32,'DATA MAESTRO 2'!M$33,'DATA MAESTRO 2'!M$34,'DATA MAESTRO 2'!M$35,'DATA MAESTRO 2'!M$36,'DATA MAESTRO 2'!M$37,'DATA MAESTRO 2'!M$38,'DATA MAESTRO 2'!M$39,'DATA MAESTRO 2'!M$40,)","v":1.7400984414399994},{"$f":"CHOOSE($B11,'DATA MAESTRO 2'!N$6,'DATA MAESTRO 2'!N$7,'DATA MAESTRO 2'!N$8,'DATA MAESTRO 2'!N$9,'DATA MAESTRO 2'!N$10,'DATA MAESTRO 2'!N$11,'DATA MAESTRO 2'!N$12,'DATA MAESTRO 2'!N$13,'DATA MAESTRO 2'!N$14,'DATA MAESTRO 2'!N$15,'DATA MAESTRO 2'!N$16,'DATA MAESTRO 2'!N$17,'DATA MAESTRO 2'!N$18,'DATA MAESTRO 2'!N$19,'DATA MAESTRO 2'!N$20,'DATA MAESTRO 2'!N$21,'DATA MAESTRO 2'!N$22,'DATA MAESTRO 2'!N$23,'DATA MAESTRO 2'!N$24,'DATA MAESTRO 2'!N$25,'DATA MAESTRO 2'!N$26,'DATA MAESTRO 2'!N$27,'DATA MAESTRO 2'!N$28,'DATA MAESTRO 2'!N$29,'DATA MAESTRO 2'!N$30,'DATA MAESTRO 2'!N$31,'DATA MAESTRO 2'!N$32,'DATA MAESTRO 2'!N$33,'DATA MAESTRO 2'!N$34,'DATA MAESTRO 2'!N$35,'DATA MAESTRO 2'!N$36,'DATA MAESTRO 2'!N$37,'DATA MAESTRO 2'!N$38,'DATA MAESTRO 2'!N$39,'DATA MAESTRO 2'!N$40,)","v":1.742},{"$f":"CHOOSE($B11,'DATA MAESTRO 2'!O$6,'DATA MAESTRO 2'!O$7,'DATA MAESTRO 2'!O$8,'DATA MAESTRO 2'!O$9,'DATA MAESTRO 2'!O$10,'DATA MAESTRO 2'!O$11,'DATA MAESTRO 2'!O$12,'DATA MAESTRO 2'!O$13,'DATA MAESTRO 2'!O$14,'DATA MAESTRO 2'!O$15,'DATA MAESTRO 2'!O$16,'DATA MAESTRO 2'!O$17,'DATA MAESTRO 2'!O$18,'DATA MAESTRO 2'!O$19,'DATA MAESTRO 2'!O$20,'DATA MAESTRO 2'!O$21,'DATA MAESTRO 2'!O$22,'DATA MAESTRO 2'!O$23,'DATA MAESTRO 2'!O$24,'DATA MAESTRO 2'!O$25,'DATA MAESTRO 2'!O$26,'DATA MAESTRO 2'!O$27,'DATA MAESTRO 2'!O$28,'DATA MAESTRO 2'!O$29,'DATA MAESTRO 2'!O$30,'DATA MAESTRO 2'!O$31,'DATA MAESTRO 2'!O$32,'DATA MAESTRO 2'!O$33,'DATA MAESTRO 2'!O$34,'DATA MAESTRO 2'!O$35,'DATA MAESTRO 2'!O$36,'DATA MAESTRO 2'!O$37,'DATA MAESTRO 2'!O$38,'DATA MAESTRO 2'!O$39,'DATA MAESTRO 2'!O$40,)","v":2.2363018691999996},{"$f":"CHOOSE($B11,'DATA MAESTRO 2'!P$6,'DATA MAESTRO 2'!P$7,'DATA MAESTRO 2'!P$8,'DATA MAESTRO 2'!P$9,'DATA MAESTRO 2'!P$10,'DATA MAESTRO 2'!P$11,'DATA MAESTRO 2'!P$12,'DATA MAESTRO 2'!P$13,'DATA MAESTRO 2'!P$14,'DATA MAESTRO 2'!P$15,'DATA MAESTRO 2'!P$16,'DATA MAESTRO 2'!P$17,'DATA MAESTRO 2'!P$18,'DATA MAESTRO 2'!P$19,'DATA MAESTRO 2'!P$20,'DATA MAESTRO 2'!P$21,'DATA MAESTRO 2'!P$22,'DATA MAESTRO 2'!P$23,'DATA MAESTRO 2'!P$24,'DATA MAESTRO 2'!P$25,'DATA MAESTRO 2'!P$26,'DATA MAESTRO 2'!P$27,'DATA MAESTRO 2'!P$28,'DATA MAESTRO 2'!P$29,'DATA MAESTRO 2'!P$30,'DATA MAESTRO 2'!P$31,'DATA MAESTRO 2'!P$32,'DATA MAESTRO 2'!P$33,'DATA MAESTRO 2'!P$34,'DATA MAESTRO 2'!P$35,'DATA MAESTRO 2'!P$36,'DATA MAESTRO 2'!P$37,'DATA MAESTRO 2'!P$38,'DATA MAESTRO 2'!P$39,'DATA MAESTRO 2'!P$40,)","v":0},{"$f":"CHOOSE($B11,'DATA MAESTRO 2'!Q$6,'DATA MAESTRO 2'!Q$7,'DATA MAESTRO 2'!Q$8,'DATA MAESTRO 2'!Q$9,'DATA MAESTRO 2'!Q$10,'DATA MAESTRO 2'!Q$11,'DATA MAESTRO 2'!Q$12,'DATA MAESTRO 2'!Q$13,'DATA MAESTRO 2'!Q$14,'DATA MAESTRO 2'!Q$15,'DATA MAESTRO 2'!Q$16,'DATA MAESTRO 2'!Q$17,'DATA MAESTRO 2'!Q$18,'DATA MAESTRO 2'!Q$19,'DATA MAESTRO 2'!Q$20,'DATA MAESTRO 2'!Q$21,'DATA MAESTRO 2'!Q$22,'DATA MAESTRO 2'!Q$23,'DATA MAESTRO 2'!Q$24,'DATA MAESTRO 2'!Q$25,'DATA MAESTRO 2'!Q$26,'DATA MAESTRO 2'!Q$27,'DATA MAESTRO 2'!Q$28,'DATA MAESTRO 2'!Q$29,'DATA MAESTRO 2'!Q$30,'DATA MAESTRO 2'!Q$31,'DATA MAESTRO 2'!Q$32,'DATA MAESTRO 2'!Q$33,'DATA MAESTRO 2'!Q$34,'DATA MAESTRO 2'!Q$35,'DATA MAESTRO 2'!Q$36,'DATA MAESTRO 2'!Q$37,'DATA MAESTRO 2'!Q$38,'DATA MAESTRO 2'!Q$39,'DATA MAESTRO 2'!Q$40,)","v":0.83},{"$f":"CHOOSE($B11,'DATA MAESTRO 2'!R$6,'DATA MAESTRO 2'!R$7,'DATA MAESTRO 2'!R$8,'DATA MAESTRO 2'!R$9,'DATA MAESTRO 2'!R$10,'DATA MAESTRO 2'!R$11,'DATA MAESTRO 2'!R$12,'DATA MAESTRO 2'!R$13,'DATA MAESTRO 2'!R$14,'DATA MAESTRO 2'!R$15,'DATA MAESTRO 2'!R$16,'DATA MAESTRO 2'!R$17,'DATA MAESTRO 2'!R$18,'DATA MAESTRO 2'!R$19,'DATA MAESTRO 2'!R$20,'DATA MAESTRO 2'!R$21,'DATA MAESTRO 2'!R$22,'DATA MAESTRO 2'!R$23,'DATA MAESTRO 2'!R$24,'DATA MAESTRO 2'!R$25,'DATA MAESTRO 2'!R$26,'DATA MAESTRO 2'!R$27,'DATA MAESTRO 2'!R$28,'DATA MAESTRO 2'!R$29,'DATA MAESTRO 2'!R$30,'DATA MAESTRO 2'!R$31,'DATA MAESTRO 2'!R$32,'DATA MAESTRO 2'!R$33,'DATA MAESTRO 2'!R$34,'DATA MAESTRO 2'!R$35,'DATA MAESTRO 2'!R$36,'DATA MAESTRO 2'!R$37,'DATA MAESTRO 2'!R$38,'DATA MAESTRO 2'!R$39,'DATA MAESTRO 2'!R$40,)","v":0.2},{"$f":"CHOOSE($B11,'DATA MAESTRO 2'!S$6,'DATA MAESTRO 2'!S$7,'DATA MAESTRO 2'!S$8,'DATA MAESTRO 2'!S$9,'DATA MAESTRO 2'!S$10,'DATA MAESTRO 2'!S$11,'DATA MAESTRO 2'!S$12,'DATA MAESTRO 2'!S$13,'DATA MAESTRO 2'!S$14,'DATA MAESTRO 2'!S$15,'DATA MAESTRO 2'!S$16,'DATA MAESTRO 2'!S$17,'DATA MAESTRO 2'!S$18,'DATA MAESTRO 2'!S$19,'DATA MAESTRO 2'!S$20,'DATA MAESTRO 2'!S$21,'DATA MAESTRO 2'!S$22,'DATA MAESTRO 2'!S$23,'DATA MAESTRO 2'!S$24,'DATA MAESTRO 2'!S$25,'DATA MAESTRO 2'!S$26,'DATA MAESTRO 2'!S$27,'DATA MAESTRO 2'!S$28,'DATA MAESTRO 2'!S$29,'DATA MAESTRO 2'!S$30,'DATA MAESTRO 2'!S$31,'DATA MAESTRO 2'!S$32,'DATA MAESTRO 2'!S$33,'DATA MAESTRO 2'!S$34,'DATA MAESTRO 2'!S$35,'DATA MAESTRO 2'!S$36,'DATA MAESTRO 2'!S$37,'DATA MAESTRO 2'!S$38,'DATA MAESTRO 2'!S$39,'DATA MAESTRO 2'!S$40,)","v":0.8},{"$f":"CHOOSE($B11,'DATA MAESTRO 2'!T$6,'DATA MAESTRO 2'!T$7,'DATA MAESTRO 2'!T$8,'DATA MAESTRO 2'!T$9,'DATA MAESTRO 2'!T$10,'DATA MAESTRO 2'!T$11,'DATA MAESTRO 2'!T$12,'DATA MAESTRO 2'!T$13,'DATA MAESTRO 2'!T$14,'DATA MAESTRO 2'!T$15,'DATA MAESTRO 2'!T$16,'DATA MAESTRO 2'!T$17,'DATA MAESTRO 2'!T$18,'DATA MAESTRO 2'!T$19,'DATA MAESTRO 2'!T$20,'DATA MAESTRO 2'!T$21,'DATA MAESTRO 2'!T$22,'DATA MAESTRO 2'!T$23,'DATA MAESTRO 2'!T$24,'DATA MAESTRO 2'!T$25,'DATA MAESTRO 2'!T$26,'DATA MAESTRO 2'!T$27,'DATA MAESTRO 2'!T$28,'DATA MAESTRO 2'!T$29,'DATA MAESTRO 2'!T$30,'DATA MAESTRO 2'!T$31,'DATA MAESTRO 2'!T$32,'DATA MAESTRO 2'!T$33,'DATA MAESTRO 2'!T$34,'DATA MAESTRO 2'!T$35,'DATA MAESTRO 2'!T$36,'DATA MAESTRO 2'!T$37,'DATA MAESTRO 2'!T$38,'DATA MAESTRO 2'!T$39,'DATA MAESTRO 2'!T$40,)","v":2.2000000000000001E-3},{"$f":"CHOOSE($B11,'DATA MAESTRO 2'!U$6,'DATA MAESTRO 2'!U$7,'DATA MAESTRO 2'!U$8,'DATA MAESTRO 2'!U$9,'DATA MAESTRO 2'!U$10,'DATA MAESTRO 2'!U$11,'DATA MAESTRO 2'!U$12,'DATA MAESTRO 2'!U$13,'DATA MAESTRO 2'!U$14,'DATA MAESTRO 2'!U$15,'DATA MAESTRO 2'!U$16,'DATA MAESTRO 2'!U$17,'DATA MAESTRO 2'!U$18,'DATA MAESTRO 2'!U$19,'DATA MAESTRO 2'!U$20,'DATA MAESTRO 2'!U$21,'DATA MAESTRO 2'!U$22,'DATA MAESTRO 2'!U$23,'DATA MAESTRO 2'!U$24,'DATA MAESTRO 2'!U$25,'DATA MAESTRO 2'!U$26,'DATA MAESTRO 2'!U$27,'DATA MAESTRO 2'!U$28,'DATA MAESTRO 2'!U$29,'DATA MAESTRO 2'!U$30,'DATA MAESTRO 2'!U$31,'DATA MAESTRO 2'!U$32,'DATA MAESTRO 2'!U$33,'DATA MAESTRO 2'!U$34,'DATA MAESTRO 2'!U$35,'DATA MAESTRO 2'!U$36,'DATA MAESTRO 2'!U$37,'DATA MAESTRO 2'!U$38,'DATA MAESTRO 2'!U$39,'DATA MAESTRO 2'!U$40,)","v":4.1999999999999997E-3},{"$f":"CHOOSE($B11,'DATA MAESTRO 2'!V$6,'DATA MAESTRO 2'!V$7,'DATA MAESTRO 2'!V$8,'DATA MAESTRO 2'!V$9,'DATA MAESTRO 2'!V$10,'DATA MAESTRO 2'!V$11,'DATA MAESTRO 2'!V$12,'DATA MAESTRO 2'!V$13,'DATA MAESTRO 2'!V$14,'DATA MAESTRO 2'!V$15,'DATA MAESTRO 2'!V$16,'DATA MAESTRO 2'!V$17,'DATA MAESTRO 2'!V$18,'DATA MAESTRO 2'!V$19,'DATA MAESTRO 2'!V$20,'DATA MAESTRO 2'!V$21,'DATA MAESTRO 2'!V$22,'DATA MAESTRO 2'!V$23,'DATA MAESTRO 2'!V$24,'DATA MAESTRO 2'!V$25,'DATA MAESTRO 2'!V$26,'DATA MAESTRO 2'!V$27,'DATA MAESTRO 2'!V$28,'DATA MAESTRO 2'!V$29,'DATA MAESTRO 2'!V$30,'DATA MAESTRO 2'!V$31,'DATA MAESTRO 2'!V$32,'DATA MAESTRO 2'!V$33,'DATA MAESTRO 2'!V$34,'DATA MAESTRO 2'!V$35,'DATA MAESTRO 2'!V$36,'DATA MAESTRO 2'!V$37,'DATA MAESTRO 2'!V$38,'DATA MAESTRO 2'!V$39,'DATA MAESTRO 2'!V$40,)","v":0.04},{"$f":"CHOOSE($B11,'DATA MAESTRO 2'!W$6,'DATA MAESTRO 2'!W$7,'DATA MAESTRO 2'!W$8,'DATA MAESTRO 2'!W$9,'DATA MAESTRO 2'!W$10,'DATA MAESTRO 2'!W$11,'DATA MAESTRO 2'!W$12,'DATA MAESTRO 2'!W$13,'DATA MAESTRO 2'!W$14,'DATA MAESTRO 2'!W$15,'DATA MAESTRO 2'!W$16,'DATA MAESTRO 2'!W$17,'DATA MAESTRO 2'!W$18,'DATA MAESTRO 2'!W$19,'DATA MAESTRO 2'!W$20,'DATA MAESTRO 2'!W$21,'DATA MAESTRO 2'!W$22,'DATA MAESTRO 2'!W$23,'DATA MAESTRO 2'!W$24,'DATA MAESTRO 2'!W$25,'DATA MAESTRO 2'!W$26,'DATA MAESTRO 2'!W$27,'DATA MAESTRO 2'!W$28,'DATA MAESTRO 2'!W$29,'DATA MAESTRO 2'!W$30,'DATA MAESTRO 2'!W$31,'DATA MAESTRO 2'!W$32,'DATA MAESTRO 2'!W$33,'DATA MAESTRO 2'!W$34,'DATA MAESTRO 2'!W$35,'DATA MAESTRO 2'!W$36,'DATA MAESTRO 2'!W$37,'DATA MAESTRO 2'!W$38,'DATA MAESTRO 2'!W$39,'DATA MAESTRO 2'!W$40,)","v":3.1E-2},{"$f":"CHOOSE($B11,'DATA MAESTRO 2'!X$6,'DATA MAESTRO 2'!X$7,'DATA MAESTRO 2'!X$8,'DATA MAESTRO 2'!X$9,'DATA MAESTRO 2'!X$10,'DATA MAESTRO 2'!X$11,'DATA MAESTRO 2'!X$12,'DATA MAESTRO 2'!X$13,'DATA MAESTRO 2'!X$14,'DATA MAESTRO 2'!X$15,'DATA MAESTRO 2'!X$16,'DATA MAESTRO 2'!X$17,'DATA MAESTRO 2'!X$18,'DATA MAESTRO 2'!X$19,'DATA MAESTRO 2'!X$20,'DATA MAESTRO 2'!X$21,'DATA MAESTRO 2'!X$22,'DATA MAESTRO 2'!X$23,'DATA MAESTRO 2'!X$24,'DATA MAESTRO 2'!X$25,'DATA MAESTRO 2'!X$26,'DATA MAESTRO 2'!X$27,'DATA MAESTRO 2'!X$28,'DATA MAESTRO 2'!X$29,'DATA MAESTRO 2'!X$30,'DATA MAESTRO 2'!X$31,'DATA MAESTRO 2'!X$32,'DATA MAESTRO 2'!X$33,'DATA MAESTRO 2'!X$34,'DATA MAESTRO 2'!X$35,'DATA MAESTRO 2'!X$36,'DATA MAESTRO 2'!X$37,'DATA MAESTRO 2'!X$38,'DATA MAESTRO 2'!X$39,'DATA MAESTRO 2'!X$40,)","v":4.5999999999999999E-3},{"$f":"CHOOSE($B11,'DATA MAESTRO 2'!Y$6,'DATA MAESTRO 2'!Y$7,'DATA MAESTRO 2'!Y$8,'DATA MAESTRO 2'!Y$9,'DATA MAESTRO 2'!Y$10,'DATA MAESTRO 2'!Y$11,'DATA MAESTRO 2'!Y$12,'DATA MAESTRO 2'!Y$13,'DATA MAESTRO 2'!Y$14,'DATA MAESTRO 2'!Y$15,'DATA MAESTRO 2'!Y$16,'DATA MAESTRO 2'!Y$17,'DATA MAESTRO 2'!Y$18,'DATA MAESTRO 2'!Y$19,'DATA MAESTRO 2'!Y$20,'DATA MAESTRO 2'!Y$21,'DATA MAESTRO 2'!Y$22,'DATA MAESTRO 2'!Y$23,'DATA MAESTRO 2'!Y$24,'DATA MAESTRO 2'!Y$25,'DATA MAESTRO 2'!Y$26,'DATA MAESTRO 2'!Y$27,'DATA MAESTRO 2'!Y$28,'DATA MAESTRO 2'!Y$29,'DATA MAESTRO 2'!Y$30,'DATA MAESTRO 2'!Y$31,'DATA MAESTRO 2'!Y$32,'DATA MAESTRO 2'!Y$33,'DATA MAESTRO 2'!Y$34,'DATA MAESTRO 2'!Y$35,'DATA MAESTRO 2'!Y$36,'DATA MAESTRO 2'!Y$37,'DATA MAESTRO 2'!Y$38,'DATA MAESTRO 2'!Y$39,'DATA MAESTRO 2'!Y$40,)","v":0},{"$f":"CHOOSE($B11,'DATA MAESTRO 2'!Z$6,'DATA MAESTRO 2'!Z$7,'DATA MAESTRO 2'!Z$8,'DATA MAESTRO 2'!Z$9,'DATA MAESTRO 2'!Z$10,'DATA MAESTRO 2'!Z$11,'DATA MAESTRO 2'!Z$12,'DATA MAESTRO 2'!Z$13,'DATA MAESTRO 2'!Z$14,'DATA MAESTRO 2'!Z$15,'DATA MAESTRO 2'!Z$16,'DATA MAESTRO 2'!Z$17,'DATA MAESTRO 2'!Z$18,'DATA MAESTRO 2'!Z$19,'DATA MAESTRO 2'!Z$20,'DATA MAESTRO 2'!Z$21,'DATA MAESTRO 2'!Z$22,'DATA MAESTRO 2'!Z$23,'DATA MAESTRO 2'!Z$24,'DATA MAESTRO 2'!Z$25,'DATA MAESTRO 2'!Z$26,'DATA MAESTRO 2'!Z$27,'DATA MAESTRO 2'!Z$28,'DATA MAESTRO 2'!Z$29,'DATA MAESTRO 2'!Z$30,'DATA MAESTRO 2'!Z$31,'DATA MAESTRO 2'!Z$32,'DATA MAESTRO 2'!Z$33,'DATA MAESTRO 2'!Z$34,'DATA MAESTRO 2'!Z$35,'DATA MAESTRO 2'!Z$36,'DATA MAESTRO 2'!Z$37,'DATA MAESTRO 2'!Z$38,'DATA MAESTRO 2'!Z$39,'DATA MAESTRO 2'!Z$40,)","v":7.0000000000000007E-2},{"$f":"CHOOSE($B11,'DATA MAESTRO 2'!AA$6,'DATA MAESTRO 2'!AA$7,'DATA MAESTRO 2'!AA$8,'DATA MAESTRO 2'!AA$9,'DATA MAESTRO 2'!AA$10,'DATA MAESTRO 2'!AA$11,'DATA MAESTRO 2'!AA$12,'DATA MAESTRO 2'!AA$13,'DATA MAESTRO 2'!AA$14,'DATA MAESTRO 2'!AA$15,'DATA MAESTRO 2'!AA$16,'DATA MAESTRO 2'!AA$17,'DATA MAESTRO 2'!AA$18,'DATA MAESTRO 2'!AA$19,'DATA MAESTRO 2'!AA$20,'DATA MAESTRO 2'!AA$21,'DATA MAESTRO 2'!AA$22,'DATA MAESTRO 2'!AA$23,'DATA MAESTRO 2'!AA$24,'DATA MAESTRO 2'!AA$25,'DATA MAESTRO 2'!AA$26,'DATA MAESTRO 2'!AA$27,'DATA MAESTRO 2'!AA$28,'DATA MAESTRO 2'!AA$29,'DATA MAESTRO 2'!AA$30,'DATA MAESTRO 2'!AA$31,'DATA MAESTRO 2'!AA$32,'DATA MAESTRO 2'!AA$33,'DATA MAESTRO 2'!AA$34,'DATA MAESTRO 2'!AA$35,'DATA MAESTRO 2'!AA$36,'DATA MAESTRO 2'!AA$37,'DATA MAESTRO 2'!AA$38,'DATA MAESTRO 2'!AA$39,'DATA MAESTRO 2'!AA$40,)","v":0},{"$f":"CHOOSE($B11,'DATA MAESTRO 2'!AB$6,'DATA MAESTRO 2'!AB$7,'DATA MAESTRO 2'!AB$8,'DATA MAESTRO 2'!AB$9,'DATA MAESTRO 2'!AB$10,'DATA MAESTRO 2'!AB$11,'DATA MAESTRO 2'!AB$12,'DATA MAESTRO 2'!AB$13,'DATA MAESTRO 2'!AB$14,'DATA MAESTRO 2'!AB$15,'DATA MAESTRO 2'!AB$16,'DATA MAESTRO 2'!AB$17,'DATA MAESTRO 2'!AB$18,'DATA MAESTRO 2'!AB$19,'DATA MAESTRO 2'!AB$20,'DATA MAESTRO 2'!AB$21,'DATA MAESTRO 2'!AB$22,'DATA MAESTRO 2'!AB$23,'DATA MAESTRO 2'!AB$24,'DATA MAESTRO 2'!AB$25,'DATA MAESTRO 2'!AB$26,'DATA MAESTRO 2'!AB$27,'DATA MAESTRO 2'!AB$28,'DATA MAESTRO 2'!AB$29,'DATA MAESTRO 2'!AB$30,'DATA MAESTRO 2'!AB$31,'DATA MAESTRO 2'!AB$32,'DATA MAESTRO 2'!AB$33,'DATA MAESTRO 2'!AB$34,'DATA MAESTRO 2'!AB$35,'DATA MAESTRO 2'!AB$36,'DATA MAESTRO 2'!AB$37,'DATA MAESTRO 2'!AB$38,'DATA MAESTRO 2'!AB$39,'DATA MAESTRO 2'!AB$40,)","v":0},{"$f":"CHOOSE($B11,'DATA MAESTRO 2'!AC$6,'DATA MAESTRO 2'!AC$7,'DATA MAESTRO 2'!AC$8,'DATA MAESTRO 2'!AC$9,'DATA MAESTRO 2'!AC$10,'DATA MAESTRO 2'!AC$11,'DATA MAESTRO 2'!AC$12,'DATA MAESTRO 2'!AC$13,'DATA MAESTRO 2'!AC$14,'DATA MAESTRO 2'!AC$15,'DATA MAESTRO 2'!AC$16,'DATA MAESTRO 2'!AC$17,'DATA MAESTRO 2'!AC$18,'DATA MAESTRO 2'!AC$19,'DATA MAESTRO 2'!AC$20,'DATA MAESTRO 2'!AC$21,'DATA MAESTRO 2'!AC$22,'DATA MAESTRO 2'!AC$23,'DATA MAESTRO 2'!AC$24,'DATA MAESTRO 2'!AC$25,'DATA MAESTRO 2'!AC$26,'DATA MAESTRO 2'!AC$27,'DATA MAESTRO 2'!AC$28,'DATA MAESTRO 2'!AC$29,'DATA MAESTRO 2'!AC$30,'DATA MAESTRO 2'!AC$31,'DATA MAESTRO 2'!AC$32,'DATA MAESTRO 2'!AC$33,'DATA MAESTRO 2'!AC$34,'DATA MAESTRO 2'!AC$35,'DATA MAESTRO 2'!AC$36,'DATA MAESTRO 2'!AC$37,'DATA MAESTRO 2'!AC$38,'DATA MAESTRO 2'!AC$39,'DATA MAESTRO 2'!AC$40,)","v":0},{"$f":"CHOOSE($B11,'DATA MAESTRO 2'!AD$6,'DATA MAESTRO 2'!AD$7,'DATA MAESTRO 2'!AD$8,'DATA MAESTRO 2'!AD$9,'DATA MAESTRO 2'!AD$10,'DATA MAESTRO 2'!AD$11,'DATA MAESTRO 2'!AD$12,'DATA MAESTRO 2'!AD$13,'DATA MAESTRO 2'!AD$14,'DATA MAESTRO 2'!AD$15,'DATA MAESTRO 2'!AD$16,'DATA MAESTRO 2'!AD$17,'DATA MAESTRO 2'!AD$18,'DATA MAESTRO 2'!AD$19,'DATA MAESTRO 2'!AD$20,'DATA MAESTRO 2'!AD$21,'DATA MAESTRO 2'!AD$22,'DATA MAESTRO 2'!AD$23,'DATA MAESTRO 2'!AD$24,'DATA MAESTRO 2'!AD$25,'DATA MAESTRO 2'!AD$26,'DATA MAESTRO 2'!AD$27,'DATA MAESTRO 2'!AD$28,'DATA MAESTRO 2'!AD$29,'DATA MAESTRO 2'!AD$30,'DATA MAESTRO 2'!AD$31,'DATA MAESTRO 2'!AD$32,'DATA MAESTRO 2'!AD$33,'DATA MAESTRO 2'!AD$34,'DATA MAESTRO 2'!AD$35,'DATA MAESTRO 2'!AD$36,'DATA MAESTRO 2'!AD$37,'DATA MAESTRO 2'!AD$38,'DATA MAESTRO 2'!AD$39,'DATA MAESTRO 2'!AD$40,)","v":0},{"$f":"CHOOSE($B11,'DATA MAESTRO 2'!AE$6,'DATA MAESTRO 2'!AE$7,'DATA MAESTRO 2'!AE$8,'DATA MAESTRO 2'!AE$9,'DATA MAESTRO 2'!AE$10,'DATA MAESTRO 2'!AE$11,'DATA MAESTRO 2'!AE$12,'DATA MAESTRO 2'!AE$13,'DATA MAESTRO 2'!AE$14,'DATA MAESTRO 2'!AE$15,'DATA MAESTRO 2'!AE$16,'DATA MAESTRO 2'!AE$17,'DATA MAESTRO 2'!AE$18,'DATA MAESTRO 2'!AE$19,'DATA MAESTRO 2'!AE$20,'DATA MAESTRO 2'!AE$21,'DATA MAESTRO 2'!AE$22,'DATA MAESTRO 2'!AE$23,'DATA MAESTRO 2'!AE$24,'DATA MAESTRO 2'!AE$25,'DATA MAESTRO 2'!AE$26,'DATA MAESTRO 2'!AE$27,'DATA MAESTRO 2'!AE$28,'DATA MAESTRO 2'!AE$29,'DATA MAESTRO 2'!AE$30,'DATA MAESTRO 2'!AE$31,'DATA MAESTRO 2'!AE$32,'DATA MAESTRO 2'!AE$33,'DATA MAESTRO 2'!AE$34,'DATA MAESTRO 2'!AE$35,'DATA MAESTRO 2'!AE$36,'DATA MAESTRO 2'!AE$37,'DATA MAESTRO 2'!AE$38,'DATA MAESTRO 2'!AE$39,'DATA MAESTRO 2'!AE$40,)","v":0},{"$f":"CHOOSE($B11,'DATA MAESTRO 2'!AF$6,'DATA MAESTRO 2'!AF$7,'DATA MAESTRO 2'!AF$8,'DATA MAESTRO 2'!AF$9,'DATA MAESTRO 2'!AF$10,'DATA MAESTRO 2'!AF$11,'DATA MAESTRO 2'!AF$12,'DATA MAESTRO 2'!AF$13,'DATA MAESTRO 2'!AF$14,'DATA MAESTRO 2'!AF$15,'DATA MAESTRO 2'!AF$16,'DATA MAESTRO 2'!AF$17,'DATA MAESTRO 2'!AF$18,'DATA MAESTRO 2'!AF$19,'DATA MAESTRO 2'!AF$20,'DATA MAESTRO 2'!AF$21,'DATA MAESTRO 2'!AF$22,'DATA MAESTRO 2'!AF$23,'DATA MAESTRO 2'!AF$24,'DATA MAESTRO 2'!AF$25,'DATA MAESTRO 2'!AF$26,'DATA MAESTRO 2'!AF$27,'DATA MAESTRO 2'!AF$28,'DATA MAESTRO 2'!AF$29,'DATA MAESTRO 2'!AF$30,'DATA MAESTRO 2'!AF$31,'DATA MAESTRO 2'!AF$32,'DATA MAESTRO 2'!AF$33,'DATA MAESTRO 2'!AF$34,'DATA MAESTRO 2'!AF$35,'DATA MAESTRO 2'!AF$36,'DATA MAESTRO 2'!AF$37,'DATA MAESTRO 2'!AF$38,'DATA MAESTRO 2'!AF$39,'DATA MAESTRO 2'!AF$40,)","v":0},{"$f":"CHOOSE($B11,'DATA MAESTRO 2'!AG$6,'DATA MAESTRO 2'!AG$7,'DATA MAESTRO 2'!AG$8,'DATA MAESTRO 2'!AG$9,'DATA MAESTRO 2'!AG$10,'DATA MAESTRO 2'!AG$11,'DATA MAESTRO 2'!AG$12,'DATA MAESTRO 2'!AG$13,'DATA MAESTRO 2'!AG$14,'DATA MAESTRO 2'!AG$15,'DATA MAESTRO 2'!AG$16,'DATA MAESTRO 2'!AG$17,'DATA MAESTRO 2'!AG$18,'DATA MAESTRO 2'!AG$19,'DATA MAESTRO 2'!AG$20,'DATA MAESTRO 2'!AG$21,'DATA MAESTRO 2'!AG$22,'DATA MAESTRO 2'!AG$23,'DATA MAESTRO 2'!AG$24,'DATA MAESTRO 2'!AG$25,'DATA MAESTRO 2'!AG$26,'DATA MAESTRO 2'!AG$27,'DATA MAESTRO 2'!AG$28,'DATA MAESTRO 2'!AG$29,'DATA MAESTRO 2'!AG$30,'DATA MAESTRO 2'!AG$31,'DATA MAESTRO 2'!AG$32,'DATA MAESTRO 2'!AG$33,'DATA MAESTRO 2'!AG$34,'DATA MAESTRO 2'!AG$35,'DATA MAESTRO 2'!AG$36,'DATA MAESTRO 2'!AG$37,'DATA MAESTRO 2'!AG$38,'DATA MAESTRO 2'!AG$39,'DATA MAESTRO 2'!AG$40,)","v":0},{"$f":"CHOOSE($B11,'DATA MAESTRO 2'!AH$6,'DATA MAESTRO 2'!AH$7,'DATA MAESTRO 2'!AH$8,'DATA MAESTRO 2'!AH$9,'DATA MAESTRO 2'!AH$10,'DATA MAESTRO 2'!AH$11,'DATA MAESTRO 2'!AH$12,'DATA MAESTRO 2'!AH$13,'DATA MAESTRO 2'!AH$14,'DATA MAESTRO 2'!AH$15,'DATA MAESTRO 2'!AH$16,'DATA MAESTRO 2'!AH$17,'DATA MAESTRO 2'!AH$18,'DATA MAESTRO 2'!AH$19,'DATA MAESTRO 2'!AH$20,'DATA MAESTRO 2'!AH$21,'DATA MAESTRO 2'!AH$22,'DATA MAESTRO 2'!AH$23,'DATA MAESTRO 2'!AH$24,'DATA MAESTRO 2'!AH$25,'DATA MAESTRO 2'!AH$26,'DATA MAESTRO 2'!AH$27,'DATA MAESTRO 2'!AH$28,'DATA MAESTRO 2'!AH$29,'DATA MAESTRO 2'!AH$30,'DATA MAESTRO 2'!AH$31,'DATA MAESTRO 2'!AH$32,'DATA MAESTRO 2'!AH$33,'DATA MAESTRO 2'!AH$34,'DATA MAESTRO 2'!AH$35,'DATA MAESTRO 2'!AH$36,'DATA MAESTRO 2'!AH$37,'DATA MAESTRO 2'!AH$38,'DATA MAESTRO 2'!AH$39,'DATA MAESTRO 2'!AH$40,)","v":0},{"$f":"CHOOSE($B11,'DATA MAESTRO 2'!AI$6,'DATA MAESTRO 2'!AI$7,'DATA MAESTRO 2'!AI$8,'DATA MAESTRO 2'!AI$9,'DATA MAESTRO 2'!AI$10,'DATA MAESTRO 2'!AI$11,'DATA MAESTRO 2'!AI$12,'DATA MAESTRO 2'!AI$13,'DATA MAESTRO 2'!AI$14,'DATA MAESTRO 2'!AI$15,'DATA MAESTRO 2'!AI$16,'DATA MAESTRO 2'!AI$17,'DATA MAESTRO 2'!AI$18,'DATA MAESTRO 2'!AI$19,'DATA MAESTRO 2'!AI$20,'DATA MAESTRO 2'!AI$21,'DATA MAESTRO 2'!AI$22,'DATA MAESTRO 2'!AI$23,'DATA MAESTRO 2'!AI$24,'DATA MAESTRO 2'!AI$25,'DATA MAESTRO 2'!AI$26,'DATA MAESTRO 2'!AI$27,'DATA MAESTRO 2'!AI$28,'DATA MAESTRO 2'!AI$29,'DATA MAESTRO 2'!AI$30,'DATA MAESTRO 2'!AI$31,'DATA MAESTRO 2'!AI$32,'DATA MAESTRO 2'!AI$33,'DATA MAESTRO 2'!AI$34,'DATA MAESTRO 2'!AI$35,'DATA MAESTRO 2'!AI$36,'DATA MAESTRO 2'!AI$37,'DATA MAESTRO 2'!AI$38,'DATA MAESTRO 2'!AI$39,'DATA MAESTRO 2'!AI$40,)","v":0},{"$f":"CHOOSE($B11,'DATA MAESTRO 2'!AJ$6,'DATA MAESTRO 2'!AJ$7,'DATA MAESTRO 2'!AJ$8,'DATA MAESTRO 2'!AJ$9,'DATA MAESTRO 2'!AJ$10,'DATA MAESTRO 2'!AJ$11,'DATA MAESTRO 2'!AJ$12,'DATA MAESTRO 2'!AJ$13,'DATA MAESTRO 2'!AJ$14,'DATA MAESTRO 2'!AJ$15,'DATA MAESTRO 2'!AJ$16,'DATA MAESTRO 2'!AJ$17,'DATA MAESTRO 2'!AJ$18,'DATA MAESTRO 2'!AJ$19,'DATA MAESTRO 2'!AJ$20,'DATA MAESTRO 2'!AJ$21,'DATA MAESTRO 2'!AJ$22,'DATA MAESTRO 2'!AJ$23,'DATA MAESTRO 2'!AJ$24,'DATA MAESTRO 2'!AJ$25,'DATA MAESTRO 2'!AJ$26,'DATA MAESTRO 2'!AJ$27,'DATA MAESTRO 2'!AJ$28,'DATA MAESTRO 2'!AJ$29,'DATA MAESTRO 2'!AJ$30,'DATA MAESTRO 2'!AJ$31,'DATA MAESTRO 2'!AJ$32,'DATA MAESTRO 2'!AJ$33,'DATA MAESTRO 2'!AJ$34,'DATA MAESTRO 2'!AJ$35,'DATA MAESTRO 2'!AJ$36,'DATA MAESTRO 2'!AJ$37,'DATA MAESTRO 2'!AJ$38,'DATA MAESTRO 2'!AJ$39,'DATA MAESTRO 2'!AJ$40,)","v":0}]
[10,3,{"$f":"+IF(AND(B12>=1,B12<=36),VLOOKUP(B12,'DATA MAESTRO 2'!$A$6:$B$40,2),0)","v":"UREA"},{"$f":"+CHOOSE($B12,'DATA MAESTRO 2'!C$6,'DATA MAESTRO 2'!C$7,'DATA MAESTRO 2'!C$8,'DATA MAESTRO 2'!C$9,'DATA MAESTRO 2'!C$10,'DATA MAESTRO 2'!C$11,'DATA MAESTRO 2'!C$12,'DATA MAESTRO 2'!C$13,'DATA MAESTRO 2'!C$14,'DATA MAESTRO 2'!C$15,'DATA MAESTRO 2'!C$16,'DATA MAESTRO 2'!C$17,'DATA MAESTRO 2'!C$18,'DATA MAESTRO 2'!C$19,'DATA MAESTRO 2'!C$20,'DATA MAESTRO 2'!C$21,'DATA MAESTRO 2'!C$22,'DATA MAESTRO 2'!C$23,'DATA MAESTRO 2'!C$24,'DATA MAESTRO 2'!C$25,'DATA MAESTRO 2'!C$26,'DATA MAESTRO 2'!C$27,'DATA MAESTRO 2'!C$28,'DATA MAESTRO 2'!C$29,'DATA MAESTRO 2'!C$30,'DATA MAESTRO 2'!C$31,'DATA MAESTRO 2'!C$32,'DATA MAESTRO 2'!C$33,'DATA MAESTRO 2'!C$34,'DATA MAESTRO 2'!C$35,'DATA MAESTRO 2'!C$36,'DATA MAESTRO 2'!C$37,'DATA MAESTRO 2'!C$38,'DATA MAESTRO 2'!C$39,'DATA MAESTRO 2'!C$40,)","v":0},{"$f":"CHOOSE($B12,'DATA MAESTRO 2'!D$6,'DATA MAESTRO 2'!D$7,'DATA MAESTRO 2'!D$8,'DATA MAESTRO 2'!D$9,'DATA MAESTRO 2'!D$10,'DATA MAESTRO 2'!D$11,'DATA MAESTRO 2'!D$12,'DATA MAESTRO 2'!D$13,'DATA MAESTRO 2'!D$14,'DATA MAESTRO 2'!D$15,'DATA MAESTRO 2'!D$16,'DATA MAESTRO 2'!D$17,'DATA MAESTRO 2'!D$18,'DATA MAESTRO 2'!D$19,'DATA MAESTRO 2'!D$20,'DATA MAESTRO 2'!D$21,'DATA MAESTRO 2'!D$22,'DATA MAESTRO 2'!D$23,'DATA MAESTRO 2'!D$24,'DATA MAESTRO 2'!D$25,'DATA MAESTRO 2'!D$26,'DATA MAESTRO 2'!D$27,'DATA MAESTRO 2'!D$28,'DATA MAESTRO 2'!D$29,'DATA MAESTRO 2'!D$30,'DATA MAESTRO 2'!D$31,'DATA MAESTRO 2'!D$32,'DATA MAESTRO 2'!D$33,'DATA MAESTRO 2'!D$34,'DATA MAESTRO 2'!D$35,'DATA MAESTRO 2'!D$36,'DATA MAESTRO 2'!D$37,'DATA MAESTRO 2'!D$38,'DATA MAESTRO 2'!D$39,'DATA MAESTRO 2'!D$40,)","v":0.99},{"$f":"CHOOSE(B12,'DATA MAESTRO 2'!E$6,'DATA MAESTRO 2'!E$7,'DATA MAESTRO 2'!E$8,'DATA MAESTRO 2'!E$9,'DATA MAESTRO 2'!E$10,'DATA MAESTRO 2'!E$11,'DATA MAESTRO 2'!E$12,'DATA MAESTRO 2'!E$13,'DATA MAESTRO 2'!E$14,'DATA MAESTRO 2'!E$15,'DATA MAESTRO 2'!E$16,'DATA MAESTRO 2'!E$17,'DATA MAESTRO 2'!E$18,'DATA MAESTRO 2'!E$19,'DATA MAESTRO 2'!E$20,'DATA MAESTRO 2'!E$21,'DATA MAESTRO 2'!E$22,'DATA MAESTRO 2'!E$23,'DATA MAESTRO 2'!E$24,'DATA MAESTRO 2'!E$25,'DATA MAESTRO 2'!E$26,'DATA MAESTRO 2'!E$27,'DATA MAESTRO 2'!E$28,'DATA MAESTRO 2'!E$29,'DATA MAESTRO 2'!E$30,'DATA MAESTRO 2'!E$31,'DATA MAESTRO 2'!E$32,'DATA MAESTRO 2'!E$33,'DATA MAESTRO 2'!E$34,'DATA MAESTRO 2'!E$35,'DATA MAESTRO 2'!E$36,'DATA MAESTRO 2'!E$37,'DATA MAESTRO 2'!E$38,'DATA MAESTRO 2'!E$39,'DATA MAESTRO 2'!E$40,)","v":0},{"$f":"CHOOSE($B12,'DATA MAESTRO 2'!F$6,'DATA MAESTRO 2'!F$7,'DATA MAESTRO 2'!F$8,'DATA MAESTRO 2'!F$9,'DATA MAESTRO 2'!F$10,'DATA MAESTRO 2'!F$11,'DATA MAESTRO 2'!F$12,'DATA MAESTRO 2'!F$13,'DATA MAESTRO 2'!F$14,'DATA MAESTRO 2'!F$15,'DATA MAESTRO 2'!F$16,'DATA MAESTRO 2'!F$17,'DATA MAESTRO 2'!F$18,'DATA MAESTRO 2'!F$19,'DATA MAESTRO 2'!F$20,'DATA MAESTRO 2'!F$21,'DATA MAESTRO 2'!F$22,'DATA MAESTRO 2'!F$23,'DATA MAESTRO 2'!F$24,'DATA MAESTRO 2'!F$25,'DATA MAESTRO 2'!F$26,'DATA MAESTRO 2'!F$27,'DATA MAESTRO 2'!F$28,'DATA MAESTRO 2'!F$29,'DATA MAESTRO 2'!F$30,'DATA MAESTRO 2'!F$31,'DATA MAESTRO 2'!F$32,'DATA MAESTRO 2'!F$33,'DATA MAESTRO 2'!F$34,'DATA MAESTRO 2'!F$35,'DATA MAESTRO 2'!F$36,'DATA MAESTRO 2'!F$37,'DATA MAESTRO 2'!F$38,'DATA MAESTRO 2'!F$39,'DATA MAESTRO 2'!F$40,)","v":2.8},{"$f":"CHOOSE($B12,'DATA MAESTRO 2'!G$6,'DATA MAESTRO 2'!G$7,'DATA MAESTRO 2'!G$8,'DATA MAESTRO 2'!G$9,'DATA MAESTRO 2'!G$10,'DATA MAESTRO 2'!G$11,'DATA MAESTRO 2'!G$12,'DATA MAESTRO 2'!G$13,'DATA MAESTRO 2'!G$14,'DATA MAESTRO 2'!G$15,'DATA MAESTRO 2'!G$16,'DATA MAESTRO 2'!G$17,'DATA MAESTRO 2'!G$18,'DATA MAESTRO 2'!G$19,'DATA MAESTRO 2'!G$20,'DATA MAESTRO 2'!G$21,'DATA MAESTRO 2'!G$22,'DATA MAESTRO 2'!G$23,'DATA MAESTRO 2'!G$24,'DATA MAESTRO 2'!G$25,'DATA MAESTRO 2'!G$26,'DATA MAESTRO 2'!G$27,'DATA MAESTRO 2'!G$28,'DATA MAESTRO 2'!G$29,'DATA MAESTRO 2'!G$30,'DATA MAESTRO 2'!G$31,'DATA MAESTRO 2'!G$32,'DATA MAESTRO 2'!G$33,'DATA MAESTRO 2'!G$34,'DATA MAESTRO 2'!G$35,'DATA MAESTRO 2'!G$36,'DATA MAESTRO 2'!G$37,'DATA MAESTRO 2'!G$38,'DATA MAESTRO 2'!G$39,'DATA MAESTRO 2'!G$40,)","v":0},{"$f":"CHOOSE($B12,'DATA MAESTRO 2'!H$6,'DATA MAESTRO 2'!H$7,'DATA MAESTRO 2'!H$8,'DATA MAESTRO 2'!H$9,'DATA MAESTRO 2'!H$10,'DATA MAESTRO 2'!H$11,'DATA MAESTRO 2'!H$12,'DATA MAESTRO 2'!H$13,'DATA MAESTRO 2'!H$14,'DATA MAESTRO 2'!H$15,'DATA MAESTRO 2'!H$16,'DATA MAESTRO 2'!H$17,'DATA MAESTRO 2'!H$18,'DATA MAESTRO 2'!H$19,'DATA MAESTRO 2'!H$20,'DATA MAESTRO 2'!H$21,'DATA MAESTRO 2'!H$22,'DATA MAESTRO 2'!H$23,'DATA MAESTRO 2'!H$24,'DATA MAESTRO 2'!H$25,'DATA MAESTRO 2'!H$26,'DATA MAESTRO 2'!H$27,'DATA MAESTRO 2'!H$28,'DATA MAESTRO 2'!H$29,'DATA MAESTRO 2'!H$30,'DATA MAESTRO 2'!H$31,'DATA MAESTRO 2'!H$32,'DATA MAESTRO 2'!H$33,'DATA MAESTRO 2'!H$34,'DATA MAESTRO 2'!H$35,'DATA MAESTRO 2'!H$36,'DATA MAESTRO 2'!H$37,'DATA MAESTRO 2'!H$38,'DATA MAESTRO 2'!H$39,'DATA MAESTRO 2'!H$40,)","v":0},{"$f":"CHOOSE($B12,'DATA MAESTRO 2'!I$6,'DATA MAESTRO 2'!I$7,'DATA MAESTRO 2'!I$8,'DATA MAESTRO 2'!I$9,'DATA MAESTRO 2'!I$10,'DATA MAESTRO 2'!I$11,'DATA MAESTRO 2'!I$12,'DATA MAESTRO 2'!I$13,'DATA MAESTRO 2'!I$14,'DATA MAESTRO 2'!I$15,'DATA MAESTRO 2'!I$16,'DATA MAESTRO 2'!I$17,'DATA MAESTRO 2'!I$18,'DATA MAESTRO 2'!I$19,'DATA MAESTRO 2'!I$20,'DATA MAESTRO 2'!I$21,'DATA MAESTRO 2'!I$22,'DATA MAESTRO 2'!I$23,'DATA MAESTRO 2'!I$24,'DATA MAESTRO 2'!I$25,'DATA MAESTRO 2'!I$26,'DATA MAESTRO 2'!I$27,'DATA MAESTRO 2'!I$28,'DATA MAESTRO 2'!I$29,'DATA MAESTRO 2'!I$30,'DATA MAESTRO 2'!I$31,'DATA MAESTRO 2'!I$32,'DATA MAESTRO 2'!I$33,'DATA MAESTRO 2'!I$34,'DATA MAESTRO 2'!I$35,'DATA MAESTRO 2'!I$36,'DATA MAESTRO 2'!I$37,'DATA MAESTRO 2'!I$38,'DATA MAESTRO 2'!I$39,'DATA MAESTRO 2'!I$40,)","v":0},{"$f":"CHOOSE($B12,'DATA MAESTRO 2'!J$6,'DATA MAESTRO 2'!J$7,'DATA MAESTRO 2'!J$8,'DATA MAESTRO 2'!J$9,'DATA MAESTRO 2'!J$10,'DATA MAESTRO 2'!J$11,'DATA MAESTRO 2'!J$12,'DATA MAESTRO 2'!J$13,'DATA MAESTRO 2'!J$14,'DATA MAESTRO 2'!J$15,'DATA MAESTRO 2'!J$16,'DATA MAESTRO 2'!J$17,'DATA MAESTRO 2'!J$18,'DATA MAESTRO 2'!J$19,'DATA MAESTRO 2'!J$20,'DATA MAESTRO 2'!J$21,'DATA MAESTRO 2'!J$22,'DATA MAESTRO 2'!J$23,'DATA MAESTRO 2'!J$24,'DATA MAESTRO 2'!J$25,'DATA MAESTRO 2'!J$26,'DATA MAESTRO 2'!J$27,'DATA MAESTRO 2'!J$28,'DATA MAESTRO 2'!J$29,'DATA MAESTRO 2'!J$30,'DATA MAESTRO 2'!J$31,'DATA MAESTRO 2'!J$32,'DATA MAESTRO 2'!J$33,'DATA MAESTRO 2'!J$34,'DATA MAESTRO 2'!J$35,'DATA MAESTRO 2'!J$36,'DATA MAESTRO 2'!J$37,'DATA MAESTRO 2'!J$38,'DATA MAESTRO 2'!J$39,'DATA MAESTRO 2'!J$40,)","v":0},{"$f":"CHOOSE($B12,'DATA MAESTRO 2'!K$6,'DATA MAESTRO 2'!K$7,'DATA MAESTRO 2'!K$8,'DATA MAESTRO 2'!K$9,'DATA MAESTRO 2'!K$10,'DATA MAESTRO 2'!K$11,'DATA MAESTRO 2'!K$12,'DATA MAESTRO 2'!K$13,'DATA MAESTRO 2'!K$14,'DATA MAESTRO 2'!K$15,'DATA MAESTRO 2'!K$16,'DATA MAESTRO 2'!K$17,'DATA MAESTRO 2'!K$18,'DATA MAESTRO 2'!K$19,'DATA MAESTRO 2'!K$20,'DATA MAESTRO 2'!K$21,'DATA MAESTRO 2'!K$22,'DATA MAESTRO 2'!K$23,'DATA MAESTRO 2'!K$24,'DATA MAESTRO 2'!K$25,'DATA MAESTRO 2'!K$26,'DATA MAESTRO 2'!K$27,'DATA MAESTRO 2'!K$28,'DATA MAESTRO 2'!K$29,'DATA MAESTRO 2'!K$30,'DATA MAESTRO 2'!K$31,'DATA MAESTRO 2'!K$32,'DATA MAESTRO 2'!K$33,'DATA MAESTRO 2'!K$34,'DATA MAESTRO 2'!K$35,'DATA MAESTRO 2'!K$36,'DATA MAESTRO 2'!K$37,'DATA MAESTRO 2'!K$38,'DATA MAESTRO 2'!K$39,'DATA MAESTRO 2'!K$40,)","v":0},{"$f":"CHOOSE($B12,'DATA MAESTRO 2'!L$6,'DATA MAESTRO 2'!L$7,'DATA MAESTRO 2'!L$8,'DATA MAESTRO 2'!L$9,'DATA MAESTRO 2'!L$10,'DATA MAESTRO 2'!L$11,'DATA MAESTRO 2'!L$12,'DATA MAESTRO 2'!L$13,'DATA MAESTRO 2'!L$14,'DATA MAESTRO 2'!L$15,'DATA MAESTRO 2'!L$16,'DATA MAESTRO 2'!L$17,'DATA MAESTRO 2'!L$18,'DATA MAESTRO 2'!L$19,'DATA MAESTRO 2'!L$20,'DATA MAESTRO 2'!L$21,'DATA MAESTRO 2'!L$22,'DATA MAESTRO 2'!L$23,'DATA MAESTRO 2'!L$24,'DATA MAESTRO 2'!L$25,'DATA MAESTRO 2'!L$26,'DATA MAESTRO 2'!L$27,'DATA MAESTRO 2'!L$28,'DATA MAESTRO 2'!L$29,'DATA MAESTRO 2'!L$30,'DATA MAESTRO 2'!L$31,'DATA MAESTRO 2'!L$32,'DATA MAESTRO 2'!L$33,'DATA MAESTRO 2'!L$34,'DATA MAESTRO 2'!L$35,'DATA MAESTRO 2'!L$36,'DATA MAESTRO 2'!L$37,'DATA MAESTRO 2'!L$38,'DATA MAESTRO 2'!L$39,'DATA MAESTRO 2'!L$40,)","v":0},{"$f":"CHOOSE($B12,'DATA MAESTRO 2'!M$6,'DATA MAESTRO 2'!M$7,'DATA MAESTRO 2'!M$8,'DATA MAESTRO 2'!M$9,'DATA MAESTRO 2'!M$10,'DATA MAESTRO 2'!M$11,'DATA MAESTRO 2'!M$12,'DATA MAESTRO 2'!M$13,'DATA MAESTRO 2'!M$14,'DATA MAESTRO 2'!M$15,'DATA MAESTRO 2'!M$16,'DATA MAESTRO 2'!M$17,'DATA MAESTRO 2'!M$18,'DATA MAESTRO 2'!M$19,'DATA MAESTRO 2'!M$20,'DATA MAESTRO 2'!M$21,'DATA MAESTRO 2'!M$22,'DATA MAESTRO 2'!M$23,'DATA MAESTRO 2'!M$24,'DATA MAESTRO 2'!M$25,'DATA MAESTRO 2'!M$26,'DATA MAESTRO 2'!M$27,'DATA MAESTRO 2'!M$28,'DATA MAESTRO 2'!M$29,'DATA MAESTRO 2'!M$30,'DATA MAESTRO 2'!M$31,'DATA MAESTRO 2'!M$32,'DATA MAESTRO 2'!M$33,'DATA MAESTRO 2'!M$34,'DATA MAESTRO 2'!M$35,'DATA MAESTRO 2'!M$36,'DATA MAESTRO 2'!M$37,'DATA MAESTRO 2'!M$38,'DATA MAESTRO 2'!M$39,'DATA MAESTRO 2'!M$40,)","v":0},{"$f":"CHOOSE($B12,'DATA MAESTRO 2'!N$6,'DATA MAESTRO 2'!N$7,'DATA MAESTRO 2'!N$8,'DATA MAESTRO 2'!N$9,'DATA MAESTRO 2'!N$10,'DATA MAESTRO 2'!N$11,'DATA MAESTRO 2'!N$12,'DATA MAESTRO 2'!N$13,'DATA MAESTRO 2'!N$14,'DATA MAESTRO 2'!N$15,'DATA MAESTRO 2'!N$16,'DATA MAESTRO 2'!N$17,'DATA MAESTRO 2'!N$18,'DATA MAESTRO 2'!N$19,'DATA MAESTRO 2'!N$20,'DATA MAESTRO 2'!N$21,'DATA MAESTRO 2'!N$22,'DATA MAESTRO 2'!N$23,'DATA MAESTRO 2'!N$24,'DATA MAESTRO 2'!N$25,'DATA MAESTRO 2'!N$26,'DATA MAESTRO 2'!N$27,'DATA MAESTRO 2'!N$28,'DATA MAESTRO 2'!N$29,'DATA MAESTRO 2'!N$30,'DATA MAESTRO 2'!N$31,'DATA MAESTRO 2'!N$32,'DATA MAESTRO 2'!N$33,'DATA MAESTRO 2'!N$34,'DATA MAESTRO 2'!N$35,'DATA MAESTRO 2'!N$36,'DATA MAESTRO 2'!N$37,'DATA MAESTRO 2'!N$38,'DATA MAESTRO 2'!N$39,'DATA MAESTRO 2'!N$40,)","v":0},{"$f":"CHOOSE($B12,'DATA MAESTRO 2'!O$6,'DATA MAESTRO 2'!O$7,'DATA MAESTRO 2'!O$8,'DATA MAESTRO 2'!O$9,'DATA MAESTRO 2'!O$10,'DATA MAESTRO 2'!O$11,'DATA MAESTRO 2'!O$12,'DATA MAESTRO 2'!O$13,'DATA MAESTRO 2'!O$14,'DATA MAESTRO 2'!O$15,'DATA MAESTRO 2'!O$16,'DATA MAESTRO 2'!O$17,'DATA MAESTRO 2'!O$18,'DATA MAESTRO 2'!O$19,'DATA MAESTRO 2'!O$20,'DATA MAESTRO 2'!O$21,'DATA MAESTRO 2'!O$22,'DATA MAESTRO 2'!O$23,'DATA MAESTRO 2'!O$24,'DATA MAESTRO 2'!O$25,'DATA MAESTRO 2'!O$26,'DATA MAESTRO 2'!O$27,'DATA MAESTRO 2'!O$28,'DATA MAESTRO 2'!O$29,'DATA MAESTRO 2'!O$30,'DATA MAESTRO 2'!O$31,'DATA MAESTRO 2'!O$32,'DATA MAESTRO 2'!O$33,'DATA MAESTRO 2'!O$34,'DATA MAESTRO 2'!O$35,'DATA MAESTRO 2'!O$36,'DATA MAESTRO 2'!O$37,'DATA MAESTRO 2'!O$38,'DATA MAESTRO 2'!O$39,'DATA MAESTRO 2'!O$40,)","v":0},{"$f":"CHOOSE($B12,'DATA MAESTRO 2'!P$6,'DATA MAESTRO 2'!P$7,'DATA MAESTRO 2'!P$8,'DATA MAESTRO 2'!P$9,'DATA MAESTRO 2'!P$10,'DATA MAESTRO 2'!P$11,'DATA MAESTRO 2'!P$12,'DATA MAESTRO 2'!P$13,'DATA MAESTRO 2'!P$14,'DATA MAESTRO 2'!P$15,'DATA MAESTRO 2'!P$16,'DATA MAESTRO 2'!P$17,'DATA MAESTRO 2'!P$18,'DATA MAESTRO 2'!P$19,'DATA MAESTRO 2'!P$20,'DATA MAESTRO 2'!P$21,'DATA MAESTRO 2'!P$22,'DATA MAESTRO 2'!P$23,'DATA MAESTRO 2'!P$24,'DATA MAESTRO 2'!P$25,'DATA MAESTRO 2'!P$26,'DATA MAESTRO 2'!P$27,'DATA MAESTRO 2'!P$28,'DATA MAESTRO 2'!P$29,'DATA MAESTRO 2'!P$30,'DATA MAESTRO 2'!P$31,'DATA MAESTRO 2'!P$32,'DATA MAESTRO 2'!P$33,'DATA MAESTRO 2'!P$34,'DATA MAESTRO 2'!P$35,'DATA MAESTRO 2'!P$36,'DATA MAESTRO 2'!P$37,'DATA MAESTRO 2'!P$38,'DATA MAESTRO 2'!P$39,'DATA MAESTRO 2'!P$40,)","v":0},{"$f":"CHOOSE($B12,'DATA MAESTRO 2'!Q$6,'DATA MAESTRO 2'!Q$7,'DATA MAESTRO 2'!Q$8,'DATA MAESTRO 2'!Q$9,'DATA MAESTRO 2'!Q$10,'DATA MAESTRO 2'!Q$11,'DATA MAESTRO 2'!Q$12,'DATA MAESTRO 2'!Q$13,'DATA MAESTRO 2'!Q$14,'DATA MAESTRO 2'!Q$15,'DATA MAESTRO 2'!Q$16,'DATA MAESTRO 2'!Q$17,'DATA MAESTRO 2'!Q$18,'DATA MAESTRO 2'!Q$19,'DATA MAESTRO 2'!Q$20,'DATA MAESTRO 2'!Q$21,'DATA MAESTRO 2'!Q$22,'DATA MAESTRO 2'!Q$23,'DATA MAESTRO 2'!Q$24,'DATA MAESTRO 2'!Q$25,'DATA MAESTRO 2'!Q$26,'DATA MAESTRO 2'!Q$27,'DATA MAESTRO 2'!Q$28,'DATA MAESTRO 2'!Q$29,'DATA MAESTRO 2'!Q$30,'DATA MAESTRO 2'!Q$31,'DATA MAESTRO 2'!Q$32,'DATA MAESTRO 2'!Q$33,'DATA MAESTRO 2'!Q$34,'DATA MAESTRO 2'!Q$35,'DATA MAESTRO 2'!Q$36,'DATA MAESTRO 2'!Q$37,'DATA MAESTRO 2'!Q$38,'DATA MAESTRO 2'!Q$39,'DATA MAESTRO 2'!Q$40,)","v":0},{"$f":"CHOOSE($B12,'DATA MAESTRO 2'!R$6,'DATA MAESTRO 2'!R$7,'DATA MAESTRO 2'!R$8,'DATA MAESTRO 2'!R$9,'DATA MAESTRO 2'!R$10,'DATA MAESTRO 2'!R$11,'DATA MAESTRO 2'!R$12,'DATA MAESTRO 2'!R$13,'DATA MAESTRO 2'!R$14,'DATA MAESTRO 2'!R$15,'DATA MAESTRO 2'!R$16,'DATA MAESTRO 2'!R$17,'DATA MAESTRO 2'!R$18,'DATA MAESTRO 2'!R$19,'DATA MAESTRO 2'!R$20,'DATA MAESTRO 2'!R$21,'DATA MAESTRO 2'!R$22,'DATA MAESTRO 2'!R$23,'DATA MAESTRO 2'!R$24,'DATA MAESTRO 2'!R$25,'DATA MAESTRO 2'!R$26,'DATA MAESTRO 2'!R$27,'DATA MAESTRO 2'!R$28,'DATA MAESTRO 2'!R$29,'DATA MAESTRO 2'!R$30,'DATA MAESTRO 2'!R$31,'DATA MAESTRO 2'!R$32,'DATA MAESTRO 2'!R$33,'DATA MAESTRO 2'!R$34,'DATA MAESTRO 2'!R$35,'DATA MAESTRO 2'!R$36,'DATA MAESTRO 2'!R$37,'DATA MAESTRO 2'!R$38,'DATA MAESTRO 2'!R$39,'DATA MAESTRO 2'!R$40,)","v":0},{"$f":"CHOOSE($B12,'DATA MAESTRO 2'!S$6,'DATA MAESTRO 2'!S$7,'DATA MAESTRO 2'!S$8,'DATA MAESTRO 2'!S$9,'DATA MAESTRO 2'!S$10,'DATA MAESTRO 2'!S$11,'DATA MAESTRO 2'!S$12,'DATA MAESTRO 2'!S$13,'DATA MAESTRO 2'!S$14,'DATA MAESTRO 2'!S$15,'DATA MAESTRO 2'!S$16,'DATA MAESTRO 2'!S$17,'DATA MAESTRO 2'!S$18,'DATA MAESTRO 2'!S$19,'DATA MAESTRO 2'!S$20,'DATA MAESTRO 2'!S$21,'DATA MAESTRO 2'!S$22,'DATA MAESTRO 2'!S$23,'DATA MAESTRO 2'!S$24,'DATA MAESTRO 2'!S$25,'DATA MAESTRO 2'!S$26,'DATA MAESTRO 2'!S$27,'DATA MAESTRO 2'!S$28,'DATA MAESTRO 2'!S$29,'DATA MAESTRO 2'!S$30,'DATA MAESTRO 2'!S$31,'DATA MAESTRO 2'!S$32,'DATA MAESTRO 2'!S$33,'DATA MAESTRO 2'!S$34,'DATA MAESTRO 2'!S$35,'DATA MAESTRO 2'!S$36,'DATA MAESTRO 2'!S$37,'DATA MAESTRO 2'!S$38,'DATA MAESTRO 2'!S$39,'DATA MAESTRO 2'!S$40,)","v":0},{"$f":"CHOOSE($B12,'DATA MAESTRO 2'!T$6,'DATA MAESTRO 2'!T$7,'DATA MAESTRO 2'!T$8,'DATA MAESTRO 2'!T$9,'DATA MAESTRO 2'!T$10,'DATA MAESTRO 2'!T$11,'DATA MAESTRO 2'!T$12,'DATA MAESTRO 2'!T$13,'DATA MAESTRO 2'!T$14,'DATA MAESTRO 2'!T$15,'DATA MAESTRO 2'!T$16,'DATA MAESTRO 2'!T$17,'DATA MAESTRO 2'!T$18,'DATA MAESTRO 2'!T$19,'DATA MAESTRO 2'!T$20,'DATA MAESTRO 2'!T$21,'DATA MAESTRO 2'!T$22,'DATA MAESTRO 2'!T$23,'DATA MAESTRO 2'!T$24,'DATA MAESTRO 2'!T$25,'DATA MAESTRO 2'!T$26,'DATA MAESTRO 2'!T$27,'DATA MAESTRO 2'!T$28,'DATA MAESTRO 2'!T$29,'DATA MAESTRO 2'!T$30,'DATA MAESTRO 2'!T$31,'DATA MAESTRO 2'!T$32,'DATA MAESTRO 2'!T$33,'DATA MAESTRO 2'!T$34,'DATA MAESTRO 2'!T$35,'DATA MAESTRO 2'!T$36,'DATA MAESTRO 2'!T$37,'DATA MAESTRO 2'!T$38,'DATA MAESTRO 2'!T$39,'DATA MAESTRO 2'!T$40,)","v":0},{"$f":"CHOOSE($B12,'DATA MAESTRO 2'!U$6,'DATA MAESTRO 2'!U$7,'DATA MAESTRO 2'!U$8,'DATA MAESTRO 2'!U$9,'DATA MAESTRO 2'!U$10,'DATA MAESTRO 2'!U$11,'DATA MAESTRO 2'!U$12,'DATA MAESTRO 2'!U$13,'DATA MAESTRO 2'!U$14,'DATA MAESTRO 2'!U$15,'DATA MAESTRO 2'!U$16,'DATA MAESTRO 2'!U$17,'DATA MAESTRO 2'!U$18,'DATA MAESTRO 2'!U$19,'DATA MAESTRO 2'!U$20,'DATA MAESTRO 2'!U$21,'DATA MAESTRO 2'!U$22,'DATA MAESTRO 2'!U$23,'DATA MAESTRO 2'!U$24,'DATA MAESTRO 2'!U$25,'DATA MAESTRO 2'!U$26,'DATA MAESTRO 2'!U$27,'DATA MAESTRO 2'!U$28,'DATA MAESTRO 2'!U$29,'DATA MAESTRO 2'!U$30,'DATA MAESTRO 2'!U$31,'DATA MAESTRO 2'!U$32,'DATA MAESTRO 2'!U$33,'DATA MAESTRO 2'!U$34,'DATA MAESTRO 2'!U$35,'DATA MAESTRO 2'!U$36,'DATA MAESTRO 2'!U$37,'DATA MAESTRO 2'!U$38,'DATA MAESTRO 2'!U$39,'DATA MAESTRO 2'!U$40,)","v":0},{"$f":"CHOOSE($B12,'DATA MAESTRO 2'!V$6,'DATA MAESTRO 2'!V$7,'DATA MAESTRO 2'!V$8,'DATA MAESTRO 2'!V$9,'DATA MAESTRO 2'!V$10,'DATA MAESTRO 2'!V$11,'DATA MAESTRO 2'!V$12,'DATA MAESTRO 2'!V$13,'DATA MAESTRO 2'!V$14,'DATA MAESTRO 2'!V$15,'DATA MAESTRO 2'!V$16,'DATA MAESTRO 2'!V$17,'DATA MAESTRO 2'!V$18,'DATA MAESTRO 2'!V$19,'DATA MAESTRO 2'!V$20,'DATA MAESTRO 2'!V$21,'DATA MAESTRO 2'!V$22,'DATA MAESTRO 2'!V$23,'DATA MAESTRO 2'!V$24,'DATA MAESTRO 2'!V$25,'DATA MAESTRO 2'!V$26,'DATA MAESTRO 2'!V$27,'DATA MAESTRO 2'!V$28,'DATA MAESTRO 2'!V$29,'DATA MAESTRO 2'!V$30,'DATA MAESTRO 2'!V$31,'DATA MAESTRO 2'!V$32,'DATA MAESTRO 2'!V$33,'DATA MAESTRO 2'!V$34,'DATA MAESTRO 2'!V$35,'DATA MAESTRO 2'!V$36,'DATA MAESTRO 2'!V$37,'DATA MAESTRO 2'!V$38,'DATA MAESTRO 2'!V$39,'DATA MAESTRO 2'!V$40,)","v":0},{"$f":"CHOOSE($B12,'DATA MAESTRO 2'!W$6,'DATA MAESTRO 2'!W$7,'DATA MAESTRO 2'!W$8,'DATA MAESTRO 2'!W$9,'DATA MAESTRO 2'!W$10,'DATA MAESTRO 2'!W$11,'DATA MAESTRO 2'!W$12,'DATA MAESTRO 2'!W$13,'DATA MAESTRO 2'!W$14,'DATA MAESTRO 2'!W$15,'DATA MAESTRO 2'!W$16,'DATA MAESTRO 2'!W$17,'DATA MAESTRO 2'!W$18,'DATA MAESTRO 2'!W$19,'DATA MAESTRO 2'!W$20,'DATA MAESTRO 2'!W$21,'DATA MAESTRO 2'!W$22,'DATA MAESTRO 2'!W$23,'DATA MAESTRO 2'!W$24,'DATA MAESTRO 2'!W$25,'DATA MAESTRO 2'!W$26,'DATA MAESTRO 2'!W$27,'DATA MAESTRO 2'!W$28,'DATA MAESTRO 2'!W$29,'DATA MAESTRO 2'!W$30,'DATA MAESTRO 2'!W$31,'DATA MAESTRO 2'!W$32,'DATA MAESTRO 2'!W$33,'DATA MAESTRO 2'!W$34,'DATA MAESTRO 2'!W$35,'DATA MAESTRO 2'!W$36,'DATA MAESTRO 2'!W$37,'DATA MAESTRO 2'!W$38,'DATA MAESTRO 2'!W$39,'DATA MAESTRO 2'!W$40,)","v":0},{"$f":"CHOOSE($B12,'DATA MAESTRO 2'!X$6,'DATA MAESTRO 2'!X$7,'DATA MAESTRO 2'!X$8,'DATA MAESTRO 2'!X$9,'DATA MAESTRO 2'!X$10,'DATA MAESTRO 2'!X$11,'DATA MAESTRO 2'!X$12,'DATA MAESTRO 2'!X$13,'DATA MAESTRO 2'!X$14,'DATA MAESTRO 2'!X$15,'DATA MAESTRO 2'!X$16,'DATA MAESTRO 2'!X$17,'DATA MAESTRO 2'!X$18,'DATA MAESTRO 2'!X$19,'DATA MAESTRO 2'!X$20,'DATA MAESTRO 2'!X$21,'DATA MAESTRO 2'!X$22,'DATA MAESTRO 2'!X$23,'DATA MAESTRO 2'!X$24,'DATA MAESTRO 2'!X$25,'DATA MAESTRO 2'!X$26,'DATA MAESTRO 2'!X$27,'DATA MAESTRO 2'!X$28,'DATA MAESTRO 2'!X$29,'DATA MAESTRO 2'!X$30,'DATA MAESTRO 2'!X$31,'DATA MAESTRO 2'!X$32,'DATA MAESTRO 2'!X$33,'DATA MAESTRO 2'!X$34,'DATA MAESTRO 2'!X$35,'DATA MAESTRO 2'!X$36,'DATA MAESTRO 2'!X$37,'DATA MAESTRO 2'!X$38,'DATA MAESTRO 2'!X$39,'DATA MAESTRO 2'!X$40,)","v":0},{"$f":"CHOOSE($B12,'DATA MAESTRO 2'!Y$6,'DATA MAESTRO 2'!Y$7,'DATA MAESTRO 2'!Y$8,'DATA MAESTRO 2'!Y$9,'DATA MAESTRO 2'!Y$10,'DATA MAESTRO 2'!Y$11,'DATA MAESTRO 2'!Y$12,'DATA MAESTRO 2'!Y$13,'DATA MAESTRO 2'!Y$14,'DATA MAESTRO 2'!Y$15,'DATA MAESTRO 2'!Y$16,'DATA MAESTRO 2'!Y$17,'DATA MAESTRO 2'!Y$18,'DATA MAESTRO 2'!Y$19,'DATA MAESTRO 2'!Y$20,'DATA MAESTRO 2'!Y$21,'DATA MAESTRO 2'!Y$22,'DATA MAESTRO 2'!Y$23,'DATA MAESTRO 2'!Y$24,'DATA MAESTRO 2'!Y$25,'DATA MAESTRO 2'!Y$26,'DATA MAESTRO 2'!Y$27,'DATA MAESTRO 2'!Y$28,'DATA MAESTRO 2'!Y$29,'DATA MAESTRO 2'!Y$30,'DATA MAESTRO 2'!Y$31,'DATA MAESTRO 2'!Y$32,'DATA MAESTRO 2'!Y$33,'DATA MAESTRO 2'!Y$34,'DATA MAESTRO 2'!Y$35,'DATA MAESTRO 2'!Y$36,'DATA MAESTRO 2'!Y$37,'DATA MAESTRO 2'!Y$38,'DATA MAESTRO 2'!Y$39,'DATA MAESTRO 2'!Y$40,)","v":0},{"$f":"CHOOSE($B12,'DATA MAESTRO 2'!Z$6,'DATA MAESTRO 2'!Z$7,'DATA MAESTRO 2'!Z$8,'DATA MAESTRO 2'!Z$9,'DATA MAESTRO 2'!Z$10,'DATA MAESTRO 2'!Z$11,'DATA MAESTRO 2'!Z$12,'DATA MAESTRO 2'!Z$13,'DATA MAESTRO 2'!Z$14,'DATA MAESTRO 2'!Z$15,'DATA MAESTRO 2'!Z$16,'DATA MAESTRO 2'!Z$17,'DATA MAESTRO 2'!Z$18,'DATA MAESTRO 2'!Z$19,'DATA MAESTRO 2'!Z$20,'DATA MAESTRO 2'!Z$21,'DATA MAESTRO 2'!Z$22,'DATA MAESTRO 2'!Z$23,'DATA MAESTRO 2'!Z$24,'DATA MAESTRO 2'!Z$25,'DATA MAESTRO 2'!Z$26,'DATA MAESTRO 2'!Z$27,'DATA MAESTRO 2'!Z$28,'DATA MAESTRO 2'!Z$29,'DATA MAESTRO 2'!Z$30,'DATA MAESTRO 2'!Z$31,'DATA MAESTRO 2'!Z$32,'DATA MAESTRO 2'!Z$33,'DATA MAESTRO 2'!Z$34,'DATA MAESTRO 2'!Z$35,'DATA MAESTRO 2'!Z$36,'DATA MAESTRO 2'!Z$37,'DATA MAESTRO 2'!Z$38,'DATA MAESTRO 2'!Z$39,'DATA MAESTRO 2'!Z$40,)","v":0},{"$f":"CHOOSE($B12,'DATA MAESTRO 2'!AA$6,'DATA MAESTRO 2'!AA$7,'DATA MAESTRO 2'!AA$8,'DATA MAESTRO 2'!AA$9,'DATA MAESTRO 2'!AA$10,'DATA MAESTRO 2'!AA$11,'DATA MAESTRO 2'!AA$12,'DATA MAESTRO 2'!AA$13,'DATA MAESTRO 2'!AA$14,'DATA MAESTRO 2'!AA$15,'DATA MAESTRO 2'!AA$16,'DATA MAESTRO 2'!AA$17,'DATA MAESTRO 2'!AA$18,'DATA MAESTRO 2'!AA$19,'DATA MAESTRO 2'!AA$20,'DATA MAESTRO 2'!AA$21,'DATA MAESTRO 2'!AA$22,'DATA MAESTRO 2'!AA$23,'DATA MAESTRO 2'!AA$24,'DATA MAESTRO 2'!AA$25,'DATA MAESTRO 2'!AA$26,'DATA MAESTRO 2'!AA$27,'DATA MAESTRO 2'!AA$28,'DATA MAESTRO 2'!AA$29,'DATA MAESTRO 2'!AA$30,'DATA MAESTRO 2'!AA$31,'DATA MAESTRO 2'!AA$32,'DATA MAESTRO 2'!AA$33,'DATA MAESTRO 2'!AA$34,'DATA MAESTRO 2'!AA$35,'DATA MAESTRO 2'!AA$36,'DATA MAESTRO 2'!AA$37,'DATA MAESTRO 2'!AA$38,'DATA MAESTRO 2'!AA$39,'DATA MAESTRO 2'!AA$40,)","v":0},{"$f":"CHOOSE($B12,'DATA MAESTRO 2'!AB$6,'DATA MAESTRO 2'!AB$7,'DATA MAESTRO 2'!AB$8,'DATA MAESTRO 2'!AB$9,'DATA MAESTRO 2'!AB$10,'DATA MAESTRO 2'!AB$11,'DATA MAESTRO 2'!AB$12,'DATA MAESTRO 2'!AB$13,'DATA MAESTRO 2'!AB$14,'DATA MAESTRO 2'!AB$15,'DATA MAESTRO 2'!AB$16,'DATA MAESTRO 2'!AB$17,'DATA MAESTRO 2'!AB$18,'DATA MAESTRO 2'!AB$19,'DATA MAESTRO 2'!AB$20,'DATA MAESTRO 2'!AB$21,'DATA MAESTRO 2'!AB$22,'DATA MAESTRO 2'!AB$23,'DATA MAESTRO 2'!AB$24,'DATA MAESTRO 2'!AB$25,'DATA MAESTRO 2'!AB$26,'DATA MAESTRO 2'!AB$27,'DATA MAESTRO 2'!AB$28,'DATA MAESTRO 2'!AB$29,'DATA MAESTRO 2'!AB$30,'DATA MAESTRO 2'!AB$31,'DATA MAESTRO 2'!AB$32,'DATA MAESTRO 2'!AB$33,'DATA MAESTRO 2'!AB$34,'DATA MAESTRO 2'!AB$35,'DATA MAESTRO 2'!AB$36,'DATA MAESTRO 2'!AB$37,'DATA MAESTRO 2'!AB$38,'DATA MAESTRO 2'!AB$39,'DATA MAESTRO 2'!AB$40,)","v":0},{"$f":"CHOOSE($B12,'DATA MAESTRO 2'!AC$6,'DATA MAESTRO 2'!AC$7,'DATA MAESTRO 2'!AC$8,'DATA MAESTRO 2'!AC$9,'DATA MAESTRO 2'!AC$10,'DATA MAESTRO 2'!AC$11,'DATA MAESTRO 2'!AC$12,'DATA MAESTRO 2'!AC$13,'DATA MAESTRO 2'!AC$14,'DATA MAESTRO 2'!AC$15,'DATA MAESTRO 2'!AC$16,'DATA MAESTRO 2'!AC$17,'DATA MAESTRO 2'!AC$18,'DATA MAESTRO 2'!AC$19,'DATA MAESTRO 2'!AC$20,'DATA MAESTRO 2'!AC$21,'DATA MAESTRO 2'!AC$22,'DATA MAESTRO 2'!AC$23,'DATA MAESTRO 2'!AC$24,'DATA MAESTRO 2'!AC$25,'DATA MAESTRO 2'!AC$26,'DATA MAESTRO 2'!AC$27,'DATA MAESTRO 2'!AC$28,'DATA MAESTRO 2'!AC$29,'DATA MAESTRO 2'!AC$30,'DATA MAESTRO 2'!AC$31,'DATA MAESTRO 2'!AC$32,'DATA MAESTRO 2'!AC$33,'DATA MAESTRO 2'!AC$34,'DATA MAESTRO 2'!AC$35,'DATA MAESTRO 2'!AC$36,'DATA MAESTRO 2'!AC$37,'DATA MAESTRO 2'!AC$38,'DATA MAESTRO 2'!AC$39,'DATA MAESTRO 2'!AC$40,)","v":0},{"$f":"CHOOSE($B12,'DATA MAESTRO 2'!AD$6,'DATA MAESTRO 2'!AD$7,'DATA MAESTRO 2'!AD$8,'DATA MAESTRO 2'!AD$9,'DATA MAESTRO 2'!AD$10,'DATA MAESTRO 2'!AD$11,'DATA MAESTRO 2'!AD$12,'DATA MAESTRO 2'!AD$13,'DATA MAESTRO 2'!AD$14,'DATA MAESTRO 2'!AD$15,'DATA MAESTRO 2'!AD$16,'DATA MAESTRO 2'!AD$17,'DATA MAESTRO 2'!AD$18,'DATA MAESTRO 2'!AD$19,'DATA MAESTRO 2'!AD$20,'DATA MAESTRO 2'!AD$21,'DATA MAESTRO 2'!AD$22,'DATA MAESTRO 2'!AD$23,'DATA MAESTRO 2'!AD$24,'DATA MAESTRO 2'!AD$25,'DATA MAESTRO 2'!AD$26,'DATA MAESTRO 2'!AD$27,'DATA MAESTRO 2'!AD$28,'DATA MAESTRO 2'!AD$29,'DATA MAESTRO 2'!AD$30,'DATA MAESTRO 2'!AD$31,'DATA MAESTRO 2'!AD$32,'DATA MAESTRO 2'!AD$33,'DATA MAESTRO 2'!AD$34,'DATA MAESTRO 2'!AD$35,'DATA MAESTRO 2'!AD$36,'DATA MAESTRO 2'!AD$37,'DATA MAESTRO 2'!AD$38,'DATA MAESTRO 2'!AD$39,'DATA MAESTRO 2'!AD$40,)","v":0},{"$f":"CHOOSE($B12,'DATA MAESTRO 2'!AE$6,'DATA MAESTRO 2'!AE$7,'DATA MAESTRO 2'!AE$8,'DATA MAESTRO 2'!AE$9,'DATA MAESTRO 2'!AE$10,'DATA MAESTRO 2'!AE$11,'DATA MAESTRO 2'!AE$12,'DATA MAESTRO 2'!AE$13,'DATA MAESTRO 2'!AE$14,'DATA MAESTRO 2'!AE$15,'DATA MAESTRO 2'!AE$16,'DATA MAESTRO 2'!AE$17,'DATA MAESTRO 2'!AE$18,'DATA MAESTRO 2'!AE$19,'DATA MAESTRO 2'!AE$20,'DATA MAESTRO 2'!AE$21,'DATA MAESTRO 2'!AE$22,'DATA MAESTRO 2'!AE$23,'DATA MAESTRO 2'!AE$24,'DATA MAESTRO 2'!AE$25,'DATA MAESTRO 2'!AE$26,'DATA MAESTRO 2'!AE$27,'DATA MAESTRO 2'!AE$28,'DATA MAESTRO 2'!AE$29,'DATA MAESTRO 2'!AE$30,'DATA MAESTRO 2'!AE$31,'DATA MAESTRO 2'!AE$32,'DATA MAESTRO 2'!AE$33,'DATA MAESTRO 2'!AE$34,'DATA MAESTRO 2'!AE$35,'DATA MAESTRO 2'!AE$36,'DATA MAESTRO 2'!AE$37,'DATA MAESTRO 2'!AE$38,'DATA MAESTRO 2'!AE$39,'DATA MAESTRO 2'!AE$40,)","v":0},{"$f":"CHOOSE($B12,'DATA MAESTRO 2'!AF$6,'DATA MAESTRO 2'!AF$7,'DATA MAESTRO 2'!AF$8,'DATA MAESTRO 2'!AF$9,'DATA MAESTRO 2'!AF$10,'DATA MAESTRO 2'!AF$11,'DATA MAESTRO 2'!AF$12,'DATA MAESTRO 2'!AF$13,'DATA MAESTRO 2'!AF$14,'DATA MAESTRO 2'!AF$15,'DATA MAESTRO 2'!AF$16,'DATA MAESTRO 2'!AF$17,'DATA MAESTRO 2'!AF$18,'DATA MAESTRO 2'!AF$19,'DATA MAESTRO 2'!AF$20,'DATA MAESTRO 2'!AF$21,'DATA MAESTRO 2'!AF$22,'DATA MAESTRO 2'!AF$23,'DATA MAESTRO 2'!AF$24,'DATA MAESTRO 2'!AF$25,'DATA MAESTRO 2'!AF$26,'DATA MAESTRO 2'!AF$27,'DATA MAESTRO 2'!AF$28,'DATA MAESTRO 2'!AF$29,'DATA MAESTRO 2'!AF$30,'DATA MAESTRO 2'!AF$31,'DATA MAESTRO 2'!AF$32,'DATA MAESTRO 2'!AF$33,'DATA MAESTRO 2'!AF$34,'DATA MAESTRO 2'!AF$35,'DATA MAESTRO 2'!AF$36,'DATA MAESTRO 2'!AF$37,'DATA MAESTRO 2'!AF$38,'DATA MAESTRO 2'!AF$39,'DATA MAESTRO 2'!AF$40,)","v":0},{"$f":"CHOOSE($B12,'DATA MAESTRO 2'!AG$6,'DATA MAESTRO 2'!AG$7,'DATA MAESTRO 2'!AG$8,'DATA MAESTRO 2'!AG$9,'DATA MAESTRO 2'!AG$10,'DATA MAESTRO 2'!AG$11,'DATA MAESTRO 2'!AG$12,'DATA MAESTRO 2'!AG$13,'DATA MAESTRO 2'!AG$14,'DATA MAESTRO 2'!AG$15,'DATA MAESTRO 2'!AG$16,'DATA MAESTRO 2'!AG$17,'DATA MAESTRO 2'!AG$18,'DATA MAESTRO 2'!AG$19,'DATA MAESTRO 2'!AG$20,'DATA MAESTRO 2'!AG$21,'DATA MAESTRO 2'!AG$22,'DATA MAESTRO 2'!AG$23,'DATA MAESTRO 2'!AG$24,'DATA MAESTRO 2'!AG$25,'DATA MAESTRO 2'!AG$26,'DATA MAESTRO 2'!AG$27,'DATA MAESTRO 2'!AG$28,'DATA MAESTRO 2'!AG$29,'DATA MAESTRO 2'!AG$30,'DATA MAESTRO 2'!AG$31,'DATA MAESTRO 2'!AG$32,'DATA MAESTRO 2'!AG$33,'DATA MAESTRO 2'!AG$34,'DATA MAESTRO 2'!AG$35,'DATA MAESTRO 2'!AG$36,'DATA MAESTRO 2'!AG$37,'DATA MAESTRO 2'!AG$38,'DATA MAESTRO 2'!AG$39,'DATA MAESTRO 2'!AG$40,)","v":0},{"$f":"CHOOSE($B12,'DATA MAESTRO 2'!AH$6,'DATA MAESTRO 2'!AH$7,'DATA MAESTRO 2'!AH$8,'DATA MAESTRO 2'!AH$9,'DATA MAESTRO 2'!AH$10,'DATA MAESTRO 2'!AH$11,'DATA MAESTRO 2'!AH$12,'DATA MAESTRO 2'!AH$13,'DATA MAESTRO 2'!AH$14,'DATA MAESTRO 2'!AH$15,'DATA MAESTRO 2'!AH$16,'DATA MAESTRO 2'!AH$17,'DATA MAESTRO 2'!AH$18,'DATA MAESTRO 2'!AH$19,'DATA MAESTRO 2'!AH$20,'DATA MAESTRO 2'!AH$21,'DATA MAESTRO 2'!AH$22,'DATA MAESTRO 2'!AH$23,'DATA MAESTRO 2'!AH$24,'DATA MAESTRO 2'!AH$25,'DATA MAESTRO 2'!AH$26,'DATA MAESTRO 2'!AH$27,'DATA MAESTRO 2'!AH$28,'DATA MAESTRO 2'!AH$29,'DATA MAESTRO 2'!AH$30,'DATA MAESTRO 2'!AH$31,'DATA MAESTRO 2'!AH$32,'DATA MAESTRO 2'!AH$33,'DATA MAESTRO 2'!AH$34,'DATA MAESTRO 2'!AH$35,'DATA MAESTRO 2'!AH$36,'DATA MAESTRO 2'!AH$37,'DATA MAESTRO 2'!AH$38,'DATA MAESTRO 2'!AH$39,'DATA MAESTRO 2'!AH$40,)","v":0},{"$f":"CHOOSE($B12,'DATA MAESTRO 2'!AI$6,'DATA MAESTRO 2'!AI$7,'DATA MAESTRO 2'!AI$8,'DATA MAESTRO 2'!AI$9,'DATA MAESTRO 2'!AI$10,'DATA MAESTRO 2'!AI$11,'DATA MAESTRO 2'!AI$12,'DATA MAESTRO 2'!AI$13,'DATA MAESTRO 2'!AI$14,'DATA MAESTRO 2'!AI$15,'DATA MAESTRO 2'!AI$16,'DATA MAESTRO 2'!AI$17,'DATA MAESTRO 2'!AI$18,'DATA MAESTRO 2'!AI$19,'DATA MAESTRO 2'!AI$20,'DATA MAESTRO 2'!AI$21,'DATA MAESTRO 2'!AI$22,'DATA MAESTRO 2'!AI$23,'DATA MAESTRO 2'!AI$24,'DATA MAESTRO 2'!AI$25,'DATA MAESTRO 2'!AI$26,'DATA MAESTRO 2'!AI$27,'DATA MAESTRO 2'!AI$28,'DATA MAESTRO 2'!AI$29,'DATA MAESTRO 2'!AI$30,'DATA MAESTRO 2'!AI$31,'DATA MAESTRO 2'!AI$32,'DATA MAESTRO 2'!AI$33,'DATA MAESTRO 2'!AI$34,'DATA MAESTRO 2'!AI$35,'DATA MAESTRO 2'!AI$36,'DATA MAESTRO 2'!AI$37,'DATA MAESTRO 2'!AI$38,'DATA MAESTRO 2'!AI$39,'DATA MAESTRO 2'!AI$40,)","v":0},{"$f":"CHOOSE($B12,'DATA MAESTRO 2'!AJ$6,'DATA MAESTRO 2'!AJ$7,'DATA MAESTRO 2'!AJ$8,'DATA MAESTRO 2'!AJ$9,'DATA MAESTRO 2'!AJ$10,'DATA MAESTRO 2'!AJ$11,'DATA MAESTRO 2'!AJ$12,'DATA MAESTRO 2'!AJ$13,'DATA MAESTRO 2'!AJ$14,'DATA MAESTRO 2'!AJ$15,'DATA MAESTRO 2'!AJ$16,'DATA MAESTRO 2'!AJ$17,'DATA MAESTRO 2'!AJ$18,'DATA MAESTRO 2'!AJ$19,'DATA MAESTRO 2'!AJ$20,'DATA MAESTRO 2'!AJ$21,'DATA MAESTRO 2'!AJ$22,'DATA MAESTRO 2'!AJ$23,'DATA MAESTRO 2'!AJ$24,'DATA MAESTRO 2'!AJ$25,'DATA MAESTRO 2'!AJ$26,'DATA MAESTRO 2'!AJ$27,'DATA MAESTRO 2'!AJ$28,'DATA MAESTRO 2'!AJ$29,'DATA MAESTRO 2'!AJ$30,'DATA MAESTRO 2'!AJ$31,'DATA MAESTRO 2'!AJ$32,'DATA MAESTRO 2'!AJ$33,'DATA MAESTRO 2'!AJ$34,'DATA MAESTRO 2'!AJ$35,'DATA MAESTRO 2'!AJ$36,'DATA MAESTRO 2'!AJ$37,'DATA MAESTRO 2'!AJ$38,'DATA MAESTRO 2'!AJ$39,'DATA MAESTRO 2'!AJ$40,)","v":0}]
[11,12,{"$f":"+IF(AND(B13>=1,B13<=36),VLOOKUP(B13,'DATA MAESTRO 2'!$A$6:$B$40,2),0)","v":"GRASA PROTEGIDA"},{"$f":"+CHOOSE($B13,'DATA MAESTRO 2'!C$6,'DATA MAESTRO 2'!C$7,'DATA MAESTRO 2'!C$8,'DATA MAESTRO 2'!C$9,'DATA MAESTRO 2'!C$10,'DATA MAESTRO 2'!C$11,'DATA MAESTRO 2'!C$12,'DATA MAESTRO 2'!C$13,'DATA MAESTRO 2'!C$14,'DATA MAESTRO 2'!C$15,'DATA MAESTRO 2'!C$16,'DATA MAESTRO 2'!C$17,'DATA MAESTRO 2'!C$18,'DATA MAESTRO 2'!C$19,'DATA MAESTRO 2'!C$20,'DATA MAESTRO 2'!C$21,'DATA MAESTRO 2'!C$22,'DATA MAESTRO 2'!C$23,'DATA MAESTRO 2'!C$24,'DATA MAESTRO 2'!C$25,'DATA MAESTRO 2'!C$26,'DATA MAESTRO 2'!C$27,'DATA MAESTRO 2'!C$28,'DATA MAESTRO 2'!C$29,'DATA MAESTRO 2'!C$30,'DATA MAESTRO 2'!C$31,'DATA MAESTRO 2'!C$32,'DATA MAESTRO 2'!C$33,'DATA MAESTRO 2'!C$34,'DATA MAESTRO 2'!C$35,'DATA MAESTRO 2'!C$36,'DATA MAESTRO 2'!C$37,'DATA MAESTRO 2'!C$38,'DATA MAESTRO 2'!C$39,'DATA MAESTRO 2'!C$40,)","v":0},{"$f":"CHOOSE($B13,'DATA MAESTRO 2'!D$6,'DATA MAESTRO 2'!D$7,'DATA MAESTRO 2'!D$8,'DATA MAESTRO 2'!D$9,'DATA MAESTRO 2'!D$10,'DATA MAESTRO 2'!D$11,'DATA MAESTRO 2'!D$12,'DATA MAESTRO 2'!D$13,'DATA MAESTRO 2'!D$14,'DATA MAESTRO 2'!D$15,'DATA MAESTRO 2'!D$16,'DATA MAESTRO 2'!D$17,'DATA MAESTRO 2'!D$18,'DATA MAESTRO 2'!D$19,'DATA MAESTRO 2'!D$20,'DATA MAESTRO 2'!D$21,'DATA MAESTRO 2'!D$22,'DATA MAESTRO 2'!D$23,'DATA MAESTRO 2'!D$24,'DATA MAESTRO 2'!D$25,'DATA MAESTRO 2'!D$26,'DATA MAESTRO 2'!D$27,'DATA MAESTRO 2'!D$28,'DATA MAESTRO 2'!D$29,'DATA MAESTRO 2'!D$30,'DATA MAESTRO 2'!D$31,'DATA MAESTRO 2'!D$32,'DATA MAESTRO 2'!D$33,'DATA MAESTRO 2'!D$34,'DATA MAESTRO 2'!D$35,'DATA MAESTRO 2'!D$36,'DATA MAESTRO 2'!D$37,'DATA MAESTRO 2'!D$38,'DATA MAESTRO 2'!D$39,'DATA MAESTRO 2'!D$40,)","v":0.95},{"$f":"CHOOSE(B13,'DATA MAESTRO 2'!E$6,'DATA MAESTRO 2'!E$7,'DATA MAESTRO 2'!E$8,'DATA MAESTRO 2'!E$9,'DATA MAESTRO 2'!E$10,'DATA MAESTRO 2'!E$11,'DATA MAESTRO 2'!E$12,'DATA MAESTRO 2'!E$13,'DATA MAESTRO 2'!E$14,'DATA MAESTRO 2'!E$15,'DATA MAESTRO 2'!E$16,'DATA MAESTRO 2'!E$17,'DATA MAESTRO 2'!E$18,'DATA MAESTRO 2'!E$19,'DATA MAESTRO 2'!E$20,'DATA MAESTRO 2'!E$21,'DATA MAESTRO 2'!E$22,'DATA MAESTRO 2'!E$23,'DATA MAESTRO 2'!E$24,'DATA MAESTRO 2'!E$25,'DATA MAESTRO 2'!E$26,'DATA MAESTRO 2'!E$27,'DATA MAESTRO 2'!E$28,'DATA MAESTRO 2'!E$29,'DATA MAESTRO 2'!E$30,'DATA MAESTRO 2'!E$31,'DATA MAESTRO 2'!E$32,'DATA MAESTRO 2'!E$33,'DATA MAESTRO 2'!E$34,'DATA MAESTRO 2'!E$35,'DATA MAESTRO 2'!E$36,'DATA MAESTRO 2'!E$37,'DATA MAESTRO 2'!E$38,'DATA MAESTRO 2'!E$39,'DATA MAESTRO 2'!E$40,)","v":1.84},{"$f":"CHOOSE($B13,'DATA MAESTRO 2'!F$6,'DATA MAESTRO 2'!F$7,'DATA MAESTRO 2'!F$8,'DATA MAESTRO 2'!F$9,'DATA MAESTRO 2'!F$10,'DATA MAESTRO 2'!F$11,'DATA MAESTRO 2'!F$12,'DATA MAESTRO 2'!F$13,'DATA MAESTRO 2'!F$14,'DATA MAESTRO 2'!F$15,'DATA MAESTRO 2'!F$16,'DATA MAESTRO 2'!F$17,'DATA MAESTRO 2'!F$18,'DATA MAESTRO 2'!F$19,'DATA MAESTRO 2'!F$20,'DATA MAESTRO 2'!F$21,'DATA MAESTRO 2'!F$22,'DATA MAESTRO 2'!F$23,'DATA MAESTRO 2'!F$24,'DATA MAESTRO 2'!F$25,'DATA MAESTRO 2'!F$26,'DATA MAESTRO 2'!F$27,'DATA MAESTRO 2'!F$28,'DATA MAESTRO 2'!F$29,'DATA MAESTRO 2'!F$30,'DATA MAESTRO 2'!F$31,'DATA MAESTRO 2'!F$32,'DATA MAESTRO 2'!F$33,'DATA MAESTRO 2'!F$34,'DATA MAESTRO 2'!F$35,'DATA MAESTRO 2'!F$36,'DATA MAESTRO 2'!F$37,'DATA MAESTRO 2'!F$38,'DATA MAESTRO 2'!F$39,'DATA MAESTRO 2'!F$40,)","v":0},{"$f":"CHOOSE($B13,'DATA MAESTRO 2'!G$6,'DATA MAESTRO 2'!G$7,'DATA MAESTRO 2'!G$8,'DATA MAESTRO 2'!G$9,'DATA MAESTRO 2'!G$10,'DATA MAESTRO 2'!G$11,'DATA MAESTRO 2'!G$12,'DATA MAESTRO 2'!G$13,'DATA MAESTRO 2'!G$14,'DATA MAESTRO 2'!G$15,'DATA MAESTRO 2'!G$16,'DATA MAESTRO 2'!G$17,'DATA MAESTRO 2'!G$18,'DATA MAESTRO 2'!G$19,'DATA MAESTRO 2'!G$20,'DATA MAESTRO 2'!G$21,'DATA MAESTRO 2'!G$22,'DATA MAESTRO 2'!G$23,'DATA MAESTRO 2'!G$24,'DATA MAESTRO 2'!G$25,'DATA MAESTRO 2'!G$26,'DATA MAESTRO 2'!G$27,'DATA MAESTRO 2'!G$28,'DATA MAESTRO 2'!G$29,'DATA MAESTRO 2'!G$30,'DATA MAESTRO 2'!G$31,'DATA MAESTRO 2'!G$32,'DATA MAESTRO 2'!G$33,'DATA MAESTRO 2'!G$34,'DATA MAESTRO 2'!G$35,'DATA MAESTRO 2'!G$36,'DATA MAESTRO 2'!G$37,'DATA MAESTRO 2'!G$38,'DATA MAESTRO 2'!G$39,'DATA MAESTRO 2'!G$40,)","v":0},{"$f":"CHOOSE($B13,'DATA MAESTRO 2'!H$6,'DATA MAESTRO 2'!H$7,'DATA MAESTRO 2'!H$8,'DATA MAESTRO 2'!H$9,'DATA MAESTRO 2'!H$10,'DATA MAESTRO 2'!H$11,'DATA MAESTRO 2'!H$12,'DATA MAESTRO 2'!H$13,'DATA MAESTRO 2'!H$14,'DATA MAESTRO 2'!H$15,'DATA MAESTRO 2'!H$16,'DATA MAESTRO 2'!H$17,'DATA MAESTRO 2'!H$18,'DATA MAESTRO 2'!H$19,'DATA MAESTRO 2'!H$20,'DATA MAESTRO 2'!H$21,'DATA MAESTRO 2'!H$22,'DATA MAESTRO 2'!H$23,'DATA MAESTRO 2'!H$24,'DATA MAESTRO 2'!H$25,'DATA MAESTRO 2'!H$26,'DATA MAESTRO 2'!H$27,'DATA MAESTRO 2'!H$28,'DATA MAESTRO 2'!H$29,'DATA MAESTRO 2'!H$30,'DATA MAESTRO 2'!H$31,'DATA MAESTRO 2'!H$32,'DATA MAESTRO 2'!H$33,'DATA MAESTRO 2'!H$34,'DATA MAESTRO 2'!H$35,'DATA MAESTRO 2'!H$36,'DATA MAESTRO 2'!H$37,'DATA MAESTRO 2'!H$38,'DATA MAESTRO 2'!H$39,'DATA MAESTRO 2'!H$40,)","v":0},{"$f":"CHOOSE($B13,'DATA MAESTRO 2'!I$6,'DATA MAESTRO 2'!I$7,'DATA MAESTRO 2'!I$8,'DATA MAESTRO 2'!I$9,'DATA MAESTRO 2'!I$10,'DATA MAESTRO 2'!I$11,'DATA MAESTRO 2'!I$12,'DATA MAESTRO 2'!I$13,'DATA MAESTRO 2'!I$14,'DATA MAESTRO 2'!I$15,'DATA MAESTRO 2'!I$16,'DATA MAESTRO 2'!I$17,'DATA MAESTRO 2'!I$18,'DATA MAESTRO 2'!I$19,'DATA MAESTRO 2'!I$20,'DATA MAESTRO 2'!I$21,'DATA MAESTRO 2'!I$22,'DATA MAESTRO 2'!I$23,'DATA MAESTRO 2'!I$24,'DATA MAESTRO 2'!I$25,'DATA MAESTRO 2'!I$26,'DATA MAESTRO 2'!I$27,'DATA MAESTRO 2'!I$28,'DATA MAESTRO 2'!I$29,'DATA MAESTRO 2'!I$30,'DATA MAESTRO 2'!I$31,'DATA MAESTRO 2'!I$32,'DATA MAESTRO 2'!I$33,'DATA MAESTRO 2'!I$34,'DATA MAESTRO 2'!I$35,'DATA MAESTRO 2'!I$36,'DATA MAESTRO 2'!I$37,'DATA MAESTRO 2'!I$38,'DATA MAESTRO 2'!I$39,'DATA MAESTRO 2'!I$40,)","v":0},{"$f":"CHOOSE($B13,'DATA MAESTRO 2'!J$6,'DATA MAESTRO 2'!J$7,'DATA MAESTRO 2'!J$8,'DATA MAESTRO 2'!J$9,'DATA MAESTRO 2'!J$10,'DATA MAESTRO 2'!J$11,'DATA MAESTRO 2'!J$12,'DATA MAESTRO 2'!J$13,'DATA MAESTRO 2'!J$14,'DATA MAESTRO 2'!J$15,'DATA MAESTRO 2'!J$16,'DATA MAESTRO 2'!J$17,'DATA MAESTRO 2'!J$18,'DATA MAESTRO 2'!J$19,'DATA MAESTRO 2'!J$20,'DATA MAESTRO 2'!J$21,'DATA MAESTRO 2'!J$22,'DATA MAESTRO 2'!J$23,'DATA MAESTRO 2'!J$24,'DATA MAESTRO 2'!J$25,'DATA MAESTRO 2'!J$26,'DATA MAESTRO 2'!J$27,'DATA MAESTRO 2'!J$28,'DATA MAESTRO 2'!J$29,'DATA MAESTRO 2'!J$30,'DATA MAESTRO 2'!J$31,'DATA MAESTRO 2'!J$32,'DATA MAESTRO 2'!J$33,'DATA MAESTRO 2'!J$34,'DATA MAESTRO 2'!J$35,'DATA MAESTRO 2'!J$36,'DATA MAESTRO 2'!J$37,'DATA MAESTRO 2'!J$38,'DATA MAESTRO 2'!J$39,'DATA MAESTRO 2'!J$40,)","v":0.09},{"$f":"CHOOSE($B13,'DATA MAESTRO 2'!K$6,'DATA MAESTRO 2'!K$7,'DATA MAESTRO 2'!K$8,'DATA MAESTRO 2'!K$9,'DATA MAESTRO 2'!K$10,'DATA MAESTRO 2'!K$11,'DATA MAESTRO 2'!K$12,'DATA MAESTRO 2'!K$13,'DATA MAESTRO 2'!K$14,'DATA MAESTRO 2'!K$15,'DATA MAESTRO 2'!K$16,'DATA MAESTRO 2'!K$17,'DATA MAESTRO 2'!K$18,'DATA MAESTRO 2'!K$19,'DATA MAESTRO 2'!K$20,'DATA MAESTRO 2'!K$21,'DATA MAESTRO 2'!K$22,'DATA MAESTRO 2'!K$23,'DATA MAESTRO 2'!K$24,'DATA MAESTRO 2'!K$25,'DATA MAESTRO 2'!K$26,'DATA MAESTRO 2'!K$27,'DATA MAESTRO 2'!K$28,'DATA MAESTRO 2'!K$29,'DATA MAESTRO 2'!K$30,'DATA MAESTRO 2'!K$31,'DATA MAESTRO 2'!K$32,'DATA MAESTRO 2'!K$33,'DATA MAESTRO 2'!K$34,'DATA MAESTRO 2'!K$35,'DATA MAESTRO 2'!K$36,'DATA MAESTRO 2'!K$37,'DATA MAESTRO 2'!K$38,'DATA MAESTRO 2'!K$39,'DATA MAESTRO 2'!K$40,)","v":0},{"$f":"CHOOSE($B13,'DATA MAESTRO 2'!L$6,'DATA MAESTRO 2'!L$7,'DATA MAESTRO 2'!L$8,'DATA MAESTRO 2'!L$9,'DATA MAESTRO 2'!L$10,'DATA MAESTRO 2'!L$11,'DATA MAESTRO 2'!L$12,'DATA MAESTRO 2'!L$13,'DATA MAESTRO 2'!L$14,'DATA MAESTRO 2'!L$15,'DATA MAESTRO 2'!L$16,'DATA MAESTRO 2'!L$17,'DATA MAESTRO 2'!L$18,'DATA MAESTRO 2'!L$19,'DATA MAESTRO 2'!L$20,'DATA MAESTRO 2'!L$21,'DATA MAESTRO 2'!L$22,'DATA MAESTRO 2'!L$23,'DATA MAESTRO 2'!L$24,'DATA MAESTRO 2'!L$25,'DATA MAESTRO 2'!L$26,'DATA MAESTRO 2'!L$27,'DATA MAESTRO 2'!L$28,'DATA MAESTRO 2'!L$29,'DATA MAESTRO 2'!L$30,'DATA MAESTRO 2'!L$31,'DATA MAESTRO 2'!L$32,'DATA MAESTRO 2'!L$33,'DATA MAESTRO 2'!L$34,'DATA MAESTRO 2'!L$35,'DATA MAESTRO 2'!L$36,'DATA MAESTRO 2'!L$37,'DATA MAESTRO 2'!L$38,'DATA MAESTRO 2'!L$39,'DATA MAESTRO 2'!L$40,)","v":6.652299199999999},{"$f":"CHOOSE($B13,'DATA MAESTRO 2'!M$6,'DATA MAESTRO 2'!M$7,'DATA MAESTRO 2'!M$8,'DATA MAESTRO 2'!M$9,'DATA MAESTRO 2'!M$10,'DATA MAESTRO 2'!M$11,'DATA MAESTRO 2'!M$12,'DATA MAESTRO 2'!M$13,'DATA MAESTRO 2'!M$14,'DATA MAESTRO 2'!M$15,'DATA MAESTRO 2'!M$16,'DATA MAESTRO 2'!M$17,'DATA MAESTRO 2'!M$18,'DATA MAESTRO 2'!M$19,'DATA MAESTRO 2'!M$20,'DATA MAESTRO 2'!M$21,'DATA MAESTRO 2'!M$22,'DATA MAESTRO 2'!M$23,'DATA MAESTRO 2'!M$24,'DATA MAESTRO 2'!M$25,'DATA MAESTRO 2'!M$26,'DATA MAESTRO 2'!M$27,'DATA MAESTRO 2'!M$28,'DATA MAESTRO 2'!M$29,'DATA MAESTRO 2'!M$30,'DATA MAESTRO 2'!M$31,'DATA MAESTRO 2'!M$32,'DATA MAESTRO 2'!M$33,'DATA MAESTRO 2'!M$34,'DATA MAESTRO 2'!M$35,'DATA MAESTRO 2'!M$36,'DATA MAESTRO 2'!M$37,'DATA MAESTRO 2'!M$38,'DATA MAESTRO 2'!M$39,'DATA MAESTRO 2'!M$40,)","v":6.5576067529599982},{"$f":"CHOOSE($B13,'DATA MAESTRO 2'!N$6,'DATA MAESTRO 2'!N$7,'DATA MAESTRO 2'!N$8,'DATA MAESTRO 2'!N$9,'DATA MAESTRO 2'!N$10,'DATA MAESTRO 2'!N$11,'DATA MAESTRO 2'!N$12,'DATA MAESTRO 2'!N$13,'DATA MAESTRO 2'!N$14,'DATA MAESTRO 2'!N$15,'DATA MAESTRO 2'!N$16,'DATA MAESTRO 2'!N$17,'DATA MAESTRO 2'!N$18,'DATA MAESTRO 2'!N$19,'DATA MAESTRO 2'!N$20,'DATA MAESTRO 2'!N$21,'DATA MAESTRO 2'!N$22,'DATA MAESTRO 2'!N$23,'DATA MAESTRO 2'!N$24,'DATA MAESTRO 2'!N$25,'DATA MAESTRO 2'!N$26,'DATA MAESTRO 2'!N$27,'DATA MAESTRO 2'!N$28,'DATA MAESTRO 2'!N$29,'DATA MAESTRO 2'!N$30,'DATA MAESTRO 2'!N$31,'DATA MAESTRO 2'!N$32,'DATA MAESTRO 2'!N$33,'DATA MAESTRO 2'!N$34,'DATA MAESTRO 2'!N$35,'DATA MAESTRO 2'!N$36,'DATA MAESTRO 2'!N$37,'DATA MAESTRO 2'!N$38,'DATA MAESTRO 2'!N$39,'DATA MAESTRO 2'!N$40,)","v":4.3880000000000008},{"$f":"CHOOSE($B13,'DATA MAESTRO 2'!O$6,'DATA MAESTRO 2'!O$7,'DATA MAESTRO 2'!O$8,'DATA MAESTRO 2'!O$9,'DATA MAESTRO 2'!O$10,'DATA MAESTRO 2'!O$11,'DATA MAESTRO 2'!O$12,'DATA MAESTRO 2'!O$13,'DATA MAESTRO 2'!O$14,'DATA MAESTRO 2'!O$15,'DATA MAESTRO 2'!O$16,'DATA MAESTRO 2'!O$17,'DATA MAESTRO 2'!O$18,'DATA MAESTRO 2'!O$19,'DATA MAESTRO 2'!O$20,'DATA MAESTRO 2'!O$21,'DATA MAESTRO 2'!O$22,'DATA MAESTRO 2'!O$23,'DATA MAESTRO 2'!O$24,'DATA MAESTRO 2'!O$25,'DATA MAESTRO 2'!O$26,'DATA MAESTRO 2'!O$27,'DATA MAESTRO 2'!O$28,'DATA MAESTRO 2'!O$29,'DATA MAESTRO 2'!O$30,'DATA MAESTRO 2'!O$31,'DATA MAESTRO 2'!O$32,'DATA MAESTRO 2'!O$33,'DATA MAESTRO 2'!O$34,'DATA MAESTRO 2'!O$35,'DATA MAESTRO 2'!O$36,'DATA MAESTRO 2'!O$37,'DATA MAESTRO 2'!O$38,'DATA MAESTRO 2'!O$39,'DATA MAESTRO 2'!O$40,)","v":7.0057834727999992},{"$f":"CHOOSE($B13,'DATA MAESTRO 2'!P$6,'DATA MAESTRO 2'!P$7,'DATA MAESTRO 2'!P$8,'DATA MAESTRO 2'!P$9,'DATA MAESTRO 2'!P$10,'DATA MAESTRO 2'!P$11,'DATA MAESTRO 2'!P$12,'DATA MAESTRO 2'!P$13,'DATA MAESTRO 2'!P$14,'DATA MAESTRO 2'!P$15,'DATA MAESTRO 2'!P$16,'DATA MAESTRO 2'!P$17,'DATA MAESTRO 2'!P$18,'DATA MAESTRO 2'!P$19,'DATA MAESTRO 2'!P$20,'DATA MAESTRO 2'!P$21,'DATA MAESTRO 2'!P$22,'DATA MAESTRO 2'!P$23,'DATA MAESTRO 2'!P$24,'DATA MAESTRO 2'!P$25,'DATA MAESTRO 2'!P$26,'DATA MAESTRO 2'!P$27,'DATA MAESTRO 2'!P$28,'DATA MAESTRO 2'!P$29,'DATA MAESTRO 2'!P$30,'DATA MAESTRO 2'!P$31,'DATA MAESTRO 2'!P$32,'DATA MAESTRO 2'!P$33,'DATA MAESTRO 2'!P$34,'DATA MAESTRO 2'!P$35,'DATA MAESTRO 2'!P$36,'DATA MAESTRO 2'!P$37,'DATA MAESTRO 2'!P$38,'DATA MAESTRO 2'!P$39,'DATA MAESTRO 2'!P$40,)","v":0.84},{"$f":"CHOOSE($B13,'DATA MAESTRO 2'!Q$6,'DATA MAESTRO 2'!Q$7,'DATA MAESTRO 2'!Q$8,'DATA MAESTRO 2'!Q$9,'DATA MAESTRO 2'!Q$10,'DATA MAESTRO 2'!Q$11,'DATA MAESTRO 2'!Q$12,'DATA MAESTRO 2'!Q$13,'DATA MAESTRO 2'!Q$14,'DATA MAESTRO 2'!Q$15,'DATA MAESTRO 2'!Q$16,'DATA MAESTRO 2'!Q$17,'DATA MAESTRO 2'!Q$18,'DATA MAESTRO 2'!Q$19,'DATA MAESTRO 2'!Q$20,'DATA MAESTRO 2'!Q$21,'DATA MAESTRO 2'!Q$22,'DATA MAESTRO 2'!Q$23,'DATA MAESTRO 2'!Q$24,'DATA MAESTRO 2'!Q$25,'DATA MAESTRO 2'!Q$26,'DATA MAESTRO 2'!Q$27,'DATA MAESTRO 2'!Q$28,'DATA MAESTRO 2'!Q$29,'DATA MAESTRO 2'!Q$30,'DATA MAESTRO 2'!Q$31,'DATA MAESTRO 2'!Q$32,'DATA MAESTRO 2'!Q$33,'DATA MAESTRO 2'!Q$34,'DATA MAESTRO 2'!Q$35,'DATA MAESTRO 2'!Q$36,'DATA MAESTRO 2'!Q$37,'DATA MAESTRO 2'!Q$38,'DATA MAESTRO 2'!Q$39,'DATA MAESTRO 2'!Q$40,)","v":0},{"$f":"CHOOSE($B13,'DATA MAESTRO 2'!R$6,'DATA MAESTRO 2'!R$7,'DATA MAESTRO 2'!R$8,'DATA MAESTRO 2'!R$9,'DATA MAESTRO 2'!R$10,'DATA MAESTRO 2'!R$11,'DATA MAESTRO 2'!R$12,'DATA MAESTRO 2'!R$13,'DATA MAESTRO 2'!R$14,'DATA MAESTRO 2'!R$15,'DATA MAESTRO 2'!R$16,'DATA MAESTRO 2'!R$17,'DATA MAESTRO 2'!R$18,'DATA MAESTRO 2'!R$19,'DATA MAESTRO 2'!R$20,'DATA MAESTRO 2'!R$21,'DATA MAESTRO 2'!R$22,'DATA MAESTRO 2'!R$23,'DATA MAESTRO 2'!R$24,'DATA MAESTRO 2'!R$25,'DATA MAESTRO 2'!R$26,'DATA MAESTRO 2'!R$27,'DATA MAESTRO 2'!R$28,'DATA MAESTRO 2'!R$29,'DATA MAESTRO 2'!R$30,'DATA MAESTRO 2'!R$31,'DATA MAESTRO 2'!R$32,'DATA MAESTRO 2'!R$33,'DATA MAESTRO 2'!R$34,'DATA MAESTRO 2'!R$35,'DATA MAESTRO 2'!R$36,'DATA MAESTRO 2'!R$37,'DATA MAESTRO 2'!R$38,'DATA MAESTRO 2'!R$39,'DATA MAESTRO 2'!R$40,)","v":0},{"$f":"CHOOSE($B13,'DATA MAESTRO 2'!S$6,'DATA MAESTRO 2'!S$7,'DATA MAESTRO 2'!S$8,'DATA MAESTRO 2'!S$9,'DATA MAESTRO 2'!S$10,'DATA MAESTRO 2'!S$11,'DATA MAESTRO 2'!S$12,'DATA MAESTRO 2'!S$13,'DATA MAESTRO 2'!S$14,'DATA MAESTRO 2'!S$15,'DATA MAESTRO 2'!S$16,'DATA MAESTRO 2'!S$17,'DATA MAESTRO 2'!S$18,'DATA MAESTRO 2'!S$19,'DATA MAESTRO 2'!S$20,'DATA MAESTRO 2'!S$21,'DATA MAESTRO 2'!S$22,'DATA MAESTRO 2'!S$23,'DATA MAESTRO 2'!S$24,'DATA MAESTRO 2'!S$25,'DATA MAESTRO 2'!S$26,'DATA MAESTRO 2'!S$27,'DATA MAESTRO 2'!S$28,'DATA MAESTRO 2'!S$29,'DATA MAESTRO 2'!S$30,'DATA MAESTRO 2'!S$31,'DATA MAESTRO 2'!S$32,'DATA MAESTRO 2'!S$33,'DATA MAESTRO 2'!S$34,'DATA MAESTRO 2'!S$35,'DATA MAESTRO 2'!S$36,'DATA MAESTRO 2'!S$37,'DATA MAESTRO 2'!S$38,'DATA MAESTRO 2'!S$39,'DATA MAESTRO 2'!S$40,)","v":0},{"$f":"CHOOSE($B13,'DATA MAESTRO 2'!T$6,'DATA MAESTRO 2'!T$7,'DATA MAESTRO 2'!T$8,'DATA MAESTRO 2'!T$9,'DATA MAESTRO 2'!T$10,'DATA MAESTRO 2'!T$11,'DATA MAESTRO 2'!T$12,'DATA MAESTRO 2'!T$13,'DATA MAESTRO 2'!T$14,'DATA MAESTRO 2'!T$15,'DATA MAESTRO 2'!T$16,'DATA MAESTRO 2'!T$17,'DATA MAESTRO 2'!T$18,'DATA MAESTRO 2'!T$19,'DATA MAESTRO 2'!T$20,'DATA MAESTRO 2'!T$21,'DATA MAESTRO 2'!T$22,'DATA MAESTRO 2'!T$23,'DATA MAESTRO 2'!T$24,'DATA MAESTRO 2'!T$25,'DATA MAESTRO 2'!T$26,'DATA MAESTRO 2'!T$27,'DATA MAESTRO 2'!T$28,'DATA MAESTRO 2'!T$29,'DATA MAESTRO 2'!T$30,'DATA MAESTRO 2'!T$31,'DATA MAESTRO 2'!T$32,'DATA MAESTRO 2'!T$33,'DATA MAESTRO 2'!T$34,'DATA MAESTRO 2'!T$35,'DATA MAESTRO 2'!T$36,'DATA MAESTRO 2'!T$37,'DATA MAESTRO 2'!T$38,'DATA MAESTRO 2'!T$39,'DATA MAESTRO 2'!T$40,)","v":0},{"$f":"CHOOSE($B13,'DATA MAESTRO 2'!U$6,'DATA MAESTRO 2'!U$7,'DATA MAESTRO 2'!U$8,'DATA MAESTRO 2'!U$9,'DATA MAESTRO 2'!U$10,'DATA MAESTRO 2'!U$11,'DATA MAESTRO 2'!U$12,'DATA MAESTRO 2'!U$13,'DATA MAESTRO 2'!U$14,'DATA MAESTRO 2'!U$15,'DATA MAESTRO 2'!U$16,'DATA MAESTRO 2'!U$17,'DATA MAESTRO 2'!U$18,'DATA MAESTRO 2'!U$19,'DATA MAESTRO 2'!U$20,'DATA MAESTRO 2'!U$21,'DATA MAESTRO 2'!U$22,'DATA MAESTRO 2'!U$23,'DATA MAESTRO 2'!U$24,'DATA MAESTRO 2'!U$25,'DATA MAESTRO 2'!U$26,'DATA MAESTRO 2'!U$27,'DATA MAESTRO 2'!U$28,'DATA MAESTRO 2'!U$29,'DATA MAESTRO 2'!U$30,'DATA MAESTRO 2'!U$31,'DATA MAESTRO 2'!U$32,'DATA MAESTRO 2'!U$33,'DATA MAESTRO 2'!U$34,'DATA MAESTRO 2'!U$35,'DATA MAESTRO 2'!U$36,'DATA MAESTRO 2'!U$37,'DATA MAESTRO 2'!U$38,'DATA MAESTRO 2'!U$39,'DATA MAESTRO 2'!U$40,)","v":0},{"$f":"CHOOSE($B13,'DATA MAESTRO 2'!V$6,'DATA MAESTRO 2'!V$7,'DATA MAESTRO 2'!V$8,'DATA MAESTRO 2'!V$9,'DATA MAESTRO 2'!V$10,'DATA MAESTRO 2'!V$11,'DATA MAESTRO 2'!V$12,'DATA MAESTRO 2'!V$13,'DATA MAESTRO 2'!V$14,'DATA MAESTRO 2'!V$15,'DATA MAESTRO 2'!V$16,'DATA MAESTRO 2'!V$17,'DATA MAESTRO 2'!V$18,'DATA MAESTRO 2'!V$19,'DATA MAESTRO 2'!V$20,'DATA MAESTRO 2'!V$21,'DATA MAESTRO 2'!V$22,'DATA MAESTRO 2'!V$23,'DATA MAESTRO 2'!V$24,'DATA MAESTRO 2'!V$25,'DATA MAESTRO 2'!V$26,'DATA MAESTRO 2'!V$27,'DATA MAESTRO 2'!V$28,'DATA MAESTRO 2'!V$29,'DATA MAESTRO 2'!V$30,'DATA MAESTRO 2'!V$31,'DATA MAESTRO 2'!V$32,'DATA MAESTRO 2'!V$33,'DATA MAESTRO 2'!V$34,'DATA MAESTRO 2'!V$35,'DATA MAESTRO 2'!V$36,'DATA MAESTRO 2'!V$37,'DATA MAESTRO 2'!V$38,'DATA MAESTRO 2'!V$39,'DATA MAESTRO 2'!V$40,)","v":0},{"$f":"CHOOSE($B13,'DATA MAESTRO 2'!W$6,'DATA MAESTRO 2'!W$7,'DATA MAESTRO 2'!W$8,'DATA MAESTRO 2'!W$9,'DATA MAESTRO 2'!W$10,'DATA MAESTRO 2'!W$11,'DATA MAESTRO 2'!W$12,'DATA MAESTRO 2'!W$13,'DATA MAESTRO 2'!W$14,'DATA MAESTRO 2'!W$15,'DATA MAESTRO 2'!W$16,'DATA MAESTRO 2'!W$17,'DATA MAESTRO 2'!W$18,'DATA MAESTRO 2'!W$19,'DATA MAESTRO 2'!W$20,'DATA MAESTRO 2'!W$21,'DATA MAESTRO 2'!W$22,'DATA MAESTRO 2'!W$23,'DATA MAESTRO 2'!W$24,'DATA MAESTRO 2'!W$25,'DATA MAESTRO 2'!W$26,'DATA MAESTRO 2'!W$27,'DATA MAESTRO 2'!W$28,'DATA MAESTRO 2'!W$29,'DATA MAESTRO 2'!W$30,'DATA MAESTRO 2'!W$31,'DATA MAESTRO 2'!W$32,'DATA MAESTRO 2'!W$33,'DATA MAESTRO 2'!W$34,'DATA MAESTRO 2'!W$35,'DATA MAESTRO 2'!W$36,'DATA MAESTRO 2'!W$37,'DATA MAESTRO 2'!W$38,'DATA MAESTRO 2'!W$39,'DATA MAESTRO 2'!W$40,)","v":0},{"$f":"CHOOSE($B13,'DATA MAESTRO 2'!X$6,'DATA MAESTRO 2'!X$7,'DATA MAESTRO 2'!X$8,'DATA MAESTRO 2'!X$9,'DATA MAESTRO 2'!X$10,'DATA MAESTRO 2'!X$11,'DATA MAESTRO 2'!X$12,'DATA MAESTRO 2'!X$13,'DATA MAESTRO 2'!X$14,'DATA MAESTRO 2'!X$15,'DATA MAESTRO 2'!X$16,'DATA MAESTRO 2'!X$17,'DATA MAESTRO 2'!X$18,'DATA MAESTRO 2'!X$19,'DATA MAESTRO 2'!X$20,'DATA MAESTRO 2'!X$21,'DATA MAESTRO 2'!X$22,'DATA MAESTRO 2'!X$23,'DATA MAESTRO 2'!X$24,'DATA MAESTRO 2'!X$25,'DATA MAESTRO 2'!X$26,'DATA MAESTRO 2'!X$27,'DATA MAESTRO 2'!X$28,'DATA MAESTRO 2'!X$29,'DATA MAESTRO 2'!X$30,'DATA MAESTRO 2'!X$31,'DATA MAESTRO 2'!X$32,'DATA MAESTRO 2'!X$33,'DATA MAESTRO 2'!X$34,'DATA MAESTRO 2'!X$35,'DATA MAESTRO 2'!X$36,'DATA MAESTRO 2'!X$37,'DATA MAESTRO 2'!X$38,'DATA MAESTRO 2'!X$39,'DATA MAESTRO 2'!X$40,)","v":0},{"$f":"CHOOSE($B13,'DATA MAESTRO 2'!Y$6,'DATA MAESTRO 2'!Y$7,'DATA MAESTRO 2'!Y$8,'DATA MAESTRO 2'!Y$9,'DATA MAESTRO 2'!Y$10,'DATA MAESTRO 2'!Y$11,'DATA MAESTRO 2'!Y$12,'DATA MAESTRO 2'!Y$13,'DATA MAESTRO 2'!Y$14,'DATA MAESTRO 2'!Y$15,'DATA MAESTRO 2'!Y$16,'DATA MAESTRO 2'!Y$17,'DATA MAESTRO 2'!Y$18,'DATA MAESTRO 2'!Y$19,'DATA MAESTRO 2'!Y$20,'DATA MAESTRO 2'!Y$21,'DATA MAESTRO 2'!Y$22,'DATA MAESTRO 2'!Y$23,'DATA MAESTRO 2'!Y$24,'DATA MAESTRO 2'!Y$25,'DATA MAESTRO 2'!Y$26,'DATA MAESTRO 2'!Y$27,'DATA MAESTRO 2'!Y$28,'DATA MAESTRO 2'!Y$29,'DATA MAESTRO 2'!Y$30,'DATA MAESTRO 2'!Y$31,'DATA MAESTRO 2'!Y$32,'DATA MAESTRO 2'!Y$33,'DATA MAESTRO 2'!Y$34,'DATA MAESTRO 2'!Y$35,'DATA MAESTRO 2'!Y$36,'DATA MAESTRO 2'!Y$37,'DATA MAESTRO 2'!Y$38,'DATA MAESTRO 2'!Y$39,'DATA MAESTRO 2'!Y$40,)","v":0},{"$f":"CHOOSE($B13,'DATA MAESTRO 2'!Z$6,'DATA MAESTRO 2'!Z$7,'DATA MAESTRO 2'!Z$8,'DATA MAESTRO 2'!Z$9,'DATA MAESTRO 2'!Z$10,'DATA MAESTRO 2'!Z$11,'DATA MAESTRO 2'!Z$12,'DATA MAESTRO 2'!Z$13,'DATA MAESTRO 2'!Z$14,'DATA MAESTRO 2'!Z$15,'DATA MAESTRO 2'!Z$16,'DATA MAESTRO 2'!Z$17,'DATA MAESTRO 2'!Z$18,'DATA MAESTRO 2'!Z$19,'DATA MAESTRO 2'!Z$20,'DATA MAESTRO 2'!Z$21,'DATA MAESTRO 2'!Z$22,'DATA MAESTRO 2'!Z$23,'DATA MAESTRO 2'!Z$24,'DATA MAESTRO 2'!Z$25,'DATA MAESTRO 2'!Z$26,'DATA MAESTRO 2'!Z$27,'DATA MAESTRO 2'!Z$28,'DATA MAESTRO 2'!Z$29,'DATA MAESTRO 2'!Z$30,'DATA MAESTRO 2'!Z$31,'DATA MAESTRO 2'!Z$32,'DATA MAESTRO 2'!Z$33,'DATA MAESTRO 2'!Z$34,'DATA MAESTRO 2'!Z$35,'DATA MAESTRO 2'!Z$36,'DATA MAESTRO 2'!Z$37,'DATA MAESTRO 2'!Z$38,'DATA MAESTRO 2'!Z$39,'DATA MAESTRO 2'!Z$40,)","v":0},{"$f":"CHOOSE($B13,'DATA MAESTRO 2'!AA$6,'DATA MAESTRO 2'!AA$7,'DATA MAESTRO 2'!AA$8,'DATA MAESTRO 2'!AA$9,'DATA MAESTRO 2'!AA$10,'DATA MAESTRO 2'!AA$11,'DATA MAESTRO 2'!AA$12,'DATA MAESTRO 2'!AA$13,'DATA MAESTRO 2'!AA$14,'DATA MAESTRO 2'!AA$15,'DATA MAESTRO 2'!AA$16,'DATA MAESTRO 2'!AA$17,'DATA MAESTRO 2'!AA$18,'DATA MAESTRO 2'!AA$19,'DATA MAESTRO 2'!AA$20,'DATA MAESTRO 2'!AA$21,'DATA MAESTRO 2'!AA$22,'DATA MAESTRO 2'!AA$23,'DATA MAESTRO 2'!AA$24,'DATA MAESTRO 2'!AA$25,'DATA MAESTRO 2'!AA$26,'DATA MAESTRO 2'!AA$27,'DATA MAESTRO 2'!AA$28,'DATA MAESTRO 2'!AA$29,'DATA MAESTRO 2'!AA$30,'DATA MAESTRO 2'!AA$31,'DATA MAESTRO 2'!AA$32,'DATA MAESTRO 2'!AA$33,'DATA MAESTRO 2'!AA$34,'DATA MAESTRO 2'!AA$35,'DATA MAESTRO 2'!AA$36,'DATA MAESTRO 2'!AA$37,'DATA MAESTRO 2'!AA$38,'DATA MAESTRO 2'!AA$39,'DATA MAESTRO 2'!AA$40,)","v":0},{"$f":"CHOOSE($B13,'DATA MAESTRO 2'!AB$6,'DATA MAESTRO 2'!AB$7,'DATA MAESTRO 2'!AB$8,'DATA MAESTRO 2'!AB$9,'DATA MAESTRO 2'!AB$10,'DATA MAESTRO 2'!AB$11,'DATA MAESTRO 2'!AB$12,'DATA MAESTRO 2'!AB$13,'DATA MAESTRO 2'!AB$14,'DATA MAESTRO 2'!AB$15,'DATA MAESTRO 2'!AB$16,'DATA MAESTRO 2'!AB$17,'DATA MAESTRO 2'!AB$18,'DATA MAESTRO 2'!AB$19,'DATA MAESTRO 2'!AB$20,'DATA MAESTRO 2'!AB$21,'DATA MAESTRO 2'!AB$22,'DATA MAESTRO 2'!AB$23,'DATA MAESTRO 2'!AB$24,'DATA MAESTRO 2'!AB$25,'DATA MAESTRO 2'!AB$26,'DATA MAESTRO 2'!AB$27,'DATA MAESTRO 2'!AB$28,'DATA MAESTRO 2'!AB$29,'DATA MAESTRO 2'!AB$30,'DATA MAESTRO 2'!AB$31,'DATA MAESTRO 2'!AB$32,'DATA MAESTRO 2'!AB$33,'DATA MAESTRO 2'!AB$34,'DATA MAESTRO 2'!AB$35,'DATA MAESTRO 2'!AB$36,'DATA MAESTRO 2'!AB$37,'DATA MAESTRO 2'!AB$38,'DATA MAESTRO 2'!AB$39,'DATA MAESTRO 2'!AB$40,)","v":0},{"$f":"CHOOSE($B13,'DATA MAESTRO 2'!AC$6,'DATA MAESTRO 2'!AC$7,'DATA MAESTRO 2'!AC$8,'DATA MAESTRO 2'!AC$9,'DATA MAESTRO 2'!AC$10,'DATA MAESTRO 2'!AC$11,'DATA MAESTRO 2'!AC$12,'DATA MAESTRO 2'!AC$13,'DATA MAESTRO 2'!AC$14,'DATA MAESTRO 2'!AC$15,'DATA MAESTRO 2'!AC$16,'DATA MAESTRO 2'!AC$17,'DATA MAESTRO 2'!AC$18,'DATA MAESTRO 2'!AC$19,'DATA MAESTRO 2'!AC$20,'DATA MAESTRO 2'!AC$21,'DATA MAESTRO 2'!AC$22,'DATA MAESTRO 2'!AC$23,'DATA MAESTRO 2'!AC$24,'DATA MAESTRO 2'!AC$25,'DATA MAESTRO 2'!AC$26,'DATA MAESTRO 2'!AC$27,'DATA MAESTRO 2'!AC$28,'DATA MAESTRO 2'!AC$29,'DATA MAESTRO 2'!AC$30,'DATA MAESTRO 2'!AC$31,'DATA MAESTRO 2'!AC$32,'DATA MAESTRO 2'!AC$33,'DATA MAESTRO 2'!AC$34,'DATA MAESTRO 2'!AC$35,'DATA MAESTRO 2'!AC$36,'DATA MAESTRO 2'!AC$37,'DATA MAESTRO 2'!AC$38,'DATA MAESTRO 2'!AC$39,'DATA MAESTRO 2'!AC$40,)","v":0},{"$f":"CHOOSE($B13,'DATA MAESTRO 2'!AD$6,'DATA MAESTRO 2'!AD$7,'DATA MAESTRO 2'!AD$8,'DATA MAESTRO 2'!AD$9,'DATA MAESTRO 2'!AD$10,'DATA MAESTRO 2'!AD$11,'DATA MAESTRO 2'!AD$12,'DATA MAESTRO 2'!AD$13,'DATA MAESTRO 2'!AD$14,'DATA MAESTRO 2'!AD$15,'DATA MAESTRO 2'!AD$16,'DATA MAESTRO 2'!AD$17,'DATA MAESTRO 2'!AD$18,'DATA MAESTRO 2'!AD$19,'DATA MAESTRO 2'!AD$20,'DATA MAESTRO 2'!AD$21,'DATA MAESTRO 2'!AD$22,'DATA MAESTRO 2'!AD$23,'DATA MAESTRO 2'!AD$24,'DATA MAESTRO 2'!AD$25,'DATA MAESTRO 2'!AD$26,'DATA MAESTRO 2'!AD$27,'DATA MAESTRO 2'!AD$28,'DATA MAESTRO 2'!AD$29,'DATA MAESTRO 2'!AD$30,'DATA MAESTRO 2'!AD$31,'DATA MAESTRO 2'!AD$32,'DATA MAESTRO 2'!AD$33,'DATA MAESTRO 2'!AD$34,'DATA MAESTRO 2'!AD$35,'DATA MAESTRO 2'!AD$36,'DATA MAESTRO 2'!AD$37,'DATA MAESTRO 2'!AD$38,'DATA MAESTRO 2'!AD$39,'DATA MAESTRO 2'!AD$40,)","v":0},{"$f":"CHOOSE($B13,'DATA MAESTRO 2'!AE$6,'DATA MAESTRO 2'!AE$7,'DATA MAESTRO 2'!AE$8,'DATA MAESTRO 2'!AE$9,'DATA MAESTRO 2'!AE$10,'DATA MAESTRO 2'!AE$11,'DATA MAESTRO 2'!AE$12,'DATA MAESTRO 2'!AE$13,'DATA MAESTRO 2'!AE$14,'DATA MAESTRO 2'!AE$15,'DATA MAESTRO 2'!AE$16,'DATA MAESTRO 2'!AE$17,'DATA MAESTRO 2'!AE$18,'DATA MAESTRO 2'!AE$19,'DATA MAESTRO 2'!AE$20,'DATA MAESTRO 2'!AE$21,'DATA MAESTRO 2'!AE$22,'DATA MAESTRO 2'!AE$23,'DATA MAESTRO 2'!AE$24,'DATA MAESTRO 2'!AE$25,'DATA MAESTRO 2'!AE$26,'DATA MAESTRO 2'!AE$27,'DATA MAESTRO 2'!AE$28,'DATA MAESTRO 2'!AE$29,'DATA MAESTRO 2'!AE$30,'DATA MAESTRO 2'!AE$31,'DATA MAESTRO 2'!AE$32,'DATA MAESTRO 2'!AE$33,'DATA MAESTRO 2'!AE$34,'DATA MAESTRO 2'!AE$35,'DATA MAESTRO 2'!AE$36,'DATA MAESTRO 2'!AE$37,'DATA MAESTRO 2'!AE$38,'DATA MAESTRO 2'!AE$39,'DATA MAESTRO 2'!AE$40,)","v":0},{"$f":"CHOOSE($B13,'DATA MAESTRO 2'!AF$6,'DATA MAESTRO 2'!AF$7,'DATA MAESTRO 2'!AF$8,'DATA MAESTRO 2'!AF$9,'DATA MAESTRO 2'!AF$10,'DATA MAESTRO 2'!AF$11,'DATA MAESTRO 2'!AF$12,'DATA MAESTRO 2'!AF$13,'DATA MAESTRO 2'!AF$14,'DATA MAESTRO 2'!AF$15,'DATA MAESTRO 2'!AF$16,'DATA MAESTRO 2'!AF$17,'DATA MAESTRO 2'!AF$18,'DATA MAESTRO 2'!AF$19,'DATA MAESTRO 2'!AF$20,'DATA MAESTRO 2'!AF$21,'DATA MAESTRO 2'!AF$22,'DATA MAESTRO 2'!AF$23,'DATA MAESTRO 2'!AF$24,'DATA MAESTRO 2'!AF$25,'DATA MAESTRO 2'!AF$26,'DATA MAESTRO 2'!AF$27,'DATA MAESTRO 2'!AF$28,'DATA MAESTRO 2'!AF$29,'DATA MAESTRO 2'!AF$30,'DATA MAESTRO 2'!AF$31,'DATA MAESTRO 2'!AF$32,'DATA MAESTRO 2'!AF$33,'DATA MAESTRO 2'!AF$34,'DATA MAESTRO 2'!AF$35,'DATA MAESTRO 2'!AF$36,'DATA MAESTRO 2'!AF$37,'DATA MAESTRO 2'!AF$38,'DATA MAESTRO 2'!AF$39,'DATA MAESTRO 2'!AF$40,)","v":0},{"$f":"CHOOSE($B13,'DATA MAESTRO 2'!AG$6,'DATA MAESTRO 2'!AG$7,'DATA MAESTRO 2'!AG$8,'DATA MAESTRO 2'!AG$9,'DATA MAESTRO 2'!AG$10,'DATA MAESTRO 2'!AG$11,'DATA MAESTRO 2'!AG$12,'DATA MAESTRO 2'!AG$13,'DATA MAESTRO 2'!AG$14,'DATA MAESTRO 2'!AG$15,'DATA MAESTRO 2'!AG$16,'DATA MAESTRO 2'!AG$17,'DATA MAESTRO 2'!AG$18,'DATA MAESTRO 2'!AG$19,'DATA MAESTRO 2'!AG$20,'DATA MAESTRO 2'!AG$21,'DATA MAESTRO 2'!AG$22,'DATA MAESTRO 2'!AG$23,'DATA MAESTRO 2'!AG$24,'DATA MAESTRO 2'!AG$25,'DATA MAESTRO 2'!AG$26,'DATA MAESTRO 2'!AG$27,'DATA MAESTRO 2'!AG$28,'DATA MAESTRO 2'!AG$29,'DATA MAESTRO 2'!AG$30,'DATA MAESTRO 2'!AG$31,'DATA MAESTRO 2'!AG$32,'DATA MAESTRO 2'!AG$33,'DATA MAESTRO 2'!AG$34,'DATA MAESTRO 2'!AG$35,'DATA MAESTRO 2'!AG$36,'DATA MAESTRO 2'!AG$37,'DATA MAESTRO 2'!AG$38,'DATA MAESTRO 2'!AG$39,'DATA MAESTRO 2'!AG$40,)","v":0},{"$f":"CHOOSE($B13,'DATA MAESTRO 2'!AH$6,'DATA MAESTRO 2'!AH$7,'DATA MAESTRO 2'!AH$8,'DATA MAESTRO 2'!AH$9,'DATA MAESTRO 2'!AH$10,'DATA MAESTRO 2'!AH$11,'DATA MAESTRO 2'!AH$12,'DATA MAESTRO 2'!AH$13,'DATA MAESTRO 2'!AH$14,'DATA MAESTRO 2'!AH$15,'DATA MAESTRO 2'!AH$16,'DATA MAESTRO 2'!AH$17,'DATA MAESTRO 2'!AH$18,'DATA MAESTRO 2'!AH$19,'DATA MAESTRO 2'!AH$20,'DATA MAESTRO 2'!AH$21,'DATA MAESTRO 2'!AH$22,'DATA MAESTRO 2'!AH$23,'DATA MAESTRO 2'!AH$24,'DATA MAESTRO 2'!AH$25,'DATA MAESTRO 2'!AH$26,'DATA MAESTRO 2'!AH$27,'DATA MAESTRO 2'!AH$28,'DATA MAESTRO 2'!AH$29,'DATA MAESTRO 2'!AH$30,'DATA MAESTRO 2'!AH$31,'DATA MAESTRO 2'!AH$32,'DATA MAESTRO 2'!AH$33,'DATA MAESTRO 2'!AH$34,'DATA MAESTRO 2'!AH$35,'DATA MAESTRO 2'!AH$36,'DATA MAESTRO 2'!AH$37,'DATA MAESTRO 2'!AH$38,'DATA MAESTRO 2'!AH$39,'DATA MAESTRO 2'!AH$40,)","v":0},{"$f":"CHOOSE($B13,'DATA MAESTRO 2'!AI$6,'DATA MAESTRO 2'!AI$7,'DATA MAESTRO 2'!AI$8,'DATA MAESTRO 2'!AI$9,'DATA MAESTRO 2'!AI$10,'DATA MAESTRO 2'!AI$11,'DATA MAESTRO 2'!AI$12,'DATA MAESTRO 2'!AI$13,'DATA MAESTRO 2'!AI$14,'DATA MAESTRO 2'!AI$15,'DATA MAESTRO 2'!AI$16,'DATA MAESTRO 2'!AI$17,'DATA MAESTRO 2'!AI$18,'DATA MAESTRO 2'!AI$19,'DATA MAESTRO 2'!AI$20,'DATA MAESTRO 2'!AI$21,'DATA MAESTRO 2'!AI$22,'DATA MAESTRO 2'!AI$23,'DATA MAESTRO 2'!AI$24,'DATA MAESTRO 2'!AI$25,'DATA MAESTRO 2'!AI$26,'DATA MAESTRO 2'!AI$27,'DATA MAESTRO 2'!AI$28,'DATA MAESTRO 2'!AI$29,'DATA MAESTRO 2'!AI$30,'DATA MAESTRO 2'!AI$31,'DATA MAESTRO 2'!AI$32,'DATA MAESTRO 2'!AI$33,'DATA MAESTRO 2'!AI$34,'DATA MAESTRO 2'!AI$35,'DATA MAESTRO 2'!AI$36,'DATA MAESTRO 2'!AI$37,'DATA MAESTRO 2'!AI$38,'DATA MAESTRO 2'!AI$39,'DATA MAESTRO 2'!AI$40,)","v":0},{"$f":"CHOOSE($B13,'DATA MAESTRO 2'!AJ$6,'DATA MAESTRO 2'!AJ$7,'DATA MAESTRO 2'!AJ$8,'DATA MAESTRO 2'!AJ$9,'DATA MAESTRO 2'!AJ$10,'DATA MAESTRO 2'!AJ$11,'DATA MAESTRO 2'!AJ$12,'DATA MAESTRO 2'!AJ$13,'DATA MAESTRO 2'!AJ$14,'DATA MAESTRO 2'!AJ$15,'DATA MAESTRO 2'!AJ$16,'DATA MAESTRO 2'!AJ$17,'DATA MAESTRO 2'!AJ$18,'DATA MAESTRO 2'!AJ$19,'DATA MAESTRO 2'!AJ$20,'DATA MAESTRO 2'!AJ$21,'DATA MAESTRO 2'!AJ$22,'DATA MAESTRO 2'!AJ$23,'DATA MAESTRO 2'!AJ$24,'DATA MAESTRO 2'!AJ$25,'DATA MAESTRO 2'!AJ$26,'DATA MAESTRO 2'!AJ$27,'DATA MAESTRO 2'!AJ$28,'DATA MAESTRO 2'!AJ$29,'DATA MAESTRO 2'!AJ$30,'DATA MAESTRO 2'!AJ$31,'DATA MAESTRO 2'!AJ$32,'DATA MAESTRO 2'!AJ$33,'DATA MAESTRO 2'!AJ$34,'DATA MAESTRO 2'!AJ$35,'DATA MAESTRO 2'!AJ$36,'DATA MAESTRO 2'!AJ$37,'DATA MAESTRO 2'!AJ$38,'DATA MAESTRO 2'!AJ$39,'DATA MAESTRO 2'!AJ$40,)","v":0}]
[12,8,{"$f":"+IF(AND(B14>=1,B14<=36),VLOOKUP(B14,'DATA MAESTRO 2'!$A$6:$B$40,2),0)","v":"PEPA ALGODÓN "},{"$f":"+CHOOSE($B14,'DATA MAESTRO 2'!C$6,'DATA MAESTRO 2'!C$7,'DATA MAESTRO 2'!C$8,'DATA MAESTRO 2'!C$9,'DATA MAESTRO 2'!C$10,'DATA MAESTRO 2'!C$11,'DATA MAESTRO 2'!C$12,'DATA MAESTRO 2'!C$13,'DATA MAESTRO 2'!C$14,'DATA MAESTRO 2'!C$15,'DATA MAESTRO 2'!C$16,'DATA MAESTRO 2'!C$17,'DATA MAESTRO 2'!C$18,'DATA MAESTRO 2'!C$19,'DATA MAESTRO 2'!C$20,'DATA MAESTRO 2'!C$21,'DATA MAESTRO 2'!C$22,'DATA MAESTRO 2'!C$23,'DATA MAESTRO 2'!C$24,'DATA MAESTRO 2'!C$25,'DATA MAESTRO 2'!C$26,'DATA MAESTRO 2'!C$27,'DATA MAESTRO 2'!C$28,'DATA MAESTRO 2'!C$29,'DATA MAESTRO 2'!C$30,'DATA MAESTRO 2'!C$31,'DATA MAESTRO 2'!C$32,'DATA MAESTRO 2'!C$33,'DATA MAESTRO 2'!C$34,'DATA MAESTRO 2'!C$35,'DATA MAESTRO 2'!C$36,'DATA MAESTRO 2'!C$37,'DATA MAESTRO 2'!C$38,'DATA MAESTRO 2'!C$39,'DATA MAESTRO 2'!C$40,)","v":0},{"$f":"CHOOSE($B14,'DATA MAESTRO 2'!D$6,'DATA MAESTRO 2'!D$7,'DATA MAESTRO 2'!D$8,'DATA MAESTRO 2'!D$9,'DATA MAESTRO 2'!D$10,'DATA MAESTRO 2'!D$11,'DATA MAESTRO 2'!D$12,'DATA MAESTRO 2'!D$13,'DATA MAESTRO 2'!D$14,'DATA MAESTRO 2'!D$15,'DATA MAESTRO 2'!D$16,'DATA MAESTRO 2'!D$17,'DATA MAESTRO 2'!D$18,'DATA MAESTRO 2'!D$19,'DATA MAESTRO 2'!D$20,'DATA MAESTRO 2'!D$21,'DATA MAESTRO 2'!D$22,'DATA MAESTRO 2'!D$23,'DATA MAESTRO 2'!D$24,'DATA MAESTRO 2'!D$25,'DATA MAESTRO 2'!D$26,'DATA MAESTRO 2'!D$27,'DATA MAESTRO 2'!D$28,'DATA MAESTRO 2'!D$29,'DATA MAESTRO 2'!D$30,'DATA MAESTRO 2'!D$31,'DATA MAESTRO 2'!D$32,'DATA MAESTRO 2'!D$33,'DATA MAESTRO 2'!D$34,'DATA MAESTRO 2'!D$35,'DATA MAESTRO 2'!D$36,'DATA MAESTRO 2'!D$37,'DATA MAESTRO 2'!D$38,'DATA MAESTRO 2'!D$39,'DATA MAESTRO 2'!D$40,)","v":0.9},{"$f":"CHOOSE(B14,'DATA MAESTRO 2'!E$6,'DATA MAESTRO 2'!E$7,'DATA MAESTRO 2'!E$8,'DATA MAESTRO 2'!E$9,'DATA MAESTRO 2'!E$10,'DATA MAESTRO 2'!E$11,'DATA MAESTRO 2'!E$12,'DATA MAESTRO 2'!E$13,'DATA MAESTRO 2'!E$14,'DATA MAESTRO 2'!E$15,'DATA MAESTRO 2'!E$16,'DATA MAESTRO 2'!E$17,'DATA MAESTRO 2'!E$18,'DATA MAESTRO 2'!E$19,'DATA MAESTRO 2'!E$20,'DATA MAESTRO 2'!E$21,'DATA MAESTRO 2'!E$22,'DATA MAESTRO 2'!E$23,'DATA MAESTRO 2'!E$24,'DATA MAESTRO 2'!E$25,'DATA MAESTRO 2'!E$26,'DATA MAESTRO 2'!E$27,'DATA MAESTRO 2'!E$28,'DATA MAESTRO 2'!E$29,'DATA MAESTRO 2'!E$30,'DATA MAESTRO 2'!E$31,'DATA MAESTRO 2'!E$32,'DATA MAESTRO 2'!E$33,'DATA MAESTRO 2'!E$34,'DATA MAESTRO 2'!E$35,'DATA MAESTRO 2'!E$36,'DATA MAESTRO 2'!E$37,'DATA MAESTRO 2'!E$38,'DATA MAESTRO 2'!E$39,'DATA MAESTRO 2'!E$40,)","v":0.77200000000000002},{"$f":"CHOOSE($B14,'DATA MAESTRO 2'!F$6,'DATA MAESTRO 2'!F$7,'DATA MAESTRO 2'!F$8,'DATA MAESTRO 2'!F$9,'DATA MAESTRO 2'!F$10,'DATA MAESTRO 2'!F$11,'DATA MAESTRO 2'!F$12,'DATA MAESTRO 2'!F$13,'DATA MAESTRO 2'!F$14,'DATA MAESTRO 2'!F$15,'DATA MAESTRO 2'!F$16,'DATA MAESTRO 2'!F$17,'DATA MAESTRO 2'!F$18,'DATA MAESTRO 2'!F$19,'DATA MAESTRO 2'!F$20,'DATA MAESTRO 2'!F$21,'DATA MAESTRO 2'!F$22,'DATA MAESTRO 2'!F$23,'DATA MAESTRO 2'!F$24,'DATA MAESTRO 2'!F$25,'DATA MAESTRO 2'!F$26,'DATA MAESTRO 2'!F$27,'DATA MAESTRO 2'!F$28,'DATA MAESTRO 2'!F$29,'DATA MAESTRO 2'!F$30,'DATA MAESTRO 2'!F$31,'DATA MAESTRO 2'!F$32,'DATA MAESTRO 2'!F$33,'DATA MAESTRO 2'!F$34,'DATA MAESTRO 2'!F$35,'DATA MAESTRO 2'!F$36,'DATA MAESTRO 2'!F$37,'DATA MAESTRO 2'!F$38,'DATA MAESTRO 2'!F$39,'DATA MAESTRO 2'!F$40,)","v":0.22},{"$f":"CHOOSE($B14,'DATA MAESTRO 2'!G$6,'DATA MAESTRO 2'!G$7,'DATA MAESTRO 2'!G$8,'DATA MAESTRO 2'!G$9,'DATA MAESTRO 2'!G$10,'DATA MAESTRO 2'!G$11,'DATA MAESTRO 2'!G$12,'DATA MAESTRO 2'!G$13,'DATA MAESTRO 2'!G$14,'DATA MAESTRO 2'!G$15,'DATA MAESTRO 2'!G$16,'DATA MAESTRO 2'!G$17,'DATA MAESTRO 2'!G$18,'DATA MAESTRO 2'!G$19,'DATA MAESTRO 2'!G$20,'DATA MAESTRO 2'!G$21,'DATA MAESTRO 2'!G$22,'DATA MAESTRO 2'!G$23,'DATA MAESTRO 2'!G$24,'DATA MAESTRO 2'!G$25,'DATA MAESTRO 2'!G$26,'DATA MAESTRO 2'!G$27,'DATA MAESTRO 2'!G$28,'DATA MAESTRO 2'!G$29,'DATA MAESTRO 2'!G$30,'DATA MAESTRO 2'!G$31,'DATA MAESTRO 2'!G$32,'DATA MAESTRO 2'!G$33,'DATA MAESTRO 2'!G$34,'DATA MAESTRO 2'!G$35,'DATA MAESTRO 2'!G$36,'DATA MAESTRO 2'!G$37,'DATA MAESTRO 2'!G$38,'DATA MAESTRO 2'!G$39,'DATA MAESTRO 2'!G$40,)","v":0.26},{"$f":"CHOOSE($B14,'DATA MAESTRO 2'!H$6,'DATA MAESTRO 2'!H$7,'DATA MAESTRO 2'!H$8,'DATA MAESTRO 2'!H$9,'DATA MAESTRO 2'!H$10,'DATA MAESTRO 2'!H$11,'DATA MAESTRO 2'!H$12,'DATA MAESTRO 2'!H$13,'DATA MAESTRO 2'!H$14,'DATA MAESTRO 2'!H$15,'DATA MAESTRO 2'!H$16,'DATA MAESTRO 2'!H$17,'DATA MAESTRO 2'!H$18,'DATA MAESTRO 2'!H$19,'DATA MAESTRO 2'!H$20,'DATA MAESTRO 2'!H$21,'DATA MAESTRO 2'!H$22,'DATA MAESTRO 2'!H$23,'DATA MAESTRO 2'!H$24,'DATA MAESTRO 2'!H$25,'DATA MAESTRO 2'!H$26,'DATA MAESTRO 2'!H$27,'DATA MAESTRO 2'!H$28,'DATA MAESTRO 2'!H$29,'DATA MAESTRO 2'!H$30,'DATA MAESTRO 2'!H$31,'DATA MAESTRO 2'!H$32,'DATA MAESTRO 2'!H$33,'DATA MAESTRO 2'!H$34,'DATA MAESTRO 2'!H$35,'DATA MAESTRO 2'!H$36,'DATA MAESTRO 2'!H$37,'DATA MAESTRO 2'!H$38,'DATA MAESTRO 2'!H$39,'DATA MAESTRO 2'!H$40,)","v":0.5},{"$f":"CHOOSE($B14,'DATA MAESTRO 2'!I$6,'DATA MAESTRO 2'!I$7,'DATA MAESTRO 2'!I$8,'DATA MAESTRO 2'!I$9,'DATA MAESTRO 2'!I$10,'DATA MAESTRO 2'!I$11,'DATA MAESTRO 2'!I$12,'DATA MAESTRO 2'!I$13,'DATA MAESTRO 2'!I$14,'DATA MAESTRO 2'!I$15,'DATA MAESTRO 2'!I$16,'DATA MAESTRO 2'!I$17,'DATA MAESTRO 2'!I$18,'DATA MAESTRO 2'!I$19,'DATA MAESTRO 2'!I$20,'DATA MAESTRO 2'!I$21,'DATA MAESTRO 2'!I$22,'DATA MAESTRO 2'!I$23,'DATA MAESTRO 2'!I$24,'DATA MAESTRO 2'!I$25,'DATA MAESTRO 2'!I$26,'DATA MAESTRO 2'!I$27,'DATA MAESTRO 2'!I$28,'DATA MAESTRO 2'!I$29,'DATA MAESTRO 2'!I$30,'DATA MAESTRO 2'!I$31,'DATA MAESTRO 2'!I$32,'DATA MAESTRO 2'!I$33,'DATA MAESTRO 2'!I$34,'DATA MAESTRO 2'!I$35,'DATA MAESTRO 2'!I$36,'DATA MAESTRO 2'!I$37,'DATA MAESTRO 2'!I$38,'DATA MAESTRO 2'!I$39,'DATA MAESTRO 2'!I$40,)","v":0.42},{"$f":"CHOOSE($B14,'DATA MAESTRO 2'!J$6,'DATA MAESTRO 2'!J$7,'DATA MAESTRO 2'!J$8,'DATA MAESTRO 2'!J$9,'DATA MAESTRO 2'!J$10,'DATA MAESTRO 2'!J$11,'DATA MAESTRO 2'!J$12,'DATA MAESTRO 2'!J$13,'DATA MAESTRO 2'!J$14,'DATA MAESTRO 2'!J$15,'DATA MAESTRO 2'!J$16,'DATA MAESTRO 2'!J$17,'DATA MAESTRO 2'!J$18,'DATA MAESTRO 2'!J$19,'DATA MAESTRO 2'!J$20,'DATA MAESTRO 2'!J$21,'DATA MAESTRO 2'!J$22,'DATA MAESTRO 2'!J$23,'DATA MAESTRO 2'!J$24,'DATA MAESTRO 2'!J$25,'DATA MAESTRO 2'!J$26,'DATA MAESTRO 2'!J$27,'DATA MAESTRO 2'!J$28,'DATA MAESTRO 2'!J$29,'DATA MAESTRO 2'!J$30,'DATA MAESTRO 2'!J$31,'DATA MAESTRO 2'!J$32,'DATA MAESTRO 2'!J$33,'DATA MAESTRO 2'!J$34,'DATA MAESTRO 2'!J$35,'DATA MAESTRO 2'!J$36,'DATA MAESTRO 2'!J$37,'DATA MAESTRO 2'!J$38,'DATA MAESTRO 2'!J$39,'DATA MAESTRO 2'!J$40,)","v":2E-3},{"$f":"CHOOSE($B14,'DATA MAESTRO 2'!K$6,'DATA MAESTRO 2'!K$7,'DATA MAESTRO 2'!K$8,'DATA MAESTRO 2'!K$9,'DATA MAESTRO 2'!K$10,'DATA MAESTRO 2'!K$11,'DATA MAESTRO 2'!K$12,'DATA MAESTRO 2'!K$13,'DATA MAESTRO 2'!K$14,'DATA MAESTRO 2'!K$15,'DATA MAESTRO 2'!K$16,'DATA MAESTRO 2'!K$17,'DATA MAESTRO 2'!K$18,'DATA MAESTRO 2'!K$19,'DATA MAESTRO 2'!K$20,'DATA MAESTRO 2'!K$21,'DATA MAESTRO 2'!K$22,'DATA MAESTRO 2'!K$23,'DATA MAESTRO 2'!K$24,'DATA MAESTRO 2'!K$25,'DATA MAESTRO 2'!K$26,'DATA MAESTRO 2'!K$27,'DATA MAESTRO 2'!K$28,'DATA MAESTRO 2'!K$29,'DATA MAESTRO 2'!K$30,'DATA MAESTRO 2'!K$31,'DATA MAESTRO 2'!K$32,'DATA MAESTRO 2'!K$33,'DATA MAESTRO 2'!K$34,'DATA MAESTRO 2'!K$35,'DATA MAESTRO 2'!K$36,'DATA MAESTRO 2'!K$37,'DATA MAESTRO 2'!K$38,'DATA MAESTRO 2'!K$39,'DATA MAESTRO 2'!K$40,)","v":6.0000000000000001E-3},{"$f":"CHOOSE($B14,'DATA MAESTRO 2'!L$6,'DATA MAESTRO 2'!L$7,'DATA MAESTRO 2'!L$8,'DATA MAESTRO 2'!L$9,'DATA MAESTRO 2'!L$10,'DATA MAESTRO 2'!L$11,'DATA MAESTRO 2'!L$12,'DATA MAESTRO 2'!L$13,'DATA MAESTRO 2'!L$14,'DATA MAESTRO 2'!L$15,'DATA MAESTRO 2'!L$16,'DATA MAESTRO 2'!L$17,'DATA MAESTRO 2'!L$18,'DATA MAESTRO 2'!L$19,'DATA MAESTRO 2'!L$20,'DATA MAESTRO 2'!L$21,'DATA MAESTRO 2'!L$22,'DATA MAESTRO 2'!L$23,'DATA MAESTRO 2'!L$24,'DATA MAESTRO 2'!L$25,'DATA MAESTRO 2'!L$26,'DATA MAESTRO 2'!L$27,'DATA MAESTRO 2'!L$28,'DATA MAESTRO 2'!L$29,'DATA MAESTRO 2'!L$30,'DATA MAESTRO 2'!L$31,'DATA MAESTRO 2'!L$32,'DATA MAESTRO 2'!L$33,'DATA MAESTRO 2'!L$34,'DATA MAESTRO 2'!L$35,'DATA MAESTRO 2'!L$36,'DATA MAESTRO 2'!L$37,'DATA MAESTRO 2'!L$38,'DATA MAESTRO 2'!L$39,'DATA MAESTRO 2'!L$40,)","v":2.7910733599999999},{"$f":"CHOOSE($B14,'DATA MAESTRO 2'!M$6,'DATA MAESTRO 2'!M$7,'DATA MAESTRO 2'!M$8,'DATA MAESTRO 2'!M$9,'DATA MAESTRO 2'!M$10,'DATA MAESTRO 2'!M$11,'DATA MAESTRO 2'!M$12,'DATA MAESTRO 2'!M$13,'DATA MAESTRO 2'!M$14,'DATA MAESTRO 2'!M$15,'DATA MAESTRO 2'!M$16,'DATA MAESTRO 2'!M$17,'DATA MAESTRO 2'!M$18,'DATA MAESTRO 2'!M$19,'DATA MAESTRO 2'!M$20,'DATA MAESTRO 2'!M$21,'DATA MAESTRO 2'!M$22,'DATA MAESTRO 2'!M$23,'DATA MAESTRO 2'!M$24,'DATA MAESTRO 2'!M$25,'DATA MAESTRO 2'!M$26,'DATA MAESTRO 2'!M$27,'DATA MAESTRO 2'!M$28,'DATA MAESTRO 2'!M$29,'DATA MAESTRO 2'!M$30,'DATA MAESTRO 2'!M$31,'DATA MAESTRO 2'!M$32,'DATA MAESTRO 2'!M$33,'DATA MAESTRO 2'!M$34,'DATA MAESTRO 2'!M$35,'DATA MAESTRO 2'!M$36,'DATA MAESTRO 2'!M$37,'DATA MAESTRO 2'!M$38,'DATA MAESTRO 2'!M$39,'DATA MAESTRO 2'!M$40,)","v":1.7936263115679996},{"$f":"CHOOSE($B14,'DATA MAESTRO 2'!N$6,'DATA MAESTRO 2'!N$7,'DATA MAESTRO 2'!N$8,'DATA MAESTRO 2'!N$9,'DATA MAESTRO 2'!N$10,'DATA MAESTRO 2'!N$11,'DATA MAESTRO 2'!N$12,'DATA MAESTRO 2'!N$13,'DATA MAESTRO 2'!N$14,'DATA MAESTRO 2'!N$15,'DATA MAESTRO 2'!N$16,'DATA MAESTRO 2'!N$17,'DATA MAESTRO 2'!N$18,'DATA MAESTRO 2'!N$19,'DATA MAESTRO 2'!N$20,'DATA MAESTRO 2'!N$21,'DATA MAESTRO 2'!N$22,'DATA MAESTRO 2'!N$23,'DATA MAESTRO 2'!N$24,'DATA MAESTRO 2'!N$25,'DATA MAESTRO 2'!N$26,'DATA MAESTRO 2'!N$27,'DATA MAESTRO 2'!N$28,'DATA MAESTRO 2'!N$29,'DATA MAESTRO 2'!N$30,'DATA MAESTRO 2'!N$31,'DATA MAESTRO 2'!N$32,'DATA MAESTRO 2'!N$33,'DATA MAESTRO 2'!N$34,'DATA MAESTRO 2'!N$35,'DATA MAESTRO 2'!N$36,'DATA MAESTRO 2'!N$37,'DATA MAESTRO 2'!N$38,'DATA MAESTRO 2'!N$39,'DATA MAESTRO 2'!N$40,)","v":1.7714000000000003},{"$f":"CHOOSE($B14,'DATA MAESTRO 2'!O$6,'DATA MAESTRO 2'!O$7,'DATA MAESTRO 2'!O$8,'DATA MAESTRO 2'!O$9,'DATA MAESTRO 2'!O$10,'DATA MAESTRO 2'!O$11,'DATA MAESTRO 2'!O$12,'DATA MAESTRO 2'!O$13,'DATA MAESTRO 2'!O$14,'DATA MAESTRO 2'!O$15,'DATA MAESTRO 2'!O$16,'DATA MAESTRO 2'!O$17,'DATA MAESTRO 2'!O$18,'DATA MAESTRO 2'!O$19,'DATA MAESTRO 2'!O$20,'DATA MAESTRO 2'!O$21,'DATA MAESTRO 2'!O$22,'DATA MAESTRO 2'!O$23,'DATA MAESTRO 2'!O$24,'DATA MAESTRO 2'!O$25,'DATA MAESTRO 2'!O$26,'DATA MAESTRO 2'!O$27,'DATA MAESTRO 2'!O$28,'DATA MAESTRO 2'!O$29,'DATA MAESTRO 2'!O$30,'DATA MAESTRO 2'!O$31,'DATA MAESTRO 2'!O$32,'DATA MAESTRO 2'!O$33,'DATA MAESTRO 2'!O$34,'DATA MAESTRO 2'!O$35,'DATA MAESTRO 2'!O$36,'DATA MAESTRO 2'!O$37,'DATA MAESTRO 2'!O$38,'DATA MAESTRO 2'!O$39,'DATA MAESTRO 2'!O$40,)","v":2.2892961092400004},{"$f":"CHOOSE($B14,'DATA MAESTRO 2'!P$6,'DATA MAESTRO 2'!P$7,'DATA MAESTRO 2'!P$8,'DATA MAESTRO 2'!P$9,'DATA MAESTRO 2'!P$10,'DATA MAESTRO 2'!P$11,'DATA MAESTRO 2'!P$12,'DATA MAESTRO 2'!P$13,'DATA MAESTRO 2'!P$14,'DATA MAESTRO 2'!P$15,'DATA MAESTRO 2'!P$16,'DATA MAESTRO 2'!P$17,'DATA MAESTRO 2'!P$18,'DATA MAESTRO 2'!P$19,'DATA MAESTRO 2'!P$20,'DATA MAESTRO 2'!P$21,'DATA MAESTRO 2'!P$22,'DATA MAESTRO 2'!P$23,'DATA MAESTRO 2'!P$24,'DATA MAESTRO 2'!P$25,'DATA MAESTRO 2'!P$26,'DATA MAESTRO 2'!P$27,'DATA MAESTRO 2'!P$28,'DATA MAESTRO 2'!P$29,'DATA MAESTRO 2'!P$30,'DATA MAESTRO 2'!P$31,'DATA MAESTRO 2'!P$32,'DATA MAESTRO 2'!P$33,'DATA MAESTRO 2'!P$34,'DATA MAESTRO 2'!P$35,'DATA MAESTRO 2'!P$36,'DATA MAESTRO 2'!P$37,'DATA MAESTRO 2'!P$38,'DATA MAESTRO 2'!P$39,'DATA MAESTRO 2'!P$40,)","v":0.19},{"$f":"CHOOSE($B14,'DATA MAESTRO 2'!Q$6,'DATA MAESTRO 2'!Q$7,'DATA MAESTRO 2'!Q$8,'DATA MAESTRO 2'!Q$9,'DATA MAESTRO 2'!Q$10,'DATA MAESTRO 2'!Q$11,'DATA MAESTRO 2'!Q$12,'DATA MAESTRO 2'!Q$13,'DATA MAESTRO 2'!Q$14,'DATA MAESTRO 2'!Q$15,'DATA MAESTRO 2'!Q$16,'DATA MAESTRO 2'!Q$17,'DATA MAESTRO 2'!Q$18,'DATA MAESTRO 2'!Q$19,'DATA MAESTRO 2'!Q$20,'DATA MAESTRO 2'!Q$21,'DATA MAESTRO 2'!Q$22,'DATA MAESTRO 2'!Q$23,'DATA MAESTRO 2'!Q$24,'DATA MAESTRO 2'!Q$25,'DATA MAESTRO 2'!Q$26,'DATA MAESTRO 2'!Q$27,'DATA MAESTRO 2'!Q$28,'DATA MAESTRO 2'!Q$29,'DATA MAESTRO 2'!Q$30,'DATA MAESTRO 2'!Q$31,'DATA MAESTRO 2'!Q$32,'DATA MAESTRO 2'!Q$33,'DATA MAESTRO 2'!Q$34,'DATA MAESTRO 2'!Q$35,'DATA MAESTRO 2'!Q$36,'DATA MAESTRO 2'!Q$37,'DATA MAESTRO 2'!Q$38,'DATA MAESTRO 2'!Q$39,'DATA MAESTRO 2'!Q$40,)","v":0.09},{"$f":"CHOOSE($B14,'DATA MAESTRO 2'!R$6,'DATA MAESTRO 2'!R$7,'DATA MAESTRO 2'!R$8,'DATA MAESTRO 2'!R$9,'DATA MAESTRO 2'!R$10,'DATA MAESTRO 2'!R$11,'DATA MAESTRO 2'!R$12,'DATA MAESTRO 2'!R$13,'DATA MAESTRO 2'!R$14,'DATA MAESTRO 2'!R$15,'DATA MAESTRO 2'!R$16,'DATA MAESTRO 2'!R$17,'DATA MAESTRO 2'!R$18,'DATA MAESTRO 2'!R$19,'DATA MAESTRO 2'!R$20,'DATA MAESTRO 2'!R$21,'DATA MAESTRO 2'!R$22,'DATA MAESTRO 2'!R$23,'DATA MAESTRO 2'!R$24,'DATA MAESTRO 2'!R$25,'DATA MAESTRO 2'!R$26,'DATA MAESTRO 2'!R$27,'DATA MAESTRO 2'!R$28,'DATA MAESTRO 2'!R$29,'DATA MAESTRO 2'!R$30,'DATA MAESTRO 2'!R$31,'DATA MAESTRO 2'!R$32,'DATA MAESTRO 2'!R$33,'DATA MAESTRO 2'!R$34,'DATA MAESTRO 2'!R$35,'DATA MAESTRO 2'!R$36,'DATA MAESTRO 2'!R$37,'DATA MAESTRO 2'!R$38,'DATA MAESTRO 2'!R$39,'DATA MAESTRO 2'!R$40,)","v":0.61},{"$f":"CHOOSE($B14,'DATA MAESTRO 2'!S$6,'DATA MAESTRO 2'!S$7,'DATA MAESTRO 2'!S$8,'DATA MAESTRO 2'!S$9,'DATA MAESTRO 2'!S$10,'DATA MAESTRO 2'!S$11,'DATA MAESTRO 2'!S$12,'DATA MAESTRO 2'!S$13,'DATA MAESTRO 2'!S$14,'DATA MAESTRO 2'!S$15,'DATA MAESTRO 2'!S$16,'DATA MAESTRO 2'!S$17,'DATA MAESTRO 2'!S$18,'DATA MAESTRO 2'!S$19,'DATA MAESTRO 2'!S$20,'DATA MAESTRO 2'!S$21,'DATA MAESTRO 2'!S$22,'DATA MAESTRO 2'!S$23,'DATA MAESTRO 2'!S$24,'DATA MAESTRO 2'!S$25,'DATA MAESTRO 2'!S$26,'DATA MAESTRO 2'!S$27,'DATA MAESTRO 2'!S$28,'DATA MAESTRO 2'!S$29,'DATA MAESTRO 2'!S$30,'DATA MAESTRO 2'!S$31,'DATA MAESTRO 2'!S$32,'DATA MAESTRO 2'!S$33,'DATA MAESTRO 2'!S$34,'DATA MAESTRO 2'!S$35,'DATA MAESTRO 2'!S$36,'DATA MAESTRO 2'!S$37,'DATA MAESTRO 2'!S$38,'DATA MAESTRO 2'!S$39,'DATA MAESTRO 2'!S$40,)","v":0.39},{"$f":"CHOOSE($B14,'DATA MAESTRO 2'!T$6,'DATA MAESTRO 2'!T$7,'DATA MAESTRO 2'!T$8,'DATA MAESTRO 2'!T$9,'DATA MAESTRO 2'!T$10,'DATA MAESTRO 2'!T$11,'DATA MAESTRO 2'!T$12,'DATA MAESTRO 2'!T$13,'DATA MAESTRO 2'!T$14,'DATA MAESTRO 2'!T$15,'DATA MAESTRO 2'!T$16,'DATA MAESTRO 2'!T$17,'DATA MAESTRO 2'!T$18,'DATA MAESTRO 2'!T$19,'DATA MAESTRO 2'!T$20,'DATA MAESTRO 2'!T$21,'DATA MAESTRO 2'!T$22,'DATA MAESTRO 2'!T$23,'DATA MAESTRO 2'!T$24,'DATA MAESTRO 2'!T$25,'DATA MAESTRO 2'!T$26,'DATA MAESTRO 2'!T$27,'DATA MAESTRO 2'!T$28,'DATA MAESTRO 2'!T$29,'DATA MAESTRO 2'!T$30,'DATA MAESTRO 2'!T$31,'DATA MAESTRO 2'!T$32,'DATA MAESTRO 2'!T$33,'DATA MAESTRO 2'!T$34,'DATA MAESTRO 2'!T$35,'DATA MAESTRO 2'!T$36,'DATA MAESTRO 2'!T$37,'DATA MAESTRO 2'!T$38,'DATA MAESTRO 2'!T$39,'DATA MAESTRO 2'!T$40,)","v":2.0000000000000001E-4},{"$f":"CHOOSE($B14,'DATA MAESTRO 2'!U$6,'DATA MAESTRO 2'!U$7,'DATA MAESTRO 2'!U$8,'DATA MAESTRO 2'!U$9,'DATA MAESTRO 2'!U$10,'DATA MAESTRO 2'!U$11,'DATA MAESTRO 2'!U$12,'DATA MAESTRO 2'!U$13,'DATA MAESTRO 2'!U$14,'DATA MAESTRO 2'!U$15,'DATA MAESTRO 2'!U$16,'DATA MAESTRO 2'!U$17,'DATA MAESTRO 2'!U$18,'DATA MAESTRO 2'!U$19,'DATA MAESTRO 2'!U$20,'DATA MAESTRO 2'!U$21,'DATA MAESTRO 2'!U$22,'DATA MAESTRO 2'!U$23,'DATA MAESTRO 2'!U$24,'DATA MAESTRO 2'!U$25,'DATA MAESTRO 2'!U$26,'DATA MAESTRO 2'!U$27,'DATA MAESTRO 2'!U$28,'DATA MAESTRO 2'!U$29,'DATA MAESTRO 2'!U$30,'DATA MAESTRO 2'!U$31,'DATA MAESTRO 2'!U$32,'DATA MAESTRO 2'!U$33,'DATA MAESTRO 2'!U$34,'DATA MAESTRO 2'!U$35,'DATA MAESTRO 2'!U$36,'DATA MAESTRO 2'!U$37,'DATA MAESTRO 2'!U$38,'DATA MAESTRO 2'!U$39,'DATA MAESTRO 2'!U$40,)","v":3.7000000000000002E-3},{"$f":"CHOOSE($B14,'DATA MAESTRO 2'!V$6,'DATA MAESTRO 2'!V$7,'DATA MAESTRO 2'!V$8,'DATA MAESTRO 2'!V$9,'DATA MAESTRO 2'!V$10,'DATA MAESTRO 2'!V$11,'DATA MAESTRO 2'!V$12,'DATA MAESTRO 2'!V$13,'DATA MAESTRO 2'!V$14,'DATA MAESTRO 2'!V$15,'DATA MAESTRO 2'!V$16,'DATA MAESTRO 2'!V$17,'DATA MAESTRO 2'!V$18,'DATA MAESTRO 2'!V$19,'DATA MAESTRO 2'!V$20,'DATA MAESTRO 2'!V$21,'DATA MAESTRO 2'!V$22,'DATA MAESTRO 2'!V$23,'DATA MAESTRO 2'!V$24,'DATA MAESTRO 2'!V$25,'DATA MAESTRO 2'!V$26,'DATA MAESTRO 2'!V$27,'DATA MAESTRO 2'!V$28,'DATA MAESTRO 2'!V$29,'DATA MAESTRO 2'!V$30,'DATA MAESTRO 2'!V$31,'DATA MAESTRO 2'!V$32,'DATA MAESTRO 2'!V$33,'DATA MAESTRO 2'!V$34,'DATA MAESTRO 2'!V$35,'DATA MAESTRO 2'!V$36,'DATA MAESTRO 2'!V$37,'DATA MAESTRO 2'!V$38,'DATA MAESTRO 2'!V$39,'DATA MAESTRO 2'!V$40,)","v":1.1000000000000001E-2},{"$f":"CHOOSE($B14,'DATA MAESTRO 2'!W$6,'DATA MAESTRO 2'!W$7,'DATA MAESTRO 2'!W$8,'DATA MAESTRO 2'!W$9,'DATA MAESTRO 2'!W$10,'DATA MAESTRO 2'!W$11,'DATA MAESTRO 2'!W$12,'DATA MAESTRO 2'!W$13,'DATA MAESTRO 2'!W$14,'DATA MAESTRO 2'!W$15,'DATA MAESTRO 2'!W$16,'DATA MAESTRO 2'!W$17,'DATA MAESTRO 2'!W$18,'DATA MAESTRO 2'!W$19,'DATA MAESTRO 2'!W$20,'DATA MAESTRO 2'!W$21,'DATA MAESTRO 2'!W$22,'DATA MAESTRO 2'!W$23,'DATA MAESTRO 2'!W$24,'DATA MAESTRO 2'!W$25,'DATA MAESTRO 2'!W$26,'DATA MAESTRO 2'!W$27,'DATA MAESTRO 2'!W$28,'DATA MAESTRO 2'!W$29,'DATA MAESTRO 2'!W$30,'DATA MAESTRO 2'!W$31,'DATA MAESTRO 2'!W$32,'DATA MAESTRO 2'!W$33,'DATA MAESTRO 2'!W$34,'DATA MAESTRO 2'!W$35,'DATA MAESTRO 2'!W$36,'DATA MAESTRO 2'!W$37,'DATA MAESTRO 2'!W$38,'DATA MAESTRO 2'!W$39,'DATA MAESTRO 2'!W$40,)","v":2.0000000000000001E-4},{"$f":"CHOOSE($B14,'DATA MAESTRO 2'!X$6,'DATA MAESTRO 2'!X$7,'DATA MAESTRO 2'!X$8,'DATA MAESTRO 2'!X$9,'DATA MAESTRO 2'!X$10,'DATA MAESTRO 2'!X$11,'DATA MAESTRO 2'!X$12,'DATA MAESTRO 2'!X$13,'DATA MAESTRO 2'!X$14,'DATA MAESTRO 2'!X$15,'DATA MAESTRO 2'!X$16,'DATA MAESTRO 2'!X$17,'DATA MAESTRO 2'!X$18,'DATA MAESTRO 2'!X$19,'DATA MAESTRO 2'!X$20,'DATA MAESTRO 2'!X$21,'DATA MAESTRO 2'!X$22,'DATA MAESTRO 2'!X$23,'DATA MAESTRO 2'!X$24,'DATA MAESTRO 2'!X$25,'DATA MAESTRO 2'!X$26,'DATA MAESTRO 2'!X$27,'DATA MAESTRO 2'!X$28,'DATA MAESTRO 2'!X$29,'DATA MAESTRO 2'!X$30,'DATA MAESTRO 2'!X$31,'DATA MAESTRO 2'!X$32,'DATA MAESTRO 2'!X$33,'DATA MAESTRO 2'!X$34,'DATA MAESTRO 2'!X$35,'DATA MAESTRO 2'!X$36,'DATA MAESTRO 2'!X$37,'DATA MAESTRO 2'!X$38,'DATA MAESTRO 2'!X$39,'DATA MAESTRO 2'!X$40,)","v":8.9999999999999998E-4},{"$f":"CHOOSE($B14,'DATA MAESTRO 2'!Y$6,'DATA MAESTRO 2'!Y$7,'DATA MAESTRO 2'!Y$8,'DATA MAESTRO 2'!Y$9,'DATA MAESTRO 2'!Y$10,'DATA MAESTRO 2'!Y$11,'DATA MAESTRO 2'!Y$12,'DATA MAESTRO 2'!Y$13,'DATA MAESTRO 2'!Y$14,'DATA MAESTRO 2'!Y$15,'DATA MAESTRO 2'!Y$16,'DATA MAESTRO 2'!Y$17,'DATA MAESTRO 2'!Y$18,'DATA MAESTRO 2'!Y$19,'DATA MAESTRO 2'!Y$20,'DATA MAESTRO 2'!Y$21,'DATA MAESTRO 2'!Y$22,'DATA MAESTRO 2'!Y$23,'DATA MAESTRO 2'!Y$24,'DATA MAESTRO 2'!Y$25,'DATA MAESTRO 2'!Y$26,'DATA MAESTRO 2'!Y$27,'DATA MAESTRO 2'!Y$28,'DATA MAESTRO 2'!Y$29,'DATA MAESTRO 2'!Y$30,'DATA MAESTRO 2'!Y$31,'DATA MAESTRO 2'!Y$32,'DATA MAESTRO 2'!Y$33,'DATA MAESTRO 2'!Y$34,'DATA MAESTRO 2'!Y$35,'DATA MAESTRO 2'!Y$36,'DATA MAESTRO 2'!Y$37,'DATA MAESTRO 2'!Y$38,'DATA MAESTRO 2'!Y$39,'DATA MAESTRO 2'!Y$40,)","v":0},{"$f":"CHOOSE($B14,'DATA MAESTRO 2'!Z$6,'DATA MAESTRO 2'!Z$7,'DATA MAESTRO 2'!Z$8,'DATA MAESTRO 2'!Z$9,'DATA MAESTRO 2'!Z$10,'DATA MAESTRO 2'!Z$11,'DATA MAESTRO 2'!Z$12,'DATA MAESTRO 2'!Z$13,'DATA MAESTRO 2'!Z$14,'DATA MAESTRO 2'!Z$15,'DATA MAESTRO 2'!Z$16,'DATA MAESTRO 2'!Z$17,'DATA MAESTRO 2'!Z$18,'DATA MAESTRO 2'!Z$19,'DATA MAESTRO 2'!Z$20,'DATA MAESTRO 2'!Z$21,'DATA MAESTRO 2'!Z$22,'DATA MAESTRO 2'!Z$23,'DATA MAESTRO 2'!Z$24,'DATA MAESTRO 2'!Z$25,'DATA MAESTRO 2'!Z$26,'DATA MAESTRO 2'!Z$27,'DATA MAESTRO 2'!Z$28,'DATA MAESTRO 2'!Z$29,'DATA MAESTRO 2'!Z$30,'DATA MAESTRO 2'!Z$31,'DATA MAESTRO 2'!Z$32,'DATA MAESTRO 2'!Z$33,'DATA MAESTRO 2'!Z$34,'DATA MAESTRO 2'!Z$35,'DATA MAESTRO 2'!Z$36,'DATA MAESTRO 2'!Z$37,'DATA MAESTRO 2'!Z$38,'DATA MAESTRO 2'!Z$39,'DATA MAESTRO 2'!Z$40,)","v":0},{"$f":"CHOOSE($B14,'DATA MAESTRO 2'!AA$6,'DATA MAESTRO 2'!AA$7,'DATA MAESTRO 2'!AA$8,'DATA MAESTRO 2'!AA$9,'DATA MAESTRO 2'!AA$10,'DATA MAESTRO 2'!AA$11,'DATA MAESTRO 2'!AA$12,'DATA MAESTRO 2'!AA$13,'DATA MAESTRO 2'!AA$14,'DATA MAESTRO 2'!AA$15,'DATA MAESTRO 2'!AA$16,'DATA MAESTRO 2'!AA$17,'DATA MAESTRO 2'!AA$18,'DATA MAESTRO 2'!AA$19,'DATA MAESTRO 2'!AA$20,'DATA MAESTRO 2'!AA$21,'DATA MAESTRO 2'!AA$22,'DATA MAESTRO 2'!AA$23,'DATA MAESTRO 2'!AA$24,'DATA MAESTRO 2'!AA$25,'DATA MAESTRO 2'!AA$26,'DATA MAESTRO 2'!AA$27,'DATA MAESTRO 2'!AA$28,'DATA MAESTRO 2'!AA$29,'DATA MAESTRO 2'!AA$30,'DATA MAESTRO 2'!AA$31,'DATA MAESTRO 2'!AA$32,'DATA MAESTRO 2'!AA$33,'DATA MAESTRO 2'!AA$34,'DATA MAESTRO 2'!AA$35,'DATA MAESTRO 2'!AA$36,'DATA MAESTRO 2'!AA$37,'DATA MAESTRO 2'!AA$38,'DATA MAESTRO 2'!AA$39,'DATA MAESTRO 2'!AA$40,)","v":0},{"$f":"CHOOSE($B14,'DATA MAESTRO 2'!AB$6,'DATA MAESTRO 2'!AB$7,'DATA MAESTRO 2'!AB$8,'DATA MAESTRO 2'!AB$9,'DATA MAESTRO 2'!AB$10,'DATA MAESTRO 2'!AB$11,'DATA MAESTRO 2'!AB$12,'DATA MAESTRO 2'!AB$13,'DATA MAESTRO 2'!AB$14,'DATA MAESTRO 2'!AB$15,'DATA MAESTRO 2'!AB$16,'DATA MAESTRO 2'!AB$17,'DATA MAESTRO 2'!AB$18,'DATA MAESTRO 2'!AB$19,'DATA MAESTRO 2'!AB$20,'DATA MAESTRO 2'!AB$21,'DATA MAESTRO 2'!AB$22,'DATA MAESTRO 2'!AB$23,'DATA MAESTRO 2'!AB$24,'DATA MAESTRO 2'!AB$25,'DATA MAESTRO 2'!AB$26,'DATA MAESTRO 2'!AB$27,'DATA MAESTRO 2'!AB$28,'DATA MAESTRO 2'!AB$29,'DATA MAESTRO 2'!AB$30,'DATA MAESTRO 2'!AB$31,'DATA MAESTRO 2'!AB$32,'DATA MAESTRO 2'!AB$33,'DATA MAESTRO 2'!AB$34,'DATA MAESTRO 2'!AB$35,'DATA MAESTRO 2'!AB$36,'DATA MAESTRO 2'!AB$37,'DATA MAESTRO 2'!AB$38,'DATA MAESTRO 2'!AB$39,'DATA MAESTRO 2'!AB$40,)","v":0},{"$f":"CHOOSE($B14,'DATA MAESTRO 2'!AC$6,'DATA MAESTRO 2'!AC$7,'DATA MAESTRO 2'!AC$8,'DATA MAESTRO 2'!AC$9,'DATA MAESTRO 2'!AC$10,'DATA MAESTRO 2'!AC$11,'DATA MAESTRO 2'!AC$12,'DATA MAESTRO 2'!AC$13,'DATA MAESTRO 2'!AC$14,'DATA MAESTRO 2'!AC$15,'DATA MAESTRO 2'!AC$16,'DATA MAESTRO 2'!AC$17,'DATA MAESTRO 2'!AC$18,'DATA MAESTRO 2'!AC$19,'DATA MAESTRO 2'!AC$20,'DATA MAESTRO 2'!AC$21,'DATA MAESTRO 2'!AC$22,'DATA MAESTRO 2'!AC$23,'DATA MAESTRO 2'!AC$24,'DATA MAESTRO 2'!AC$25,'DATA MAESTRO 2'!AC$26,'DATA MAESTRO 2'!AC$27,'DATA MAESTRO 2'!AC$28,'DATA MAESTRO 2'!AC$29,'DATA MAESTRO 2'!AC$30,'DATA MAESTRO 2'!AC$31,'DATA MAESTRO 2'!AC$32,'DATA MAESTRO 2'!AC$33,'DATA MAESTRO 2'!AC$34,'DATA MAESTRO 2'!AC$35,'DATA MAESTRO 2'!AC$36,'DATA MAESTRO 2'!AC$37,'DATA MAESTRO 2'!AC$38,'DATA MAESTRO 2'!AC$39,'DATA MAESTRO 2'!AC$40,)","v":0},{"$f":"CHOOSE($B14,'DATA MAESTRO 2'!AD$6,'DATA MAESTRO 2'!AD$7,'DATA MAESTRO 2'!AD$8,'DATA MAESTRO 2'!AD$9,'DATA MAESTRO 2'!AD$10,'DATA MAESTRO 2'!AD$11,'DATA MAESTRO 2'!AD$12,'DATA MAESTRO 2'!AD$13,'DATA MAESTRO 2'!AD$14,'DATA MAESTRO 2'!AD$15,'DATA MAESTRO 2'!AD$16,'DATA MAESTRO 2'!AD$17,'DATA MAESTRO 2'!AD$18,'DATA MAESTRO 2'!AD$19,'DATA MAESTRO 2'!AD$20,'DATA MAESTRO 2'!AD$21,'DATA MAESTRO 2'!AD$22,'DATA MAESTRO 2'!AD$23,'DATA MAESTRO 2'!AD$24,'DATA MAESTRO 2'!AD$25,'DATA MAESTRO 2'!AD$26,'DATA MAESTRO 2'!AD$27,'DATA MAESTRO 2'!AD$28,'DATA MAESTRO 2'!AD$29,'DATA MAESTRO 2'!AD$30,'DATA MAESTRO 2'!AD$31,'DATA MAESTRO 2'!AD$32,'DATA MAESTRO 2'!AD$33,'DATA MAESTRO 2'!AD$34,'DATA MAESTRO 2'!AD$35,'DATA MAESTRO 2'!AD$36,'DATA MAESTRO 2'!AD$37,'DATA MAESTRO 2'!AD$38,'DATA MAESTRO 2'!AD$39,'DATA MAESTRO 2'!AD$40,)","v":0},{"$f":"CHOOSE($B14,'DATA MAESTRO 2'!AE$6,'DATA MAESTRO 2'!AE$7,'DATA MAESTRO 2'!AE$8,'DATA MAESTRO 2'!AE$9,'DATA MAESTRO 2'!AE$10,'DATA MAESTRO 2'!AE$11,'DATA MAESTRO 2'!AE$12,'DATA MAESTRO 2'!AE$13,'DATA MAESTRO 2'!AE$14,'DATA MAESTRO 2'!AE$15,'DATA MAESTRO 2'!AE$16,'DATA MAESTRO 2'!AE$17,'DATA MAESTRO 2'!AE$18,'DATA MAESTRO 2'!AE$19,'DATA MAESTRO 2'!AE$20,'DATA MAESTRO 2'!AE$21,'DATA MAESTRO 2'!AE$22,'DATA MAESTRO 2'!AE$23,'DATA MAESTRO 2'!AE$24,'DATA MAESTRO 2'!AE$25,'DATA MAESTRO 2'!AE$26,'DATA MAESTRO 2'!AE$27,'DATA MAESTRO 2'!AE$28,'DATA MAESTRO 2'!AE$29,'DATA MAESTRO 2'!AE$30,'DATA MAESTRO 2'!AE$31,'DATA MAESTRO 2'!AE$32,'DATA MAESTRO 2'!AE$33,'DATA MAESTRO 2'!AE$34,'DATA MAESTRO 2'!AE$35,'DATA MAESTRO 2'!AE$36,'DATA MAESTRO 2'!AE$37,'DATA MAESTRO 2'!AE$38,'DATA MAESTRO 2'!AE$39,'DATA MAESTRO 2'!AE$40,)","v":0},{"$f":"CHOOSE($B14,'DATA MAESTRO 2'!AF$6,'DATA MAESTRO 2'!AF$7,'DATA MAESTRO 2'!AF$8,'DATA MAESTRO 2'!AF$9,'DATA MAESTRO 2'!AF$10,'DATA MAESTRO 2'!AF$11,'DATA MAESTRO 2'!AF$12,'DATA MAESTRO 2'!AF$13,'DATA MAESTRO 2'!AF$14,'DATA MAESTRO 2'!AF$15,'DATA MAESTRO 2'!AF$16,'DATA MAESTRO 2'!AF$17,'DATA MAESTRO 2'!AF$18,'DATA MAESTRO 2'!AF$19,'DATA MAESTRO 2'!AF$20,'DATA MAESTRO 2'!AF$21,'DATA MAESTRO 2'!AF$22,'DATA MAESTRO 2'!AF$23,'DATA MAESTRO 2'!AF$24,'DATA MAESTRO 2'!AF$25,'DATA MAESTRO 2'!AF$26,'DATA MAESTRO 2'!AF$27,'DATA MAESTRO 2'!AF$28,'DATA MAESTRO 2'!AF$29,'DATA MAESTRO 2'!AF$30,'DATA MAESTRO 2'!AF$31,'DATA MAESTRO 2'!AF$32,'DATA MAESTRO 2'!AF$33,'DATA MAESTRO 2'!AF$34,'DATA MAESTRO 2'!AF$35,'DATA MAESTRO 2'!AF$36,'DATA MAESTRO 2'!AF$37,'DATA MAESTRO 2'!AF$38,'DATA MAESTRO 2'!AF$39,'DATA MAESTRO 2'!AF$40,)","v":0},{"$f":"CHOOSE($B14,'DATA MAESTRO 2'!AG$6,'DATA MAESTRO 2'!AG$7,'DATA MAESTRO 2'!AG$8,'DATA MAESTRO 2'!AG$9,'DATA MAESTRO 2'!AG$10,'DATA MAESTRO 2'!AG$11,'DATA MAESTRO 2'!AG$12,'DATA MAESTRO 2'!AG$13,'DATA MAESTRO 2'!AG$14,'DATA MAESTRO 2'!AG$15,'DATA MAESTRO 2'!AG$16,'DATA MAESTRO 2'!AG$17,'DATA MAESTRO 2'!AG$18,'DATA MAESTRO 2'!AG$19,'DATA MAESTRO 2'!AG$20,'DATA MAESTRO 2'!AG$21,'DATA MAESTRO 2'!AG$22,'DATA MAESTRO 2'!AG$23,'DATA MAESTRO 2'!AG$24,'DATA MAESTRO 2'!AG$25,'DATA MAESTRO 2'!AG$26,'DATA MAESTRO 2'!AG$27,'DATA MAESTRO 2'!AG$28,'DATA MAESTRO 2'!AG$29,'DATA MAESTRO 2'!AG$30,'DATA MAESTRO 2'!AG$31,'DATA MAESTRO 2'!AG$32,'DATA MAESTRO 2'!AG$33,'DATA MAESTRO 2'!AG$34,'DATA MAESTRO 2'!AG$35,'DATA MAESTRO 2'!AG$36,'DATA MAESTRO 2'!AG$37,'DATA MAESTRO 2'!AG$38,'DATA MAESTRO 2'!AG$39,'DATA MAESTRO 2'!AG$40,)","v":0},{"$f":"CHOOSE($B14,'DATA MAESTRO 2'!AH$6,'DATA MAESTRO 2'!AH$7,'DATA MAESTRO 2'!AH$8,'DATA MAESTRO 2'!AH$9,'DATA MAESTRO 2'!AH$10,'DATA MAESTRO 2'!AH$11,'DATA MAESTRO 2'!AH$12,'DATA MAESTRO 2'!AH$13,'DATA MAESTRO 2'!AH$14,'DATA MAESTRO 2'!AH$15,'DATA MAESTRO 2'!AH$16,'DATA MAESTRO 2'!AH$17,'DATA MAESTRO 2'!AH$18,'DATA MAESTRO 2'!AH$19,'DATA MAESTRO 2'!AH$20,'DATA MAESTRO 2'!AH$21,'DATA MAESTRO 2'!AH$22,'DATA MAESTRO 2'!AH$23,'DATA MAESTRO 2'!AH$24,'DATA MAESTRO 2'!AH$25,'DATA MAESTRO 2'!AH$26,'DATA MAESTRO 2'!AH$27,'DATA MAESTRO 2'!AH$28,'DATA MAESTRO 2'!AH$29,'DATA MAESTRO 2'!AH$30,'DATA MAESTRO 2'!AH$31,'DATA MAESTRO 2'!AH$32,'DATA MAESTRO 2'!AH$33,'DATA MAESTRO 2'!AH$34,'DATA MAESTRO 2'!AH$35,'DATA MAESTRO 2'!AH$36,'DATA MAESTRO 2'!AH$37,'DATA MAESTRO 2'!AH$38,'DATA MAESTRO 2'!AH$39,'DATA MAESTRO 2'!AH$40,)","v":0},{"$f":"CHOOSE($B14,'DATA MAESTRO 2'!AI$6,'DATA MAESTRO 2'!AI$7,'DATA MAESTRO 2'!AI$8,'DATA MAESTRO 2'!AI$9,'DATA MAESTRO 2'!AI$10,'DATA MAESTRO 2'!AI$11,'DATA MAESTRO 2'!AI$12,'DATA MAESTRO 2'!AI$13,'DATA MAESTRO 2'!AI$14,'DATA MAESTRO 2'!AI$15,'DATA MAESTRO 2'!AI$16,'DATA MAESTRO 2'!AI$17,'DATA MAESTRO 2'!AI$18,'DATA MAESTRO 2'!AI$19,'DATA MAESTRO 2'!AI$20,'DATA MAESTRO 2'!AI$21,'DATA MAESTRO 2'!AI$22,'DATA MAESTRO 2'!AI$23,'DATA MAESTRO 2'!AI$24,'DATA MAESTRO 2'!AI$25,'DATA MAESTRO 2'!AI$26,'DATA MAESTRO 2'!AI$27,'DATA MAESTRO 2'!AI$28,'DATA MAESTRO 2'!AI$29,'DATA MAESTRO 2'!AI$30,'DATA MAESTRO 2'!AI$31,'DATA MAESTRO 2'!AI$32,'DATA MAESTRO 2'!AI$33,'DATA MAESTRO 2'!AI$34,'DATA MAESTRO 2'!AI$35,'DATA MAESTRO 2'!AI$36,'DATA MAESTRO 2'!AI$37,'DATA MAESTRO 2'!AI$38,'DATA MAESTRO 2'!AI$39,'DATA MAESTRO 2'!AI$40,)","v":0},{"$f":"CHOOSE($B14,'DATA MAESTRO 2'!AJ$6,'DATA MAESTRO 2'!AJ$7,'DATA MAESTRO 2'!AJ$8,'DATA MAESTRO 2'!AJ$9,'DATA MAESTRO 2'!AJ$10,'DATA MAESTRO 2'!AJ$11,'DATA MAESTRO 2'!AJ$12,'DATA MAESTRO 2'!AJ$13,'DATA MAESTRO 2'!AJ$14,'DATA MAESTRO 2'!AJ$15,'DATA MAESTRO 2'!AJ$16,'DATA MAESTRO 2'!AJ$17,'DATA MAESTRO 2'!AJ$18,'DATA MAESTRO 2'!AJ$19,'DATA MAESTRO 2'!AJ$20,'DATA MAESTRO 2'!AJ$21,'DATA MAESTRO 2'!AJ$22,'DATA MAESTRO 2'!AJ$23,'DATA MAESTRO 2'!AJ$24,'DATA MAESTRO 2'!AJ$25,'DATA MAESTRO 2'!AJ$26,'DATA MAESTRO 2'!AJ$27,'DATA MAESTRO 2'!AJ$28,'DATA MAESTRO 2'!AJ$29,'DATA MAESTRO 2'!AJ$30,'DATA MAESTRO 2'!AJ$31,'DATA MAESTRO 2'!AJ$32,'DATA MAESTRO 2'!AJ$33,'DATA MAESTRO 2'!AJ$34,'DATA MAESTRO 2'!AJ$35,'DATA MAESTRO 2'!AJ$36,'DATA MAESTRO 2'!AJ$37,'DATA MAESTRO 2'!AJ$38,'DATA MAESTRO 2'!AJ$39,'DATA MAESTRO 2'!AJ$40,)","v":0}]
[13,24,{"$f":"+IF(AND(B15>=1,B15<=36),VLOOKUP(B15,'DATA MAESTRO 2'!$A$6:$B$40,2),0)","v":"MONTAFOS"},{"$f":"+CHOOSE($B15,'DATA MAESTRO 2'!C$6,'DATA MAESTRO 2'!C$7,'DATA MAESTRO 2'!C$8,'DATA MAESTRO 2'!C$9,'DATA MAESTRO 2'!C$10,'DATA MAESTRO 2'!C$11,'DATA MAESTRO 2'!C$12,'DATA MAESTRO 2'!C$13,'DATA MAESTRO 2'!C$14,'DATA MAESTRO 2'!C$15,'DATA MAESTRO 2'!C$16,'DATA MAESTRO 2'!C$17,'DATA MAESTRO 2'!C$18,'DATA MAESTRO 2'!C$19,'DATA MAESTRO 2'!C$20,'DATA MAESTRO 2'!C$21,'DATA MAESTRO 2'!C$22,'DATA MAESTRO 2'!C$23,'DATA MAESTRO 2'!C$24,'DATA MAESTRO 2'!C$25,'DATA MAESTRO 2'!C$26,'DATA MAESTRO 2'!C$27,'DATA MAESTRO 2'!C$28,'DATA MAESTRO 2'!C$29,'DATA MAESTRO 2'!C$30,'DATA MAESTRO 2'!C$31,'DATA MAESTRO 2'!C$32,'DATA MAESTRO 2'!C$33,'DATA MAESTRO 2'!C$34,'DATA MAESTRO 2'!C$35,'DATA MAESTRO 2'!C$36,'DATA MAESTRO 2'!C$37,'DATA MAESTRO 2'!C$38,'DATA MAESTRO 2'!C$39,'DATA MAESTRO 2'!C$40,)","v":0},{"$f":"CHOOSE($B15,'DATA MAESTRO 2'!D$6,'DATA MAESTRO 2'!D$7,'DATA MAESTRO 2'!D$8,'DATA MAESTRO 2'!D$9,'DATA MAESTRO 2'!D$10,'DATA MAESTRO 2'!D$11,'DATA MAESTRO 2'!D$12,'DATA MAESTRO 2'!D$13,'DATA MAESTRO 2'!D$14,'DATA MAESTRO 2'!D$15,'DATA MAESTRO 2'!D$16,'DATA MAESTRO 2'!D$17,'DATA MAESTRO 2'!D$18,'DATA MAESTRO 2'!D$19,'DATA MAESTRO 2'!D$20,'DATA MAESTRO 2'!D$21,'DATA MAESTRO 2'!D$22,'DATA MAESTRO 2'!D$23,'DATA MAESTRO 2'!D$24,'DATA MAESTRO 2'!D$25,'DATA MAESTRO 2'!D$26,'DATA MAESTRO 2'!D$27,'DATA MAESTRO 2'!D$28,'DATA MAESTRO 2'!D$29,'DATA MAESTRO 2'!D$30,'DATA MAESTRO 2'!D$31,'DATA MAESTRO 2'!D$32,'DATA MAESTRO 2'!D$33,'DATA MAESTRO 2'!D$34,'DATA MAESTRO 2'!D$35,'DATA MAESTRO 2'!D$36,'DATA MAESTRO 2'!D$37,'DATA MAESTRO 2'!D$38,'DATA MAESTRO 2'!D$39,'DATA MAESTRO 2'!D$40,)","v":0.99},{"$f":"CHOOSE(B15,'DATA MAESTRO 2'!E$6,'DATA MAESTRO 2'!E$7,'DATA MAESTRO 2'!E$8,'DATA MAESTRO 2'!E$9,'DATA MAESTRO 2'!E$10,'DATA MAESTRO 2'!E$11,'DATA MAESTRO 2'!E$12,'DATA MAESTRO 2'!E$13,'DATA MAESTRO 2'!E$14,'DATA MAESTRO 2'!E$15,'DATA MAESTRO 2'!E$16,'DATA MAESTRO 2'!E$17,'DATA MAESTRO 2'!E$18,'DATA MAESTRO 2'!E$19,'DATA MAESTRO 2'!E$20,'DATA MAESTRO 2'!E$21,'DATA MAESTRO 2'!E$22,'DATA MAESTRO 2'!E$23,'DATA MAESTRO 2'!E$24,'DATA MAESTRO 2'!E$25,'DATA MAESTRO 2'!E$26,'DATA MAESTRO 2'!E$27,'DATA MAESTRO 2'!E$28,'DATA MAESTRO 2'!E$29,'DATA MAESTRO 2'!E$30,'DATA MAESTRO 2'!E$31,'DATA MAESTRO 2'!E$32,'DATA MAESTRO 2'!E$33,'DATA MAESTRO 2'!E$34,'DATA MAESTRO 2'!E$35,'DATA MAESTRO 2'!E$36,'DATA MAESTRO 2'!E$37,'DATA MAESTRO 2'!E$38,'DATA MAESTRO 2'!E$39,'DATA MAESTRO 2'!E$40,)","v":0},{"$f":"CHOOSE($B15,'DATA MAESTRO 2'!F$6,'DATA MAESTRO 2'!F$7,'DATA MAESTRO 2'!F$8,'DATA MAESTRO 2'!F$9,'DATA MAESTRO 2'!F$10,'DATA MAESTRO 2'!F$11,'DATA MAESTRO 2'!F$12,'DATA MAESTRO 2'!F$13,'DATA MAESTRO 2'!F$14,'DATA MAESTRO 2'!F$15,'DATA MAESTRO 2'!F$16,'DATA MAESTRO 2'!F$17,'DATA MAESTRO 2'!F$18,'DATA MAESTRO 2'!F$19,'DATA MAESTRO 2'!F$20,'DATA MAESTRO 2'!F$21,'DATA MAESTRO 2'!F$22,'DATA MAESTRO 2'!F$23,'DATA MAESTRO 2'!F$24,'DATA MAESTRO 2'!F$25,'DATA MAESTRO 2'!F$26,'DATA MAESTRO 2'!F$27,'DATA MAESTRO 2'!F$28,'DATA MAESTRO 2'!F$29,'DATA MAESTRO 2'!F$30,'DATA MAESTRO 2'!F$31,'DATA MAESTRO 2'!F$32,'DATA MAESTRO 2'!F$33,'DATA MAESTRO 2'!F$34,'DATA MAESTRO 2'!F$35,'DATA MAESTRO 2'!F$36,'DATA MAESTRO 2'!F$37,'DATA MAESTRO 2'!F$38,'DATA MAESTRO 2'!F$39,'DATA MAESTRO 2'!F$40,)","v":0},{"$f":"CHOOSE($B15,'DATA MAESTRO 2'!G$6,'DATA MAESTRO 2'!G$7,'DATA MAESTRO 2'!G$8,'DATA MAESTRO 2'!G$9,'DATA MAESTRO 2'!G$10,'DATA MAESTRO 2'!G$11,'DATA MAESTRO 2'!G$12,'DATA MAESTRO 2'!G$13,'DATA MAESTRO 2'!G$14,'DATA MAESTRO 2'!G$15,'DATA MAESTRO 2'!G$16,'DATA MAESTRO 2'!G$17,'DATA MAESTRO 2'!G$18,'DATA MAESTRO 2'!G$19,'DATA MAESTRO 2'!G$20,'DATA MAESTRO 2'!G$21,'DATA MAESTRO 2'!G$22,'DATA MAESTRO 2'!G$23,'DATA MAESTRO 2'!G$24,'DATA MAESTRO 2'!G$25,'DATA MAESTRO 2'!G$26,'DATA MAESTRO 2'!G$27,'DATA MAESTRO 2'!G$28,'DATA MAESTRO 2'!G$29,'DATA MAESTRO 2'!G$30,'DATA MAESTRO 2'!G$31,'DATA MAESTRO 2'!G$32,'DATA MAESTRO 2'!G$33,'DATA MAESTRO 2'!G$34,'DATA MAESTRO 2'!G$35,'DATA MAESTRO 2'!G$36,'DATA MAESTRO 2'!G$37,'DATA MAESTRO 2'!G$38,'DATA MAESTRO 2'!G$39,'DATA MAESTRO 2'!G$40,)","v":0},{"$f":"CHOOSE($B15,'DATA MAESTRO 2'!H$6,'DATA MAESTRO 2'!H$7,'DATA MAESTRO 2'!H$8,'DATA MAESTRO 2'!H$9,'DATA MAESTRO 2'!H$10,'DATA MAESTRO 2'!H$11,'DATA MAESTRO 2'!H$12,'DATA MAESTRO 2'!H$13,'DATA MAESTRO 2'!H$14,'DATA MAESTRO 2'!H$15,'DATA MAESTRO 2'!H$16,'DATA MAESTRO 2'!H$17,'DATA MAESTRO 2'!H$18,'DATA MAESTRO 2'!H$19,'DATA MAESTRO 2'!H$20,'DATA MAESTRO 2'!H$21,'DATA MAESTRO 2'!H$22,'DATA MAESTRO 2'!H$23,'DATA MAESTRO 2'!H$24,'DATA MAESTRO 2'!H$25,'DATA MAESTRO 2'!H$26,'DATA MAESTRO 2'!H$27,'DATA MAESTRO 2'!H$28,'DATA MAESTRO 2'!H$29,'DATA MAESTRO 2'!H$30,'DATA MAESTRO 2'!H$31,'DATA MAESTRO 2'!H$32,'DATA MAESTRO 2'!H$33,'DATA MAESTRO 2'!H$34,'DATA MAESTRO 2'!H$35,'DATA MAESTRO 2'!H$36,'DATA MAESTRO 2'!H$37,'DATA MAESTRO 2'!H$38,'DATA MAESTRO 2'!H$39,'DATA MAESTRO 2'!H$40,)","v":0},{"$f":"CHOOSE($B15,'DATA MAESTRO 2'!I$6,'DATA MAESTRO 2'!I$7,'DATA MAESTRO 2'!I$8,'DATA MAESTRO 2'!I$9,'DATA MAESTRO 2'!I$10,'DATA MAESTRO 2'!I$11,'DATA MAESTRO 2'!I$12,'DATA MAESTRO 2'!I$13,'DATA MAESTRO 2'!I$14,'DATA MAESTRO 2'!I$15,'DATA MAESTRO 2'!I$16,'DATA MAESTRO 2'!I$17,'DATA MAESTRO 2'!I$18,'DATA MAESTRO 2'!I$19,'DATA MAESTRO 2'!I$20,'DATA MAESTRO 2'!I$21,'DATA MAESTRO 2'!I$22,'DATA MAESTRO 2'!I$23,'DATA MAESTRO 2'!I$24,'DATA MAESTRO 2'!I$25,'DATA MAESTRO 2'!I$26,'DATA MAESTRO 2'!I$27,'DATA MAESTRO 2'!I$28,'DATA MAESTRO 2'!I$29,'DATA MAESTRO 2'!I$30,'DATA MAESTRO 2'!I$31,'DATA MAESTRO 2'!I$32,'DATA MAESTRO 2'!I$33,'DATA MAESTRO 2'!I$34,'DATA MAESTRO 2'!I$35,'DATA MAESTRO 2'!I$36,'DATA MAESTRO 2'!I$37,'DATA MAESTRO 2'!I$38,'DATA MAESTRO 2'!I$39,'DATA MAESTRO 2'!I$40,)","v":0},{"$f":"CHOOSE($B15,'DATA MAESTRO 2'!J$6,'DATA MAESTRO 2'!J$7,'DATA MAESTRO 2'!J$8,'DATA MAESTRO 2'!J$9,'DATA MAESTRO 2'!J$10,'DATA MAESTRO 2'!J$11,'DATA MAESTRO 2'!J$12,'DATA MAESTRO 2'!J$13,'DATA MAESTRO 2'!J$14,'DATA MAESTRO 2'!J$15,'DATA MAESTRO 2'!J$16,'DATA MAESTRO 2'!J$17,'DATA MAESTRO 2'!J$18,'DATA MAESTRO 2'!J$19,'DATA MAESTRO 2'!J$20,'DATA MAESTRO 2'!J$21,'DATA MAESTRO 2'!J$22,'DATA MAESTRO 2'!J$23,'DATA MAESTRO 2'!J$24,'DATA MAESTRO 2'!J$25,'DATA MAESTRO 2'!J$26,'DATA MAESTRO 2'!J$27,'DATA MAESTRO 2'!J$28,'DATA MAESTRO 2'!J$29,'DATA MAESTRO 2'!J$30,'DATA MAESTRO 2'!J$31,'DATA MAESTRO 2'!J$32,'DATA MAESTRO 2'!J$33,'DATA MAESTRO 2'!J$34,'DATA MAESTRO 2'!J$35,'DATA MAESTRO 2'!J$36,'DATA MAESTRO 2'!J$37,'DATA MAESTRO 2'!J$38,'DATA MAESTRO 2'!J$39,'DATA MAESTRO 2'!J$40,)","v":0.18},{"$f":"CHOOSE($B15,'DATA MAESTRO 2'!K$6,'DATA MAESTRO 2'!K$7,'DATA MAESTRO 2'!K$8,'DATA MAESTRO 2'!K$9,'DATA MAESTRO 2'!K$10,'DATA MAESTRO 2'!K$11,'DATA MAESTRO 2'!K$12,'DATA MAESTRO 2'!K$13,'DATA MAESTRO 2'!K$14,'DATA MAESTRO 2'!K$15,'DATA MAESTRO 2'!K$16,'DATA MAESTRO 2'!K$17,'DATA MAESTRO 2'!K$18,'DATA MAESTRO 2'!K$19,'DATA MAESTRO 2'!K$20,'DATA MAESTRO 2'!K$21,'DATA MAESTRO 2'!K$22,'DATA MAESTRO 2'!K$23,'DATA MAESTRO 2'!K$24,'DATA MAESTRO 2'!K$25,'DATA MAESTRO 2'!K$26,'DATA MAESTRO 2'!K$27,'DATA MAESTRO 2'!K$28,'DATA MAESTRO 2'!K$29,'DATA MAESTRO 2'!K$30,'DATA MAESTRO 2'!K$31,'DATA MAESTRO 2'!K$32,'DATA MAESTRO 2'!K$33,'DATA MAESTRO 2'!K$34,'DATA MAESTRO 2'!K$35,'DATA MAESTRO 2'!K$36,'DATA MAESTRO 2'!K$37,'DATA MAESTRO 2'!K$38,'DATA MAESTRO 2'!K$39,'DATA MAESTRO 2'!K$40,)","v":0.21},{"$f":"CHOOSE($B15,'DATA MAESTRO 2'!L$6,'DATA MAESTRO 2'!L$7,'DATA MAESTRO 2'!L$8,'DATA MAESTRO 2'!L$9,'DATA MAESTRO 2'!L$10,'DATA MAESTRO 2'!L$11,'DATA MAESTRO 2'!L$12,'DATA MAESTRO 2'!L$13,'DATA MAESTRO 2'!L$14,'DATA MAESTRO 2'!L$15,'DATA MAESTRO 2'!L$16,'DATA MAESTRO 2'!L$17,'DATA MAESTRO 2'!L$18,'DATA MAESTRO 2'!L$19,'DATA MAESTRO 2'!L$20,'DATA MAESTRO 2'!L$21,'DATA MAESTRO 2'!L$22,'DATA MAESTRO 2'!L$23,'DATA MAESTRO 2'!L$24,'DATA MAESTRO 2'!L$25,'DATA MAESTRO 2'!L$26,'DATA MAESTRO 2'!L$27,'DATA MAESTRO 2'!L$28,'DATA MAESTRO 2'!L$29,'DATA MAESTRO 2'!L$30,'DATA MAESTRO 2'!L$31,'DATA MAESTRO 2'!L$32,'DATA MAESTRO 2'!L$33,'DATA MAESTRO 2'!L$34,'DATA MAESTRO 2'!L$35,'DATA MAESTRO 2'!L$36,'DATA MAESTRO 2'!L$37,'DATA MAESTRO 2'!L$38,'DATA MAESTRO 2'!L$39,'DATA MAESTRO 2'!L$40,)","v":0},{"$f":"CHOOSE($B15,'DATA MAESTRO 2'!M$6,'DATA MAESTRO 2'!M$7,'DATA MAESTRO 2'!M$8,'DATA MAESTRO 2'!M$9,'DATA MAESTRO 2'!M$10,'DATA MAESTRO 2'!M$11,'DATA MAESTRO 2'!M$12,'DATA MAESTRO 2'!M$13,'DATA MAESTRO 2'!M$14,'DATA MAESTRO 2'!M$15,'DATA MAESTRO 2'!M$16,'DATA MAESTRO 2'!M$17,'DATA MAESTRO 2'!M$18,'DATA MAESTRO 2'!M$19,'DATA MAESTRO 2'!M$20,'DATA MAESTRO 2'!M$21,'DATA MAESTRO 2'!M$22,'DATA MAESTRO 2'!M$23,'DATA MAESTRO 2'!M$24,'DATA MAESTRO 2'!M$25,'DATA MAESTRO 2'!M$26,'DATA MAESTRO 2'!M$27,'DATA MAESTRO 2'!M$28,'DATA MAESTRO 2'!M$29,'DATA MAESTRO 2'!M$30,'DATA MAESTRO 2'!M$31,'DATA MAESTRO 2'!M$32,'DATA MAESTRO 2'!M$33,'DATA MAESTRO 2'!M$34,'DATA MAESTRO 2'!M$35,'DATA MAESTRO 2'!M$36,'DATA MAESTRO 2'!M$37,'DATA MAESTRO 2'!M$38,'DATA MAESTRO 2'!M$39,'DATA MAESTRO 2'!M$40,)","v":0},{"$f":"CHOOSE($B15,'DATA MAESTRO 2'!N$6,'DATA MAESTRO 2'!N$7,'DATA MAESTRO 2'!N$8,'DATA MAESTRO 2'!N$9,'DATA MAESTRO 2'!N$10,'DATA MAESTRO 2'!N$11,'DATA MAESTRO 2'!N$12,'DATA MAESTRO 2'!N$13,'DATA MAESTRO 2'!N$14,'DATA MAESTRO 2'!N$15,'DATA MAESTRO 2'!N$16,'DATA MAESTRO 2'!N$17,'DATA MAESTRO 2'!N$18,'DATA MAESTRO 2'!N$19,'DATA MAESTRO 2'!N$20,'DATA MAESTRO 2'!N$21,'DATA MAESTRO 2'!N$22,'DATA MAESTRO 2'!N$23,'DATA MAESTRO 2'!N$24,'DATA MAESTRO 2'!N$25,'DATA MAESTRO 2'!N$26,'DATA MAESTRO 2'!N$27,'DATA MAESTRO 2'!N$28,'DATA MAESTRO 2'!N$29,'DATA MAESTRO 2'!N$30,'DATA MAESTRO 2'!N$31,'DATA MAESTRO 2'!N$32,'DATA MAESTRO 2'!N$33,'DATA MAESTRO 2'!N$34,'DATA MAESTRO 2'!N$35,'DATA MAESTRO 2'!N$36,'DATA MAESTRO 2'!N$37,'DATA MAESTRO 2'!N$38,'DATA MAESTRO 2'!N$39,'DATA MAESTRO 2'!N$40,)","v":0},{"$f":"CHOOSE($B15,'DATA MAESTRO 2'!O$6,'DATA MAESTRO 2'!O$7,'DATA MAESTRO 2'!O$8,'DATA MAESTRO 2'!O$9,'DATA MAESTRO 2'!O$10,'DATA MAESTRO 2'!O$11,'DATA MAESTRO 2'!O$12,'DATA MAESTRO 2'!O$13,'DATA MAESTRO 2'!O$14,'DATA MAESTRO 2'!O$15,'DATA MAESTRO 2'!O$16,'DATA MAESTRO 2'!O$17,'DATA MAESTRO 2'!O$18,'DATA MAESTRO 2'!O$19,'DATA MAESTRO 2'!O$20,'DATA MAESTRO 2'!O$21,'DATA MAESTRO 2'!O$22,'DATA MAESTRO 2'!O$23,'DATA MAESTRO 2'!O$24,'DATA MAESTRO 2'!O$25,'DATA MAESTRO 2'!O$26,'DATA MAESTRO 2'!O$27,'DATA MAESTRO 2'!O$28,'DATA MAESTRO 2'!O$29,'DATA MAESTRO 2'!O$30,'DATA MAESTRO 2'!O$31,'DATA MAESTRO 2'!O$32,'DATA MAESTRO 2'!O$33,'DATA MAESTRO 2'!O$34,'DATA MAESTRO 2'!O$35,'DATA MAESTRO 2'!O$36,'DATA MAESTRO 2'!O$37,'DATA MAESTRO 2'!O$38,'DATA MAESTRO 2'!O$39,'DATA MAESTRO 2'!O$40,)","v":0},{"$f":"CHOOSE($B15,'DATA MAESTRO 2'!P$6,'DATA MAESTRO 2'!P$7,'DATA MAESTRO 2'!P$8,'DATA MAESTRO 2'!P$9,'DATA MAESTRO 2'!P$10,'DATA MAESTRO 2'!P$11,'DATA MAESTRO 2'!P$12,'DATA MAESTRO 2'!P$13,'DATA MAESTRO 2'!P$14,'DATA MAESTRO 2'!P$15,'DATA MAESTRO 2'!P$16,'DATA MAESTRO 2'!P$17,'DATA MAESTRO 2'!P$18,'DATA MAESTRO 2'!P$19,'DATA MAESTRO 2'!P$20,'DATA MAESTRO 2'!P$21,'DATA MAESTRO 2'!P$22,'DATA MAESTRO 2'!P$23,'DATA MAESTRO 2'!P$24,'DATA MAESTRO 2'!P$25,'DATA MAESTRO 2'!P$26,'DATA MAESTRO 2'!P$27,'DATA MAESTRO 2'!P$28,'DATA MAESTRO 2'!P$29,'DATA MAESTRO 2'!P$30,'DATA MAESTRO 2'!P$31,'DATA MAESTRO 2'!P$32,'DATA MAESTRO 2'!P$33,'DATA MAESTRO 2'!P$34,'DATA MAESTRO 2'!P$35,'DATA MAESTRO 2'!P$36,'DATA MAESTRO 2'!P$37,'DATA MAESTRO 2'!P$38,'DATA MAESTRO 2'!P$39,'DATA MAESTRO 2'!P$40,)","v":0},{"$f":"CHOOSE($B15,'DATA MAESTRO 2'!Q$6,'DATA MAESTRO 2'!Q$7,'DATA MAESTRO 2'!Q$8,'DATA MAESTRO 2'!Q$9,'DATA MAESTRO 2'!Q$10,'DATA MAESTRO 2'!Q$11,'DATA MAESTRO 2'!Q$12,'DATA MAESTRO 2'!Q$13,'DATA MAESTRO 2'!Q$14,'DATA MAESTRO 2'!Q$15,'DATA MAESTRO 2'!Q$16,'DATA MAESTRO 2'!Q$17,'DATA MAESTRO 2'!Q$18,'DATA MAESTRO 2'!Q$19,'DATA MAESTRO 2'!Q$20,'DATA MAESTRO 2'!Q$21,'DATA MAESTRO 2'!Q$22,'DATA MAESTRO 2'!Q$23,'DATA MAESTRO 2'!Q$24,'DATA MAESTRO 2'!Q$25,'DATA MAESTRO 2'!Q$26,'DATA MAESTRO 2'!Q$27,'DATA MAESTRO 2'!Q$28,'DATA MAESTRO 2'!Q$29,'DATA MAESTRO 2'!Q$30,'DATA MAESTRO 2'!Q$31,'DATA MAESTRO 2'!Q$32,'DATA MAESTRO 2'!Q$33,'DATA MAESTRO 2'!Q$34,'DATA MAESTRO 2'!Q$35,'DATA MAESTRO 2'!Q$36,'DATA MAESTRO 2'!Q$37,'DATA MAESTRO 2'!Q$38,'DATA MAESTRO 2'!Q$39,'DATA MAESTRO 2'!Q$40,)","v":0},{"$f":"CHOOSE($B15,'DATA MAESTRO 2'!R$6,'DATA MAESTRO 2'!R$7,'DATA MAESTRO 2'!R$8,'DATA MAESTRO 2'!R$9,'DATA MAESTRO 2'!R$10,'DATA MAESTRO 2'!R$11,'DATA MAESTRO 2'!R$12,'DATA MAESTRO 2'!R$13,'DATA MAESTRO 2'!R$14,'DATA MAESTRO 2'!R$15,'DATA MAESTRO 2'!R$16,'DATA MAESTRO 2'!R$17,'DATA MAESTRO 2'!R$18,'DATA MAESTRO 2'!R$19,'DATA MAESTRO 2'!R$20,'DATA MAESTRO 2'!R$21,'DATA MAESTRO 2'!R$22,'DATA MAESTRO 2'!R$23,'DATA MAESTRO 2'!R$24,'DATA MAESTRO 2'!R$25,'DATA MAESTRO 2'!R$26,'DATA MAESTRO 2'!R$27,'DATA MAESTRO 2'!R$28,'DATA MAESTRO 2'!R$29,'DATA MAESTRO 2'!R$30,'DATA MAESTRO 2'!R$31,'DATA MAESTRO 2'!R$32,'DATA MAESTRO 2'!R$33,'DATA MAESTRO 2'!R$34,'DATA MAESTRO 2'!R$35,'DATA MAESTRO 2'!R$36,'DATA MAESTRO 2'!R$37,'DATA MAESTRO 2'!R$38,'DATA MAESTRO 2'!R$39,'DATA MAESTRO 2'!R$40,)","v":0},{"$f":"CHOOSE($B15,'DATA MAESTRO 2'!S$6,'DATA MAESTRO 2'!S$7,'DATA MAESTRO 2'!S$8,'DATA MAESTRO 2'!S$9,'DATA MAESTRO 2'!S$10,'DATA MAESTRO 2'!S$11,'DATA MAESTRO 2'!S$12,'DATA MAESTRO 2'!S$13,'DATA MAESTRO 2'!S$14,'DATA MAESTRO 2'!S$15,'DATA MAESTRO 2'!S$16,'DATA MAESTRO 2'!S$17,'DATA MAESTRO 2'!S$18,'DATA MAESTRO 2'!S$19,'DATA MAESTRO 2'!S$20,'DATA MAESTRO 2'!S$21,'DATA MAESTRO 2'!S$22,'DATA MAESTRO 2'!S$23,'DATA MAESTRO 2'!S$24,'DATA MAESTRO 2'!S$25,'DATA MAESTRO 2'!S$26,'DATA MAESTRO 2'!S$27,'DATA MAESTRO 2'!S$28,'DATA MAESTRO 2'!S$29,'DATA MAESTRO 2'!S$30,'DATA MAESTRO 2'!S$31,'DATA MAESTRO 2'!S$32,'DATA MAESTRO 2'!S$33,'DATA MAESTRO 2'!S$34,'DATA MAESTRO 2'!S$35,'DATA MAESTRO 2'!S$36,'DATA MAESTRO 2'!S$37,'DATA MAESTRO 2'!S$38,'DATA MAESTRO 2'!S$39,'DATA MAESTRO 2'!S$40,)","v":0},{"$f":"CHOOSE($B15,'DATA MAESTRO 2'!T$6,'DATA MAESTRO 2'!T$7,'DATA MAESTRO 2'!T$8,'DATA MAESTRO 2'!T$9,'DATA MAESTRO 2'!T$10,'DATA MAESTRO 2'!T$11,'DATA MAESTRO 2'!T$12,'DATA MAESTRO 2'!T$13,'DATA MAESTRO 2'!T$14,'DATA MAESTRO 2'!T$15,'DATA MAESTRO 2'!T$16,'DATA MAESTRO 2'!T$17,'DATA MAESTRO 2'!T$18,'DATA MAESTRO 2'!T$19,'DATA MAESTRO 2'!T$20,'DATA MAESTRO 2'!T$21,'DATA MAESTRO 2'!T$22,'DATA MAESTRO 2'!T$23,'DATA MAESTRO 2'!T$24,'DATA MAESTRO 2'!T$25,'DATA MAESTRO 2'!T$26,'DATA MAESTRO 2'!T$27,'DATA MAESTRO 2'!T$28,'DATA MAESTRO 2'!T$29,'DATA MAESTRO 2'!T$30,'DATA MAESTRO 2'!T$31,'DATA MAESTRO 2'!T$32,'DATA MAESTRO 2'!T$33,'DATA MAESTRO 2'!T$34,'DATA MAESTRO 2'!T$35,'DATA MAESTRO 2'!T$36,'DATA MAESTRO 2'!T$37,'DATA MAESTRO 2'!T$38,'DATA MAESTRO 2'!T$39,'DATA MAESTRO 2'!T$40,)","v":0},{"$f":"CHOOSE($B15,'DATA MAESTRO 2'!U$6,'DATA MAESTRO 2'!U$7,'DATA MAESTRO 2'!U$8,'DATA MAESTRO 2'!U$9,'DATA MAESTRO 2'!U$10,'DATA MAESTRO 2'!U$11,'DATA MAESTRO 2'!U$12,'DATA MAESTRO 2'!U$13,'DATA MAESTRO 2'!U$14,'DATA MAESTRO 2'!U$15,'DATA MAESTRO 2'!U$16,'DATA MAESTRO 2'!U$17,'DATA MAESTRO 2'!U$18,'DATA MAESTRO 2'!U$19,'DATA MAESTRO 2'!U$20,'DATA MAESTRO 2'!U$21,'DATA MAESTRO 2'!U$22,'DATA MAESTRO 2'!U$23,'DATA MAESTRO 2'!U$24,'DATA MAESTRO 2'!U$25,'DATA MAESTRO 2'!U$26,'DATA MAESTRO 2'!U$27,'DATA MAESTRO 2'!U$28,'DATA MAESTRO 2'!U$29,'DATA MAESTRO 2'!U$30,'DATA MAESTRO 2'!U$31,'DATA MAESTRO 2'!U$32,'DATA MAESTRO 2'!U$33,'DATA MAESTRO 2'!U$34,'DATA MAESTRO 2'!U$35,'DATA MAESTRO 2'!U$36,'DATA MAESTRO 2'!U$37,'DATA MAESTRO 2'!U$38,'DATA MAESTRO 2'!U$39,'DATA MAESTRO 2'!U$40,)","v":0},{"$f":"CHOOSE($B15,'DATA MAESTRO 2'!V$6,'DATA MAESTRO 2'!V$7,'DATA MAESTRO 2'!V$8,'DATA MAESTRO 2'!V$9,'DATA MAESTRO 2'!V$10,'DATA MAESTRO 2'!V$11,'DATA MAESTRO 2'!V$12,'DATA MAESTRO 2'!V$13,'DATA MAESTRO 2'!V$14,'DATA MAESTRO 2'!V$15,'DATA MAESTRO 2'!V$16,'DATA MAESTRO 2'!V$17,'DATA MAESTRO 2'!V$18,'DATA MAESTRO 2'!V$19,'DATA MAESTRO 2'!V$20,'DATA MAESTRO 2'!V$21,'DATA MAESTRO 2'!V$22,'DATA MAESTRO 2'!V$23,'DATA MAESTRO 2'!V$24,'DATA MAESTRO 2'!V$25,'DATA MAESTRO 2'!V$26,'DATA MAESTRO 2'!V$27,'DATA MAESTRO 2'!V$28,'DATA MAESTRO 2'!V$29,'DATA MAESTRO 2'!V$30,'DATA MAESTRO 2'!V$31,'DATA MAESTRO 2'!V$32,'DATA MAESTRO 2'!V$33,'DATA MAESTRO 2'!V$34,'DATA MAESTRO 2'!V$35,'DATA MAESTRO 2'!V$36,'DATA MAESTRO 2'!V$37,'DATA MAESTRO 2'!V$38,'DATA MAESTRO 2'!V$39,'DATA MAESTRO 2'!V$40,)","v":0},{"$f":"CHOOSE($B15,'DATA MAESTRO 2'!W$6,'DATA MAESTRO 2'!W$7,'DATA MAESTRO 2'!W$8,'DATA MAESTRO 2'!W$9,'DATA MAESTRO 2'!W$10,'DATA MAESTRO 2'!W$11,'DATA MAESTRO 2'!W$12,'DATA MAESTRO 2'!W$13,'DATA MAESTRO 2'!W$14,'DATA MAESTRO 2'!W$15,'DATA MAESTRO 2'!W$16,'DATA MAESTRO 2'!W$17,'DATA MAESTRO 2'!W$18,'DATA MAESTRO 2'!W$19,'DATA MAESTRO 2'!W$20,'DATA MAESTRO 2'!W$21,'DATA MAESTRO 2'!W$22,'DATA MAESTRO 2'!W$23,'DATA MAESTRO 2'!W$24,'DATA MAESTRO 2'!W$25,'DATA MAESTRO 2'!W$26,'DATA MAESTRO 2'!W$27,'DATA MAESTRO 2'!W$28,'DATA MAESTRO 2'!W$29,'DATA MAESTRO 2'!W$30,'DATA MAESTRO 2'!W$31,'DATA MAESTRO 2'!W$32,'DATA MAESTRO 2'!W$33,'DATA MAESTRO 2'!W$34,'DATA MAESTRO 2'!W$35,'DATA MAESTRO 2'!W$36,'DATA MAESTRO 2'!W$37,'DATA MAESTRO 2'!W$38,'DATA MAESTRO 2'!W$39,'DATA MAESTRO 2'!W$40,)","v":0},{"$f":"CHOOSE($B15,'DATA MAESTRO 2'!X$6,'DATA MAESTRO 2'!X$7,'DATA MAESTRO 2'!X$8,'DATA MAESTRO 2'!X$9,'DATA MAESTRO 2'!X$10,'DATA MAESTRO 2'!X$11,'DATA MAESTRO 2'!X$12,'DATA MAESTRO 2'!X$13,'DATA MAESTRO 2'!X$14,'DATA MAESTRO 2'!X$15,'DATA MAESTRO 2'!X$16,'DATA MAESTRO 2'!X$17,'DATA MAESTRO 2'!X$18,'DATA MAESTRO 2'!X$19,'DATA MAESTRO 2'!X$20,'DATA MAESTRO 2'!X$21,'DATA MAESTRO 2'!X$22,'DATA MAESTRO 2'!X$23,'DATA MAESTRO 2'!X$24,'DATA MAESTRO 2'!X$25,'DATA MAESTRO 2'!X$26,'DATA MAESTRO 2'!X$27,'DATA MAESTRO 2'!X$28,'DATA MAESTRO 2'!X$29,'DATA MAESTRO 2'!X$30,'DATA MAESTRO 2'!X$31,'DATA MAESTRO 2'!X$32,'DATA MAESTRO 2'!X$33,'DATA MAESTRO 2'!X$34,'DATA MAESTRO 2'!X$35,'DATA MAESTRO 2'!X$36,'DATA MAESTRO 2'!X$37,'DATA MAESTRO 2'!X$38,'DATA MAESTRO 2'!X$39,'DATA MAESTRO 2'!X$40,)","v":0},{"$f":"CHOOSE($B15,'DATA MAESTRO 2'!Y$6,'DATA MAESTRO 2'!Y$7,'DATA MAESTRO 2'!Y$8,'DATA MAESTRO 2'!Y$9,'DATA MAESTRO 2'!Y$10,'DATA MAESTRO 2'!Y$11,'DATA MAESTRO 2'!Y$12,'DATA MAESTRO 2'!Y$13,'DATA MAESTRO 2'!Y$14,'DATA MAESTRO 2'!Y$15,'DATA MAESTRO 2'!Y$16,'DATA MAESTRO 2'!Y$17,'DATA MAESTRO 2'!Y$18,'DATA MAESTRO 2'!Y$19,'DATA MAESTRO 2'!Y$20,'DATA MAESTRO 2'!Y$21,'DATA MAESTRO 2'!Y$22,'DATA MAESTRO 2'!Y$23,'DATA MAESTRO 2'!Y$24,'DATA MAESTRO 2'!Y$25,'DATA MAESTRO 2'!Y$26,'DATA MAESTRO 2'!Y$27,'DATA MAESTRO 2'!Y$28,'DATA MAESTRO 2'!Y$29,'DATA MAESTRO 2'!Y$30,'DATA MAESTRO 2'!Y$31,'DATA MAESTRO 2'!Y$32,'DATA MAESTRO 2'!Y$33,'DATA MAESTRO 2'!Y$34,'DATA MAESTRO 2'!Y$35,'DATA MAESTRO 2'!Y$36,'DATA MAESTRO 2'!Y$37,'DATA MAESTRO 2'!Y$38,'DATA MAESTRO 2'!Y$39,'DATA MAESTRO 2'!Y$40,)","v":0},{"$f":"CHOOSE($B15,'DATA MAESTRO 2'!Z$6,'DATA MAESTRO 2'!Z$7,'DATA MAESTRO 2'!Z$8,'DATA MAESTRO 2'!Z$9,'DATA MAESTRO 2'!Z$10,'DATA MAESTRO 2'!Z$11,'DATA MAESTRO 2'!Z$12,'DATA MAESTRO 2'!Z$13,'DATA MAESTRO 2'!Z$14,'DATA MAESTRO 2'!Z$15,'DATA MAESTRO 2'!Z$16,'DATA MAESTRO 2'!Z$17,'DATA MAESTRO 2'!Z$18,'DATA MAESTRO 2'!Z$19,'DATA MAESTRO 2'!Z$20,'DATA MAESTRO 2'!Z$21,'DATA MAESTRO 2'!Z$22,'DATA MAESTRO 2'!Z$23,'DATA MAESTRO 2'!Z$24,'DATA MAESTRO 2'!Z$25,'DATA MAESTRO 2'!Z$26,'DATA MAESTRO 2'!Z$27,'DATA MAESTRO 2'!Z$28,'DATA MAESTRO 2'!Z$29,'DATA MAESTRO 2'!Z$30,'DATA MAESTRO 2'!Z$31,'DATA MAESTRO 2'!Z$32,'DATA MAESTRO 2'!Z$33,'DATA MAESTRO 2'!Z$34,'DATA MAESTRO 2'!Z$35,'DATA MAESTRO 2'!Z$36,'DATA MAESTRO 2'!Z$37,'DATA MAESTRO 2'!Z$38,'DATA MAESTRO 2'!Z$39,'DATA MAESTRO 2'!Z$40,)","v":0},{"$f":"CHOOSE($B15,'DATA MAESTRO 2'!AA$6,'DATA MAESTRO 2'!AA$7,'DATA MAESTRO 2'!AA$8,'DATA MAESTRO 2'!AA$9,'DATA MAESTRO 2'!AA$10,'DATA MAESTRO 2'!AA$11,'DATA MAESTRO 2'!AA$12,'DATA MAESTRO 2'!AA$13,'DATA MAESTRO 2'!AA$14,'DATA MAESTRO 2'!AA$15,'DATA MAESTRO 2'!AA$16,'DATA MAESTRO 2'!AA$17,'DATA MAESTRO 2'!AA$18,'DATA MAESTRO 2'!AA$19,'DATA MAESTRO 2'!AA$20,'DATA MAESTRO 2'!AA$21,'DATA MAESTRO 2'!AA$22,'DATA MAESTRO 2'!AA$23,'DATA MAESTRO 2'!AA$24,'DATA MAESTRO 2'!AA$25,'DATA MAESTRO 2'!AA$26,'DATA MAESTRO 2'!AA$27,'DATA MAESTRO 2'!AA$28,'DATA MAESTRO 2'!AA$29,'DATA MAESTRO 2'!AA$30,'DATA MAESTRO 2'!AA$31,'DATA MAESTRO 2'!AA$32,'DATA MAESTRO 2'!AA$33,'DATA MAESTRO 2'!AA$34,'DATA MAESTRO 2'!AA$35,'DATA MAESTRO 2'!AA$36,'DATA MAESTRO 2'!AA$37,'DATA MAESTRO 2'!AA$38,'DATA MAESTRO 2'!AA$39,'DATA MAESTRO 2'!AA$40,)","v":0},{"$f":"CHOOSE($B15,'DATA MAESTRO 2'!AB$6,'DATA MAESTRO 2'!AB$7,'DATA MAESTRO 2'!AB$8,'DATA MAESTRO 2'!AB$9,'DATA MAESTRO 2'!AB$10,'DATA MAESTRO 2'!AB$11,'DATA MAESTRO 2'!AB$12,'DATA MAESTRO 2'!AB$13,'DATA MAESTRO 2'!AB$14,'DATA MAESTRO 2'!AB$15,'DATA MAESTRO 2'!AB$16,'DATA MAESTRO 2'!AB$17,'DATA MAESTRO 2'!AB$18,'DATA MAESTRO 2'!AB$19,'DATA MAESTRO 2'!AB$20,'DATA MAESTRO 2'!AB$21,'DATA MAESTRO 2'!AB$22,'DATA MAESTRO 2'!AB$23,'DATA MAESTRO 2'!AB$24,'DATA MAESTRO 2'!AB$25,'DATA MAESTRO 2'!AB$26,'DATA MAESTRO 2'!AB$27,'DATA MAESTRO 2'!AB$28,'DATA MAESTRO 2'!AB$29,'DATA MAESTRO 2'!AB$30,'DATA MAESTRO 2'!AB$31,'DATA MAESTRO 2'!AB$32,'DATA MAESTRO 2'!AB$33,'DATA MAESTRO 2'!AB$34,'DATA MAESTRO 2'!AB$35,'DATA MAESTRO 2'!AB$36,'DATA MAESTRO 2'!AB$37,'DATA MAESTRO 2'!AB$38,'DATA MAESTRO 2'!AB$39,'DATA MAESTRO 2'!AB$40,)","v":0},{"$f":"CHOOSE($B15,'DATA MAESTRO 2'!AC$6,'DATA MAESTRO 2'!AC$7,'DATA MAESTRO 2'!AC$8,'DATA MAESTRO 2'!AC$9,'DATA MAESTRO 2'!AC$10,'DATA MAESTRO 2'!AC$11,'DATA MAESTRO 2'!AC$12,'DATA MAESTRO 2'!AC$13,'DATA MAESTRO 2'!AC$14,'DATA MAESTRO 2'!AC$15,'DATA MAESTRO 2'!AC$16,'DATA MAESTRO 2'!AC$17,'DATA MAESTRO 2'!AC$18,'DATA MAESTRO 2'!AC$19,'DATA MAESTRO 2'!AC$20,'DATA MAESTRO 2'!AC$21,'DATA MAESTRO 2'!AC$22,'DATA MAESTRO 2'!AC$23,'DATA MAESTRO 2'!AC$24,'DATA MAESTRO 2'!AC$25,'DATA MAESTRO 2'!AC$26,'DATA MAESTRO 2'!AC$27,'DATA MAESTRO 2'!AC$28,'DATA MAESTRO 2'!AC$29,'DATA MAESTRO 2'!AC$30,'DATA MAESTRO 2'!AC$31,'DATA MAESTRO 2'!AC$32,'DATA MAESTRO 2'!AC$33,'DATA MAESTRO 2'!AC$34,'DATA MAESTRO 2'!AC$35,'DATA MAESTRO 2'!AC$36,'DATA MAESTRO 2'!AC$37,'DATA MAESTRO 2'!AC$38,'DATA MAESTRO 2'!AC$39,'DATA MAESTRO 2'!AC$40,)","v":0},{"$f":"CHOOSE($B15,'DATA MAESTRO 2'!AD$6,'DATA MAESTRO 2'!AD$7,'DATA MAESTRO 2'!AD$8,'DATA MAESTRO 2'!AD$9,'DATA MAESTRO 2'!AD$10,'DATA MAESTRO 2'!AD$11,'DATA MAESTRO 2'!AD$12,'DATA MAESTRO 2'!AD$13,'DATA MAESTRO 2'!AD$14,'DATA MAESTRO 2'!AD$15,'DATA MAESTRO 2'!AD$16,'DATA MAESTRO 2'!AD$17,'DATA MAESTRO 2'!AD$18,'DATA MAESTRO 2'!AD$19,'DATA MAESTRO 2'!AD$20,'DATA MAESTRO 2'!AD$21,'DATA MAESTRO 2'!AD$22,'DATA MAESTRO 2'!AD$23,'DATA MAESTRO 2'!AD$24,'DATA MAESTRO 2'!AD$25,'DATA MAESTRO 2'!AD$26,'DATA MAESTRO 2'!AD$27,'DATA MAESTRO 2'!AD$28,'DATA MAESTRO 2'!AD$29,'DATA MAESTRO 2'!AD$30,'DATA MAESTRO 2'!AD$31,'DATA MAESTRO 2'!AD$32,'DATA MAESTRO 2'!AD$33,'DATA MAESTRO 2'!AD$34,'DATA MAESTRO 2'!AD$35,'DATA MAESTRO 2'!AD$36,'DATA MAESTRO 2'!AD$37,'DATA MAESTRO 2'!AD$38,'DATA MAESTRO 2'!AD$39,'DATA MAESTRO 2'!AD$40,)","v":0},{"$f":"CHOOSE($B15,'DATA MAESTRO 2'!AE$6,'DATA MAESTRO 2'!AE$7,'DATA MAESTRO 2'!AE$8,'DATA MAESTRO 2'!AE$9,'DATA MAESTRO 2'!AE$10,'DATA MAESTRO 2'!AE$11,'DATA MAESTRO 2'!AE$12,'DATA MAESTRO 2'!AE$13,'DATA MAESTRO 2'!AE$14,'DATA MAESTRO 2'!AE$15,'DATA MAESTRO 2'!AE$16,'DATA MAESTRO 2'!AE$17,'DATA MAESTRO 2'!AE$18,'DATA MAESTRO 2'!AE$19,'DATA MAESTRO 2'!AE$20,'DATA MAESTRO 2'!AE$21,'DATA MAESTRO 2'!AE$22,'DATA MAESTRO 2'!AE$23,'DATA MAESTRO 2'!AE$24,'DATA MAESTRO 2'!AE$25,'DATA MAESTRO 2'!AE$26,'DATA MAESTRO 2'!AE$27,'DATA MAESTRO 2'!AE$28,'DATA MAESTRO 2'!AE$29,'DATA MAESTRO 2'!AE$30,'DATA MAESTRO 2'!AE$31,'DATA MAESTRO 2'!AE$32,'DATA MAESTRO 2'!AE$33,'DATA MAESTRO 2'!AE$34,'DATA MAESTRO 2'!AE$35,'DATA MAESTRO 2'!AE$36,'DATA MAESTRO 2'!AE$37,'DATA MAESTRO 2'!AE$38,'DATA MAESTRO 2'!AE$39,'DATA MAESTRO 2'!AE$40,)","v":0},{"$f":"CHOOSE($B15,'DATA MAESTRO 2'!AF$6,'DATA MAESTRO 2'!AF$7,'DATA MAESTRO 2'!AF$8,'DATA MAESTRO 2'!AF$9,'DATA MAESTRO 2'!AF$10,'DATA MAESTRO 2'!AF$11,'DATA MAESTRO 2'!AF$12,'DATA MAESTRO 2'!AF$13,'DATA MAESTRO 2'!AF$14,'DATA MAESTRO 2'!AF$15,'DATA MAESTRO 2'!AF$16,'DATA MAESTRO 2'!AF$17,'DATA MAESTRO 2'!AF$18,'DATA MAESTRO 2'!AF$19,'DATA MAESTRO 2'!AF$20,'DATA MAESTRO 2'!AF$21,'DATA MAESTRO 2'!AF$22,'DATA MAESTRO 2'!AF$23,'DATA MAESTRO 2'!AF$24,'DATA MAESTRO 2'!AF$25,'DATA MAESTRO 2'!AF$26,'DATA MAESTRO 2'!AF$27,'DATA MAESTRO 2'!AF$28,'DATA MAESTRO 2'!AF$29,'DATA MAESTRO 2'!AF$30,'DATA MAESTRO 2'!AF$31,'DATA MAESTRO 2'!AF$32,'DATA MAESTRO 2'!AF$33,'DATA MAESTRO 2'!AF$34,'DATA MAESTRO 2'!AF$35,'DATA MAESTRO 2'!AF$36,'DATA MAESTRO 2'!AF$37,'DATA MAESTRO 2'!AF$38,'DATA MAESTRO 2'!AF$39,'DATA MAESTRO 2'!AF$40,)","v":0},{"$f":"CHOOSE($B15,'DATA MAESTRO 2'!AG$6,'DATA MAESTRO 2'!AG$7,'DATA MAESTRO 2'!AG$8,'DATA MAESTRO 2'!AG$9,'DATA MAESTRO 2'!AG$10,'DATA MAESTRO 2'!AG$11,'DATA MAESTRO 2'!AG$12,'DATA MAESTRO 2'!AG$13,'DATA MAESTRO 2'!AG$14,'DATA MAESTRO 2'!AG$15,'DATA MAESTRO 2'!AG$16,'DATA MAESTRO 2'!AG$17,'DATA MAESTRO 2'!AG$18,'DATA MAESTRO 2'!AG$19,'DATA MAESTRO 2'!AG$20,'DATA MAESTRO 2'!AG$21,'DATA MAESTRO 2'!AG$22,'DATA MAESTRO 2'!AG$23,'DATA MAESTRO 2'!AG$24,'DATA MAESTRO 2'!AG$25,'DATA MAESTRO 2'!AG$26,'DATA MAESTRO 2'!AG$27,'DATA MAESTRO 2'!AG$28,'DATA MAESTRO 2'!AG$29,'DATA MAESTRO 2'!AG$30,'DATA MAESTRO 2'!AG$31,'DATA MAESTRO 2'!AG$32,'DATA MAESTRO 2'!AG$33,'DATA MAESTRO 2'!AG$34,'DATA MAESTRO 2'!AG$35,'DATA MAESTRO 2'!AG$36,'DATA MAESTRO 2'!AG$37,'DATA MAESTRO 2'!AG$38,'DATA MAESTRO 2'!AG$39,'DATA MAESTRO 2'!AG$40,)","v":0},{"$f":"CHOOSE($B15,'DATA MAESTRO 2'!AH$6,'DATA MAESTRO 2'!AH$7,'DATA MAESTRO 2'!AH$8,'DATA MAESTRO 2'!AH$9,'DATA MAESTRO 2'!AH$10,'DATA MAESTRO 2'!AH$11,'DATA MAESTRO 2'!AH$12,'DATA MAESTRO 2'!AH$13,'DATA MAESTRO 2'!AH$14,'DATA MAESTRO 2'!AH$15,'DATA MAESTRO 2'!AH$16,'DATA MAESTRO 2'!AH$17,'DATA MAESTRO 2'!AH$18,'DATA MAESTRO 2'!AH$19,'DATA MAESTRO 2'!AH$20,'DATA MAESTRO 2'!AH$21,'DATA MAESTRO 2'!AH$22,'DATA MAESTRO 2'!AH$23,'DATA MAESTRO 2'!AH$24,'DATA MAESTRO 2'!AH$25,'DATA MAESTRO 2'!AH$26,'DATA MAESTRO 2'!AH$27,'DATA MAESTRO 2'!AH$28,'DATA MAESTRO 2'!AH$29,'DATA MAESTRO 2'!AH$30,'DATA MAESTRO 2'!AH$31,'DATA MAESTRO 2'!AH$32,'DATA MAESTRO 2'!AH$33,'DATA MAESTRO 2'!AH$34,'DATA MAESTRO 2'!AH$35,'DATA MAESTRO 2'!AH$36,'DATA MAESTRO 2'!AH$37,'DATA MAESTRO 2'!AH$38,'DATA MAESTRO 2'!AH$39,'DATA MAESTRO 2'!AH$40,)","v":0},{"$f":"CHOOSE($B15,'DATA MAESTRO 2'!AI$6,'DATA MAESTRO 2'!AI$7,'DATA MAESTRO 2'!AI$8,'DATA MAESTRO 2'!AI$9,'DATA MAESTRO 2'!AI$10,'DATA MAESTRO 2'!AI$11,'DATA MAESTRO 2'!AI$12,'DATA MAESTRO 2'!AI$13,'DATA MAESTRO 2'!AI$14,'DATA MAESTRO 2'!AI$15,'DATA MAESTRO 2'!AI$16,'DATA MAESTRO 2'!AI$17,'DATA MAESTRO 2'!AI$18,'DATA MAESTRO 2'!AI$19,'DATA MAESTRO 2'!AI$20,'DATA MAESTRO 2'!AI$21,'DATA MAESTRO 2'!AI$22,'DATA MAESTRO 2'!AI$23,'DATA MAESTRO 2'!AI$24,'DATA MAESTRO 2'!AI$25,'DATA MAESTRO 2'!AI$26,'DATA MAESTRO 2'!AI$27,'DATA MAESTRO 2'!AI$28,'DATA MAESTRO 2'!AI$29,'DATA MAESTRO 2'!AI$30,'DATA MAESTRO 2'!AI$31,'DATA MAESTRO 2'!AI$32,'DATA MAESTRO 2'!AI$33,'DATA MAESTRO 2'!AI$34,'DATA MAESTRO 2'!AI$35,'DATA MAESTRO 2'!AI$36,'DATA MAESTRO 2'!AI$37,'DATA MAESTRO 2'!AI$38,'DATA MAESTRO 2'!AI$39,'DATA MAESTRO 2'!AI$40,)","v":0},{"$f":"CHOOSE($B15,'DATA MAESTRO 2'!AJ$6,'DATA MAESTRO 2'!AJ$7,'DATA MAESTRO 2'!AJ$8,'DATA MAESTRO 2'!AJ$9,'DATA MAESTRO 2'!AJ$10,'DATA MAESTRO 2'!AJ$11,'DATA MAESTRO 2'!AJ$12,'DATA MAESTRO 2'!AJ$13,'DATA MAESTRO 2'!AJ$14,'DATA MAESTRO 2'!AJ$15,'DATA MAESTRO 2'!AJ$16,'DATA MAESTRO 2'!AJ$17,'DATA MAESTRO 2'!AJ$18,'DATA MAESTRO 2'!AJ$19,'DATA MAESTRO 2'!AJ$20,'DATA MAESTRO 2'!AJ$21,'DATA MAESTRO 2'!AJ$22,'DATA MAESTRO 2'!AJ$23,'DATA MAESTRO 2'!AJ$24,'DATA MAESTRO 2'!AJ$25,'DATA MAESTRO 2'!AJ$26,'DATA MAESTRO 2'!AJ$27,'DATA MAESTRO 2'!AJ$28,'DATA MAESTRO 2'!AJ$29,'DATA MAESTRO 2'!AJ$30,'DATA MAESTRO 2'!AJ$31,'DATA MAESTRO 2'!AJ$32,'DATA MAESTRO 2'!AJ$33,'DATA MAESTRO 2'!AJ$34,'DATA MAESTRO 2'!AJ$35,'DATA MAESTRO 2'!AJ$36,'DATA MAESTRO 2'!AJ$37,'DATA MAESTRO 2'!AJ$38,'DATA MAESTRO 2'!AJ$39,'DATA MAESTRO 2'!AJ$40,)","v":0}]
[14,36,{"$f":"+IF(AND(B16>=1,B16<=36),VLOOKUP(B16,'DATA MAESTRO 2'!$A$6:$B$40,2),0)","v":""},{"$f":"+CHOOSE($B16,'DATA MAESTRO 2'!C$6,'DATA MAESTRO 2'!C$7,'DATA MAESTRO 2'!C$8,'DATA MAESTRO 2'!C$9,'DATA MAESTRO 2'!C$10,'DATA MAESTRO 2'!C$11,'DATA MAESTRO 2'!C$12,'DATA MAESTRO 2'!C$13,'DATA MAESTRO 2'!C$14,'DATA MAESTRO 2'!C$15,'DATA MAESTRO 2'!C$16,'DATA MAESTRO 2'!C$17,'DATA MAESTRO 2'!C$18,'DATA MAESTRO 2'!C$19,'DATA MAESTRO 2'!C$20,'DATA MAESTRO 2'!C$21,'DATA MAESTRO 2'!C$22,'DATA MAESTRO 2'!C$23,'DATA MAESTRO 2'!C$24,'DATA MAESTRO 2'!C$25,'DATA MAESTRO 2'!C$26,'DATA MAESTRO 2'!C$27,'DATA MAESTRO 2'!C$28,'DATA MAESTRO 2'!C$29,'DATA MAESTRO 2'!C$30,'DATA MAESTRO 2'!C$31,'DATA MAESTRO 2'!C$32,'DATA MAESTRO 2'!C$33,'DATA MAESTRO 2'!C$34,'DATA MAESTRO 2'!C$35,'DATA MAESTRO 2'!C$36,'DATA MAESTRO 2'!C$37,'DATA MAESTRO 2'!C$38,'DATA MAESTRO 2'!C$39,'DATA MAESTRO 2'!C$40,)","v":0},{"$f":"CHOOSE($B16,'DATA MAESTRO 2'!D$6,'DATA MAESTRO 2'!D$7,'DATA MAESTRO 2'!D$8,'DATA MAESTRO 2'!D$9,'DATA MAESTRO 2'!D$10,'DATA MAESTRO 2'!D$11,'DATA MAESTRO 2'!D$12,'DATA MAESTRO 2'!D$13,'DATA MAESTRO 2'!D$14,'DATA MAESTRO 2'!D$15,'DATA MAESTRO 2'!D$16,'DATA MAESTRO 2'!D$17,'DATA MAESTRO 2'!D$18,'DATA MAESTRO 2'!D$19,'DATA MAESTRO 2'!D$20,'DATA MAESTRO 2'!D$21,'DATA MAESTRO 2'!D$22,'DATA MAESTRO 2'!D$23,'DATA MAESTRO 2'!D$24,'DATA MAESTRO 2'!D$25,'DATA MAESTRO 2'!D$26,'DATA MAESTRO 2'!D$27,'DATA MAESTRO 2'!D$28,'DATA MAESTRO 2'!D$29,'DATA MAESTRO 2'!D$30,'DATA MAESTRO 2'!D$31,'DATA MAESTRO 2'!D$32,'DATA MAESTRO 2'!D$33,'DATA MAESTRO 2'!D$34,'DATA MAESTRO 2'!D$35,'DATA MAESTRO 2'!D$36,'DATA MAESTRO 2'!D$37,'DATA MAESTRO 2'!D$38,'DATA MAESTRO 2'!D$39,'DATA MAESTRO 2'!D$40,)","v":0},{"$f":"CHOOSE(B16,'DATA MAESTRO 2'!E$6,'DATA MAESTRO 2'!E$7,'DATA MAESTRO 2'!E$8,'DATA MAESTRO 2'!E$9,'DATA MAESTRO 2'!E$10,'DATA MAESTRO 2'!E$11,'DATA MAESTRO 2'!E$12,'DATA MAESTRO 2'!E$13,'DATA MAESTRO 2'!E$14,'DATA MAESTRO 2'!E$15,'DATA MAESTRO 2'!E$16,'DATA MAESTRO 2'!E$17,'DATA MAESTRO 2'!E$18,'DATA MAESTRO 2'!E$19,'DATA MAESTRO 2'!E$20,'DATA MAESTRO 2'!E$21,'DATA MAESTRO 2'!E$22,'DATA MAESTRO 2'!E$23,'DATA MAESTRO 2'!E$24,'DATA MAESTRO 2'!E$25,'DATA MAESTRO 2'!E$26,'DATA MAESTRO 2'!E$27,'DATA MAESTRO 2'!E$28,'DATA MAESTRO 2'!E$29,'DATA MAESTRO 2'!E$30,'DATA MAESTRO 2'!E$31,'DATA MAESTRO 2'!E$32,'DATA MAESTRO 2'!E$33,'DATA MAESTRO 2'!E$34,'DATA MAESTRO 2'!E$35,'DATA MAESTRO 2'!E$36,'DATA MAESTRO 2'!E$37,'DATA MAESTRO 2'!E$38,'DATA MAESTRO 2'!E$39,'DATA MAESTRO 2'!E$40,)","v":0},{"$f":"CHOOSE($B16,'DATA MAESTRO 2'!F$6,'DATA MAESTRO 2'!F$7,'DATA MAESTRO 2'!F$8,'DATA MAESTRO 2'!F$9,'DATA MAESTRO 2'!F$10,'DATA MAESTRO 2'!F$11,'DATA MAESTRO 2'!F$12,'DATA MAESTRO 2'!F$13,'DATA MAESTRO 2'!F$14,'DATA MAESTRO 2'!F$15,'DATA MAESTRO 2'!F$16,'DATA MAESTRO 2'!F$17,'DATA MAESTRO 2'!F$18,'DATA MAESTRO 2'!F$19,'DATA MAESTRO 2'!F$20,'DATA MAESTRO 2'!F$21,'DATA MAESTRO 2'!F$22,'DATA MAESTRO 2'!F$23,'DATA MAESTRO 2'!F$24,'DATA MAESTRO 2'!F$25,'DATA MAESTRO 2'!F$26,'DATA MAESTRO 2'!F$27,'DATA MAESTRO 2'!F$28,'DATA MAESTRO 2'!F$29,'DATA MAESTRO 2'!F$30,'DATA MAESTRO 2'!F$31,'DATA MAESTRO 2'!F$32,'DATA MAESTRO 2'!F$33,'DATA MAESTRO 2'!F$34,'DATA MAESTRO 2'!F$35,'DATA MAESTRO 2'!F$36,'DATA MAESTRO 2'!F$37,'DATA MAESTRO 2'!F$38,'DATA MAESTRO 2'!F$39,'DATA MAESTRO 2'!F$40,)","v":0},{"$f":"CHOOSE($B16,'DATA MAESTRO 2'!G$6,'DATA MAESTRO 2'!G$7,'DATA MAESTRO 2'!G$8,'DATA MAESTRO 2'!G$9,'DATA MAESTRO 2'!G$10,'DATA MAESTRO 2'!G$11,'DATA MAESTRO 2'!G$12,'DATA MAESTRO 2'!G$13,'DATA MAESTRO 2'!G$14,'DATA MAESTRO 2'!G$15,'DATA MAESTRO 2'!G$16,'DATA MAESTRO 2'!G$17,'DATA MAESTRO 2'!G$18,'DATA MAESTRO 2'!G$19,'DATA MAESTRO 2'!G$20,'DATA MAESTRO 2'!G$21,'DATA MAESTRO 2'!G$22,'DATA MAESTRO 2'!G$23,'DATA MAESTRO 2'!G$24,'DATA MAESTRO 2'!G$25,'DATA MAESTRO 2'!G$26,'DATA MAESTRO 2'!G$27,'DATA MAESTRO 2'!G$28,'DATA MAESTRO 2'!G$29,'DATA MAESTRO 2'!G$30,'DATA MAESTRO 2'!G$31,'DATA MAESTRO 2'!G$32,'DATA MAESTRO 2'!G$33,'DATA MAESTRO 2'!G$34,'DATA MAESTRO 2'!G$35,'DATA MAESTRO 2'!G$36,'DATA MAESTRO 2'!G$37,'DATA MAESTRO 2'!G$38,'DATA MAESTRO 2'!G$39,'DATA MAESTRO 2'!G$40,)","v":0},{"$f":"CHOOSE($B16,'DATA MAESTRO 2'!H$6,'DATA MAESTRO 2'!H$7,'DATA MAESTRO 2'!H$8,'DATA MAESTRO 2'!H$9,'DATA MAESTRO 2'!H$10,'DATA MAESTRO 2'!H$11,'DATA MAESTRO 2'!H$12,'DATA MAESTRO 2'!H$13,'DATA MAESTRO 2'!H$14,'DATA MAESTRO 2'!H$15,'DATA MAESTRO 2'!H$16,'DATA MAESTRO 2'!H$17,'DATA MAESTRO 2'!H$18,'DATA MAESTRO 2'!H$19,'DATA MAESTRO 2'!H$20,'DATA MAESTRO 2'!H$21,'DATA MAESTRO 2'!H$22,'DATA MAESTRO 2'!H$23,'DATA MAESTRO 2'!H$24,'DATA MAESTRO 2'!H$25,'DATA MAESTRO 2'!H$26,'DATA MAESTRO 2'!H$27,'DATA MAESTRO 2'!H$28,'DATA MAESTRO 2'!H$29,'DATA MAESTRO 2'!H$30,'DATA MAESTRO 2'!H$31,'DATA MAESTRO 2'!H$32,'DATA MAESTRO 2'!H$33,'DATA MAESTRO 2'!H$34,'DATA MAESTRO 2'!H$35,'DATA MAESTRO 2'!H$36,'DATA MAESTRO 2'!H$37,'DATA MAESTRO 2'!H$38,'DATA MAESTRO 2'!H$39,'DATA MAESTRO 2'!H$40,)","v":0},{"$f":"CHOOSE($B16,'DATA MAESTRO 2'!I$6,'DATA MAESTRO 2'!I$7,'DATA MAESTRO 2'!I$8,'DATA MAESTRO 2'!I$9,'DATA MAESTRO 2'!I$10,'DATA MAESTRO 2'!I$11,'DATA MAESTRO 2'!I$12,'DATA MAESTRO 2'!I$13,'DATA MAESTRO 2'!I$14,'DATA MAESTRO 2'!I$15,'DATA MAESTRO 2'!I$16,'DATA MAESTRO 2'!I$17,'DATA MAESTRO 2'!I$18,'DATA MAESTRO 2'!I$19,'DATA MAESTRO 2'!I$20,'DATA MAESTRO 2'!I$21,'DATA MAESTRO 2'!I$22,'DATA MAESTRO 2'!I$23,'DATA MAESTRO 2'!I$24,'DATA MAESTRO 2'!I$25,'DATA MAESTRO 2'!I$26,'DATA MAESTRO 2'!I$27,'DATA MAESTRO 2'!I$28,'DATA MAESTRO 2'!I$29,'DATA MAESTRO 2'!I$30,'DATA MAESTRO 2'!I$31,'DATA MAESTRO 2'!I$32,'DATA MAESTRO 2'!I$33,'DATA MAESTRO 2'!I$34,'DATA MAESTRO 2'!I$35,'DATA MAESTRO 2'!I$36,'DATA MAESTRO 2'!I$37,'DATA MAESTRO 2'!I$38,'DATA MAESTRO 2'!I$39,'DATA MAESTRO 2'!I$40,)","v":0},{"$f":"CHOOSE($B16,'DATA MAESTRO 2'!J$6,'DATA MAESTRO 2'!J$7,'DATA MAESTRO 2'!J$8,'DATA MAESTRO 2'!J$9,'DATA MAESTRO 2'!J$10,'DATA MAESTRO 2'!J$11,'DATA MAESTRO 2'!J$12,'DATA MAESTRO 2'!J$13,'DATA MAESTRO 2'!J$14,'DATA MAESTRO 2'!J$15,'DATA MAESTRO 2'!J$16,'DATA MAESTRO 2'!J$17,'DATA MAESTRO 2'!J$18,'DATA MAESTRO 2'!J$19,'DATA MAESTRO 2'!J$20,'DATA MAESTRO 2'!J$21,'DATA MAESTRO 2'!J$22,'DATA MAESTRO 2'!J$23,'DATA MAESTRO 2'!J$24,'DATA MAESTRO 2'!J$25,'DATA MAESTRO 2'!J$26,'DATA MAESTRO 2'!J$27,'DATA MAESTRO 2'!J$28,'DATA MAESTRO 2'!J$29,'DATA MAESTRO 2'!J$30,'DATA MAESTRO 2'!J$31,'DATA MAESTRO 2'!J$32,'DATA MAESTRO 2'!J$33,'DATA MAESTRO 2'!J$34,'DATA MAESTRO 2'!J$35,'DATA MAESTRO 2'!J$36,'DATA MAESTRO 2'!J$37,'DATA MAESTRO 2'!J$38,'DATA MAESTRO 2'!J$39,'DATA MAESTRO 2'!J$40,)","v":0},{"$f":"CHOOSE($B16,'DATA MAESTRO 2'!K$6,'DATA MAESTRO 2'!K$7,'DATA MAESTRO 2'!K$8,'DATA MAESTRO 2'!K$9,'DATA MAESTRO 2'!K$10,'DATA MAESTRO 2'!K$11,'DATA MAESTRO 2'!K$12,'DATA MAESTRO 2'!K$13,'DATA MAESTRO 2'!K$14,'DATA MAESTRO 2'!K$15,'DATA MAESTRO 2'!K$16,'DATA MAESTRO 2'!K$17,'DATA MAESTRO 2'!K$18,'DATA MAESTRO 2'!K$19,'DATA MAESTRO 2'!K$20,'DATA MAESTRO 2'!K$21,'DATA MAESTRO 2'!K$22,'DATA MAESTRO 2'!K$23,'DATA MAESTRO 2'!K$24,'DATA MAESTRO 2'!K$25,'DATA MAESTRO 2'!K$26,'DATA MAESTRO 2'!K$27,'DATA MAESTRO 2'!K$28,'DATA MAESTRO 2'!K$29,'DATA MAESTRO 2'!K$30,'DATA MAESTRO 2'!K$31,'DATA MAESTRO 2'!K$32,'DATA MAESTRO 2'!K$33,'DATA MAESTRO 2'!K$34,'DATA MAESTRO 2'!K$35,'DATA MAESTRO 2'!K$36,'DATA MAESTRO 2'!K$37,'DATA MAESTRO 2'!K$38,'DATA MAESTRO 2'!K$39,'DATA MAESTRO 2'!K$40,)","v":0},{"$f":"CHOOSE($B16,'DATA MAESTRO 2'!L$6,'DATA MAESTRO 2'!L$7,'DATA MAESTRO 2'!L$8,'DATA MAESTRO 2'!L$9,'DATA MAESTRO 2'!L$10,'DATA MAESTRO 2'!L$11,'DATA MAESTRO 2'!L$12,'DATA MAESTRO 2'!L$13,'DATA MAESTRO 2'!L$14,'DATA MAESTRO 2'!L$15,'DATA MAESTRO 2'!L$16,'DATA MAESTRO 2'!L$17,'DATA MAESTRO 2'!L$18,'DATA MAESTRO 2'!L$19,'DATA MAESTRO 2'!L$20,'DATA MAESTRO 2'!L$21,'DATA MAESTRO 2'!L$22,'DATA MAESTRO 2'!L$23,'DATA MAESTRO 2'!L$24,'DATA MAESTRO 2'!L$25,'DATA MAESTRO 2'!L$26,'DATA MAESTRO 2'!L$27,'DATA MAESTRO 2'!L$28,'DATA MAESTRO 2'!L$29,'DATA MAESTRO 2'!L$30,'DATA MAESTRO 2'!L$31,'DATA MAESTRO 2'!L$32,'DATA MAESTRO 2'!L$33,'DATA MAESTRO 2'!L$34,'DATA MAESTRO 2'!L$35,'DATA MAESTRO 2'!L$36,'DATA MAESTRO 2'!L$37,'DATA MAESTRO 2'!L$38,'DATA MAESTRO 2'!L$39,'DATA MAESTRO 2'!L$40,)","v":0},{"$f":"CHOOSE($B16,'DATA MAESTRO 2'!M$6,'DATA MAESTRO 2'!M$7,'DATA MAESTRO 2'!M$8,'DATA MAESTRO 2'!M$9,'DATA MAESTRO 2'!M$10,'DATA MAESTRO 2'!M$11,'DATA MAESTRO 2'!M$12,'DATA MAESTRO 2'!M$13,'DATA MAESTRO 2'!M$14,'DATA MAESTRO 2'!M$15,'DATA MAESTRO 2'!M$16,'DATA MAESTRO 2'!M$17,'DATA MAESTRO 2'!M$18,'DATA MAESTRO 2'!M$19,'DATA MAESTRO 2'!M$20,'DATA MAESTRO 2'!M$21,'DATA MAESTRO 2'!M$22,'DATA MAESTRO 2'!M$23,'DATA MAESTRO 2'!M$24,'DATA MAESTRO 2'!M$25,'DATA MAESTRO 2'!M$26,'DATA MAESTRO 2'!M$27,'DATA MAESTRO 2'!M$28,'DATA MAESTRO 2'!M$29,'DATA MAESTRO 2'!M$30,'DATA MAESTRO 2'!M$31,'DATA MAESTRO 2'!M$32,'DATA MAESTRO 2'!M$33,'DATA MAESTRO 2'!M$34,'DATA MAESTRO 2'!M$35,'DATA MAESTRO 2'!M$36,'DATA MAESTRO 2'!M$37,'DATA MAESTRO 2'!M$38,'DATA MAESTRO 2'!M$39,'DATA MAESTRO 2'!M$40,)","v":0},{"$f":"CHOOSE($B16,'DATA MAESTRO 2'!N$6,'DATA MAESTRO 2'!N$7,'DATA MAESTRO 2'!N$8,'DATA MAESTRO 2'!N$9,'DATA MAESTRO 2'!N$10,'DATA MAESTRO 2'!N$11,'DATA MAESTRO 2'!N$12,'DATA MAESTRO 2'!N$13,'DATA MAESTRO 2'!N$14,'DATA MAESTRO 2'!N$15,'DATA MAESTRO 2'!N$16,'DATA MAESTRO 2'!N$17,'DATA MAESTRO 2'!N$18,'DATA MAESTRO 2'!N$19,'DATA MAESTRO 2'!N$20,'DATA MAESTRO 2'!N$21,'DATA MAESTRO 2'!N$22,'DATA MAESTRO 2'!N$23,'DATA MAESTRO 2'!N$24,'DATA MAESTRO 2'!N$25,'DATA MAESTRO 2'!N$26,'DATA MAESTRO 2'!N$27,'DATA MAESTRO 2'!N$28,'DATA MAESTRO 2'!N$29,'DATA MAESTRO 2'!N$30,'DATA MAESTRO 2'!N$31,'DATA MAESTRO 2'!N$32,'DATA MAESTRO 2'!N$33,'DATA MAESTRO 2'!N$34,'DATA MAESTRO 2'!N$35,'DATA MAESTRO 2'!N$36,'DATA MAESTRO 2'!N$37,'DATA MAESTRO 2'!N$38,'DATA MAESTRO 2'!N$39,'DATA MAESTRO 2'!N$40,)","v":0},{"$f":"CHOOSE($B16,'DATA MAESTRO 2'!O$6,'DATA MAESTRO 2'!O$7,'DATA MAESTRO 2'!O$8,'DATA MAESTRO 2'!O$9,'DATA MAESTRO 2'!O$10,'DATA MAESTRO 2'!O$11,'DATA MAESTRO 2'!O$12,'DATA MAESTRO 2'!O$13,'DATA MAESTRO 2'!O$14,'DATA MAESTRO 2'!O$15,'DATA MAESTRO 2'!O$16,'DATA MAESTRO 2'!O$17,'DATA MAESTRO 2'!O$18,'DATA MAESTRO 2'!O$19,'DATA MAESTRO 2'!O$20,'DATA MAESTRO 2'!O$21,'DATA MAESTRO 2'!O$22,'DATA MAESTRO 2'!O$23,'DATA MAESTRO 2'!O$24,'DATA MAESTRO 2'!O$25,'DATA MAESTRO 2'!O$26,'DATA MAESTRO 2'!O$27,'DATA MAESTRO 2'!O$28,'DATA MAESTRO 2'!O$29,'DATA MAESTRO 2'!O$30,'DATA MAESTRO 2'!O$31,'DATA MAESTRO 2'!O$32,'DATA MAESTRO 2'!O$33,'DATA MAESTRO 2'!O$34,'DATA MAESTRO 2'!O$35,'DATA MAESTRO 2'!O$36,'DATA MAESTRO 2'!O$37,'DATA MAESTRO 2'!O$38,'DATA MAESTRO 2'!O$39,'DATA MAESTRO 2'!O$40,)","v":0},{"$f":"CHOOSE($B16,'DATA MAESTRO 2'!P$6,'DATA MAESTRO 2'!P$7,'DATA MAESTRO 2'!P$8,'DATA MAESTRO 2'!P$9,'DATA MAESTRO 2'!P$10,'DATA MAESTRO 2'!P$11,'DATA MAESTRO 2'!P$12,'DATA MAESTRO 2'!P$13,'DATA MAESTRO 2'!P$14,'DATA MAESTRO 2'!P$15,'DATA MAESTRO 2'!P$16,'DATA MAESTRO 2'!P$17,'DATA MAESTRO 2'!P$18,'DATA MAESTRO 2'!P$19,'DATA MAESTRO 2'!P$20,'DATA MAESTRO 2'!P$21,'DATA MAESTRO 2'!P$22,'DATA MAESTRO 2'!P$23,'DATA MAESTRO 2'!P$24,'DATA MAESTRO 2'!P$25,'DATA MAESTRO 2'!P$26,'DATA MAESTRO 2'!P$27,'DATA MAESTRO 2'!P$28,'DATA MAESTRO 2'!P$29,'DATA MAESTRO 2'!P$30,'DATA MAESTRO 2'!P$31,'DATA MAESTRO 2'!P$32,'DATA MAESTRO 2'!P$33,'DATA MAESTRO 2'!P$34,'DATA MAESTRO 2'!P$35,'DATA MAESTRO 2'!P$36,'DATA MAESTRO 2'!P$37,'DATA MAESTRO 2'!P$38,'DATA MAESTRO 2'!P$39,'DATA MAESTRO 2'!P$40,)","v":0},{"$f":"CHOOSE($B16,'DATA MAESTRO 2'!Q$6,'DATA MAESTRO 2'!Q$7,'DATA MAESTRO 2'!Q$8,'DATA MAESTRO 2'!Q$9,'DATA MAESTRO 2'!Q$10,'DATA MAESTRO 2'!Q$11,'DATA MAESTRO 2'!Q$12,'DATA MAESTRO 2'!Q$13,'DATA MAESTRO 2'!Q$14,'DATA MAESTRO 2'!Q$15,'DATA MAESTRO 2'!Q$16,'DATA MAESTRO 2'!Q$17,'DATA MAESTRO 2'!Q$18,'DATA MAESTRO 2'!Q$19,'DATA MAESTRO 2'!Q$20,'DATA MAESTRO 2'!Q$21,'DATA MAESTRO 2'!Q$22,'DATA MAESTRO 2'!Q$23,'DATA MAESTRO 2'!Q$24,'DATA MAESTRO 2'!Q$25,'DATA MAESTRO 2'!Q$26,'DATA MAESTRO 2'!Q$27,'DATA MAESTRO 2'!Q$28,'DATA MAESTRO 2'!Q$29,'DATA MAESTRO 2'!Q$30,'DATA MAESTRO 2'!Q$31,'DATA MAESTRO 2'!Q$32,'DATA MAESTRO 2'!Q$33,'DATA MAESTRO 2'!Q$34,'DATA MAESTRO 2'!Q$35,'DATA MAESTRO 2'!Q$36,'DATA MAESTRO 2'!Q$37,'DATA MAESTRO 2'!Q$38,'DATA MAESTRO 2'!Q$39,'DATA MAESTRO 2'!Q$40,)","v":0},{"$f":"CHOOSE($B16,'DATA MAESTRO 2'!R$6,'DATA MAESTRO 2'!R$7,'DATA MAESTRO 2'!R$8,'DATA MAESTRO 2'!R$9,'DATA MAESTRO 2'!R$10,'DATA MAESTRO 2'!R$11,'DATA MAESTRO 2'!R$12,'DATA MAESTRO 2'!R$13,'DATA MAESTRO 2'!R$14,'DATA MAESTRO 2'!R$15,'DATA MAESTRO 2'!R$16,'DATA MAESTRO 2'!R$17,'DATA MAESTRO 2'!R$18,'DATA MAESTRO 2'!R$19,'DATA MAESTRO 2'!R$20,'DATA MAESTRO 2'!R$21,'DATA MAESTRO 2'!R$22,'DATA MAESTRO 2'!R$23,'DATA MAESTRO 2'!R$24,'DATA MAESTRO 2'!R$25,'DATA MAESTRO 2'!R$26,'DATA MAESTRO 2'!R$27,'DATA MAESTRO 2'!R$28,'DATA MAESTRO 2'!R$29,'DATA MAESTRO 2'!R$30,'DATA MAESTRO 2'!R$31,'DATA MAESTRO 2'!R$32,'DATA MAESTRO 2'!R$33,'DATA MAESTRO 2'!R$34,'DATA MAESTRO 2'!R$35,'DATA MAESTRO 2'!R$36,'DATA MAESTRO 2'!R$37,'DATA MAESTRO 2'!R$38,'DATA MAESTRO 2'!R$39,'DATA MAESTRO 2'!R$40,)","v":0},{"$f":"CHOOSE($B16,'DATA MAESTRO 2'!S$6,'DATA MAESTRO 2'!S$7,'DATA MAESTRO 2'!S$8,'DATA MAESTRO 2'!S$9,'DATA MAESTRO 2'!S$10,'DATA MAESTRO 2'!S$11,'DATA MAESTRO 2'!S$12,'DATA MAESTRO 2'!S$13,'DATA MAESTRO 2'!S$14,'DATA MAESTRO 2'!S$15,'DATA MAESTRO 2'!S$16,'DATA MAESTRO 2'!S$17,'DATA MAESTRO 2'!S$18,'DATA MAESTRO 2'!S$19,'DATA MAESTRO 2'!S$20,'DATA MAESTRO 2'!S$21,'DATA MAESTRO 2'!S$22,'DATA MAESTRO 2'!S$23,'DATA MAESTRO 2'!S$24,'DATA MAESTRO 2'!S$25,'DATA MAESTRO 2'!S$26,'DATA MAESTRO 2'!S$27,'DATA MAESTRO 2'!S$28,'DATA MAESTRO 2'!S$29,'DATA MAESTRO 2'!S$30,'DATA MAESTRO 2'!S$31,'DATA MAESTRO 2'!S$32,'DATA MAESTRO 2'!S$33,'DATA MAESTRO 2'!S$34,'DATA MAESTRO 2'!S$35,'DATA MAESTRO 2'!S$36,'DATA MAESTRO 2'!S$37,'DATA MAESTRO 2'!S$38,'DATA MAESTRO 2'!S$39,'DATA MAESTRO 2'!S$40,)","v":0},{"$f":"CHOOSE($B16,'DATA MAESTRO 2'!T$6,'DATA MAESTRO 2'!T$7,'DATA MAESTRO 2'!T$8,'DATA MAESTRO 2'!T$9,'DATA MAESTRO 2'!T$10,'DATA MAESTRO 2'!T$11,'DATA MAESTRO 2'!T$12,'DATA MAESTRO 2'!T$13,'DATA MAESTRO 2'!T$14,'DATA MAESTRO 2'!T$15,'DATA MAESTRO 2'!T$16,'DATA MAESTRO 2'!T$17,'DATA MAESTRO 2'!T$18,'DATA MAESTRO 2'!T$19,'DATA MAESTRO 2'!T$20,'DATA MAESTRO 2'!T$21,'DATA MAESTRO 2'!T$22,'DATA MAESTRO 2'!T$23,'DATA MAESTRO 2'!T$24,'DATA MAESTRO 2'!T$25,'DATA MAESTRO 2'!T$26,'DATA MAESTRO 2'!T$27,'DATA MAESTRO 2'!T$28,'DATA MAESTRO 2'!T$29,'DATA MAESTRO 2'!T$30,'DATA MAESTRO 2'!T$31,'DATA MAESTRO 2'!T$32,'DATA MAESTRO 2'!T$33,'DATA MAESTRO 2'!T$34,'DATA MAESTRO 2'!T$35,'DATA MAESTRO 2'!T$36,'DATA MAESTRO 2'!T$37,'DATA MAESTRO 2'!T$38,'DATA MAESTRO 2'!T$39,'DATA MAESTRO 2'!T$40,)","v":0},{"$f":"CHOOSE($B16,'DATA MAESTRO 2'!U$6,'DATA MAESTRO 2'!U$7,'DATA MAESTRO 2'!U$8,'DATA MAESTRO 2'!U$9,'DATA MAESTRO 2'!U$10,'DATA MAESTRO 2'!U$11,'DATA MAESTRO 2'!U$12,'DATA MAESTRO 2'!U$13,'DATA MAESTRO 2'!U$14,'DATA MAESTRO 2'!U$15,'DATA MAESTRO 2'!U$16,'DATA MAESTRO 2'!U$17,'DATA MAESTRO 2'!U$18,'DATA MAESTRO 2'!U$19,'DATA MAESTRO 2'!U$20,'DATA MAESTRO 2'!U$21,'DATA MAESTRO 2'!U$22,'DATA MAESTRO 2'!U$23,'DATA MAESTRO 2'!U$24,'DATA MAESTRO 2'!U$25,'DATA MAESTRO 2'!U$26,'DATA MAESTRO 2'!U$27,'DATA MAESTRO 2'!U$28,'DATA MAESTRO 2'!U$29,'DATA MAESTRO 2'!U$30,'DATA MAESTRO 2'!U$31,'DATA MAESTRO 2'!U$32,'DATA MAESTRO 2'!U$33,'DATA MAESTRO 2'!U$34,'DATA MAESTRO 2'!U$35,'DATA MAESTRO 2'!U$36,'DATA MAESTRO 2'!U$37,'DATA MAESTRO 2'!U$38,'DATA MAESTRO 2'!U$39,'DATA MAESTRO 2'!U$40,)","v":0},{"$f":"CHOOSE($B16,'DATA MAESTRO 2'!V$6,'DATA MAESTRO 2'!V$7,'DATA MAESTRO 2'!V$8,'DATA MAESTRO 2'!V$9,'DATA MAESTRO 2'!V$10,'DATA MAESTRO 2'!V$11,'DATA MAESTRO 2'!V$12,'DATA MAESTRO 2'!V$13,'DATA MAESTRO 2'!V$14,'DATA MAESTRO 2'!V$15,'DATA MAESTRO 2'!V$16,'DATA MAESTRO 2'!V$17,'DATA MAESTRO 2'!V$18,'DATA MAESTRO 2'!V$19,'DATA MAESTRO 2'!V$20,'DATA MAESTRO 2'!V$21,'DATA MAESTRO 2'!V$22,'DATA MAESTRO 2'!V$23,'DATA MAESTRO 2'!V$24,'DATA MAESTRO 2'!V$25,'DATA MAESTRO 2'!V$26,'DATA MAESTRO 2'!V$27,'DATA MAESTRO 2'!V$28,'DATA MAESTRO 2'!V$29,'DATA MAESTRO 2'!V$30,'DATA MAESTRO 2'!V$31,'DATA MAESTRO 2'!V$32,'DATA MAESTRO 2'!V$33,'DATA MAESTRO 2'!V$34,'DATA MAESTRO 2'!V$35,'DATA MAESTRO 2'!V$36,'DATA MAESTRO 2'!V$37,'DATA MAESTRO 2'!V$38,'DATA MAESTRO 2'!V$39,'DATA MAESTRO 2'!V$40,)","v":0},{"$f":"CHOOSE($B16,'DATA MAESTRO 2'!W$6,'DATA MAESTRO 2'!W$7,'DATA MAESTRO 2'!W$8,'DATA MAESTRO 2'!W$9,'DATA MAESTRO 2'!W$10,'DATA MAESTRO 2'!W$11,'DATA MAESTRO 2'!W$12,'DATA MAESTRO 2'!W$13,'DATA MAESTRO 2'!W$14,'DATA MAESTRO 2'!W$15,'DATA MAESTRO 2'!W$16,'DATA MAESTRO 2'!W$17,'DATA MAESTRO 2'!W$18,'DATA MAESTRO 2'!W$19,'DATA MAESTRO 2'!W$20,'DATA MAESTRO 2'!W$21,'DATA MAESTRO 2'!W$22,'DATA MAESTRO 2'!W$23,'DATA MAESTRO 2'!W$24,'DATA MAESTRO 2'!W$25,'DATA MAESTRO 2'!W$26,'DATA MAESTRO 2'!W$27,'DATA MAESTRO 2'!W$28,'DATA MAESTRO 2'!W$29,'DATA MAESTRO 2'!W$30,'DATA MAESTRO 2'!W$31,'DATA MAESTRO 2'!W$32,'DATA MAESTRO 2'!W$33,'DATA MAESTRO 2'!W$34,'DATA MAESTRO 2'!W$35,'DATA MAESTRO 2'!W$36,'DATA MAESTRO 2'!W$37,'DATA MAESTRO 2'!W$38,'DATA MAESTRO 2'!W$39,'DATA MAESTRO 2'!W$40,)","v":0},{"$f":"CHOOSE($B16,'DATA MAESTRO 2'!X$6,'DATA MAESTRO 2'!X$7,'DATA MAESTRO 2'!X$8,'DATA MAESTRO 2'!X$9,'DATA MAESTRO 2'!X$10,'DATA MAESTRO 2'!X$11,'DATA MAESTRO 2'!X$12,'DATA MAESTRO 2'!X$13,'DATA MAESTRO 2'!X$14,'DATA MAESTRO 2'!X$15,'DATA MAESTRO 2'!X$16,'DATA MAESTRO 2'!X$17,'DATA MAESTRO 2'!X$18,'DATA MAESTRO 2'!X$19,'DATA MAESTRO 2'!X$20,'DATA MAESTRO 2'!X$21,'DATA MAESTRO 2'!X$22,'DATA MAESTRO 2'!X$23,'DATA MAESTRO 2'!X$24,'DATA MAESTRO 2'!X$25,'DATA MAESTRO 2'!X$26,'DATA MAESTRO 2'!X$27,'DATA MAESTRO 2'!X$28,'DATA MAESTRO 2'!X$29,'DATA MAESTRO 2'!X$30,'DATA MAESTRO 2'!X$31,'DATA MAESTRO 2'!X$32,'DATA MAESTRO 2'!X$33,'DATA MAESTRO 2'!X$34,'DATA MAESTRO 2'!X$35,'DATA MAESTRO 2'!X$36,'DATA MAESTRO 2'!X$37,'DATA MAESTRO 2'!X$38,'DATA MAESTRO 2'!X$39,'DATA MAESTRO 2'!X$40,)","v":0},{"$f":"CHOOSE($B16,'DATA MAESTRO 2'!Y$6,'DATA MAESTRO 2'!Y$7,'DATA MAESTRO 2'!Y$8,'DATA MAESTRO 2'!Y$9,'DATA MAESTRO 2'!Y$10,'DATA MAESTRO 2'!Y$11,'DATA MAESTRO 2'!Y$12,'DATA MAESTRO 2'!Y$13,'DATA MAESTRO 2'!Y$14,'DATA MAESTRO 2'!Y$15,'DATA MAESTRO 2'!Y$16,'DATA MAESTRO 2'!Y$17,'DATA MAESTRO 2'!Y$18,'DATA MAESTRO 2'!Y$19,'DATA MAESTRO 2'!Y$20,'DATA MAESTRO 2'!Y$21,'DATA MAESTRO 2'!Y$22,'DATA MAESTRO 2'!Y$23,'DATA MAESTRO 2'!Y$24,'DATA MAESTRO 2'!Y$25,'DATA MAESTRO 2'!Y$26,'DATA MAESTRO 2'!Y$27,'DATA MAESTRO 2'!Y$28,'DATA MAESTRO 2'!Y$29,'DATA MAESTRO 2'!Y$30,'DATA MAESTRO 2'!Y$31,'DATA MAESTRO 2'!Y$32,'DATA MAESTRO 2'!Y$33,'DATA MAESTRO 2'!Y$34,'DATA MAESTRO 2'!Y$35,'DATA MAESTRO 2'!Y$36,'DATA MAESTRO 2'!Y$37,'DATA MAESTRO 2'!Y$38,'DATA MAESTRO 2'!Y$39,'DATA MAESTRO 2'!Y$40,)","v":0},{"$f":"CHOOSE($B16,'DATA MAESTRO 2'!Z$6,'DATA MAESTRO 2'!Z$7,'DATA MAESTRO 2'!Z$8,'DATA MAESTRO 2'!Z$9,'DATA MAESTRO 2'!Z$10,'DATA MAESTRO 2'!Z$11,'DATA MAESTRO 2'!Z$12,'DATA MAESTRO 2'!Z$13,'DATA MAESTRO 2'!Z$14,'DATA MAESTRO 2'!Z$15,'DATA MAESTRO 2'!Z$16,'DATA MAESTRO 2'!Z$17,'DATA MAESTRO 2'!Z$18,'DATA MAESTRO 2'!Z$19,'DATA MAESTRO 2'!Z$20,'DATA MAESTRO 2'!Z$21,'DATA MAESTRO 2'!Z$22,'DATA MAESTRO 2'!Z$23,'DATA MAESTRO 2'!Z$24,'DATA MAESTRO 2'!Z$25,'DATA MAESTRO 2'!Z$26,'DATA MAESTRO 2'!Z$27,'DATA MAESTRO 2'!Z$28,'DATA MAESTRO 2'!Z$29,'DATA MAESTRO 2'!Z$30,'DATA MAESTRO 2'!Z$31,'DATA MAESTRO 2'!Z$32,'DATA MAESTRO 2'!Z$33,'DATA MAESTRO 2'!Z$34,'DATA MAESTRO 2'!Z$35,'DATA MAESTRO 2'!Z$36,'DATA MAESTRO 2'!Z$37,'DATA MAESTRO 2'!Z$38,'DATA MAESTRO 2'!Z$39,'DATA MAESTRO 2'!Z$40,)","v":0},{"$f":"CHOOSE($B16,'DATA MAESTRO 2'!AA$6,'DATA MAESTRO 2'!AA$7,'DATA MAESTRO 2'!AA$8,'DATA MAESTRO 2'!AA$9,'DATA MAESTRO 2'!AA$10,'DATA MAESTRO 2'!AA$11,'DATA MAESTRO 2'!AA$12,'DATA MAESTRO 2'!AA$13,'DATA MAESTRO 2'!AA$14,'DATA MAESTRO 2'!AA$15,'DATA MAESTRO 2'!AA$16,'DATA MAESTRO 2'!AA$17,'DATA MAESTRO 2'!AA$18,'DATA MAESTRO 2'!AA$19,'DATA MAESTRO 2'!AA$20,'DATA MAESTRO 2'!AA$21,'DATA MAESTRO 2'!AA$22,'DATA MAESTRO 2'!AA$23,'DATA MAESTRO 2'!AA$24,'DATA MAESTRO 2'!AA$25,'DATA MAESTRO 2'!AA$26,'DATA MAESTRO 2'!AA$27,'DATA MAESTRO 2'!AA$28,'DATA MAESTRO 2'!AA$29,'DATA MAESTRO 2'!AA$30,'DATA MAESTRO 2'!AA$31,'DATA MAESTRO 2'!AA$32,'DATA MAESTRO 2'!AA$33,'DATA MAESTRO 2'!AA$34,'DATA MAESTRO 2'!AA$35,'DATA MAESTRO 2'!AA$36,'DATA MAESTRO 2'!AA$37,'DATA MAESTRO 2'!AA$38,'DATA MAESTRO 2'!AA$39,'DATA MAESTRO 2'!AA$40,)","v":0},{"$f":"CHOOSE($B16,'DATA MAESTRO 2'!AB$6,'DATA MAESTRO 2'!AB$7,'DATA MAESTRO 2'!AB$8,'DATA MAESTRO 2'!AB$9,'DATA MAESTRO 2'!AB$10,'DATA MAESTRO 2'!AB$11,'DATA MAESTRO 2'!AB$12,'DATA MAESTRO 2'!AB$13,'DATA MAESTRO 2'!AB$14,'DATA MAESTRO 2'!AB$15,'DATA MAESTRO 2'!AB$16,'DATA MAESTRO 2'!AB$17,'DATA MAESTRO 2'!AB$18,'DATA MAESTRO 2'!AB$19,'DATA MAESTRO 2'!AB$20,'DATA MAESTRO 2'!AB$21,'DATA MAESTRO 2'!AB$22,'DATA MAESTRO 2'!AB$23,'DATA MAESTRO 2'!AB$24,'DATA MAESTRO 2'!AB$25,'DATA MAESTRO 2'!AB$26,'DATA MAESTRO 2'!AB$27,'DATA MAESTRO 2'!AB$28,'DATA MAESTRO 2'!AB$29,'DATA MAESTRO 2'!AB$30,'DATA MAESTRO 2'!AB$31,'DATA MAESTRO 2'!AB$32,'DATA MAESTRO 2'!AB$33,'DATA MAESTRO 2'!AB$34,'DATA MAESTRO 2'!AB$35,'DATA MAESTRO 2'!AB$36,'DATA MAESTRO 2'!AB$37,'DATA MAESTRO 2'!AB$38,'DATA MAESTRO 2'!AB$39,'DATA MAESTRO 2'!AB$40,)","v":0},{"$f":"CHOOSE($B16,'DATA MAESTRO 2'!AC$6,'DATA MAESTRO 2'!AC$7,'DATA MAESTRO 2'!AC$8,'DATA MAESTRO 2'!AC$9,'DATA MAESTRO 2'!AC$10,'DATA MAESTRO 2'!AC$11,'DATA MAESTRO 2'!AC$12,'DATA MAESTRO 2'!AC$13,'DATA MAESTRO 2'!AC$14,'DATA MAESTRO 2'!AC$15,'DATA MAESTRO 2'!AC$16,'DATA MAESTRO 2'!AC$17,'DATA MAESTRO 2'!AC$18,'DATA MAESTRO 2'!AC$19,'DATA MAESTRO 2'!AC$20,'DATA MAESTRO 2'!AC$21,'DATA MAESTRO 2'!AC$22,'DATA MAESTRO 2'!AC$23,'DATA MAESTRO 2'!AC$24,'DATA MAESTRO 2'!AC$25,'DATA MAESTRO 2'!AC$26,'DATA MAESTRO 2'!AC$27,'DATA MAESTRO 2'!AC$28,'DATA MAESTRO 2'!AC$29,'DATA MAESTRO 2'!AC$30,'DATA MAESTRO 2'!AC$31,'DATA MAESTRO 2'!AC$32,'DATA MAESTRO 2'!AC$33,'DATA MAESTRO 2'!AC$34,'DATA MAESTRO 2'!AC$35,'DATA MAESTRO 2'!AC$36,'DATA MAESTRO 2'!AC$37,'DATA MAESTRO 2'!AC$38,'DATA MAESTRO 2'!AC$39,'DATA MAESTRO 2'!AC$40,)","v":0},{"$f":"CHOOSE($B16,'DATA MAESTRO 2'!AD$6,'DATA MAESTRO 2'!AD$7,'DATA MAESTRO 2'!AD$8,'DATA MAESTRO 2'!AD$9,'DATA MAESTRO 2'!AD$10,'DATA MAESTRO 2'!AD$11,'DATA MAESTRO 2'!AD$12,'DATA MAESTRO 2'!AD$13,'DATA MAESTRO 2'!AD$14,'DATA MAESTRO 2'!AD$15,'DATA MAESTRO 2'!AD$16,'DATA MAESTRO 2'!AD$17,'DATA MAESTRO 2'!AD$18,'DATA MAESTRO 2'!AD$19,'DATA MAESTRO 2'!AD$20,'DATA MAESTRO 2'!AD$21,'DATA MAESTRO 2'!AD$22,'DATA MAESTRO 2'!AD$23,'DATA MAESTRO 2'!AD$24,'DATA MAESTRO 2'!AD$25,'DATA MAESTRO 2'!AD$26,'DATA MAESTRO 2'!AD$27,'DATA MAESTRO 2'!AD$28,'DATA MAESTRO 2'!AD$29,'DATA MAESTRO 2'!AD$30,'DATA MAESTRO 2'!AD$31,'DATA MAESTRO 2'!AD$32,'DATA MAESTRO 2'!AD$33,'DATA MAESTRO 2'!AD$34,'DATA MAESTRO 2'!AD$35,'DATA MAESTRO 2'!AD$36,'DATA MAESTRO 2'!AD$37,'DATA MAESTRO 2'!AD$38,'DATA MAESTRO 2'!AD$39,'DATA MAESTRO 2'!AD$40,)","v":0},{"$f":"CHOOSE($B16,'DATA MAESTRO 2'!AE$6,'DATA MAESTRO 2'!AE$7,'DATA MAESTRO 2'!AE$8,'DATA MAESTRO 2'!AE$9,'DATA MAESTRO 2'!AE$10,'DATA MAESTRO 2'!AE$11,'DATA MAESTRO 2'!AE$12,'DATA MAESTRO 2'!AE$13,'DATA MAESTRO 2'!AE$14,'DATA MAESTRO 2'!AE$15,'DATA MAESTRO 2'!AE$16,'DATA MAESTRO 2'!AE$17,'DATA MAESTRO 2'!AE$18,'DATA MAESTRO 2'!AE$19,'DATA MAESTRO 2'!AE$20,'DATA MAESTRO 2'!AE$21,'DATA MAESTRO 2'!AE$22,'DATA MAESTRO 2'!AE$23,'DATA MAESTRO 2'!AE$24,'DATA MAESTRO 2'!AE$25,'DATA MAESTRO 2'!AE$26,'DATA MAESTRO 2'!AE$27,'DATA MAESTRO 2'!AE$28,'DATA MAESTRO 2'!AE$29,'DATA MAESTRO 2'!AE$30,'DATA MAESTRO 2'!AE$31,'DATA MAESTRO 2'!AE$32,'DATA MAESTRO 2'!AE$33,'DATA MAESTRO 2'!AE$34,'DATA MAESTRO 2'!AE$35,'DATA MAESTRO 2'!AE$36,'DATA MAESTRO 2'!AE$37,'DATA MAESTRO 2'!AE$38,'DATA MAESTRO 2'!AE$39,'DATA MAESTRO 2'!AE$40,)","v":0},{"$f":"CHOOSE($B16,'DATA MAESTRO 2'!AF$6,'DATA MAESTRO 2'!AF$7,'DATA MAESTRO 2'!AF$8,'DATA MAESTRO 2'!AF$9,'DATA MAESTRO 2'!AF$10,'DATA MAESTRO 2'!AF$11,'DATA MAESTRO 2'!AF$12,'DATA MAESTRO 2'!AF$13,'DATA MAESTRO 2'!AF$14,'DATA MAESTRO 2'!AF$15,'DATA MAESTRO 2'!AF$16,'DATA MAESTRO 2'!AF$17,'DATA MAESTRO 2'!AF$18,'DATA MAESTRO 2'!AF$19,'DATA MAESTRO 2'!AF$20,'DATA MAESTRO 2'!AF$21,'DATA MAESTRO 2'!AF$22,'DATA MAESTRO 2'!AF$23,'DATA MAESTRO 2'!AF$24,'DATA MAESTRO 2'!AF$25,'DATA MAESTRO 2'!AF$26,'DATA MAESTRO 2'!AF$27,'DATA MAESTRO 2'!AF$28,'DATA MAESTRO 2'!AF$29,'DATA MAESTRO 2'!AF$30,'DATA MAESTRO 2'!AF$31,'DATA MAESTRO 2'!AF$32,'DATA MAESTRO 2'!AF$33,'DATA MAESTRO 2'!AF$34,'DATA MAESTRO 2'!AF$35,'DATA MAESTRO 2'!AF$36,'DATA MAESTRO 2'!AF$37,'DATA MAESTRO 2'!AF$38,'DATA MAESTRO 2'!AF$39,'DATA MAESTRO 2'!AF$40,)","v":0},{"$f":"CHOOSE($B16,'DATA MAESTRO 2'!AG$6,'DATA MAESTRO 2'!AG$7,'DATA MAESTRO 2'!AG$8,'DATA MAESTRO 2'!AG$9,'DATA MAESTRO 2'!AG$10,'DATA MAESTRO 2'!AG$11,'DATA MAESTRO 2'!AG$12,'DATA MAESTRO 2'!AG$13,'DATA MAESTRO 2'!AG$14,'DATA MAESTRO 2'!AG$15,'DATA MAESTRO 2'!AG$16,'DATA MAESTRO 2'!AG$17,'DATA MAESTRO 2'!AG$18,'DATA MAESTRO 2'!AG$19,'DATA MAESTRO 2'!AG$20,'DATA MAESTRO 2'!AG$21,'DATA MAESTRO 2'!AG$22,'DATA MAESTRO 2'!AG$23,'DATA MAESTRO 2'!AG$24,'DATA MAESTRO 2'!AG$25,'DATA MAESTRO 2'!AG$26,'DATA MAESTRO 2'!AG$27,'DATA MAESTRO 2'!AG$28,'DATA MAESTRO 2'!AG$29,'DATA MAESTRO 2'!AG$30,'DATA MAESTRO 2'!AG$31,'DATA MAESTRO 2'!AG$32,'DATA MAESTRO 2'!AG$33,'DATA MAESTRO 2'!AG$34,'DATA MAESTRO 2'!AG$35,'DATA MAESTRO 2'!AG$36,'DATA MAESTRO 2'!AG$37,'DATA MAESTRO 2'!AG$38,'DATA MAESTRO 2'!AG$39,'DATA MAESTRO 2'!AG$40,)","v":0},{"$f":"CHOOSE($B16,'DATA MAESTRO 2'!AH$6,'DATA MAESTRO 2'!AH$7,'DATA MAESTRO 2'!AH$8,'DATA MAESTRO 2'!AH$9,'DATA MAESTRO 2'!AH$10,'DATA MAESTRO 2'!AH$11,'DATA MAESTRO 2'!AH$12,'DATA MAESTRO 2'!AH$13,'DATA MAESTRO 2'!AH$14,'DATA MAESTRO 2'!AH$15,'DATA MAESTRO 2'!AH$16,'DATA MAESTRO 2'!AH$17,'DATA MAESTRO 2'!AH$18,'DATA MAESTRO 2'!AH$19,'DATA MAESTRO 2'!AH$20,'DATA MAESTRO 2'!AH$21,'DATA MAESTRO 2'!AH$22,'DATA MAESTRO 2'!AH$23,'DATA MAESTRO 2'!AH$24,'DATA MAESTRO 2'!AH$25,'DATA MAESTRO 2'!AH$26,'DATA MAESTRO 2'!AH$27,'DATA MAESTRO 2'!AH$28,'DATA MAESTRO 2'!AH$29,'DATA MAESTRO 2'!AH$30,'DATA MAESTRO 2'!AH$31,'DATA MAESTRO 2'!AH$32,'DATA MAESTRO 2'!AH$33,'DATA MAESTRO 2'!AH$34,'DATA MAESTRO 2'!AH$35,'DATA MAESTRO 2'!AH$36,'DATA MAESTRO 2'!AH$37,'DATA MAESTRO 2'!AH$38,'DATA MAESTRO 2'!AH$39,'DATA MAESTRO 2'!AH$40,)","v":0},{"$f":"CHOOSE($B16,'DATA MAESTRO 2'!AI$6,'DATA MAESTRO 2'!AI$7,'DATA MAESTRO 2'!AI$8,'DATA MAESTRO 2'!AI$9,'DATA MAESTRO 2'!AI$10,'DATA MAESTRO 2'!AI$11,'DATA MAESTRO 2'!AI$12,'DATA MAESTRO 2'!AI$13,'DATA MAESTRO 2'!AI$14,'DATA MAESTRO 2'!AI$15,'DATA MAESTRO 2'!AI$16,'DATA MAESTRO 2'!AI$17,'DATA MAESTRO 2'!AI$18,'DATA MAESTRO 2'!AI$19,'DATA MAESTRO 2'!AI$20,'DATA MAESTRO 2'!AI$21,'DATA MAESTRO 2'!AI$22,'DATA MAESTRO 2'!AI$23,'DATA MAESTRO 2'!AI$24,'DATA MAESTRO 2'!AI$25,'DATA MAESTRO 2'!AI$26,'DATA MAESTRO 2'!AI$27,'DATA MAESTRO 2'!AI$28,'DATA MAESTRO 2'!AI$29,'DATA MAESTRO 2'!AI$30,'DATA MAESTRO 2'!AI$31,'DATA MAESTRO 2'!AI$32,'DATA MAESTRO 2'!AI$33,'DATA MAESTRO 2'!AI$34,'DATA MAESTRO 2'!AI$35,'DATA MAESTRO 2'!AI$36,'DATA MAESTRO 2'!AI$37,'DATA MAESTRO 2'!AI$38,'DATA MAESTRO 2'!AI$39,'DATA MAESTRO 2'!AI$40,)","v":0},{"$f":"CHOOSE($B16,'DATA MAESTRO 2'!AJ$6,'DATA MAESTRO 2'!AJ$7,'DATA MAESTRO 2'!AJ$8,'DATA MAESTRO 2'!AJ$9,'DATA MAESTRO 2'!AJ$10,'DATA MAESTRO 2'!AJ$11,'DATA MAESTRO 2'!AJ$12,'DATA MAESTRO 2'!AJ$13,'DATA MAESTRO 2'!AJ$14,'DATA MAESTRO 2'!AJ$15,'DATA MAESTRO 2'!AJ$16,'DATA MAESTRO 2'!AJ$17,'DATA MAESTRO 2'!AJ$18,'DATA MAESTRO 2'!AJ$19,'DATA MAESTRO 2'!AJ$20,'DATA MAESTRO 2'!AJ$21,'DATA MAESTRO 2'!AJ$22,'DATA MAESTRO 2'!AJ$23,'DATA MAESTRO 2'!AJ$24,'DATA MAESTRO 2'!AJ$25,'DATA MAESTRO 2'!AJ$26,'DATA MAESTRO 2'!AJ$27,'DATA MAESTRO 2'!AJ$28,'DATA MAESTRO 2'!AJ$29,'DATA MAESTRO 2'!AJ$30,'DATA MAESTRO 2'!AJ$31,'DATA MAESTRO 2'!AJ$32,'DATA MAESTRO 2'!AJ$33,'DATA MAESTRO 2'!AJ$34,'DATA MAESTRO 2'!AJ$35,'DATA MAESTRO 2'!AJ$36,'DATA MAESTRO 2'!AJ$37,'DATA MAESTRO 2'!AJ$38,'DATA MAESTRO 2'!AJ$39,'DATA MAESTRO 2'!AJ$40,)","v":0}]
[15,36,{"$f":"+IF(AND(B17>=1,B17<=36),VLOOKUP(B17,'DATA MAESTRO 2'!$A$6:$B$40,2),0)","v":""},{"$f":"+CHOOSE($B17,'DATA MAESTRO 2'!C$6,'DATA MAESTRO 2'!C$7,'DATA MAESTRO 2'!C$8,'DATA MAESTRO 2'!C$9,'DATA MAESTRO 2'!C$10,'DATA MAESTRO 2'!C$11,'DATA MAESTRO 2'!C$12,'DATA MAESTRO 2'!C$13,'DATA MAESTRO 2'!C$14,'DATA MAESTRO 2'!C$15,'DATA MAESTRO 2'!C$16,'DATA MAESTRO 2'!C$17,'DATA MAESTRO 2'!C$18,'DATA MAESTRO 2'!C$19,'DATA MAESTRO 2'!C$20,'DATA MAESTRO 2'!C$21,'DATA MAESTRO 2'!C$22,'DATA MAESTRO 2'!C$23,'DATA MAESTRO 2'!C$24,'DATA MAESTRO 2'!C$25,'DATA MAESTRO 2'!C$26,'DATA MAESTRO 2'!C$27,'DATA MAESTRO 2'!C$28,'DATA MAESTRO 2'!C$29,'DATA MAESTRO 2'!C$30,'DATA MAESTRO 2'!C$31,'DATA MAESTRO 2'!C$32,'DATA MAESTRO 2'!C$33,'DATA MAESTRO 2'!C$34,'DATA MAESTRO 2'!C$35,'DATA MAESTRO 2'!C$36,'DATA MAESTRO 2'!C$37,'DATA MAESTRO 2'!C$38,'DATA MAESTRO 2'!C$39,'DATA MAESTRO 2'!C$40,)","v":0},{"$f":"CHOOSE($B17,'DATA MAESTRO 2'!D$6,'DATA MAESTRO 2'!D$7,'DATA MAESTRO 2'!D$8,'DATA MAESTRO 2'!D$9,'DATA MAESTRO 2'!D$10,'DATA MAESTRO 2'!D$11,'DATA MAESTRO 2'!D$12,'DATA MAESTRO 2'!D$13,'DATA MAESTRO 2'!D$14,'DATA MAESTRO 2'!D$15,'DATA MAESTRO 2'!D$16,'DATA MAESTRO 2'!D$17,'DATA MAESTRO 2'!D$18,'DATA MAESTRO 2'!D$19,'DATA MAESTRO 2'!D$20,'DATA MAESTRO 2'!D$21,'DATA MAESTRO 2'!D$22,'DATA MAESTRO 2'!D$23,'DATA MAESTRO 2'!D$24,'DATA MAESTRO 2'!D$25,'DATA MAESTRO 2'!D$26,'DATA MAESTRO 2'!D$27,'DATA MAESTRO 2'!D$28,'DATA MAESTRO 2'!D$29,'DATA MAESTRO 2'!D$30,'DATA MAESTRO 2'!D$31,'DATA MAESTRO 2'!D$32,'DATA MAESTRO 2'!D$33,'DATA MAESTRO 2'!D$34,'DATA MAESTRO 2'!D$35,'DATA MAESTRO 2'!D$36,'DATA MAESTRO 2'!D$37,'DATA MAESTRO 2'!D$38,'DATA MAESTRO 2'!D$39,'DATA MAESTRO 2'!D$40,)","v":0},{"$f":"CHOOSE(B17,'DATA MAESTRO 2'!E$6,'DATA MAESTRO 2'!E$7,'DATA MAESTRO 2'!E$8,'DATA MAESTRO 2'!E$9,'DATA MAESTRO 2'!E$10,'DATA MAESTRO 2'!E$11,'DATA MAESTRO 2'!E$12,'DATA MAESTRO 2'!E$13,'DATA MAESTRO 2'!E$14,'DATA MAESTRO 2'!E$15,'DATA MAESTRO 2'!E$16,'DATA MAESTRO 2'!E$17,'DATA MAESTRO 2'!E$18,'DATA MAESTRO 2'!E$19,'DATA MAESTRO 2'!E$20,'DATA MAESTRO 2'!E$21,'DATA MAESTRO 2'!E$22,'DATA MAESTRO 2'!E$23,'DATA MAESTRO 2'!E$24,'DATA MAESTRO 2'!E$25,'DATA MAESTRO 2'!E$26,'DATA MAESTRO 2'!E$27,'DATA MAESTRO 2'!E$28,'DATA MAESTRO 2'!E$29,'DATA MAESTRO 2'!E$30,'DATA MAESTRO 2'!E$31,'DATA MAESTRO 2'!E$32,'DATA MAESTRO 2'!E$33,'DATA MAESTRO 2'!E$34,'DATA MAESTRO 2'!E$35,'DATA MAESTRO 2'!E$36,'DATA MAESTRO 2'!E$37,'DATA MAESTRO 2'!E$38,'DATA MAESTRO 2'!E$39,'DATA MAESTRO 2'!E$40,)","v":0},{"$f":"CHOOSE($B17,'DATA MAESTRO 2'!F$6,'DATA MAESTRO 2'!F$7,'DATA MAESTRO 2'!F$8,'DATA MAESTRO 2'!F$9,'DATA MAESTRO 2'!F$10,'DATA MAESTRO 2'!F$11,'DATA MAESTRO 2'!F$12,'DATA MAESTRO 2'!F$13,'DATA MAESTRO 2'!F$14,'DATA MAESTRO 2'!F$15,'DATA MAESTRO 2'!F$16,'DATA MAESTRO 2'!F$17,'DATA MAESTRO 2'!F$18,'DATA MAESTRO 2'!F$19,'DATA MAESTRO 2'!F$20,'DATA MAESTRO 2'!F$21,'DATA MAESTRO 2'!F$22,'DATA MAESTRO 2'!F$23,'DATA MAESTRO 2'!F$24,'DATA MAESTRO 2'!F$25,'DATA MAESTRO 2'!F$26,'DATA MAESTRO 2'!F$27,'DATA MAESTRO 2'!F$28,'DATA MAESTRO 2'!F$29,'DATA MAESTRO 2'!F$30,'DATA MAESTRO 2'!F$31,'DATA MAESTRO 2'!F$32,'DATA MAESTRO 2'!F$33,'DATA MAESTRO 2'!F$34,'DATA MAESTRO 2'!F$35,'DATA MAESTRO 2'!F$36,'DATA MAESTRO 2'!F$37,'DATA MAESTRO 2'!F$38,'DATA MAESTRO 2'!F$39,'DATA MAESTRO 2'!F$40,)","v":0},{"$f":"CHOOSE($B17,'DATA MAESTRO 2'!G$6,'DATA MAESTRO 2'!G$7,'DATA MAESTRO 2'!G$8,'DATA MAESTRO 2'!G$9,'DATA MAESTRO 2'!G$10,'DATA MAESTRO 2'!G$11,'DATA MAESTRO 2'!G$12,'DATA MAESTRO 2'!G$13,'DATA MAESTRO 2'!G$14,'DATA MAESTRO 2'!G$15,'DATA MAESTRO 2'!G$16,'DATA MAESTRO 2'!G$17,'DATA MAESTRO 2'!G$18,'DATA MAESTRO 2'!G$19,'DATA MAESTRO 2'!G$20,'DATA MAESTRO 2'!G$21,'DATA MAESTRO 2'!G$22,'DATA MAESTRO 2'!G$23,'DATA MAESTRO 2'!G$24,'DATA MAESTRO 2'!G$25,'DATA MAESTRO 2'!G$26,'DATA MAESTRO 2'!G$27,'DATA MAESTRO 2'!G$28,'DATA MAESTRO 2'!G$29,'DATA MAESTRO 2'!G$30,'DATA MAESTRO 2'!G$31,'DATA MAESTRO 2'!G$32,'DATA MAESTRO 2'!G$33,'DATA MAESTRO 2'!G$34,'DATA MAESTRO 2'!G$35,'DATA MAESTRO 2'!G$36,'DATA MAESTRO 2'!G$37,'DATA MAESTRO 2'!G$38,'DATA MAESTRO 2'!G$39,'DATA MAESTRO 2'!G$40,)","v":0},{"$f":"CHOOSE($B17,'DATA MAESTRO 2'!H$6,'DATA MAESTRO 2'!H$7,'DATA MAESTRO 2'!H$8,'DATA MAESTRO 2'!H$9,'DATA MAESTRO 2'!H$10,'DATA MAESTRO 2'!H$11,'DATA MAESTRO 2'!H$12,'DATA MAESTRO 2'!H$13,'DATA MAESTRO 2'!H$14,'DATA MAESTRO 2'!H$15,'DATA MAESTRO 2'!H$16,'DATA MAESTRO 2'!H$17,'DATA MAESTRO 2'!H$18,'DATA MAESTRO 2'!H$19,'DATA MAESTRO 2'!H$20,'DATA MAESTRO 2'!H$21,'DATA MAESTRO 2'!H$22,'DATA MAESTRO 2'!H$23,'DATA MAESTRO 2'!H$24,'DATA MAESTRO 2'!H$25,'DATA MAESTRO 2'!H$26,'DATA MAESTRO 2'!H$27,'DATA MAESTRO 2'!H$28,'DATA MAESTRO 2'!H$29,'DATA MAESTRO 2'!H$30,'DATA MAESTRO 2'!H$31,'DATA MAESTRO 2'!H$32,'DATA MAESTRO 2'!H$33,'DATA MAESTRO 2'!H$34,'DATA MAESTRO 2'!H$35,'DATA MAESTRO 2'!H$36,'DATA MAESTRO 2'!H$37,'DATA MAESTRO 2'!H$38,'DATA MAESTRO 2'!H$39,'DATA MAESTRO 2'!H$40,)","v":0},{"$f":"CHOOSE($B17,'DATA MAESTRO 2'!I$6,'DATA MAESTRO 2'!I$7,'DATA MAESTRO 2'!I$8,'DATA MAESTRO 2'!I$9,'DATA MAESTRO 2'!I$10,'DATA MAESTRO 2'!I$11,'DATA MAESTRO 2'!I$12,'DATA MAESTRO 2'!I$13,'DATA MAESTRO 2'!I$14,'DATA MAESTRO 2'!I$15,'DATA MAESTRO 2'!I$16,'DATA MAESTRO 2'!I$17,'DATA MAESTRO 2'!I$18,'DATA MAESTRO 2'!I$19,'DATA MAESTRO 2'!I$20,'DATA MAESTRO 2'!I$21,'DATA MAESTRO 2'!I$22,'DATA MAESTRO 2'!I$23,'DATA MAESTRO 2'!I$24,'DATA MAESTRO 2'!I$25,'DATA MAESTRO 2'!I$26,'DATA MAESTRO 2'!I$27,'DATA MAESTRO 2'!I$28,'DATA MAESTRO 2'!I$29,'DATA MAESTRO 2'!I$30,'DATA MAESTRO 2'!I$31,'DATA MAESTRO 2'!I$32,'DATA MAESTRO 2'!I$33,'DATA MAESTRO 2'!I$34,'DATA MAESTRO 2'!I$35,'DATA MAESTRO 2'!I$36,'DATA MAESTRO 2'!I$37,'DATA MAESTRO 2'!I$38,'DATA MAESTRO 2'!I$39,'DATA MAESTRO 2'!I$40,)","v":0},{"$f":"CHOOSE($B17,'DATA MAESTRO 2'!J$6,'DATA MAESTRO 2'!J$7,'DATA MAESTRO 2'!J$8,'DATA MAESTRO 2'!J$9,'DATA MAESTRO 2'!J$10,'DATA MAESTRO 2'!J$11,'DATA MAESTRO 2'!J$12,'DATA MAESTRO 2'!J$13,'DATA MAESTRO 2'!J$14,'DATA MAESTRO 2'!J$15,'DATA MAESTRO 2'!J$16,'DATA MAESTRO 2'!J$17,'DATA MAESTRO 2'!J$18,'DATA MAESTRO 2'!J$19,'DATA MAESTRO 2'!J$20,'DATA MAESTRO 2'!J$21,'DATA MAESTRO 2'!J$22,'DATA MAESTRO 2'!J$23,'DATA MAESTRO 2'!J$24,'DATA MAESTRO 2'!J$25,'DATA MAESTRO 2'!J$26,'DATA MAESTRO 2'!J$27,'DATA MAESTRO 2'!J$28,'DATA MAESTRO 2'!J$29,'DATA MAESTRO 2'!J$30,'DATA MAESTRO 2'!J$31,'DATA MAESTRO 2'!J$32,'DATA MAESTRO 2'!J$33,'DATA MAESTRO 2'!J$34,'DATA MAESTRO 2'!J$35,'DATA MAESTRO 2'!J$36,'DATA MAESTRO 2'!J$37,'DATA MAESTRO 2'!J$38,'DATA MAESTRO 2'!J$39,'DATA MAESTRO 2'!J$40,)","v":0},{"$f":"CHOOSE($B17,'DATA MAESTRO 2'!K$6,'DATA MAESTRO 2'!K$7,'DATA MAESTRO 2'!K$8,'DATA MAESTRO 2'!K$9,'DATA MAESTRO 2'!K$10,'DATA MAESTRO 2'!K$11,'DATA MAESTRO 2'!K$12,'DATA MAESTRO 2'!K$13,'DATA MAESTRO 2'!K$14,'DATA MAESTRO 2'!K$15,'DATA MAESTRO 2'!K$16,'DATA MAESTRO 2'!K$17,'DATA MAESTRO 2'!K$18,'DATA MAESTRO 2'!K$19,'DATA MAESTRO 2'!K$20,'DATA MAESTRO 2'!K$21,'DATA MAESTRO 2'!K$22,'DATA MAESTRO 2'!K$23,'DATA MAESTRO 2'!K$24,'DATA MAESTRO 2'!K$25,'DATA MAESTRO 2'!K$26,'DATA MAESTRO 2'!K$27,'DATA MAESTRO 2'!K$28,'DATA MAESTRO 2'!K$29,'DATA MAESTRO 2'!K$30,'DATA MAESTRO 2'!K$31,'DATA MAESTRO 2'!K$32,'DATA MAESTRO 2'!K$33,'DATA MAESTRO 2'!K$34,'DATA MAESTRO 2'!K$35,'DATA MAESTRO 2'!K$36,'DATA MAESTRO 2'!K$37,'DATA MAESTRO 2'!K$38,'DATA MAESTRO 2'!K$39,'DATA MAESTRO 2'!K$40,)","v":0},{"$f":"CHOOSE($B17,'DATA MAESTRO 2'!L$6,'DATA MAESTRO 2'!L$7,'DATA MAESTRO 2'!L$8,'DATA MAESTRO 2'!L$9,'DATA MAESTRO 2'!L$10,'DATA MAESTRO 2'!L$11,'DATA MAESTRO 2'!L$12,'DATA MAESTRO 2'!L$13,'DATA MAESTRO 2'!L$14,'DATA MAESTRO 2'!L$15,'DATA MAESTRO 2'!L$16,'DATA MAESTRO 2'!L$17,'DATA MAESTRO 2'!L$18,'DATA MAESTRO 2'!L$19,'DATA MAESTRO 2'!L$20,'DATA MAESTRO 2'!L$21,'DATA MAESTRO 2'!L$22,'DATA MAESTRO 2'!L$23,'DATA MAESTRO 2'!L$24,'DATA MAESTRO 2'!L$25,'DATA MAESTRO 2'!L$26,'DATA MAESTRO 2'!L$27,'DATA MAESTRO 2'!L$28,'DATA MAESTRO 2'!L$29,'DATA MAESTRO 2'!L$30,'DATA MAESTRO 2'!L$31,'DATA MAESTRO 2'!L$32,'DATA MAESTRO 2'!L$33,'DATA MAESTRO 2'!L$34,'DATA MAESTRO 2'!L$35,'DATA MAESTRO 2'!L$36,'DATA MAESTRO 2'!L$37,'DATA MAESTRO 2'!L$38,'DATA MAESTRO 2'!L$39,'DATA MAESTRO 2'!L$40,)","v":0},{"$f":"CHOOSE($B17,'DATA MAESTRO 2'!M$6,'DATA MAESTRO 2'!M$7,'DATA MAESTRO 2'!M$8,'DATA MAESTRO 2'!M$9,'DATA MAESTRO 2'!M$10,'DATA MAESTRO 2'!M$11,'DATA MAESTRO 2'!M$12,'DATA MAESTRO 2'!M$13,'DATA MAESTRO 2'!M$14,'DATA MAESTRO 2'!M$15,'DATA MAESTRO 2'!M$16,'DATA MAESTRO 2'!M$17,'DATA MAESTRO 2'!M$18,'DATA MAESTRO 2'!M$19,'DATA MAESTRO 2'!M$20,'DATA MAESTRO 2'!M$21,'DATA MAESTRO 2'!M$22,'DATA MAESTRO 2'!M$23,'DATA MAESTRO 2'!M$24,'DATA MAESTRO 2'!M$25,'DATA MAESTRO 2'!M$26,'DATA MAESTRO 2'!M$27,'DATA MAESTRO 2'!M$28,'DATA MAESTRO 2'!M$29,'DATA MAESTRO 2'!M$30,'DATA MAESTRO 2'!M$31,'DATA MAESTRO 2'!M$32,'DATA MAESTRO 2'!M$33,'DATA MAESTRO 2'!M$34,'DATA MAESTRO 2'!M$35,'DATA MAESTRO 2'!M$36,'DATA MAESTRO 2'!M$37,'DATA MAESTRO 2'!M$38,'DATA MAESTRO 2'!M$39,'DATA MAESTRO 2'!M$40,)","v":0},{"$f":"CHOOSE($B17,'DATA MAESTRO 2'!N$6,'DATA MAESTRO 2'!N$7,'DATA MAESTRO 2'!N$8,'DATA MAESTRO 2'!N$9,'DATA MAESTRO 2'!N$10,'DATA MAESTRO 2'!N$11,'DATA MAESTRO 2'!N$12,'DATA MAESTRO 2'!N$13,'DATA MAESTRO 2'!N$14,'DATA MAESTRO 2'!N$15,'DATA MAESTRO 2'!N$16,'DATA MAESTRO 2'!N$17,'DATA MAESTRO 2'!N$18,'DATA MAESTRO 2'!N$19,'DATA MAESTRO 2'!N$20,'DATA MAESTRO 2'!N$21,'DATA MAESTRO 2'!N$22,'DATA MAESTRO 2'!N$23,'DATA MAESTRO 2'!N$24,'DATA MAESTRO 2'!N$25,'DATA MAESTRO 2'!N$26,'DATA MAESTRO 2'!N$27,'DATA MAESTRO 2'!N$28,'DATA MAESTRO 2'!N$29,'DATA MAESTRO 2'!N$30,'DATA MAESTRO 2'!N$31,'DATA MAESTRO 2'!N$32,'DATA MAESTRO 2'!N$33,'DATA MAESTRO 2'!N$34,'DATA MAESTRO 2'!N$35,'DATA MAESTRO 2'!N$36,'DATA MAESTRO 2'!N$37,'DATA MAESTRO 2'!N$38,'DATA MAESTRO 2'!N$39,'DATA MAESTRO 2'!N$40,)","v":0},{"$f":"CHOOSE($B17,'DATA MAESTRO 2'!O$6,'DATA MAESTRO 2'!O$7,'DATA MAESTRO 2'!O$8,'DATA MAESTRO 2'!O$9,'DATA MAESTRO 2'!O$10,'DATA MAESTRO 2'!O$11,'DATA MAESTRO 2'!O$12,'DATA MAESTRO 2'!O$13,'DATA MAESTRO 2'!O$14,'DATA MAESTRO 2'!O$15,'DATA MAESTRO 2'!O$16,'DATA MAESTRO 2'!O$17,'DATA MAESTRO 2'!O$18,'DATA MAESTRO 2'!O$19,'DATA MAESTRO 2'!O$20,'DATA MAESTRO 2'!O$21,'DATA MAESTRO 2'!O$22,'DATA MAESTRO 2'!O$23,'DATA MAESTRO 2'!O$24,'DATA MAESTRO 2'!O$25,'DATA MAESTRO 2'!O$26,'DATA MAESTRO 2'!O$27,'DATA MAESTRO 2'!O$28,'DATA MAESTRO 2'!O$29,'DATA MAESTRO 2'!O$30,'DATA MAESTRO 2'!O$31,'DATA MAESTRO 2'!O$32,'DATA MAESTRO 2'!O$33,'DATA MAESTRO 2'!O$34,'DATA MAESTRO 2'!O$35,'DATA MAESTRO 2'!O$36,'DATA MAESTRO 2'!O$37,'DATA MAESTRO 2'!O$38,'DATA MAESTRO 2'!O$39,'DATA MAESTRO 2'!O$40,)","v":0},{"$f":"CHOOSE($B17,'DATA MAESTRO 2'!P$6,'DATA MAESTRO 2'!P$7,'DATA MAESTRO 2'!P$8,'DATA MAESTRO 2'!P$9,'DATA MAESTRO 2'!P$10,'DATA MAESTRO 2'!P$11,'DATA MAESTRO 2'!P$12,'DATA MAESTRO 2'!P$13,'DATA MAESTRO 2'!P$14,'DATA MAESTRO 2'!P$15,'DATA MAESTRO 2'!P$16,'DATA MAESTRO 2'!P$17,'DATA MAESTRO 2'!P$18,'DATA MAESTRO 2'!P$19,'DATA MAESTRO 2'!P$20,'DATA MAESTRO 2'!P$21,'DATA MAESTRO 2'!P$22,'DATA MAESTRO 2'!P$23,'DATA MAESTRO 2'!P$24,'DATA MAESTRO 2'!P$25,'DATA MAESTRO 2'!P$26,'DATA MAESTRO 2'!P$27,'DATA MAESTRO 2'!P$28,'DATA MAESTRO 2'!P$29,'DATA MAESTRO 2'!P$30,'DATA MAESTRO 2'!P$31,'DATA MAESTRO 2'!P$32,'DATA MAESTRO 2'!P$33,'DATA MAESTRO 2'!P$34,'DATA MAESTRO 2'!P$35,'DATA MAESTRO 2'!P$36,'DATA MAESTRO 2'!P$37,'DATA MAESTRO 2'!P$38,'DATA MAESTRO 2'!P$39,'DATA MAESTRO 2'!P$40,)","v":0},{"$f":"CHOOSE($B17,'DATA MAESTRO 2'!Q$6,'DATA MAESTRO 2'!Q$7,'DATA MAESTRO 2'!Q$8,'DATA MAESTRO 2'!Q$9,'DATA MAESTRO 2'!Q$10,'DATA MAESTRO 2'!Q$11,'DATA MAESTRO 2'!Q$12,'DATA MAESTRO 2'!Q$13,'DATA MAESTRO 2'!Q$14,'DATA MAESTRO 2'!Q$15,'DATA MAESTRO 2'!Q$16,'DATA MAESTRO 2'!Q$17,'DATA MAESTRO 2'!Q$18,'DATA MAESTRO 2'!Q$19,'DATA MAESTRO 2'!Q$20,'DATA MAESTRO 2'!Q$21,'DATA MAESTRO 2'!Q$22,'DATA MAESTRO 2'!Q$23,'DATA MAESTRO 2'!Q$24,'DATA MAESTRO 2'!Q$25,'DATA MAESTRO 2'!Q$26,'DATA MAESTRO 2'!Q$27,'DATA MAESTRO 2'!Q$28,'DATA MAESTRO 2'!Q$29,'DATA MAESTRO 2'!Q$30,'DATA MAESTRO 2'!Q$31,'DATA MAESTRO 2'!Q$32,'DATA MAESTRO 2'!Q$33,'DATA MAESTRO 2'!Q$34,'DATA MAESTRO 2'!Q$35,'DATA MAESTRO 2'!Q$36,'DATA MAESTRO 2'!Q$37,'DATA MAESTRO 2'!Q$38,'DATA MAESTRO 2'!Q$39,'DATA MAESTRO 2'!Q$40,)","v":0},{"$f":"CHOOSE($B17,'DATA MAESTRO 2'!R$6,'DATA MAESTRO 2'!R$7,'DATA MAESTRO 2'!R$8,'DATA MAESTRO 2'!R$9,'DATA MAESTRO 2'!R$10,'DATA MAESTRO 2'!R$11,'DATA MAESTRO 2'!R$12,'DATA MAESTRO 2'!R$13,'DATA MAESTRO 2'!R$14,'DATA MAESTRO 2'!R$15,'DATA MAESTRO 2'!R$16,'DATA MAESTRO 2'!R$17,'DATA MAESTRO 2'!R$18,'DATA MAESTRO 2'!R$19,'DATA MAESTRO 2'!R$20,'DATA MAESTRO 2'!R$21,'DATA MAESTRO 2'!R$22,'DATA MAESTRO 2'!R$23,'DATA MAESTRO 2'!R$24,'DATA MAESTRO 2'!R$25,'DATA MAESTRO 2'!R$26,'DATA MAESTRO 2'!R$27,'DATA MAESTRO 2'!R$28,'DATA MAESTRO 2'!R$29,'DATA MAESTRO 2'!R$30,'DATA MAESTRO 2'!R$31,'DATA MAESTRO 2'!R$32,'DATA MAESTRO 2'!R$33,'DATA MAESTRO 2'!R$34,'DATA MAESTRO 2'!R$35,'DATA MAESTRO 2'!R$36,'DATA MAESTRO 2'!R$37,'DATA MAESTRO 2'!R$38,'DATA MAESTRO 2'!R$39,'DATA MAESTRO 2'!R$40,)","v":0},{"$f":"CHOOSE($B17,'DATA MAESTRO 2'!S$6,'DATA MAESTRO 2'!S$7,'DATA MAESTRO 2'!S$8,'DATA MAESTRO 2'!S$9,'DATA MAESTRO 2'!S$10,'DATA MAESTRO 2'!S$11,'DATA MAESTRO 2'!S$12,'DATA MAESTRO 2'!S$13,'DATA MAESTRO 2'!S$14,'DATA MAESTRO 2'!S$15,'DATA MAESTRO 2'!S$16,'DATA MAESTRO 2'!S$17,'DATA MAESTRO 2'!S$18,'DATA MAESTRO 2'!S$19,'DATA MAESTRO 2'!S$20,'DATA MAESTRO 2'!S$21,'DATA MAESTRO 2'!S$22,'DATA MAESTRO 2'!S$23,'DATA MAESTRO 2'!S$24,'DATA MAESTRO 2'!S$25,'DATA MAESTRO 2'!S$26,'DATA MAESTRO 2'!S$27,'DATA MAESTRO 2'!S$28,'DATA MAESTRO 2'!S$29,'DATA MAESTRO 2'!S$30,'DATA MAESTRO 2'!S$31,'DATA MAESTRO 2'!S$32,'DATA MAESTRO 2'!S$33,'DATA MAESTRO 2'!S$34,'DATA MAESTRO 2'!S$35,'DATA MAESTRO 2'!S$36,'DATA MAESTRO 2'!S$37,'DATA MAESTRO 2'!S$38,'DATA MAESTRO 2'!S$39,'DATA MAESTRO 2'!S$40,)","v":0},{"$f":"CHOOSE($B17,'DATA MAESTRO 2'!T$6,'DATA MAESTRO 2'!T$7,'DATA MAESTRO 2'!T$8,'DATA MAESTRO 2'!T$9,'DATA MAESTRO 2'!T$10,'DATA MAESTRO 2'!T$11,'DATA MAESTRO 2'!T$12,'DATA MAESTRO 2'!T$13,'DATA MAESTRO 2'!T$14,'DATA MAESTRO 2'!T$15,'DATA MAESTRO 2'!T$16,'DATA MAESTRO 2'!T$17,'DATA MAESTRO 2'!T$18,'DATA MAESTRO 2'!T$19,'DATA MAESTRO 2'!T$20,'DATA MAESTRO 2'!T$21,'DATA MAESTRO 2'!T$22,'DATA MAESTRO 2'!T$23,'DATA MAESTRO 2'!T$24,'DATA MAESTRO 2'!T$25,'DATA MAESTRO 2'!T$26,'DATA MAESTRO 2'!T$27,'DATA MAESTRO 2'!T$28,'DATA MAESTRO 2'!T$29,'DATA MAESTRO 2'!T$30,'DATA MAESTRO 2'!T$31,'DATA MAESTRO 2'!T$32,'DATA MAESTRO 2'!T$33,'DATA MAESTRO 2'!T$34,'DATA MAESTRO 2'!T$35,'DATA MAESTRO 2'!T$36,'DATA MAESTRO 2'!T$37,'DATA MAESTRO 2'!T$38,'DATA MAESTRO 2'!T$39,'DATA MAESTRO 2'!T$40,)","v":0},{"$f":"CHOOSE($B17,'DATA MAESTRO 2'!U$6,'DATA MAESTRO 2'!U$7,'DATA MAESTRO 2'!U$8,'DATA MAESTRO 2'!U$9,'DATA MAESTRO 2'!U$10,'DATA MAESTRO 2'!U$11,'DATA MAESTRO 2'!U$12,'DATA MAESTRO 2'!U$13,'DATA MAESTRO 2'!U$14,'DATA MAESTRO 2'!U$15,'DATA MAESTRO 2'!U$16,'DATA MAESTRO 2'!U$17,'DATA MAESTRO 2'!U$18,'DATA MAESTRO 2'!U$19,'DATA MAESTRO 2'!U$20,'DATA MAESTRO 2'!U$21,'DATA MAESTRO 2'!U$22,'DATA MAESTRO 2'!U$23,'DATA MAESTRO 2'!U$24,'DATA MAESTRO 2'!U$25,'DATA MAESTRO 2'!U$26,'DATA MAESTRO 2'!U$27,'DATA MAESTRO 2'!U$28,'DATA MAESTRO 2'!U$29,'DATA MAESTRO 2'!U$30,'DATA MAESTRO 2'!U$31,'DATA MAESTRO 2'!U$32,'DATA MAESTRO 2'!U$33,'DATA MAESTRO 2'!U$34,'DATA MAESTRO 2'!U$35,'DATA MAESTRO 2'!U$36,'DATA MAESTRO 2'!U$37,'DATA MAESTRO 2'!U$38,'DATA MAESTRO 2'!U$39,'DATA MAESTRO 2'!U$40,)","v":0},{"$f":"CHOOSE($B17,'DATA MAESTRO 2'!V$6,'DATA MAESTRO 2'!V$7,'DATA MAESTRO 2'!V$8,'DATA MAESTRO 2'!V$9,'DATA MAESTRO 2'!V$10,'DATA MAESTRO 2'!V$11,'DATA MAESTRO 2'!V$12,'DATA MAESTRO 2'!V$13,'DATA MAESTRO 2'!V$14,'DATA MAESTRO 2'!V$15,'DATA MAESTRO 2'!V$16,'DATA MAESTRO 2'!V$17,'DATA MAESTRO 2'!V$18,'DATA MAESTRO 2'!V$19,'DATA MAESTRO 2'!V$20,'DATA MAESTRO 2'!V$21,'DATA MAESTRO 2'!V$22,'DATA MAESTRO 2'!V$23,'DATA MAESTRO 2'!V$24,'DATA MAESTRO 2'!V$25,'DATA MAESTRO 2'!V$26,'DATA MAESTRO 2'!V$27,'DATA MAESTRO 2'!V$28,'DATA MAESTRO 2'!V$29,'DATA MAESTRO 2'!V$30,'DATA MAESTRO 2'!V$31,'DATA MAESTRO 2'!V$32,'DATA MAESTRO 2'!V$33,'DATA MAESTRO 2'!V$34,'DATA MAESTRO 2'!V$35,'DATA MAESTRO 2'!V$36,'DATA MAESTRO 2'!V$37,'DATA MAESTRO 2'!V$38,'DATA MAESTRO 2'!V$39,'DATA MAESTRO 2'!V$40,)","v":0},{"$f":"CHOOSE($B17,'DATA MAESTRO 2'!W$6,'DATA MAESTRO 2'!W$7,'DATA MAESTRO 2'!W$8,'DATA MAESTRO 2'!W$9,'DATA MAESTRO 2'!W$10,'DATA MAESTRO 2'!W$11,'DATA MAESTRO 2'!W$12,'DATA MAESTRO 2'!W$13,'DATA MAESTRO 2'!W$14,'DATA MAESTRO 2'!W$15,'DATA MAESTRO 2'!W$16,'DATA MAESTRO 2'!W$17,'DATA MAESTRO 2'!W$18,'DATA MAESTRO 2'!W$19,'DATA MAESTRO 2'!W$20,'DATA MAESTRO 2'!W$21,'DATA MAESTRO 2'!W$22,'DATA MAESTRO 2'!W$23,'DATA MAESTRO 2'!W$24,'DATA MAESTRO 2'!W$25,'DATA MAESTRO 2'!W$26,'DATA MAESTRO 2'!W$27,'DATA MAESTRO 2'!W$28,'DATA MAESTRO 2'!W$29,'DATA MAESTRO 2'!W$30,'DATA MAESTRO 2'!W$31,'DATA MAESTRO 2'!W$32,'DATA MAESTRO 2'!W$33,'DATA MAESTRO 2'!W$34,'DATA MAESTRO 2'!W$35,'DATA MAESTRO 2'!W$36,'DATA MAESTRO 2'!W$37,'DATA MAESTRO 2'!W$38,'DATA MAESTRO 2'!W$39,'DATA MAESTRO 2'!W$40,)","v":0},{"$f":"CHOOSE($B17,'DATA MAESTRO 2'!X$6,'DATA MAESTRO 2'!X$7,'DATA MAESTRO 2'!X$8,'DATA MAESTRO 2'!X$9,'DATA MAESTRO 2'!X$10,'DATA MAESTRO 2'!X$11,'DATA MAESTRO 2'!X$12,'DATA MAESTRO 2'!X$13,'DATA MAESTRO 2'!X$14,'DATA MAESTRO 2'!X$15,'DATA MAESTRO 2'!X$16,'DATA MAESTRO 2'!X$17,'DATA MAESTRO 2'!X$18,'DATA MAESTRO 2'!X$19,'DATA MAESTRO 2'!X$20,'DATA MAESTRO 2'!X$21,'DATA MAESTRO 2'!X$22,'DATA MAESTRO 2'!X$23,'DATA MAESTRO 2'!X$24,'DATA MAESTRO 2'!X$25,'DATA MAESTRO 2'!X$26,'DATA MAESTRO 2'!X$27,'DATA MAESTRO 2'!X$28,'DATA MAESTRO 2'!X$29,'DATA MAESTRO 2'!X$30,'DATA MAESTRO 2'!X$31,'DATA MAESTRO 2'!X$32,'DATA MAESTRO 2'!X$33,'DATA MAESTRO 2'!X$34,'DATA MAESTRO 2'!X$35,'DATA MAESTRO 2'!X$36,'DATA MAESTRO 2'!X$37,'DATA MAESTRO 2'!X$38,'DATA MAESTRO 2'!X$39,'DATA MAESTRO 2'!X$40,)","v":0},{"$f":"CHOOSE($B17,'DATA MAESTRO 2'!Y$6,'DATA MAESTRO 2'!Y$7,'DATA MAESTRO 2'!Y$8,'DATA MAESTRO 2'!Y$9,'DATA MAESTRO 2'!Y$10,'DATA MAESTRO 2'!Y$11,'DATA MAESTRO 2'!Y$12,'DATA MAESTRO 2'!Y$13,'DATA MAESTRO 2'!Y$14,'DATA MAESTRO 2'!Y$15,'DATA MAESTRO 2'!Y$16,'DATA MAESTRO 2'!Y$17,'DATA MAESTRO 2'!Y$18,'DATA MAESTRO 2'!Y$19,'DATA MAESTRO 2'!Y$20,'DATA MAESTRO 2'!Y$21,'DATA MAESTRO 2'!Y$22,'DATA MAESTRO 2'!Y$23,'DATA MAESTRO 2'!Y$24,'DATA MAESTRO 2'!Y$25,'DATA MAESTRO 2'!Y$26,'DATA MAESTRO 2'!Y$27,'DATA MAESTRO 2'!Y$28,'DATA MAESTRO 2'!Y$29,'DATA MAESTRO 2'!Y$30,'DATA MAESTRO 2'!Y$31,'DATA MAESTRO 2'!Y$32,'DATA MAESTRO 2'!Y$33,'DATA MAESTRO 2'!Y$34,'DATA MAESTRO 2'!Y$35,'DATA MAESTRO 2'!Y$36,'DATA MAESTRO 2'!Y$37,'DATA MAESTRO 2'!Y$38,'DATA MAESTRO 2'!Y$39,'DATA MAESTRO 2'!Y$40,)","v":0},{"$f":"CHOOSE($B17,'DATA MAESTRO 2'!Z$6,'DATA MAESTRO 2'!Z$7,'DATA MAESTRO 2'!Z$8,'DATA MAESTRO 2'!Z$9,'DATA MAESTRO 2'!Z$10,'DATA MAESTRO 2'!Z$11,'DATA MAESTRO 2'!Z$12,'DATA MAESTRO 2'!Z$13,'DATA MAESTRO 2'!Z$14,'DATA MAESTRO 2'!Z$15,'DATA MAESTRO 2'!Z$16,'DATA MAESTRO 2'!Z$17,'DATA MAESTRO 2'!Z$18,'DATA MAESTRO 2'!Z$19,'DATA MAESTRO 2'!Z$20,'DATA MAESTRO 2'!Z$21,'DATA MAESTRO 2'!Z$22,'DATA MAESTRO 2'!Z$23,'DATA MAESTRO 2'!Z$24,'DATA MAESTRO 2'!Z$25,'DATA MAESTRO 2'!Z$26,'DATA MAESTRO 2'!Z$27,'DATA MAESTRO 2'!Z$28,'DATA MAESTRO 2'!Z$29,'DATA MAESTRO 2'!Z$30,'DATA MAESTRO 2'!Z$31,'DATA MAESTRO 2'!Z$32,'DATA MAESTRO 2'!Z$33,'DATA MAESTRO 2'!Z$34,'DATA MAESTRO 2'!Z$35,'DATA MAESTRO 2'!Z$36,'DATA MAESTRO 2'!Z$37,'DATA MAESTRO 2'!Z$38,'DATA MAESTRO 2'!Z$39,'DATA MAESTRO 2'!Z$40,)","v":0},{"$f":"CHOOSE($B17,'DATA MAESTRO 2'!AA$6,'DATA MAESTRO 2'!AA$7,'DATA MAESTRO 2'!AA$8,'DATA MAESTRO 2'!AA$9,'DATA MAESTRO 2'!AA$10,'DATA MAESTRO 2'!AA$11,'DATA MAESTRO 2'!AA$12,'DATA MAESTRO 2'!AA$13,'DATA MAESTRO 2'!AA$14,'DATA MAESTRO 2'!AA$15,'DATA MAESTRO 2'!AA$16,'DATA MAESTRO 2'!AA$17,'DATA MAESTRO 2'!AA$18,'DATA MAESTRO 2'!AA$19,'DATA MAESTRO 2'!AA$20,'DATA MAESTRO 2'!AA$21,'DATA MAESTRO 2'!AA$22,'DATA MAESTRO 2'!AA$23,'DATA MAESTRO 2'!AA$24,'DATA MAESTRO 2'!AA$25,'DATA MAESTRO 2'!AA$26,'DATA MAESTRO 2'!AA$27,'DATA MAESTRO 2'!AA$28,'DATA MAESTRO 2'!AA$29,'DATA MAESTRO 2'!AA$30,'DATA MAESTRO 2'!AA$31,'DATA MAESTRO 2'!AA$32,'DATA MAESTRO 2'!AA$33,'DATA MAESTRO 2'!AA$34,'DATA MAESTRO 2'!AA$35,'DATA MAESTRO 2'!AA$36,'DATA MAESTRO 2'!AA$37,'DATA MAESTRO 2'!AA$38,'DATA MAESTRO 2'!AA$39,'DATA MAESTRO 2'!AA$40,)","v":0},{"$f":"CHOOSE($B17,'DATA MAESTRO 2'!AB$6,'DATA MAESTRO 2'!AB$7,'DATA MAESTRO 2'!AB$8,'DATA MAESTRO 2'!AB$9,'DATA MAESTRO 2'!AB$10,'DATA MAESTRO 2'!AB$11,'DATA MAESTRO 2'!AB$12,'DATA MAESTRO 2'!AB$13,'DATA MAESTRO 2'!AB$14,'DATA MAESTRO 2'!AB$15,'DATA MAESTRO 2'!AB$16,'DATA MAESTRO 2'!AB$17,'DATA MAESTRO 2'!AB$18,'DATA MAESTRO 2'!AB$19,'DATA MAESTRO 2'!AB$20,'DATA MAESTRO 2'!AB$21,'DATA MAESTRO 2'!AB$22,'DATA MAESTRO 2'!AB$23,'DATA MAESTRO 2'!AB$24,'DATA MAESTRO 2'!AB$25,'DATA MAESTRO 2'!AB$26,'DATA MAESTRO 2'!AB$27,'DATA MAESTRO 2'!AB$28,'DATA MAESTRO 2'!AB$29,'DATA MAESTRO 2'!AB$30,'DATA MAESTRO 2'!AB$31,'DATA MAESTRO 2'!AB$32,'DATA MAESTRO 2'!AB$33,'DATA MAESTRO 2'!AB$34,'DATA MAESTRO 2'!AB$35,'DATA MAESTRO 2'!AB$36,'DATA MAESTRO 2'!AB$37,'DATA MAESTRO 2'!AB$38,'DATA MAESTRO 2'!AB$39,'DATA MAESTRO 2'!AB$40,)","v":0},{"$f":"CHOOSE($B17,'DATA MAESTRO 2'!AC$6,'DATA MAESTRO 2'!AC$7,'DATA MAESTRO 2'!AC$8,'DATA MAESTRO 2'!AC$9,'DATA MAESTRO 2'!AC$10,'DATA MAESTRO 2'!AC$11,'DATA MAESTRO 2'!AC$12,'DATA MAESTRO 2'!AC$13,'DATA MAESTRO 2'!AC$14,'DATA MAESTRO 2'!AC$15,'DATA MAESTRO 2'!AC$16,'DATA MAESTRO 2'!AC$17,'DATA MAESTRO 2'!AC$18,'DATA MAESTRO 2'!AC$19,'DATA MAESTRO 2'!AC$20,'DATA MAESTRO 2'!AC$21,'DATA MAESTRO 2'!AC$22,'DATA MAESTRO 2'!AC$23,'DATA MAESTRO 2'!AC$24,'DATA MAESTRO 2'!AC$25,'DATA MAESTRO 2'!AC$26,'DATA MAESTRO 2'!AC$27,'DATA MAESTRO 2'!AC$28,'DATA MAESTRO 2'!AC$29,'DATA MAESTRO 2'!AC$30,'DATA MAESTRO 2'!AC$31,'DATA MAESTRO 2'!AC$32,'DATA MAESTRO 2'!AC$33,'DATA MAESTRO 2'!AC$34,'DATA MAESTRO 2'!AC$35,'DATA MAESTRO 2'!AC$36,'DATA MAESTRO 2'!AC$37,'DATA MAESTRO 2'!AC$38,'DATA MAESTRO 2'!AC$39,'DATA MAESTRO 2'!AC$40,)","v":0},{"$f":"CHOOSE($B17,'DATA MAESTRO 2'!AD$6,'DATA MAESTRO 2'!AD$7,'DATA MAESTRO 2'!AD$8,'DATA MAESTRO 2'!AD$9,'DATA MAESTRO 2'!AD$10,'DATA MAESTRO 2'!AD$11,'DATA MAESTRO 2'!AD$12,'DATA MAESTRO 2'!AD$13,'DATA MAESTRO 2'!AD$14,'DATA MAESTRO 2'!AD$15,'DATA MAESTRO 2'!AD$16,'DATA MAESTRO 2'!AD$17,'DATA MAESTRO 2'!AD$18,'DATA MAESTRO 2'!AD$19,'DATA MAESTRO 2'!AD$20,'DATA MAESTRO 2'!AD$21,'DATA MAESTRO 2'!AD$22,'DATA MAESTRO 2'!AD$23,'DATA MAESTRO 2'!AD$24,'DATA MAESTRO 2'!AD$25,'DATA MAESTRO 2'!AD$26,'DATA MAESTRO 2'!AD$27,'DATA MAESTRO 2'!AD$28,'DATA MAESTRO 2'!AD$29,'DATA MAESTRO 2'!AD$30,'DATA MAESTRO 2'!AD$31,'DATA MAESTRO 2'!AD$32,'DATA MAESTRO 2'!AD$33,'DATA MAESTRO 2'!AD$34,'DATA MAESTRO 2'!AD$35,'DATA MAESTRO 2'!AD$36,'DATA MAESTRO 2'!AD$37,'DATA MAESTRO 2'!AD$38,'DATA MAESTRO 2'!AD$39,'DATA MAESTRO 2'!AD$40,)","v":0},{"$f":"CHOOSE($B17,'DATA MAESTRO 2'!AE$6,'DATA MAESTRO 2'!AE$7,'DATA MAESTRO 2'!AE$8,'DATA MAESTRO 2'!AE$9,'DATA MAESTRO 2'!AE$10,'DATA MAESTRO 2'!AE$11,'DATA MAESTRO 2'!AE$12,'DATA MAESTRO 2'!AE$13,'DATA MAESTRO 2'!AE$14,'DATA MAESTRO 2'!AE$15,'DATA MAESTRO 2'!AE$16,'DATA MAESTRO 2'!AE$17,'DATA MAESTRO 2'!AE$18,'DATA MAESTRO 2'!AE$19,'DATA MAESTRO 2'!AE$20,'DATA MAESTRO 2'!AE$21,'DATA MAESTRO 2'!AE$22,'DATA MAESTRO 2'!AE$23,'DATA MAESTRO 2'!AE$24,'DATA MAESTRO 2'!AE$25,'DATA MAESTRO 2'!AE$26,'DATA MAESTRO 2'!AE$27,'DATA MAESTRO 2'!AE$28,'DATA MAESTRO 2'!AE$29,'DATA MAESTRO 2'!AE$30,'DATA MAESTRO 2'!AE$31,'DATA MAESTRO 2'!AE$32,'DATA MAESTRO 2'!AE$33,'DATA MAESTRO 2'!AE$34,'DATA MAESTRO 2'!AE$35,'DATA MAESTRO 2'!AE$36,'DATA MAESTRO 2'!AE$37,'DATA MAESTRO 2'!AE$38,'DATA MAESTRO 2'!AE$39,'DATA MAESTRO 2'!AE$40,)","v":0},{"$f":"CHOOSE($B17,'DATA MAESTRO 2'!AF$6,'DATA MAESTRO 2'!AF$7,'DATA MAESTRO 2'!AF$8,'DATA MAESTRO 2'!AF$9,'DATA MAESTRO 2'!AF$10,'DATA MAESTRO 2'!AF$11,'DATA MAESTRO 2'!AF$12,'DATA MAESTRO 2'!AF$13,'DATA MAESTRO 2'!AF$14,'DATA MAESTRO 2'!AF$15,'DATA MAESTRO 2'!AF$16,'DATA MAESTRO 2'!AF$17,'DATA MAESTRO 2'!AF$18,'DATA MAESTRO 2'!AF$19,'DATA MAESTRO 2'!AF$20,'DATA MAESTRO 2'!AF$21,'DATA MAESTRO 2'!AF$22,'DATA MAESTRO 2'!AF$23,'DATA MAESTRO 2'!AF$24,'DATA MAESTRO 2'!AF$25,'DATA MAESTRO 2'!AF$26,'DATA MAESTRO 2'!AF$27,'DATA MAESTRO 2'!AF$28,'DATA MAESTRO 2'!AF$29,'DATA MAESTRO 2'!AF$30,'DATA MAESTRO 2'!AF$31,'DATA MAESTRO 2'!AF$32,'DATA MAESTRO 2'!AF$33,'DATA MAESTRO 2'!AF$34,'DATA MAESTRO 2'!AF$35,'DATA MAESTRO 2'!AF$36,'DATA MAESTRO 2'!AF$37,'DATA MAESTRO 2'!AF$38,'DATA MAESTRO 2'!AF$39,'DATA MAESTRO 2'!AF$40,)","v":0},{"$f":"CHOOSE($B17,'DATA MAESTRO 2'!AG$6,'DATA MAESTRO 2'!AG$7,'DATA MAESTRO 2'!AG$8,'DATA MAESTRO 2'!AG$9,'DATA MAESTRO 2'!AG$10,'DATA MAESTRO 2'!AG$11,'DATA MAESTRO 2'!AG$12,'DATA MAESTRO 2'!AG$13,'DATA MAESTRO 2'!AG$14,'DATA MAESTRO 2'!AG$15,'DATA MAESTRO 2'!AG$16,'DATA MAESTRO 2'!AG$17,'DATA MAESTRO 2'!AG$18,'DATA MAESTRO 2'!AG$19,'DATA MAESTRO 2'!AG$20,'DATA MAESTRO 2'!AG$21,'DATA MAESTRO 2'!AG$22,'DATA MAESTRO 2'!AG$23,'DATA MAESTRO 2'!AG$24,'DATA MAESTRO 2'!AG$25,'DATA MAESTRO 2'!AG$26,'DATA MAESTRO 2'!AG$27,'DATA MAESTRO 2'!AG$28,'DATA MAESTRO 2'!AG$29,'DATA MAESTRO 2'!AG$30,'DATA MAESTRO 2'!AG$31,'DATA MAESTRO 2'!AG$32,'DATA MAESTRO 2'!AG$33,'DATA MAESTRO 2'!AG$34,'DATA MAESTRO 2'!AG$35,'DATA MAESTRO 2'!AG$36,'DATA MAESTRO 2'!AG$37,'DATA MAESTRO 2'!AG$38,'DATA MAESTRO 2'!AG$39,'DATA MAESTRO 2'!AG$40,)","v":0},{"$f":"CHOOSE($B17,'DATA MAESTRO 2'!AH$6,'DATA MAESTRO 2'!AH$7,'DATA MAESTRO 2'!AH$8,'DATA MAESTRO 2'!AH$9,'DATA MAESTRO 2'!AH$10,'DATA MAESTRO 2'!AH$11,'DATA MAESTRO 2'!AH$12,'DATA MAESTRO 2'!AH$13,'DATA MAESTRO 2'!AH$14,'DATA MAESTRO 2'!AH$15,'DATA MAESTRO 2'!AH$16,'DATA MAESTRO 2'!AH$17,'DATA MAESTRO 2'!AH$18,'DATA MAESTRO 2'!AH$19,'DATA MAESTRO 2'!AH$20,'DATA MAESTRO 2'!AH$21,'DATA MAESTRO 2'!AH$22,'DATA MAESTRO 2'!AH$23,'DATA MAESTRO 2'!AH$24,'DATA MAESTRO 2'!AH$25,'DATA MAESTRO 2'!AH$26,'DATA MAESTRO 2'!AH$27,'DATA MAESTRO 2'!AH$28,'DATA MAESTRO 2'!AH$29,'DATA MAESTRO 2'!AH$30,'DATA MAESTRO 2'!AH$31,'DATA MAESTRO 2'!AH$32,'DATA MAESTRO 2'!AH$33,'DATA MAESTRO 2'!AH$34,'DATA MAESTRO 2'!AH$35,'DATA MAESTRO 2'!AH$36,'DATA MAESTRO 2'!AH$37,'DATA MAESTRO 2'!AH$38,'DATA MAESTRO 2'!AH$39,'DATA MAESTRO 2'!AH$40,)","v":0},{"$f":"CHOOSE($B17,'DATA MAESTRO 2'!AI$6,'DATA MAESTRO 2'!AI$7,'DATA MAESTRO 2'!AI$8,'DATA MAESTRO 2'!AI$9,'DATA MAESTRO 2'!AI$10,'DATA MAESTRO 2'!AI$11,'DATA MAESTRO 2'!AI$12,'DATA MAESTRO 2'!AI$13,'DATA MAESTRO 2'!AI$14,'DATA MAESTRO 2'!AI$15,'DATA MAESTRO 2'!AI$16,'DATA MAESTRO 2'!AI$17,'DATA MAESTRO 2'!AI$18,'DATA MAESTRO 2'!AI$19,'DATA MAESTRO 2'!AI$20,'DATA MAESTRO 2'!AI$21,'DATA MAESTRO 2'!AI$22,'DATA MAESTRO 2'!AI$23,'DATA MAESTRO 2'!AI$24,'DATA MAESTRO 2'!AI$25,'DATA MAESTRO 2'!AI$26,'DATA MAESTRO 2'!AI$27,'DATA MAESTRO 2'!AI$28,'DATA MAESTRO 2'!AI$29,'DATA MAESTRO 2'!AI$30,'DATA MAESTRO 2'!AI$31,'DATA MAESTRO 2'!AI$32,'DATA MAESTRO 2'!AI$33,'DATA MAESTRO 2'!AI$34,'DATA MAESTRO 2'!AI$35,'DATA MAESTRO 2'!AI$36,'DATA MAESTRO 2'!AI$37,'DATA MAESTRO 2'!AI$38,'DATA MAESTRO 2'!AI$39,'DATA MAESTRO 2'!AI$40,)","v":0},{"$f":"CHOOSE($B17,'DATA MAESTRO 2'!AJ$6,'DATA MAESTRO 2'!AJ$7,'DATA MAESTRO 2'!AJ$8,'DATA MAESTRO 2'!AJ$9,'DATA MAESTRO 2'!AJ$10,'DATA MAESTRO 2'!AJ$11,'DATA MAESTRO 2'!AJ$12,'DATA MAESTRO 2'!AJ$13,'DATA MAESTRO 2'!AJ$14,'DATA MAESTRO 2'!AJ$15,'DATA MAESTRO 2'!AJ$16,'DATA MAESTRO 2'!AJ$17,'DATA MAESTRO 2'!AJ$18,'DATA MAESTRO 2'!AJ$19,'DATA MAESTRO 2'!AJ$20,'DATA MAESTRO 2'!AJ$21,'DATA MAESTRO 2'!AJ$22,'DATA MAESTRO 2'!AJ$23,'DATA MAESTRO 2'!AJ$24,'DATA MAESTRO 2'!AJ$25,'DATA MAESTRO 2'!AJ$26,'DATA MAESTRO 2'!AJ$27,'DATA MAESTRO 2'!AJ$28,'DATA MAESTRO 2'!AJ$29,'DATA MAESTRO 2'!AJ$30,'DATA MAESTRO 2'!AJ$31,'DATA MAESTRO 2'!AJ$32,'DATA MAESTRO 2'!AJ$33,'DATA MAESTRO 2'!AJ$34,'DATA MAESTRO 2'!AJ$35,'DATA MAESTRO 2'!AJ$36,'DATA MAESTRO 2'!AJ$37,'DATA MAESTRO 2'!AJ$38,'DATA MAESTRO 2'!AJ$39,'DATA MAESTRO 2'!AJ$40,)","v":0}]
[16,36,{"$f":"+IF(AND(B18>=1,B18<=36),VLOOKUP(B18,'DATA MAESTRO 2'!$A$6:$B$40,2),0)","v":""},{"$f":"+CHOOSE($B18,'DATA MAESTRO 2'!C$6,'DATA MAESTRO 2'!C$7,'DATA MAESTRO 2'!C$8,'DATA MAESTRO 2'!C$9,'DATA MAESTRO 2'!C$10,'DATA MAESTRO 2'!C$11,'DATA MAESTRO 2'!C$12,'DATA MAESTRO 2'!C$13,'DATA MAESTRO 2'!C$14,'DATA MAESTRO 2'!C$15,'DATA MAESTRO 2'!C$16,'DATA MAESTRO 2'!C$17,'DATA MAESTRO 2'!C$18,'DATA MAESTRO 2'!C$19,'DATA MAESTRO 2'!C$20,'DATA MAESTRO 2'!C$21,'DATA MAESTRO 2'!C$22,'DATA MAESTRO 2'!C$23,'DATA MAESTRO 2'!C$24,'DATA MAESTRO 2'!C$25,'DATA MAESTRO 2'!C$26,'DATA MAESTRO 2'!C$27,'DATA MAESTRO 2'!C$28,'DATA MAESTRO 2'!C$29,'DATA MAESTRO 2'!C$30,'DATA MAESTRO 2'!C$31,'DATA MAESTRO 2'!C$32,'DATA MAESTRO 2'!C$33,'DATA MAESTRO 2'!C$34,'DATA MAESTRO 2'!C$35,'DATA MAESTRO 2'!C$36,'DATA MAESTRO 2'!C$37,'DATA MAESTRO 2'!C$38,'DATA MAESTRO 2'!C$39,'DATA MAESTRO 2'!C$40,)","v":0},{"$f":"CHOOSE($B18,'DATA MAESTRO 2'!D$6,'DATA MAESTRO 2'!D$7,'DATA MAESTRO 2'!D$8,'DATA MAESTRO 2'!D$9,'DATA MAESTRO 2'!D$10,'DATA MAESTRO 2'!D$11,'DATA MAESTRO 2'!D$12,'DATA MAESTRO 2'!D$13,'DATA MAESTRO 2'!D$14,'DATA MAESTRO 2'!D$15,'DATA MAESTRO 2'!D$16,'DATA MAESTRO 2'!D$17,'DATA MAESTRO 2'!D$18,'DATA MAESTRO 2'!D$19,'DATA MAESTRO 2'!D$20,'DATA MAESTRO 2'!D$21,'DATA MAESTRO 2'!D$22,'DATA MAESTRO 2'!D$23,'DATA MAESTRO 2'!D$24,'DATA MAESTRO 2'!D$25,'DATA MAESTRO 2'!D$26,'DATA MAESTRO 2'!D$27,'DATA MAESTRO 2'!D$28,'DATA MAESTRO 2'!D$29,'DATA MAESTRO 2'!D$30,'DATA MAESTRO 2'!D$31,'DATA MAESTRO 2'!D$32,'DATA MAESTRO 2'!D$33,'DATA MAESTRO 2'!D$34,'DATA MAESTRO 2'!D$35,'DATA MAESTRO 2'!D$36,'DATA MAESTRO 2'!D$37,'DATA MAESTRO 2'!D$38,'DATA MAESTRO 2'!D$39,'DATA MAESTRO 2'!D$40,)","v":0},{"$f":"CHOOSE(B18,'DATA MAESTRO 2'!E$6,'DATA MAESTRO 2'!E$7,'DATA MAESTRO 2'!E$8,'DATA MAESTRO 2'!E$9,'DATA MAESTRO 2'!E$10,'DATA MAESTRO 2'!E$11,'DATA MAESTRO 2'!E$12,'DATA MAESTRO 2'!E$13,'DATA MAESTRO 2'!E$14,'DATA MAESTRO 2'!E$15,'DATA MAESTRO 2'!E$16,'DATA MAESTRO 2'!E$17,'DATA MAESTRO 2'!E$18,'DATA MAESTRO 2'!E$19,'DATA MAESTRO 2'!E$20,'DATA MAESTRO 2'!E$21,'DATA MAESTRO 2'!E$22,'DATA MAESTRO 2'!E$23,'DATA MAESTRO 2'!E$24,'DATA MAESTRO 2'!E$25,'DATA MAESTRO 2'!E$26,'DATA MAESTRO 2'!E$27,'DATA MAESTRO 2'!E$28,'DATA MAESTRO 2'!E$29,'DATA MAESTRO 2'!E$30,'DATA MAESTRO 2'!E$31,'DATA MAESTRO 2'!E$32,'DATA MAESTRO 2'!E$33,'DATA MAESTRO 2'!E$34,'DATA MAESTRO 2'!E$35,'DATA MAESTRO 2'!E$36,'DATA MAESTRO 2'!E$37,'DATA MAESTRO 2'!E$38,'DATA MAESTRO 2'!E$39,'DATA MAESTRO 2'!E$40,)","v":0},{"$f":"CHOOSE($B18,'DATA MAESTRO 2'!F$6,'DATA MAESTRO 2'!F$7,'DATA MAESTRO 2'!F$8,'DATA MAESTRO 2'!F$9,'DATA MAESTRO 2'!F$10,'DATA MAESTRO 2'!F$11,'DATA MAESTRO 2'!F$12,'DATA MAESTRO 2'!F$13,'DATA MAESTRO 2'!F$14,'DATA MAESTRO 2'!F$15,'DATA MAESTRO 2'!F$16,'DATA MAESTRO 2'!F$17,'DATA MAESTRO 2'!F$18,'DATA MAESTRO 2'!F$19,'DATA MAESTRO 2'!F$20,'DATA MAESTRO 2'!F$21,'DATA MAESTRO 2'!F$22,'DATA MAESTRO 2'!F$23,'DATA MAESTRO 2'!F$24,'DATA MAESTRO 2'!F$25,'DATA MAESTRO 2'!F$26,'DATA MAESTRO 2'!F$27,'DATA MAESTRO 2'!F$28,'DATA MAESTRO 2'!F$29,'DATA MAESTRO 2'!F$30,'DATA MAESTRO 2'!F$31,'DATA MAESTRO 2'!F$32,'DATA MAESTRO 2'!F$33,'DATA MAESTRO 2'!F$34,'DATA MAESTRO 2'!F$35,'DATA MAESTRO 2'!F$36,'DATA MAESTRO 2'!F$37,'DATA MAESTRO 2'!F$38,'DATA MAESTRO 2'!F$39,'DATA MAESTRO 2'!F$40,)","v":0},{"$f":"CHOOSE($B18,'DATA MAESTRO 2'!G$6,'DATA MAESTRO 2'!G$7,'DATA MAESTRO 2'!G$8,'DATA MAESTRO 2'!G$9,'DATA MAESTRO 2'!G$10,'DATA MAESTRO 2'!G$11,'DATA MAESTRO 2'!G$12,'DATA MAESTRO 2'!G$13,'DATA MAESTRO 2'!G$14,'DATA MAESTRO 2'!G$15,'DATA MAESTRO 2'!G$16,'DATA MAESTRO 2'!G$17,'DATA MAESTRO 2'!G$18,'DATA MAESTRO 2'!G$19,'DATA MAESTRO 2'!G$20,'DATA MAESTRO 2'!G$21,'DATA MAESTRO 2'!G$22,'DATA MAESTRO 2'!G$23,'DATA MAESTRO 2'!G$24,'DATA MAESTRO 2'!G$25,'DATA MAESTRO 2'!G$26,'DATA MAESTRO 2'!G$27,'DATA MAESTRO 2'!G$28,'DATA MAESTRO 2'!G$29,'DATA MAESTRO 2'!G$30,'DATA MAESTRO 2'!G$31,'DATA MAESTRO 2'!G$32,'DATA MAESTRO 2'!G$33,'DATA MAESTRO 2'!G$34,'DATA MAESTRO 2'!G$35,'DATA MAESTRO 2'!G$36,'DATA MAESTRO 2'!G$37,'DATA MAESTRO 2'!G$38,'DATA MAESTRO 2'!G$39,'DATA MAESTRO 2'!G$40,)","v":0},{"$f":"CHOOSE($B18,'DATA MAESTRO 2'!H$6,'DATA MAESTRO 2'!H$7,'DATA MAESTRO 2'!H$8,'DATA MAESTRO 2'!H$9,'DATA MAESTRO 2'!H$10,'DATA MAESTRO 2'!H$11,'DATA MAESTRO 2'!H$12,'DATA MAESTRO 2'!H$13,'DATA MAESTRO 2'!H$14,'DATA MAESTRO 2'!H$15,'DATA MAESTRO 2'!H$16,'DATA MAESTRO 2'!H$17,'DATA MAESTRO 2'!H$18,'DATA MAESTRO 2'!H$19,'DATA MAESTRO 2'!H$20,'DATA MAESTRO 2'!H$21,'DATA MAESTRO 2'!H$22,'DATA MAESTRO 2'!H$23,'DATA MAESTRO 2'!H$24,'DATA MAESTRO 2'!H$25,'DATA MAESTRO 2'!H$26,'DATA MAESTRO 2'!H$27,'DATA MAESTRO 2'!H$28,'DATA MAESTRO 2'!H$29,'DATA MAESTRO 2'!H$30,'DATA MAESTRO 2'!H$31,'DATA MAESTRO 2'!H$32,'DATA MAESTRO 2'!H$33,'DATA MAESTRO 2'!H$34,'DATA MAESTRO 2'!H$35,'DATA MAESTRO 2'!H$36,'DATA MAESTRO 2'!H$37,'DATA MAESTRO 2'!H$38,'DATA MAESTRO 2'!H$39,'DATA MAESTRO 2'!H$40,)","v":0},{"$f":"CHOOSE($B18,'DATA MAESTRO 2'!I$6,'DATA MAESTRO 2'!I$7,'DATA MAESTRO 2'!I$8,'DATA MAESTRO 2'!I$9,'DATA MAESTRO 2'!I$10,'DATA MAESTRO 2'!I$11,'DATA MAESTRO 2'!I$12,'DATA MAESTRO 2'!I$13,'DATA MAESTRO 2'!I$14,'DATA MAESTRO 2'!I$15,'DATA MAESTRO 2'!I$16,'DATA MAESTRO 2'!I$17,'DATA MAESTRO 2'!I$18,'DATA MAESTRO 2'!I$19,'DATA MAESTRO 2'!I$20,'DATA MAESTRO 2'!I$21,'DATA MAESTRO 2'!I$22,'DATA MAESTRO 2'!I$23,'DATA MAESTRO 2'!I$24,'DATA MAESTRO 2'!I$25,'DATA MAESTRO 2'!I$26,'DATA MAESTRO 2'!I$27,'DATA MAESTRO 2'!I$28,'DATA MAESTRO 2'!I$29,'DATA MAESTRO 2'!I$30,'DATA MAESTRO 2'!I$31,'DATA MAESTRO 2'!I$32,'DATA MAESTRO 2'!I$33,'DATA MAESTRO 2'!I$34,'DATA MAESTRO 2'!I$35,'DATA MAESTRO 2'!I$36,'DATA MAESTRO 2'!I$37,'DATA MAESTRO 2'!I$38,'DATA MAESTRO 2'!I$39,'DATA MAESTRO 2'!I$40,)","v":0},{"$f":"CHOOSE($B18,'DATA MAESTRO 2'!J$6,'DATA MAESTRO 2'!J$7,'DATA MAESTRO 2'!J$8,'DATA MAESTRO 2'!J$9,'DATA MAESTRO 2'!J$10,'DATA MAESTRO 2'!J$11,'DATA MAESTRO 2'!J$12,'DATA MAESTRO 2'!J$13,'DATA MAESTRO 2'!J$14,'DATA MAESTRO 2'!J$15,'DATA MAESTRO 2'!J$16,'DATA MAESTRO 2'!J$17,'DATA MAESTRO 2'!J$18,'DATA MAESTRO 2'!J$19,'DATA MAESTRO 2'!J$20,'DATA MAESTRO 2'!J$21,'DATA MAESTRO 2'!J$22,'DATA MAESTRO 2'!J$23,'DATA MAESTRO 2'!J$24,'DATA MAESTRO 2'!J$25,'DATA MAESTRO 2'!J$26,'DATA MAESTRO 2'!J$27,'DATA MAESTRO 2'!J$28,'DATA MAESTRO 2'!J$29,'DATA MAESTRO 2'!J$30,'DATA MAESTRO 2'!J$31,'DATA MAESTRO 2'!J$32,'DATA MAESTRO 2'!J$33,'DATA MAESTRO 2'!J$34,'DATA MAESTRO 2'!J$35,'DATA MAESTRO 2'!J$36,'DATA MAESTRO 2'!J$37,'DATA MAESTRO 2'!J$38,'DATA MAESTRO 2'!J$39,'DATA MAESTRO 2'!J$40,)","v":0},{"$f":"CHOOSE($B18,'DATA MAESTRO 2'!K$6,'DATA MAESTRO 2'!K$7,'DATA MAESTRO 2'!K$8,'DATA MAESTRO 2'!K$9,'DATA MAESTRO 2'!K$10,'DATA MAESTRO 2'!K$11,'DATA MAESTRO 2'!K$12,'DATA MAESTRO 2'!K$13,'DATA MAESTRO 2'!K$14,'DATA MAESTRO 2'!K$15,'DATA MAESTRO 2'!K$16,'DATA MAESTRO 2'!K$17,'DATA MAESTRO 2'!K$18,'DATA MAESTRO 2'!K$19,'DATA MAESTRO 2'!K$20,'DATA MAESTRO 2'!K$21,'DATA MAESTRO 2'!K$22,'DATA MAESTRO 2'!K$23,'DATA MAESTRO 2'!K$24,'DATA MAESTRO 2'!K$25,'DATA MAESTRO 2'!K$26,'DATA MAESTRO 2'!K$27,'DATA MAESTRO 2'!K$28,'DATA MAESTRO 2'!K$29,'DATA MAESTRO 2'!K$30,'DATA MAESTRO 2'!K$31,'DATA MAESTRO 2'!K$32,'DATA MAESTRO 2'!K$33,'DATA MAESTRO 2'!K$34,'DATA MAESTRO 2'!K$35,'DATA MAESTRO 2'!K$36,'DATA MAESTRO 2'!K$37,'DATA MAESTRO 2'!K$38,'DATA MAESTRO 2'!K$39,'DATA MAESTRO 2'!K$40,)","v":0},{"$f":"CHOOSE($B18,'DATA MAESTRO 2'!L$6,'DATA MAESTRO 2'!L$7,'DATA MAESTRO 2'!L$8,'DATA MAESTRO 2'!L$9,'DATA MAESTRO 2'!L$10,'DATA MAESTRO 2'!L$11,'DATA MAESTRO 2'!L$12,'DATA MAESTRO 2'!L$13,'DATA MAESTRO 2'!L$14,'DATA MAESTRO 2'!L$15,'DATA MAESTRO 2'!L$16,'DATA MAESTRO 2'!L$17,'DATA MAESTRO 2'!L$18,'DATA MAESTRO 2'!L$19,'DATA MAESTRO 2'!L$20,'DATA MAESTRO 2'!L$21,'DATA MAESTRO 2'!L$22,'DATA MAESTRO 2'!L$23,'DATA MAESTRO 2'!L$24,'DATA MAESTRO 2'!L$25,'DATA MAESTRO 2'!L$26,'DATA MAESTRO 2'!L$27,'DATA MAESTRO 2'!L$28,'DATA MAESTRO 2'!L$29,'DATA MAESTRO 2'!L$30,'DATA MAESTRO 2'!L$31,'DATA MAESTRO 2'!L$32,'DATA MAESTRO 2'!L$33,'DATA MAESTRO 2'!L$34,'DATA MAESTRO 2'!L$35,'DATA MAESTRO 2'!L$36,'DATA MAESTRO 2'!L$37,'DATA MAESTRO 2'!L$38,'DATA MAESTRO 2'!L$39,'DATA MAESTRO 2'!L$40,)","v":0},{"$f":"CHOOSE($B18,'DATA MAESTRO 2'!M$6,'DATA MAESTRO 2'!M$7,'DATA MAESTRO 2'!M$8,'DATA MAESTRO 2'!M$9,'DATA MAESTRO 2'!M$10,'DATA MAESTRO 2'!M$11,'DATA MAESTRO 2'!M$12,'DATA MAESTRO 2'!M$13,'DATA MAESTRO 2'!M$14,'DATA MAESTRO 2'!M$15,'DATA MAESTRO 2'!M$16,'DATA MAESTRO 2'!M$17,'DATA MAESTRO 2'!M$18,'DATA MAESTRO 2'!M$19,'DATA MAESTRO 2'!M$20,'DATA MAESTRO 2'!M$21,'DATA MAESTRO 2'!M$22,'DATA MAESTRO 2'!M$23,'DATA MAESTRO 2'!M$24,'DATA MAESTRO 2'!M$25,'DATA MAESTRO 2'!M$26,'DATA MAESTRO 2'!M$27,'DATA MAESTRO 2'!M$28,'DATA MAESTRO 2'!M$29,'DATA MAESTRO 2'!M$30,'DATA MAESTRO 2'!M$31,'DATA MAESTRO 2'!M$32,'DATA MAESTRO 2'!M$33,'DATA MAESTRO 2'!M$34,'DATA MAESTRO 2'!M$35,'DATA MAESTRO 2'!M$36,'DATA MAESTRO 2'!M$37,'DATA MAESTRO 2'!M$38,'DATA MAESTRO 2'!M$39,'DATA MAESTRO 2'!M$40,)","v":0},{"$f":"CHOOSE($B18,'DATA MAESTRO 2'!N$6,'DATA MAESTRO 2'!N$7,'DATA MAESTRO 2'!N$8,'DATA MAESTRO 2'!N$9,'DATA MAESTRO 2'!N$10,'DATA MAESTRO 2'!N$11,'DATA MAESTRO 2'!N$12,'DATA MAESTRO 2'!N$13,'DATA MAESTRO 2'!N$14,'DATA MAESTRO 2'!N$15,'DATA MAESTRO 2'!N$16,'DATA MAESTRO 2'!N$17,'DATA MAESTRO 2'!N$18,'DATA MAESTRO 2'!N$19,'DATA MAESTRO 2'!N$20,'DATA MAESTRO 2'!N$21,'DATA MAESTRO 2'!N$22,'DATA MAESTRO 2'!N$23,'DATA MAESTRO 2'!N$24,'DATA MAESTRO 2'!N$25,'DATA MAESTRO 2'!N$26,'DATA MAESTRO 2'!N$27,'DATA MAESTRO 2'!N$28,'DATA MAESTRO 2'!N$29,'DATA MAESTRO 2'!N$30,'DATA MAESTRO 2'!N$31,'DATA MAESTRO 2'!N$32,'DATA MAESTRO 2'!N$33,'DATA MAESTRO 2'!N$34,'DATA MAESTRO 2'!N$35,'DATA MAESTRO 2'!N$36,'DATA MAESTRO 2'!N$37,'DATA MAESTRO 2'!N$38,'DATA MAESTRO 2'!N$39,'DATA MAESTRO 2'!N$40,)","v":0},{"$f":"CHOOSE($B18,'DATA MAESTRO 2'!O$6,'DATA MAESTRO 2'!O$7,'DATA MAESTRO 2'!O$8,'DATA MAESTRO 2'!O$9,'DATA MAESTRO 2'!O$10,'DATA MAESTRO 2'!O$11,'DATA MAESTRO 2'!O$12,'DATA MAESTRO 2'!O$13,'DATA MAESTRO 2'!O$14,'DATA MAESTRO 2'!O$15,'DATA MAESTRO 2'!O$16,'DATA MAESTRO 2'!O$17,'DATA MAESTRO 2'!O$18,'DATA MAESTRO 2'!O$19,'DATA MAESTRO 2'!O$20,'DATA MAESTRO 2'!O$21,'DATA MAESTRO 2'!O$22,'DATA MAESTRO 2'!O$23,'DATA MAESTRO 2'!O$24,'DATA MAESTRO 2'!O$25,'DATA MAESTRO 2'!O$26,'DATA MAESTRO 2'!O$27,'DATA MAESTRO 2'!O$28,'DATA MAESTRO 2'!O$29,'DATA MAESTRO 2'!O$30,'DATA MAESTRO 2'!O$31,'DATA MAESTRO 2'!O$32,'DATA MAESTRO 2'!O$33,'DATA MAESTRO 2'!O$34,'DATA MAESTRO 2'!O$35,'DATA MAESTRO 2'!O$36,'DATA MAESTRO 2'!O$37,'DATA MAESTRO 2'!O$38,'DATA MAESTRO 2'!O$39,'DATA MAESTRO 2'!O$40,)","v":0},{"$f":"CHOOSE($B18,'DATA MAESTRO 2'!P$6,'DATA MAESTRO 2'!P$7,'DATA MAESTRO 2'!P$8,'DATA MAESTRO 2'!P$9,'DATA MAESTRO 2'!P$10,'DATA MAESTRO 2'!P$11,'DATA MAESTRO 2'!P$12,'DATA MAESTRO 2'!P$13,'DATA MAESTRO 2'!P$14,'DATA MAESTRO 2'!P$15,'DATA MAESTRO 2'!P$16,'DATA MAESTRO 2'!P$17,'DATA MAESTRO 2'!P$18,'DATA MAESTRO 2'!P$19,'DATA MAESTRO 2'!P$20,'DATA MAESTRO 2'!P$21,'DATA MAESTRO 2'!P$22,'DATA MAESTRO 2'!P$23,'DATA MAESTRO 2'!P$24,'DATA MAESTRO 2'!P$25,'DATA MAESTRO 2'!P$26,'DATA MAESTRO 2'!P$27,'DATA MAESTRO 2'!P$28,'DATA MAESTRO 2'!P$29,'DATA MAESTRO 2'!P$30,'DATA MAESTRO 2'!P$31,'DATA MAESTRO 2'!P$32,'DATA MAESTRO 2'!P$33,'DATA MAESTRO 2'!P$34,'DATA MAESTRO 2'!P$35,'DATA MAESTRO 2'!P$36,'DATA MAESTRO 2'!P$37,'DATA MAESTRO 2'!P$38,'DATA MAESTRO 2'!P$39,'DATA MAESTRO 2'!P$40,)","v":0},{"$f":"CHOOSE($B18,'DATA MAESTRO 2'!Q$6,'DATA MAESTRO 2'!Q$7,'DATA MAESTRO 2'!Q$8,'DATA MAESTRO 2'!Q$9,'DATA MAESTRO 2'!Q$10,'DATA MAESTRO 2'!Q$11,'DATA MAESTRO 2'!Q$12,'DATA MAESTRO 2'!Q$13,'DATA MAESTRO 2'!Q$14,'DATA MAESTRO 2'!Q$15,'DATA MAESTRO 2'!Q$16,'DATA MAESTRO 2'!Q$17,'DATA MAESTRO 2'!Q$18,'DATA MAESTRO 2'!Q$19,'DATA MAESTRO 2'!Q$20,'DATA MAESTRO 2'!Q$21,'DATA MAESTRO 2'!Q$22,'DATA MAESTRO 2'!Q$23,'DATA MAESTRO 2'!Q$24,'DATA MAESTRO 2'!Q$25,'DATA MAESTRO 2'!Q$26,'DATA MAESTRO 2'!Q$27,'DATA MAESTRO 2'!Q$28,'DATA MAESTRO 2'!Q$29,'DATA MAESTRO 2'!Q$30,'DATA MAESTRO 2'!Q$31,'DATA MAESTRO 2'!Q$32,'DATA MAESTRO 2'!Q$33,'DATA MAESTRO 2'!Q$34,'DATA MAESTRO 2'!Q$35,'DATA MAESTRO 2'!Q$36,'DATA MAESTRO 2'!Q$37,'DATA MAESTRO 2'!Q$38,'DATA MAESTRO 2'!Q$39,'DATA MAESTRO 2'!Q$40,)","v":0},{"$f":"CHOOSE($B18,'DATA MAESTRO 2'!R$6,'DATA MAESTRO 2'!R$7,'DATA MAESTRO 2'!R$8,'DATA MAESTRO 2'!R$9,'DATA MAESTRO 2'!R$10,'DATA MAESTRO 2'!R$11,'DATA MAESTRO 2'!R$12,'DATA MAESTRO 2'!R$13,'DATA MAESTRO 2'!R$14,'DATA MAESTRO 2'!R$15,'DATA MAESTRO 2'!R$16,'DATA MAESTRO 2'!R$17,'DATA MAESTRO 2'!R$18,'DATA MAESTRO 2'!R$19,'DATA MAESTRO 2'!R$20,'DATA MAESTRO 2'!R$21,'DATA MAESTRO 2'!R$22,'DATA MAESTRO 2'!R$23,'DATA MAESTRO 2'!R$24,'DATA MAESTRO 2'!R$25,'DATA MAESTRO 2'!R$26,'DATA MAESTRO 2'!R$27,'DATA MAESTRO 2'!R$28,'DATA MAESTRO 2'!R$29,'DATA MAESTRO 2'!R$30,'DATA MAESTRO 2'!R$31,'DATA MAESTRO 2'!R$32,'DATA MAESTRO 2'!R$33,'DATA MAESTRO 2'!R$34,'DATA MAESTRO 2'!R$35,'DATA MAESTRO 2'!R$36,'DATA MAESTRO 2'!R$37,'DATA MAESTRO 2'!R$38,'DATA MAESTRO 2'!R$39,'DATA MAESTRO 2'!R$40,)","v":0},{"$f":"CHOOSE($B18,'DATA MAESTRO 2'!S$6,'DATA MAESTRO 2'!S$7,'DATA MAESTRO 2'!S$8,'DATA MAESTRO 2'!S$9,'DATA MAESTRO 2'!S$10,'DATA MAESTRO 2'!S$11,'DATA MAESTRO 2'!S$12,'DATA MAESTRO 2'!S$13,'DATA MAESTRO 2'!S$14,'DATA MAESTRO 2'!S$15,'DATA MAESTRO 2'!S$16,'DATA MAESTRO 2'!S$17,'DATA MAESTRO 2'!S$18,'DATA MAESTRO 2'!S$19,'DATA MAESTRO 2'!S$20,'DATA MAESTRO 2'!S$21,'DATA MAESTRO 2'!S$22,'DATA MAESTRO 2'!S$23,'DATA MAESTRO 2'!S$24,'DATA MAESTRO 2'!S$25,'DATA MAESTRO 2'!S$26,'DATA MAESTRO 2'!S$27,'DATA MAESTRO 2'!S$28,'DATA MAESTRO 2'!S$29,'DATA MAESTRO 2'!S$30,'DATA MAESTRO 2'!S$31,'DATA MAESTRO 2'!S$32,'DATA MAESTRO 2'!S$33,'DATA MAESTRO 2'!S$34,'DATA MAESTRO 2'!S$35,'DATA MAESTRO 2'!S$36,'DATA MAESTRO 2'!S$37,'DATA MAESTRO 2'!S$38,'DATA MAESTRO 2'!S$39,'DATA MAESTRO 2'!S$40,)","v":0},{"$f":"CHOOSE($B18,'DATA MAESTRO 2'!T$6,'DATA MAESTRO 2'!T$7,'DATA MAESTRO 2'!T$8,'DATA MAESTRO 2'!T$9,'DATA MAESTRO 2'!T$10,'DATA MAESTRO 2'!T$11,'DATA MAESTRO 2'!T$12,'DATA MAESTRO 2'!T$13,'DATA MAESTRO 2'!T$14,'DATA MAESTRO 2'!T$15,'DATA MAESTRO 2'!T$16,'DATA MAESTRO 2'!T$17,'DATA MAESTRO 2'!T$18,'DATA MAESTRO 2'!T$19,'DATA MAESTRO 2'!T$20,'DATA MAESTRO 2'!T$21,'DATA MAESTRO 2'!T$22,'DATA MAESTRO 2'!T$23,'DATA MAESTRO 2'!T$24,'DATA MAESTRO 2'!T$25,'DATA MAESTRO 2'!T$26,'DATA MAESTRO 2'!T$27,'DATA MAESTRO 2'!T$28,'DATA MAESTRO 2'!T$29,'DATA MAESTRO 2'!T$30,'DATA MAESTRO 2'!T$31,'DATA MAESTRO 2'!T$32,'DATA MAESTRO 2'!T$33,'DATA MAESTRO 2'!T$34,'DATA MAESTRO 2'!T$35,'DATA MAESTRO 2'!T$36,'DATA MAESTRO 2'!T$37,'DATA MAESTRO 2'!T$38,'DATA MAESTRO 2'!T$39,'DATA MAESTRO 2'!T$40,)","v":0},{"$f":"CHOOSE($B18,'DATA MAESTRO 2'!U$6,'DATA MAESTRO 2'!U$7,'DATA MAESTRO 2'!U$8,'DATA MAESTRO 2'!U$9,'DATA MAESTRO 2'!U$10,'DATA MAESTRO 2'!U$11,'DATA MAESTRO 2'!U$12,'DATA MAESTRO 2'!U$13,'DATA MAESTRO 2'!U$14,'DATA MAESTRO 2'!U$15,'DATA MAESTRO 2'!U$16,'DATA MAESTRO 2'!U$17,'DATA MAESTRO 2'!U$18,'DATA MAESTRO 2'!U$19,'DATA MAESTRO 2'!U$20,'DATA MAESTRO 2'!U$21,'DATA MAESTRO 2'!U$22,'DATA MAESTRO 2'!U$23,'DATA MAESTRO 2'!U$24,'DATA MAESTRO 2'!U$25,'DATA MAESTRO 2'!U$26,'DATA MAESTRO 2'!U$27,'DATA MAESTRO 2'!U$28,'DATA MAESTRO 2'!U$29,'DATA MAESTRO 2'!U$30,'DATA MAESTRO 2'!U$31,'DATA MAESTRO 2'!U$32,'DATA MAESTRO 2'!U$33,'DATA MAESTRO 2'!U$34,'DATA MAESTRO 2'!U$35,'DATA MAESTRO 2'!U$36,'DATA MAESTRO 2'!U$37,'DATA MAESTRO 2'!U$38,'DATA MAESTRO 2'!U$39,'DATA MAESTRO 2'!U$40,)","v":0},{"$f":"CHOOSE($B18,'DATA MAESTRO 2'!V$6,'DATA MAESTRO 2'!V$7,'DATA MAESTRO 2'!V$8,'DATA MAESTRO 2'!V$9,'DATA MAESTRO 2'!V$10,'DATA MAESTRO 2'!V$11,'DATA MAESTRO 2'!V$12,'DATA MAESTRO 2'!V$13,'DATA MAESTRO 2'!V$14,'DATA MAESTRO 2'!V$15,'DATA MAESTRO 2'!V$16,'DATA MAESTRO 2'!V$17,'DATA MAESTRO 2'!V$18,'DATA MAESTRO 2'!V$19,'DATA MAESTRO 2'!V$20,'DATA MAESTRO 2'!V$21,'DATA MAESTRO 2'!V$22,'DATA MAESTRO 2'!V$23,'DATA MAESTRO 2'!V$24,'DATA MAESTRO 2'!V$25,'DATA MAESTRO 2'!V$26,'DATA MAESTRO 2'!V$27,'DATA MAESTRO 2'!V$28,'DATA MAESTRO 2'!V$29,'DATA MAESTRO 2'!V$30,'DATA MAESTRO 2'!V$31,'DATA MAESTRO 2'!V$32,'DATA MAESTRO 2'!V$33,'DATA MAESTRO 2'!V$34,'DATA MAESTRO 2'!V$35,'DATA MAESTRO 2'!V$36,'DATA MAESTRO 2'!V$37,'DATA MAESTRO 2'!V$38,'DATA MAESTRO 2'!V$39,'DATA MAESTRO 2'!V$40,)","v":0},{"$f":"CHOOSE($B18,'DATA MAESTRO 2'!W$6,'DATA MAESTRO 2'!W$7,'DATA MAESTRO 2'!W$8,'DATA MAESTRO 2'!W$9,'DATA MAESTRO 2'!W$10,'DATA MAESTRO 2'!W$11,'DATA MAESTRO 2'!W$12,'DATA MAESTRO 2'!W$13,'DATA MAESTRO 2'!W$14,'DATA MAESTRO 2'!W$15,'DATA MAESTRO 2'!W$16,'DATA MAESTRO 2'!W$17,'DATA MAESTRO 2'!W$18,'DATA MAESTRO 2'!W$19,'DATA MAESTRO 2'!W$20,'DATA MAESTRO 2'!W$21,'DATA MAESTRO 2'!W$22,'DATA MAESTRO 2'!W$23,'DATA MAESTRO 2'!W$24,'DATA MAESTRO 2'!W$25,'DATA MAESTRO 2'!W$26,'DATA MAESTRO 2'!W$27,'DATA MAESTRO 2'!W$28,'DATA MAESTRO 2'!W$29,'DATA MAESTRO 2'!W$30,'DATA MAESTRO 2'!W$31,'DATA MAESTRO 2'!W$32,'DATA MAESTRO 2'!W$33,'DATA MAESTRO 2'!W$34,'DATA MAESTRO 2'!W$35,'DATA MAESTRO 2'!W$36,'DATA MAESTRO 2'!W$37,'DATA MAESTRO 2'!W$38,'DATA MAESTRO 2'!W$39,'DATA MAESTRO 2'!W$40,)","v":0},{"$f":"CHOOSE($B18,'DATA MAESTRO 2'!X$6,'DATA MAESTRO 2'!X$7,'DATA MAESTRO 2'!X$8,'DATA MAESTRO 2'!X$9,'DATA MAESTRO 2'!X$10,'DATA MAESTRO 2'!X$11,'DATA MAESTRO 2'!X$12,'DATA MAESTRO 2'!X$13,'DATA MAESTRO 2'!X$14,'DATA MAESTRO 2'!X$15,'DATA MAESTRO 2'!X$16,'DATA MAESTRO 2'!X$17,'DATA MAESTRO 2'!X$18,'DATA MAESTRO 2'!X$19,'DATA MAESTRO 2'!X$20,'DATA MAESTRO 2'!X$21,'DATA MAESTRO 2'!X$22,'DATA MAESTRO 2'!X$23,'DATA MAESTRO 2'!X$24,'DATA MAESTRO 2'!X$25,'DATA MAESTRO 2'!X$26,'DATA MAESTRO 2'!X$27,'DATA MAESTRO 2'!X$28,'DATA MAESTRO 2'!X$29,'DATA MAESTRO 2'!X$30,'DATA MAESTRO 2'!X$31,'DATA MAESTRO 2'!X$32,'DATA MAESTRO 2'!X$33,'DATA MAESTRO 2'!X$34,'DATA MAESTRO 2'!X$35,'DATA MAESTRO 2'!X$36,'DATA MAESTRO 2'!X$37,'DATA MAESTRO 2'!X$38,'DATA MAESTRO 2'!X$39,'DATA MAESTRO 2'!X$40,)","v":0},{"$f":"CHOOSE($B18,'DATA MAESTRO 2'!Y$6,'DATA MAESTRO 2'!Y$7,'DATA MAESTRO 2'!Y$8,'DATA MAESTRO 2'!Y$9,'DATA MAESTRO 2'!Y$10,'DATA MAESTRO 2'!Y$11,'DATA MAESTRO 2'!Y$12,'DATA MAESTRO 2'!Y$13,'DATA MAESTRO 2'!Y$14,'DATA MAESTRO 2'!Y$15,'DATA MAESTRO 2'!Y$16,'DATA MAESTRO 2'!Y$17,'DATA MAESTRO 2'!Y$18,'DATA MAESTRO 2'!Y$19,'DATA MAESTRO 2'!Y$20,'DATA MAESTRO 2'!Y$21,'DATA MAESTRO 2'!Y$22,'DATA MAESTRO 2'!Y$23,'DATA MAESTRO 2'!Y$24,'DATA MAESTRO 2'!Y$25,'DATA MAESTRO 2'!Y$26,'DATA MAESTRO 2'!Y$27,'DATA MAESTRO 2'!Y$28,'DATA MAESTRO 2'!Y$29,'DATA MAESTRO 2'!Y$30,'DATA MAESTRO 2'!Y$31,'DATA MAESTRO 2'!Y$32,'DATA MAESTRO 2'!Y$33,'DATA MAESTRO 2'!Y$34,'DATA MAESTRO 2'!Y$35,'DATA MAESTRO 2'!Y$36,'DATA MAESTRO 2'!Y$37,'DATA MAESTRO 2'!Y$38,'DATA MAESTRO 2'!Y$39,'DATA MAESTRO 2'!Y$40,)","v":0},{"$f":"CHOOSE($B18,'DATA MAESTRO 2'!Z$6,'DATA MAESTRO 2'!Z$7,'DATA MAESTRO 2'!Z$8,'DATA MAESTRO 2'!Z$9,'DATA MAESTRO 2'!Z$10,'DATA MAESTRO 2'!Z$11,'DATA MAESTRO 2'!Z$12,'DATA MAESTRO 2'!Z$13,'DATA MAESTRO 2'!Z$14,'DATA MAESTRO 2'!Z$15,'DATA MAESTRO 2'!Z$16,'DATA MAESTRO 2'!Z$17,'DATA MAESTRO 2'!Z$18,'DATA MAESTRO 2'!Z$19,'DATA MAESTRO 2'!Z$20,'DATA MAESTRO 2'!Z$21,'DATA MAESTRO 2'!Z$22,'DATA MAESTRO 2'!Z$23,'DATA MAESTRO 2'!Z$24,'DATA MAESTRO 2'!Z$25,'DATA MAESTRO 2'!Z$26,'DATA MAESTRO 2'!Z$27,'DATA MAESTRO 2'!Z$28,'DATA MAESTRO 2'!Z$29,'DATA MAESTRO 2'!Z$30,'DATA MAESTRO 2'!Z$31,'DATA MAESTRO 2'!Z$32,'DATA MAESTRO 2'!Z$33,'DATA MAESTRO 2'!Z$34,'DATA MAESTRO 2'!Z$35,'DATA MAESTRO 2'!Z$36,'DATA MAESTRO 2'!Z$37,'DATA MAESTRO 2'!Z$38,'DATA MAESTRO 2'!Z$39,'DATA MAESTRO 2'!Z$40,)","v":0},{"$f":"CHOOSE($B18,'DATA MAESTRO 2'!AA$6,'DATA MAESTRO 2'!AA$7,'DATA MAESTRO 2'!AA$8,'DATA MAESTRO 2'!AA$9,'DATA MAESTRO 2'!AA$10,'DATA MAESTRO 2'!AA$11,'DATA MAESTRO 2'!AA$12,'DATA MAESTRO 2'!AA$13,'DATA MAESTRO 2'!AA$14,'DATA MAESTRO 2'!AA$15,'DATA MAESTRO 2'!AA$16,'DATA MAESTRO 2'!AA$17,'DATA MAESTRO 2'!AA$18,'DATA MAESTRO 2'!AA$19,'DATA MAESTRO 2'!AA$20,'DATA MAESTRO 2'!AA$21,'DATA MAESTRO 2'!AA$22,'DATA MAESTRO 2'!AA$23,'DATA MAESTRO 2'!AA$24,'DATA MAESTRO 2'!AA$25,'DATA MAESTRO 2'!AA$26,'DATA MAESTRO 2'!AA$27,'DATA MAESTRO 2'!AA$28,'DATA MAESTRO 2'!AA$29,'DATA MAESTRO 2'!AA$30,'DATA MAESTRO 2'!AA$31,'DATA MAESTRO 2'!AA$32,'DATA MAESTRO 2'!AA$33,'DATA MAESTRO 2'!AA$34,'DATA MAESTRO 2'!AA$35,'DATA MAESTRO 2'!AA$36,'DATA MAESTRO 2'!AA$37,'DATA MAESTRO 2'!AA$38,'DATA MAESTRO 2'!AA$39,'DATA MAESTRO 2'!AA$40,)","v":0},{"$f":"CHOOSE($B18,'DATA MAESTRO 2'!AB$6,'DATA MAESTRO 2'!AB$7,'DATA MAESTRO 2'!AB$8,'DATA MAESTRO 2'!AB$9,'DATA MAESTRO 2'!AB$10,'DATA MAESTRO 2'!AB$11,'DATA MAESTRO 2'!AB$12,'DATA MAESTRO 2'!AB$13,'DATA MAESTRO 2'!AB$14,'DATA MAESTRO 2'!AB$15,'DATA MAESTRO 2'!AB$16,'DATA MAESTRO 2'!AB$17,'DATA MAESTRO 2'!AB$18,'DATA MAESTRO 2'!AB$19,'DATA MAESTRO 2'!AB$20,'DATA MAESTRO 2'!AB$21,'DATA MAESTRO 2'!AB$22,'DATA MAESTRO 2'!AB$23,'DATA MAESTRO 2'!AB$24,'DATA MAESTRO 2'!AB$25,'DATA MAESTRO 2'!AB$26,'DATA MAESTRO 2'!AB$27,'DATA MAESTRO 2'!AB$28,'DATA MAESTRO 2'!AB$29,'DATA MAESTRO 2'!AB$30,'DATA MAESTRO 2'!AB$31,'DATA MAESTRO 2'!AB$32,'DATA MAESTRO 2'!AB$33,'DATA MAESTRO 2'!AB$34,'DATA MAESTRO 2'!AB$35,'DATA MAESTRO 2'!AB$36,'DATA MAESTRO 2'!AB$37,'DATA MAESTRO 2'!AB$38,'DATA MAESTRO 2'!AB$39,'DATA MAESTRO 2'!AB$40,)","v":0},{"$f":"CHOOSE($B18,'DATA MAESTRO 2'!AC$6,'DATA MAESTRO 2'!AC$7,'DATA MAESTRO 2'!AC$8,'DATA MAESTRO 2'!AC$9,'DATA MAESTRO 2'!AC$10,'DATA MAESTRO 2'!AC$11,'DATA MAESTRO 2'!AC$12,'DATA MAESTRO 2'!AC$13,'DATA MAESTRO 2'!AC$14,'DATA MAESTRO 2'!AC$15,'DATA MAESTRO 2'!AC$16,'DATA MAESTRO 2'!AC$17,'DATA MAESTRO 2'!AC$18,'DATA MAESTRO 2'!AC$19,'DATA MAESTRO 2'!AC$20,'DATA MAESTRO 2'!AC$21,'DATA MAESTRO 2'!AC$22,'DATA MAESTRO 2'!AC$23,'DATA MAESTRO 2'!AC$24,'DATA MAESTRO 2'!AC$25,'DATA MAESTRO 2'!AC$26,'DATA MAESTRO 2'!AC$27,'DATA MAESTRO 2'!AC$28,'DATA MAESTRO 2'!AC$29,'DATA MAESTRO 2'!AC$30,'DATA MAESTRO 2'!AC$31,'DATA MAESTRO 2'!AC$32,'DATA MAESTRO 2'!AC$33,'DATA MAESTRO 2'!AC$34,'DATA MAESTRO 2'!AC$35,'DATA MAESTRO 2'!AC$36,'DATA MAESTRO 2'!AC$37,'DATA MAESTRO 2'!AC$38,'DATA MAESTRO 2'!AC$39,'DATA MAESTRO 2'!AC$40,)","v":0},{"$f":"CHOOSE($B18,'DATA MAESTRO 2'!AD$6,'DATA MAESTRO 2'!AD$7,'DATA MAESTRO 2'!AD$8,'DATA MAESTRO 2'!AD$9,'DATA MAESTRO 2'!AD$10,'DATA MAESTRO 2'!AD$11,'DATA MAESTRO 2'!AD$12,'DATA MAESTRO 2'!AD$13,'DATA MAESTRO 2'!AD$14,'DATA MAESTRO 2'!AD$15,'DATA MAESTRO 2'!AD$16,'DATA MAESTRO 2'!AD$17,'DATA MAESTRO 2'!AD$18,'DATA MAESTRO 2'!AD$19,'DATA MAESTRO 2'!AD$20,'DATA MAESTRO 2'!AD$21,'DATA MAESTRO 2'!AD$22,'DATA MAESTRO 2'!AD$23,'DATA MAESTRO 2'!AD$24,'DATA MAESTRO 2'!AD$25,'DATA MAESTRO 2'!AD$26,'DATA MAESTRO 2'!AD$27,'DATA MAESTRO 2'!AD$28,'DATA MAESTRO 2'!AD$29,'DATA MAESTRO 2'!AD$30,'DATA MAESTRO 2'!AD$31,'DATA MAESTRO 2'!AD$32,'DATA MAESTRO 2'!AD$33,'DATA MAESTRO 2'!AD$34,'DATA MAESTRO 2'!AD$35,'DATA MAESTRO 2'!AD$36,'DATA MAESTRO 2'!AD$37,'DATA MAESTRO 2'!AD$38,'DATA MAESTRO 2'!AD$39,'DATA MAESTRO 2'!AD$40,)","v":0},{"$f":"CHOOSE($B18,'DATA MAESTRO 2'!AE$6,'DATA MAESTRO 2'!AE$7,'DATA MAESTRO 2'!AE$8,'DATA MAESTRO 2'!AE$9,'DATA MAESTRO 2'!AE$10,'DATA MAESTRO 2'!AE$11,'DATA MAESTRO 2'!AE$12,'DATA MAESTRO 2'!AE$13,'DATA MAESTRO 2'!AE$14,'DATA MAESTRO 2'!AE$15,'DATA MAESTRO 2'!AE$16,'DATA MAESTRO 2'!AE$17,'DATA MAESTRO 2'!AE$18,'DATA MAESTRO 2'!AE$19,'DATA MAESTRO 2'!AE$20,'DATA MAESTRO 2'!AE$21,'DATA MAESTRO 2'!AE$22,'DATA MAESTRO 2'!AE$23,'DATA MAESTRO 2'!AE$24,'DATA MAESTRO 2'!AE$25,'DATA MAESTRO 2'!AE$26,'DATA MAESTRO 2'!AE$27,'DATA MAESTRO 2'!AE$28,'DATA MAESTRO 2'!AE$29,'DATA MAESTRO 2'!AE$30,'DATA MAESTRO 2'!AE$31,'DATA MAESTRO 2'!AE$32,'DATA MAESTRO 2'!AE$33,'DATA MAESTRO 2'!AE$34,'DATA MAESTRO 2'!AE$35,'DATA MAESTRO 2'!AE$36,'DATA MAESTRO 2'!AE$37,'DATA MAESTRO 2'!AE$38,'DATA MAESTRO 2'!AE$39,'DATA MAESTRO 2'!AE$40,)","v":0},{"$f":"CHOOSE($B18,'DATA MAESTRO 2'!AF$6,'DATA MAESTRO 2'!AF$7,'DATA MAESTRO 2'!AF$8,'DATA MAESTRO 2'!AF$9,'DATA MAESTRO 2'!AF$10,'DATA MAESTRO 2'!AF$11,'DATA MAESTRO 2'!AF$12,'DATA MAESTRO 2'!AF$13,'DATA MAESTRO 2'!AF$14,'DATA MAESTRO 2'!AF$15,'DATA MAESTRO 2'!AF$16,'DATA MAESTRO 2'!AF$17,'DATA MAESTRO 2'!AF$18,'DATA MAESTRO 2'!AF$19,'DATA MAESTRO 2'!AF$20,'DATA MAESTRO 2'!AF$21,'DATA MAESTRO 2'!AF$22,'DATA MAESTRO 2'!AF$23,'DATA MAESTRO 2'!AF$24,'DATA MAESTRO 2'!AF$25,'DATA MAESTRO 2'!AF$26,'DATA MAESTRO 2'!AF$27,'DATA MAESTRO 2'!AF$28,'DATA MAESTRO 2'!AF$29,'DATA MAESTRO 2'!AF$30,'DATA MAESTRO 2'!AF$31,'DATA MAESTRO 2'!AF$32,'DATA MAESTRO 2'!AF$33,'DATA MAESTRO 2'!AF$34,'DATA MAESTRO 2'!AF$35,'DATA MAESTRO 2'!AF$36,'DATA MAESTRO 2'!AF$37,'DATA MAESTRO 2'!AF$38,'DATA MAESTRO 2'!AF$39,'DATA MAESTRO 2'!AF$40,)","v":0},{"$f":"CHOOSE($B18,'DATA MAESTRO 2'!AG$6,'DATA MAESTRO 2'!AG$7,'DATA MAESTRO 2'!AG$8,'DATA MAESTRO 2'!AG$9,'DATA MAESTRO 2'!AG$10,'DATA MAESTRO 2'!AG$11,'DATA MAESTRO 2'!AG$12,'DATA MAESTRO 2'!AG$13,'DATA MAESTRO 2'!AG$14,'DATA MAESTRO 2'!AG$15,'DATA MAESTRO 2'!AG$16,'DATA MAESTRO 2'!AG$17,'DATA MAESTRO 2'!AG$18,'DATA MAESTRO 2'!AG$19,'DATA MAESTRO 2'!AG$20,'DATA MAESTRO 2'!AG$21,'DATA MAESTRO 2'!AG$22,'DATA MAESTRO 2'!AG$23,'DATA MAESTRO 2'!AG$24,'DATA MAESTRO 2'!AG$25,'DATA MAESTRO 2'!AG$26,'DATA MAESTRO 2'!AG$27,'DATA MAESTRO 2'!AG$28,'DATA MAESTRO 2'!AG$29,'DATA MAESTRO 2'!AG$30,'DATA MAESTRO 2'!AG$31,'DATA MAESTRO 2'!AG$32,'DATA MAESTRO 2'!AG$33,'DATA MAESTRO 2'!AG$34,'DATA MAESTRO 2'!AG$35,'DATA MAESTRO 2'!AG$36,'DATA MAESTRO 2'!AG$37,'DATA MAESTRO 2'!AG$38,'DATA MAESTRO 2'!AG$39,'DATA MAESTRO 2'!AG$40,)","v":0},{"$f":"CHOOSE($B18,'DATA MAESTRO 2'!AH$6,'DATA MAESTRO 2'!AH$7,'DATA MAESTRO 2'!AH$8,'DATA MAESTRO 2'!AH$9,'DATA MAESTRO 2'!AH$10,'DATA MAESTRO 2'!AH$11,'DATA MAESTRO 2'!AH$12,'DATA MAESTRO 2'!AH$13,'DATA MAESTRO 2'!AH$14,'DATA MAESTRO 2'!AH$15,'DATA MAESTRO 2'!AH$16,'DATA MAESTRO 2'!AH$17,'DATA MAESTRO 2'!AH$18,'DATA MAESTRO 2'!AH$19,'DATA MAESTRO 2'!AH$20,'DATA MAESTRO 2'!AH$21,'DATA MAESTRO 2'!AH$22,'DATA MAESTRO 2'!AH$23,'DATA MAESTRO 2'!AH$24,'DATA MAESTRO 2'!AH$25,'DATA MAESTRO 2'!AH$26,'DATA MAESTRO 2'!AH$27,'DATA MAESTRO 2'!AH$28,'DATA MAESTRO 2'!AH$29,'DATA MAESTRO 2'!AH$30,'DATA MAESTRO 2'!AH$31,'DATA MAESTRO 2'!AH$32,'DATA MAESTRO 2'!AH$33,'DATA MAESTRO 2'!AH$34,'DATA MAESTRO 2'!AH$35,'DATA MAESTRO 2'!AH$36,'DATA MAESTRO 2'!AH$37,'DATA MAESTRO 2'!AH$38,'DATA MAESTRO 2'!AH$39,'DATA MAESTRO 2'!AH$40,)","v":0},{"$f":"CHOOSE($B18,'DATA MAESTRO 2'!AI$6,'DATA MAESTRO 2'!AI$7,'DATA MAESTRO 2'!AI$8,'DATA MAESTRO 2'!AI$9,'DATA MAESTRO 2'!AI$10,'DATA MAESTRO 2'!AI$11,'DATA MAESTRO 2'!AI$12,'DATA MAESTRO 2'!AI$13,'DATA MAESTRO 2'!AI$14,'DATA MAESTRO 2'!AI$15,'DATA MAESTRO 2'!AI$16,'DATA MAESTRO 2'!AI$17,'DATA MAESTRO 2'!AI$18,'DATA MAESTRO 2'!AI$19,'DATA MAESTRO 2'!AI$20,'DATA MAESTRO 2'!AI$21,'DATA MAESTRO 2'!AI$22,'DATA MAESTRO 2'!AI$23,'DATA MAESTRO 2'!AI$24,'DATA MAESTRO 2'!AI$25,'DATA MAESTRO 2'!AI$26,'DATA MAESTRO 2'!AI$27,'DATA MAESTRO 2'!AI$28,'DATA MAESTRO 2'!AI$29,'DATA MAESTRO 2'!AI$30,'DATA MAESTRO 2'!AI$31,'DATA MAESTRO 2'!AI$32,'DATA MAESTRO 2'!AI$33,'DATA MAESTRO 2'!AI$34,'DATA MAESTRO 2'!AI$35,'DATA MAESTRO 2'!AI$36,'DATA MAESTRO 2'!AI$37,'DATA MAESTRO 2'!AI$38,'DATA MAESTRO 2'!AI$39,'DATA MAESTRO 2'!AI$40,)","v":0},{"$f":"CHOOSE($B18,'DATA MAESTRO 2'!AJ$6,'DATA MAESTRO 2'!AJ$7,'DATA MAESTRO 2'!AJ$8,'DATA MAESTRO 2'!AJ$9,'DATA MAESTRO 2'!AJ$10,'DATA MAESTRO 2'!AJ$11,'DATA MAESTRO 2'!AJ$12,'DATA MAESTRO 2'!AJ$13,'DATA MAESTRO 2'!AJ$14,'DATA MAESTRO 2'!AJ$15,'DATA MAESTRO 2'!AJ$16,'DATA MAESTRO 2'!AJ$17,'DATA MAESTRO 2'!AJ$18,'DATA MAESTRO 2'!AJ$19,'DATA MAESTRO 2'!AJ$20,'DATA MAESTRO 2'!AJ$21,'DATA MAESTRO 2'!AJ$22,'DATA MAESTRO 2'!AJ$23,'DATA MAESTRO 2'!AJ$24,'DATA MAESTRO 2'!AJ$25,'DATA MAESTRO 2'!AJ$26,'DATA MAESTRO 2'!AJ$27,'DATA MAESTRO 2'!AJ$28,'DATA MAESTRO 2'!AJ$29,'DATA MAESTRO 2'!AJ$30,'DATA MAESTRO 2'!AJ$31,'DATA MAESTRO 2'!AJ$32,'DATA MAESTRO 2'!AJ$33,'DATA MAESTRO 2'!AJ$34,'DATA MAESTRO 2'!AJ$35,'DATA MAESTRO 2'!AJ$36,'DATA MAESTRO 2'!AJ$37,'DATA MAESTRO 2'!AJ$38,'DATA MAESTRO 2'!AJ$39,'DATA MAESTRO 2'!AJ$40,)","v":0}]
[17,36,{"$f":"+IF(AND(B19>=1,B19<=36),VLOOKUP(B19,'DATA MAESTRO 2'!$A$6:$B$40,2),0)","v":""},{"$f":"+CHOOSE($B19,'DATA MAESTRO 2'!C$6,'DATA MAESTRO 2'!C$7,'DATA MAESTRO 2'!C$8,'DATA MAESTRO 2'!C$9,'DATA MAESTRO 2'!C$10,'DATA MAESTRO 2'!C$11,'DATA MAESTRO 2'!C$12,'DATA MAESTRO 2'!C$13,'DATA MAESTRO 2'!C$14,'DATA MAESTRO 2'!C$15,'DATA MAESTRO 2'!C$16,'DATA MAESTRO 2'!C$17,'DATA MAESTRO 2'!C$18,'DATA MAESTRO 2'!C$19,'DATA MAESTRO 2'!C$20,'DATA MAESTRO 2'!C$21,'DATA MAESTRO 2'!C$22,'DATA MAESTRO 2'!C$23,'DATA MAESTRO 2'!C$24,'DATA MAESTRO 2'!C$25,'DATA MAESTRO 2'!C$26,'DATA MAESTRO 2'!C$27,'DATA MAESTRO 2'!C$28,'DATA MAESTRO 2'!C$29,'DATA MAESTRO 2'!C$30,'DATA MAESTRO 2'!C$31,'DATA MAESTRO 2'!C$32,'DATA MAESTRO 2'!C$33,'DATA MAESTRO 2'!C$34,'DATA MAESTRO 2'!C$35,'DATA MAESTRO 2'!C$36,'DATA MAESTRO 2'!C$37,'DATA MAESTRO 2'!C$38,'DATA MAESTRO 2'!C$39,'DATA MAESTRO 2'!C$40,)","v":0},{"$f":"CHOOSE($B19,'DATA MAESTRO 2'!D$6,'DATA MAESTRO 2'!D$7,'DATA MAESTRO 2'!D$8,'DATA MAESTRO 2'!D$9,'DATA MAESTRO 2'!D$10,'DATA MAESTRO 2'!D$11,'DATA MAESTRO 2'!D$12,'DATA MAESTRO 2'!D$13,'DATA MAESTRO 2'!D$14,'DATA MAESTRO 2'!D$15,'DATA MAESTRO 2'!D$16,'DATA MAESTRO 2'!D$17,'DATA MAESTRO 2'!D$18,'DATA MAESTRO 2'!D$19,'DATA MAESTRO 2'!D$20,'DATA MAESTRO 2'!D$21,'DATA MAESTRO 2'!D$22,'DATA MAESTRO 2'!D$23,'DATA MAESTRO 2'!D$24,'DATA MAESTRO 2'!D$25,'DATA MAESTRO 2'!D$26,'DATA MAESTRO 2'!D$27,'DATA MAESTRO 2'!D$28,'DATA MAESTRO 2'!D$29,'DATA MAESTRO 2'!D$30,'DATA MAESTRO 2'!D$31,'DATA MAESTRO 2'!D$32,'DATA MAESTRO 2'!D$33,'DATA MAESTRO 2'!D$34,'DATA MAESTRO 2'!D$35,'DATA MAESTRO 2'!D$36,'DATA MAESTRO 2'!D$37,'DATA MAESTRO 2'!D$38,'DATA MAESTRO 2'!D$39,'DATA MAESTRO 2'!D$40,)","v":0},{"$f":"CHOOSE(B19,'DATA MAESTRO 2'!E$6,'DATA MAESTRO 2'!E$7,'DATA MAESTRO 2'!E$8,'DATA MAESTRO 2'!E$9,'DATA MAESTRO 2'!E$10,'DATA MAESTRO 2'!E$11,'DATA MAESTRO 2'!E$12,'DATA MAESTRO 2'!E$13,'DATA MAESTRO 2'!E$14,'DATA MAESTRO 2'!E$15,'DATA MAESTRO 2'!E$16,'DATA MAESTRO 2'!E$17,'DATA MAESTRO 2'!E$18,'DATA MAESTRO 2'!E$19,'DATA MAESTRO 2'!E$20,'DATA MAESTRO 2'!E$21,'DATA MAESTRO 2'!E$22,'DATA MAESTRO 2'!E$23,'DATA MAESTRO 2'!E$24,'DATA MAESTRO 2'!E$25,'DATA MAESTRO 2'!E$26,'DATA MAESTRO 2'!E$27,'DATA MAESTRO 2'!E$28,'DATA MAESTRO 2'!E$29,'DATA MAESTRO 2'!E$30,'DATA MAESTRO 2'!E$31,'DATA MAESTRO 2'!E$32,'DATA MAESTRO 2'!E$33,'DATA MAESTRO 2'!E$34,'DATA MAESTRO 2'!E$35,'DATA MAESTRO 2'!E$36,'DATA MAESTRO 2'!E$37,'DATA MAESTRO 2'!E$38,'DATA MAESTRO 2'!E$39,'DATA MAESTRO 2'!E$40,)","v":0},{"$f":"CHOOSE($B19,'DATA MAESTRO 2'!F$6,'DATA MAESTRO 2'!F$7,'DATA MAESTRO 2'!F$8,'DATA MAESTRO 2'!F$9,'DATA MAESTRO 2'!F$10,'DATA MAESTRO 2'!F$11,'DATA MAESTRO 2'!F$12,'DATA MAESTRO 2'!F$13,'DATA MAESTRO 2'!F$14,'DATA MAESTRO 2'!F$15,'DATA MAESTRO 2'!F$16,'DATA MAESTRO 2'!F$17,'DATA MAESTRO 2'!F$18,'DATA MAESTRO 2'!F$19,'DATA MAESTRO 2'!F$20,'DATA MAESTRO 2'!F$21,'DATA MAESTRO 2'!F$22,'DATA MAESTRO 2'!F$23,'DATA MAESTRO 2'!F$24,'DATA MAESTRO 2'!F$25,'DATA MAESTRO 2'!F$26,'DATA MAESTRO 2'!F$27,'DATA MAESTRO 2'!F$28,'DATA MAESTRO 2'!F$29,'DATA MAESTRO 2'!F$30,'DATA MAESTRO 2'!F$31,'DATA MAESTRO 2'!F$32,'DATA MAESTRO 2'!F$33,'DATA MAESTRO 2'!F$34,'DATA MAESTRO 2'!F$35,'DATA MAESTRO 2'!F$36,'DATA MAESTRO 2'!F$37,'DATA MAESTRO 2'!F$38,'DATA MAESTRO 2'!F$39,'DATA MAESTRO 2'!F$40,)","v":0},{"$f":"CHOOSE($B19,'DATA MAESTRO 2'!G$6,'DATA MAESTRO 2'!G$7,'DATA MAESTRO 2'!G$8,'DATA MAESTRO 2'!G$9,'DATA MAESTRO 2'!G$10,'DATA MAESTRO 2'!G$11,'DATA MAESTRO 2'!G$12,'DATA MAESTRO 2'!G$13,'DATA MAESTRO 2'!G$14,'DATA MAESTRO 2'!G$15,'DATA MAESTRO 2'!G$16,'DATA MAESTRO 2'!G$17,'DATA MAESTRO 2'!G$18,'DATA MAESTRO 2'!G$19,'DATA MAESTRO 2'!G$20,'DATA MAESTRO 2'!G$21,'DATA MAESTRO 2'!G$22,'DATA MAESTRO 2'!G$23,'DATA MAESTRO 2'!G$24,'DATA MAESTRO 2'!G$25,'DATA MAESTRO 2'!G$26,'DATA MAESTRO 2'!G$27,'DATA MAESTRO 2'!G$28,'DATA MAESTRO 2'!G$29,'DATA MAESTRO 2'!G$30,'DATA MAESTRO 2'!G$31,'DATA MAESTRO 2'!G$32,'DATA MAESTRO 2'!G$33,'DATA MAESTRO 2'!G$34,'DATA MAESTRO 2'!G$35,'DATA MAESTRO 2'!G$36,'DATA MAESTRO 2'!G$37,'DATA MAESTRO 2'!G$38,'DATA MAESTRO 2'!G$39,'DATA MAESTRO 2'!G$40,)","v":0},{"$f":"CHOOSE($B19,'DATA MAESTRO 2'!H$6,'DATA MAESTRO 2'!H$7,'DATA MAESTRO 2'!H$8,'DATA MAESTRO 2'!H$9,'DATA MAESTRO 2'!H$10,'DATA MAESTRO 2'!H$11,'DATA MAESTRO 2'!H$12,'DATA MAESTRO 2'!H$13,'DATA MAESTRO 2'!H$14,'DATA MAESTRO 2'!H$15,'DATA MAESTRO 2'!H$16,'DATA MAESTRO 2'!H$17,'DATA MAESTRO 2'!H$18,'DATA MAESTRO 2'!H$19,'DATA MAESTRO 2'!H$20,'DATA MAESTRO 2'!H$21,'DATA MAESTRO 2'!H$22,'DATA MAESTRO 2'!H$23,'DATA MAESTRO 2'!H$24,'DATA MAESTRO 2'!H$25,'DATA MAESTRO 2'!H$26,'DATA MAESTRO 2'!H$27,'DATA MAESTRO 2'!H$28,'DATA MAESTRO 2'!H$29,'DATA MAESTRO 2'!H$30,'DATA MAESTRO 2'!H$31,'DATA MAESTRO 2'!H$32,'DATA MAESTRO 2'!H$33,'DATA MAESTRO 2'!H$34,'DATA MAESTRO 2'!H$35,'DATA MAESTRO 2'!H$36,'DATA MAESTRO 2'!H$37,'DATA MAESTRO 2'!H$38,'DATA MAESTRO 2'!H$39,'DATA MAESTRO 2'!H$40,)","v":0},{"$f":"CHOOSE($B19,'DATA MAESTRO 2'!I$6,'DATA MAESTRO 2'!I$7,'DATA MAESTRO 2'!I$8,'DATA MAESTRO 2'!I$9,'DATA MAESTRO 2'!I$10,'DATA MAESTRO 2'!I$11,'DATA MAESTRO 2'!I$12,'DATA MAESTRO 2'!I$13,'DATA MAESTRO 2'!I$14,'DATA MAESTRO 2'!I$15,'DATA MAESTRO 2'!I$16,'DATA MAESTRO 2'!I$17,'DATA MAESTRO 2'!I$18,'DATA MAESTRO 2'!I$19,'DATA MAESTRO 2'!I$20,'DATA MAESTRO 2'!I$21,'DATA MAESTRO 2'!I$22,'DATA MAESTRO 2'!I$23,'DATA MAESTRO 2'!I$24,'DATA MAESTRO 2'!I$25,'DATA MAESTRO 2'!I$26,'DATA MAESTRO 2'!I$27,'DATA MAESTRO 2'!I$28,'DATA MAESTRO 2'!I$29,'DATA MAESTRO 2'!I$30,'DATA MAESTRO 2'!I$31,'DATA MAESTRO 2'!I$32,'DATA MAESTRO 2'!I$33,'DATA MAESTRO 2'!I$34,'DATA MAESTRO 2'!I$35,'DATA MAESTRO 2'!I$36,'DATA MAESTRO 2'!I$37,'DATA MAESTRO 2'!I$38,'DATA MAESTRO 2'!I$39,'DATA MAESTRO 2'!I$40,)","v":0},{"$f":"CHOOSE($B19,'DATA MAESTRO 2'!J$6,'DATA MAESTRO 2'!J$7,'DATA MAESTRO 2'!J$8,'DATA MAESTRO 2'!J$9,'DATA MAESTRO 2'!J$10,'DATA MAESTRO 2'!J$11,'DATA MAESTRO 2'!J$12,'DATA MAESTRO 2'!J$13,'DATA MAESTRO 2'!J$14,'DATA MAESTRO 2'!J$15,'DATA MAESTRO 2'!J$16,'DATA MAESTRO 2'!J$17,'DATA MAESTRO 2'!J$18,'DATA MAESTRO 2'!J$19,'DATA MAESTRO 2'!J$20,'DATA MAESTRO 2'!J$21,'DATA MAESTRO 2'!J$22,'DATA MAESTRO 2'!J$23,'DATA MAESTRO 2'!J$24,'DATA MAESTRO 2'!J$25,'DATA MAESTRO 2'!J$26,'DATA MAESTRO 2'!J$27,'DATA MAESTRO 2'!J$28,'DATA MAESTRO 2'!J$29,'DATA MAESTRO 2'!J$30,'DATA MAESTRO 2'!J$31,'DATA MAESTRO 2'!J$32,'DATA MAESTRO 2'!J$33,'DATA MAESTRO 2'!J$34,'DATA MAESTRO 2'!J$35,'DATA MAESTRO 2'!J$36,'DATA MAESTRO 2'!J$37,'DATA MAESTRO 2'!J$38,'DATA MAESTRO 2'!J$39,'DATA MAESTRO 2'!J$40,)","v":0},{"$f":"CHOOSE($B19,'DATA MAESTRO 2'!K$6,'DATA MAESTRO 2'!K$7,'DATA MAESTRO 2'!K$8,'DATA MAESTRO 2'!K$9,'DATA MAESTRO 2'!K$10,'DATA MAESTRO 2'!K$11,'DATA MAESTRO 2'!K$12,'DATA MAESTRO 2'!K$13,'DATA MAESTRO 2'!K$14,'DATA MAESTRO 2'!K$15,'DATA MAESTRO 2'!K$16,'DATA MAESTRO 2'!K$17,'DATA MAESTRO 2'!K$18,'DATA MAESTRO 2'!K$19,'DATA MAESTRO 2'!K$20,'DATA MAESTRO 2'!K$21,'DATA MAESTRO 2'!K$22,'DATA MAESTRO 2'!K$23,'DATA MAESTRO 2'!K$24,'DATA MAESTRO 2'!K$25,'DATA MAESTRO 2'!K$26,'DATA MAESTRO 2'!K$27,'DATA MAESTRO 2'!K$28,'DATA MAESTRO 2'!K$29,'DATA MAESTRO 2'!K$30,'DATA MAESTRO 2'!K$31,'DATA MAESTRO 2'!K$32,'DATA MAESTRO 2'!K$33,'DATA MAESTRO 2'!K$34,'DATA MAESTRO 2'!K$35,'DATA MAESTRO 2'!K$36,'DATA MAESTRO 2'!K$37,'DATA MAESTRO 2'!K$38,'DATA MAESTRO 2'!K$39,'DATA MAESTRO 2'!K$40,)","v":0},{"$f":"CHOOSE($B19,'DATA MAESTRO 2'!L$6,'DATA MAESTRO 2'!L$7,'DATA MAESTRO 2'!L$8,'DATA MAESTRO 2'!L$9,'DATA MAESTRO 2'!L$10,'DATA MAESTRO 2'!L$11,'DATA MAESTRO 2'!L$12,'DATA MAESTRO 2'!L$13,'DATA MAESTRO 2'!L$14,'DATA MAESTRO 2'!L$15,'DATA MAESTRO 2'!L$16,'DATA MAESTRO 2'!L$17,'DATA MAESTRO 2'!L$18,'DATA MAESTRO 2'!L$19,'DATA MAESTRO 2'!L$20,'DATA MAESTRO 2'!L$21,'DATA MAESTRO 2'!L$22,'DATA MAESTRO 2'!L$23,'DATA MAESTRO 2'!L$24,'DATA MAESTRO 2'!L$25,'DATA MAESTRO 2'!L$26,'DATA MAESTRO 2'!L$27,'DATA MAESTRO 2'!L$28,'DATA MAESTRO 2'!L$29,'DATA MAESTRO 2'!L$30,'DATA MAESTRO 2'!L$31,'DATA MAESTRO 2'!L$32,'DATA MAESTRO 2'!L$33,'DATA MAESTRO 2'!L$34,'DATA MAESTRO 2'!L$35,'DATA MAESTRO 2'!L$36,'DATA MAESTRO 2'!L$37,'DATA MAESTRO 2'!L$38,'DATA MAESTRO 2'!L$39,'DATA MAESTRO 2'!L$40,)","v":0},{"$f":"CHOOSE($B19,'DATA MAESTRO 2'!M$6,'DATA MAESTRO 2'!M$7,'DATA MAESTRO 2'!M$8,'DATA MAESTRO 2'!M$9,'DATA MAESTRO 2'!M$10,'DATA MAESTRO 2'!M$11,'DATA MAESTRO 2'!M$12,'DATA MAESTRO 2'!M$13,'DATA MAESTRO 2'!M$14,'DATA MAESTRO 2'!M$15,'DATA MAESTRO 2'!M$16,'DATA MAESTRO 2'!M$17,'DATA MAESTRO 2'!M$18,'DATA MAESTRO 2'!M$19,'DATA MAESTRO 2'!M$20,'DATA MAESTRO 2'!M$21,'DATA MAESTRO 2'!M$22,'DATA MAESTRO 2'!M$23,'DATA MAESTRO 2'!M$24,'DATA MAESTRO 2'!M$25,'DATA MAESTRO 2'!M$26,'DATA MAESTRO 2'!M$27,'DATA MAESTRO 2'!M$28,'DATA MAESTRO 2'!M$29,'DATA MAESTRO 2'!M$30,'DATA MAESTRO 2'!M$31,'DATA MAESTRO 2'!M$32,'DATA MAESTRO 2'!M$33,'DATA MAESTRO 2'!M$34,'DATA MAESTRO 2'!M$35,'DATA MAESTRO 2'!M$36,'DATA MAESTRO 2'!M$37,'DATA MAESTRO 2'!M$38,'DATA MAESTRO 2'!M$39,'DATA MAESTRO 2'!M$40,)","v":0},{"$f":"CHOOSE($B19,'DATA MAESTRO 2'!N$6,'DATA MAESTRO 2'!N$7,'DATA MAESTRO 2'!N$8,'DATA MAESTRO 2'!N$9,'DATA MAESTRO 2'!N$10,'DATA MAESTRO 2'!N$11,'DATA MAESTRO 2'!N$12,'DATA MAESTRO 2'!N$13,'DATA MAESTRO 2'!N$14,'DATA MAESTRO 2'!N$15,'DATA MAESTRO 2'!N$16,'DATA MAESTRO 2'!N$17,'DATA MAESTRO 2'!N$18,'DATA MAESTRO 2'!N$19,'DATA MAESTRO 2'!N$20,'DATA MAESTRO 2'!N$21,'DATA MAESTRO 2'!N$22,'DATA MAESTRO 2'!N$23,'DATA MAESTRO 2'!N$24,'DATA MAESTRO 2'!N$25,'DATA MAESTRO 2'!N$26,'DATA MAESTRO 2'!N$27,'DATA MAESTRO 2'!N$28,'DATA MAESTRO 2'!N$29,'DATA MAESTRO 2'!N$30,'DATA MAESTRO 2'!N$31,'DATA MAESTRO 2'!N$32,'DATA MAESTRO 2'!N$33,'DATA MAESTRO 2'!N$34,'DATA MAESTRO 2'!N$35,'DATA MAESTRO 2'!N$36,'DATA MAESTRO 2'!N$37,'DATA MAESTRO 2'!N$38,'DATA MAESTRO 2'!N$39,'DATA MAESTRO 2'!N$40,)","v":0},{"$f":"CHOOSE($B19,'DATA MAESTRO 2'!O$6,'DATA MAESTRO 2'!O$7,'DATA MAESTRO 2'!O$8,'DATA MAESTRO 2'!O$9,'DATA MAESTRO 2'!O$10,'DATA MAESTRO 2'!O$11,'DATA MAESTRO 2'!O$12,'DATA MAESTRO 2'!O$13,'DATA MAESTRO 2'!O$14,'DATA MAESTRO 2'!O$15,'DATA MAESTRO 2'!O$16,'DATA MAESTRO 2'!O$17,'DATA MAESTRO 2'!O$18,'DATA MAESTRO 2'!O$19,'DATA MAESTRO 2'!O$20,'DATA MAESTRO 2'!O$21,'DATA MAESTRO 2'!O$22,'DATA MAESTRO 2'!O$23,'DATA MAESTRO 2'!O$24,'DATA MAESTRO 2'!O$25,'DATA MAESTRO 2'!O$26,'DATA MAESTRO 2'!O$27,'DATA MAESTRO 2'!O$28,'DATA MAESTRO 2'!O$29,'DATA MAESTRO 2'!O$30,'DATA MAESTRO 2'!O$31,'DATA MAESTRO 2'!O$32,'DATA MAESTRO 2'!O$33,'DATA MAESTRO 2'!O$34,'DATA MAESTRO 2'!O$35,'DATA MAESTRO 2'!O$36,'DATA MAESTRO 2'!O$37,'DATA MAESTRO 2'!O$38,'DATA MAESTRO 2'!O$39,'DATA MAESTRO 2'!O$40,)","v":0},{"$f":"CHOOSE($B19,'DATA MAESTRO 2'!P$6,'DATA MAESTRO 2'!P$7,'DATA MAESTRO 2'!P$8,'DATA MAESTRO 2'!P$9,'DATA MAESTRO 2'!P$10,'DATA MAESTRO 2'!P$11,'DATA MAESTRO 2'!P$12,'DATA MAESTRO 2'!P$13,'DATA MAESTRO 2'!P$14,'DATA MAESTRO 2'!P$15,'DATA MAESTRO 2'!P$16,'DATA MAESTRO 2'!P$17,'DATA MAESTRO 2'!P$18,'DATA MAESTRO 2'!P$19,'DATA MAESTRO 2'!P$20,'DATA MAESTRO 2'!P$21,'DATA MAESTRO 2'!P$22,'DATA MAESTRO 2'!P$23,'DATA MAESTRO 2'!P$24,'DATA MAESTRO 2'!P$25,'DATA MAESTRO 2'!P$26,'DATA MAESTRO 2'!P$27,'DATA MAESTRO 2'!P$28,'DATA MAESTRO 2'!P$29,'DATA MAESTRO 2'!P$30,'DATA MAESTRO 2'!P$31,'DATA MAESTRO 2'!P$32,'DATA MAESTRO 2'!P$33,'DATA MAESTRO 2'!P$34,'DATA MAESTRO 2'!P$35,'DATA MAESTRO 2'!P$36,'DATA MAESTRO 2'!P$37,'DATA MAESTRO 2'!P$38,'DATA MAESTRO 2'!P$39,'DATA MAESTRO 2'!P$40,)","v":0},{"$f":"CHOOSE($B19,'DATA MAESTRO 2'!Q$6,'DATA MAESTRO 2'!Q$7,'DATA MAESTRO 2'!Q$8,'DATA MAESTRO 2'!Q$9,'DATA MAESTRO 2'!Q$10,'DATA MAESTRO 2'!Q$11,'DATA MAESTRO 2'!Q$12,'DATA MAESTRO 2'!Q$13,'DATA MAESTRO 2'!Q$14,'DATA MAESTRO 2'!Q$15,'DATA MAESTRO 2'!Q$16,'DATA MAESTRO 2'!Q$17,'DATA MAESTRO 2'!Q$18,'DATA MAESTRO 2'!Q$19,'DATA MAESTRO 2'!Q$20,'DATA MAESTRO 2'!Q$21,'DATA MAESTRO 2'!Q$22,'DATA MAESTRO 2'!Q$23,'DATA MAESTRO 2'!Q$24,'DATA MAESTRO 2'!Q$25,'DATA MAESTRO 2'!Q$26,'DATA MAESTRO 2'!Q$27,'DATA MAESTRO 2'!Q$28,'DATA MAESTRO 2'!Q$29,'DATA MAESTRO 2'!Q$30,'DATA MAESTRO 2'!Q$31,'DATA MAESTRO 2'!Q$32,'DATA MAESTRO 2'!Q$33,'DATA MAESTRO 2'!Q$34,'DATA MAESTRO 2'!Q$35,'DATA MAESTRO 2'!Q$36,'DATA MAESTRO 2'!Q$37,'DATA MAESTRO 2'!Q$38,'DATA MAESTRO 2'!Q$39,'DATA MAESTRO 2'!Q$40,)","v":0},{"$f":"CHOOSE($B19,'DATA MAESTRO 2'!R$6,'DATA MAESTRO 2'!R$7,'DATA MAESTRO 2'!R$8,'DATA MAESTRO 2'!R$9,'DATA MAESTRO 2'!R$10,'DATA MAESTRO 2'!R$11,'DATA MAESTRO 2'!R$12,'DATA MAESTRO 2'!R$13,'DATA MAESTRO 2'!R$14,'DATA MAESTRO 2'!R$15,'DATA MAESTRO 2'!R$16,'DATA MAESTRO 2'!R$17,'DATA MAESTRO 2'!R$18,'DATA MAESTRO 2'!R$19,'DATA MAESTRO 2'!R$20,'DATA MAESTRO 2'!R$21,'DATA MAESTRO 2'!R$22,'DATA MAESTRO 2'!R$23,'DATA MAESTRO 2'!R$24,'DATA MAESTRO 2'!R$25,'DATA MAESTRO 2'!R$26,'DATA MAESTRO 2'!R$27,'DATA MAESTRO 2'!R$28,'DATA MAESTRO 2'!R$29,'DATA MAESTRO 2'!R$30,'DATA MAESTRO 2'!R$31,'DATA MAESTRO 2'!R$32,'DATA MAESTRO 2'!R$33,'DATA MAESTRO 2'!R$34,'DATA MAESTRO 2'!R$35,'DATA MAESTRO 2'!R$36,'DATA MAESTRO 2'!R$37,'DATA MAESTRO 2'!R$38,'DATA MAESTRO 2'!R$39,'DATA MAESTRO 2'!R$40,)","v":0},{"$f":"CHOOSE($B19,'DATA MAESTRO 2'!S$6,'DATA MAESTRO 2'!S$7,'DATA MAESTRO 2'!S$8,'DATA MAESTRO 2'!S$9,'DATA MAESTRO 2'!S$10,'DATA MAESTRO 2'!S$11,'DATA MAESTRO 2'!S$12,'DATA MAESTRO 2'!S$13,'DATA MAESTRO 2'!S$14,'DATA MAESTRO 2'!S$15,'DATA MAESTRO 2'!S$16,'DATA MAESTRO 2'!S$17,'DATA MAESTRO 2'!S$18,'DATA MAESTRO 2'!S$19,'DATA MAESTRO 2'!S$20,'DATA MAESTRO 2'!S$21,'DATA MAESTRO 2'!S$22,'DATA MAESTRO 2'!S$23,'DATA MAESTRO 2'!S$24,'DATA MAESTRO 2'!S$25,'DATA MAESTRO 2'!S$26,'DATA MAESTRO 2'!S$27,'DATA MAESTRO 2'!S$28,'DATA MAESTRO 2'!S$29,'DATA MAESTRO 2'!S$30,'DATA MAESTRO 2'!S$31,'DATA MAESTRO 2'!S$32,'DATA MAESTRO 2'!S$33,'DATA MAESTRO 2'!S$34,'DATA MAESTRO 2'!S$35,'DATA MAESTRO 2'!S$36,'DATA MAESTRO 2'!S$37,'DATA MAESTRO 2'!S$38,'DATA MAESTRO 2'!S$39,'DATA MAESTRO 2'!S$40,)","v":0},{"$f":"CHOOSE($B19,'DATA MAESTRO 2'!T$6,'DATA MAESTRO 2'!T$7,'DATA MAESTRO 2'!T$8,'DATA MAESTRO 2'!T$9,'DATA MAESTRO 2'!T$10,'DATA MAESTRO 2'!T$11,'DATA MAESTRO 2'!T$12,'DATA MAESTRO 2'!T$13,'DATA MAESTRO 2'!T$14,'DATA MAESTRO 2'!T$15,'DATA MAESTRO 2'!T$16,'DATA MAESTRO 2'!T$17,'DATA MAESTRO 2'!T$18,'DATA MAESTRO 2'!T$19,'DATA MAESTRO 2'!T$20,'DATA MAESTRO 2'!T$21,'DATA MAESTRO 2'!T$22,'DATA MAESTRO 2'!T$23,'DATA MAESTRO 2'!T$24,'DATA MAESTRO 2'!T$25,'DATA MAESTRO 2'!T$26,'DATA MAESTRO 2'!T$27,'DATA MAESTRO 2'!T$28,'DATA MAESTRO 2'!T$29,'DATA MAESTRO 2'!T$30,'DATA MAESTRO 2'!T$31,'DATA MAESTRO 2'!T$32,'DATA MAESTRO 2'!T$33,'DATA MAESTRO 2'!T$34,'DATA MAESTRO 2'!T$35,'DATA MAESTRO 2'!T$36,'DATA MAESTRO 2'!T$37,'DATA MAESTRO 2'!T$38,'DATA MAESTRO 2'!T$39,'DATA MAESTRO 2'!T$40,)","v":0},{"$f":"CHOOSE($B19,'DATA MAESTRO 2'!U$6,'DATA MAESTRO 2'!U$7,'DATA MAESTRO 2'!U$8,'DATA MAESTRO 2'!U$9,'DATA MAESTRO 2'!U$10,'DATA MAESTRO 2'!U$11,'DATA MAESTRO 2'!U$12,'DATA MAESTRO 2'!U$13,'DATA MAESTRO 2'!U$14,'DATA MAESTRO 2'!U$15,'DATA MAESTRO 2'!U$16,'DATA MAESTRO 2'!U$17,'DATA MAESTRO 2'!U$18,'DATA MAESTRO 2'!U$19,'DATA MAESTRO 2'!U$20,'DATA MAESTRO 2'!U$21,'DATA MAESTRO 2'!U$22,'DATA MAESTRO 2'!U$23,'DATA MAESTRO 2'!U$24,'DATA MAESTRO 2'!U$25,'DATA MAESTRO 2'!U$26,'DATA MAESTRO 2'!U$27,'DATA MAESTRO 2'!U$28,'DATA MAESTRO 2'!U$29,'DATA MAESTRO 2'!U$30,'DATA MAESTRO 2'!U$31,'DATA MAESTRO 2'!U$32,'DATA MAESTRO 2'!U$33,'DATA MAESTRO 2'!U$34,'DATA MAESTRO 2'!U$35,'DATA MAESTRO 2'!U$36,'DATA MAESTRO 2'!U$37,'DATA MAESTRO 2'!U$38,'DATA MAESTRO 2'!U$39,'DATA MAESTRO 2'!U$40,)","v":0},{"$f":"CHOOSE($B19,'DATA MAESTRO 2'!V$6,'DATA MAESTRO 2'!V$7,'DATA MAESTRO 2'!V$8,'DATA MAESTRO 2'!V$9,'DATA MAESTRO 2'!V$10,'DATA MAESTRO 2'!V$11,'DATA MAESTRO 2'!V$12,'DATA MAESTRO 2'!V$13,'DATA MAESTRO 2'!V$14,'DATA MAESTRO 2'!V$15,'DATA MAESTRO 2'!V$16,'DATA MAESTRO 2'!V$17,'DATA MAESTRO 2'!V$18,'DATA MAESTRO 2'!V$19,'DATA MAESTRO 2'!V$20,'DATA MAESTRO 2'!V$21,'DATA MAESTRO 2'!V$22,'DATA MAESTRO 2'!V$23,'DATA MAESTRO 2'!V$24,'DATA MAESTRO 2'!V$25,'DATA MAESTRO 2'!V$26,'DATA MAESTRO 2'!V$27,'DATA MAESTRO 2'!V$28,'DATA MAESTRO 2'!V$29,'DATA MAESTRO 2'!V$30,'DATA MAESTRO 2'!V$31,'DATA MAESTRO 2'!V$32,'DATA MAESTRO 2'!V$33,'DATA MAESTRO 2'!V$34,'DATA MAESTRO 2'!V$35,'DATA MAESTRO 2'!V$36,'DATA MAESTRO 2'!V$37,'DATA MAESTRO 2'!V$38,'DATA MAESTRO 2'!V$39,'DATA MAESTRO 2'!V$40,)","v":0},{"$f":"CHOOSE($B19,'DATA MAESTRO 2'!W$6,'DATA MAESTRO 2'!W$7,'DATA MAESTRO 2'!W$8,'DATA MAESTRO 2'!W$9,'DATA MAESTRO 2'!W$10,'DATA MAESTRO 2'!W$11,'DATA MAESTRO 2'!W$12,'DATA MAESTRO 2'!W$13,'DATA MAESTRO 2'!W$14,'DATA MAESTRO 2'!W$15,'DATA MAESTRO 2'!W$16,'DATA MAESTRO 2'!W$17,'DATA MAESTRO 2'!W$18,'DATA MAESTRO 2'!W$19,'DATA MAESTRO 2'!W$20,'DATA MAESTRO 2'!W$21,'DATA MAESTRO 2'!W$22,'DATA MAESTRO 2'!W$23,'DATA MAESTRO 2'!W$24,'DATA MAESTRO 2'!W$25,'DATA MAESTRO 2'!W$26,'DATA MAESTRO 2'!W$27,'DATA MAESTRO 2'!W$28,'DATA MAESTRO 2'!W$29,'DATA MAESTRO 2'!W$30,'DATA MAESTRO 2'!W$31,'DATA MAESTRO 2'!W$32,'DATA MAESTRO 2'!W$33,'DATA MAESTRO 2'!W$34,'DATA MAESTRO 2'!W$35,'DATA MAESTRO 2'!W$36,'DATA MAESTRO 2'!W$37,'DATA MAESTRO 2'!W$38,'DATA MAESTRO 2'!W$39,'DATA MAESTRO 2'!W$40,)","v":0},{"$f":"CHOOSE($B19,'DATA MAESTRO 2'!X$6,'DATA MAESTRO 2'!X$7,'DATA MAESTRO 2'!X$8,'DATA MAESTRO 2'!X$9,'DATA MAESTRO 2'!X$10,'DATA MAESTRO 2'!X$11,'DATA MAESTRO 2'!X$12,'DATA MAESTRO 2'!X$13,'DATA MAESTRO 2'!X$14,'DATA MAESTRO 2'!X$15,'DATA MAESTRO 2'!X$16,'DATA MAESTRO 2'!X$17,'DATA MAESTRO 2'!X$18,'DATA MAESTRO 2'!X$19,'DATA MAESTRO 2'!X$20,'DATA MAESTRO 2'!X$21,'DATA MAESTRO 2'!X$22,'DATA MAESTRO 2'!X$23,'DATA MAESTRO 2'!X$24,'DATA MAESTRO 2'!X$25,'DATA MAESTRO 2'!X$26,'DATA MAESTRO 2'!X$27,'DATA MAESTRO 2'!X$28,'DATA MAESTRO 2'!X$29,'DATA MAESTRO 2'!X$30,'DATA MAESTRO 2'!X$31,'DATA MAESTRO 2'!X$32,'DATA MAESTRO 2'!X$33,'DATA MAESTRO 2'!X$34,'DATA MAESTRO 2'!X$35,'DATA MAESTRO 2'!X$36,'DATA MAESTRO 2'!X$37,'DATA MAESTRO 2'!X$38,'DATA MAESTRO 2'!X$39,'DATA MAESTRO 2'!X$40,)","v":0},{"$f":"CHOOSE($B19,'DATA MAESTRO 2'!Y$6,'DATA MAESTRO 2'!Y$7,'DATA MAESTRO 2'!Y$8,'DATA MAESTRO 2'!Y$9,'DATA MAESTRO 2'!Y$10,'DATA MAESTRO 2'!Y$11,'DATA MAESTRO 2'!Y$12,'DATA MAESTRO 2'!Y$13,'DATA MAESTRO 2'!Y$14,'DATA MAESTRO 2'!Y$15,'DATA MAESTRO 2'!Y$16,'DATA MAESTRO 2'!Y$17,'DATA MAESTRO 2'!Y$18,'DATA MAESTRO 2'!Y$19,'DATA MAESTRO 2'!Y$20,'DATA MAESTRO 2'!Y$21,'DATA MAESTRO 2'!Y$22,'DATA MAESTRO 2'!Y$23,'DATA MAESTRO 2'!Y$24,'DATA MAESTRO 2'!Y$25,'DATA MAESTRO 2'!Y$26,'DATA MAESTRO 2'!Y$27,'DATA MAESTRO 2'!Y$28,'DATA MAESTRO 2'!Y$29,'DATA MAESTRO 2'!Y$30,'DATA MAESTRO 2'!Y$31,'DATA MAESTRO 2'!Y$32,'DATA MAESTRO 2'!Y$33,'DATA MAESTRO 2'!Y$34,'DATA MAESTRO 2'!Y$35,'DATA MAESTRO 2'!Y$36,'DATA MAESTRO 2'!Y$37,'DATA MAESTRO 2'!Y$38,'DATA MAESTRO 2'!Y$39,'DATA MAESTRO 2'!Y$40,)","v":0},{"$f":"CHOOSE($B19,'DATA MAESTRO 2'!Z$6,'DATA MAESTRO 2'!Z$7,'DATA MAESTRO 2'!Z$8,'DATA MAESTRO 2'!Z$9,'DATA MAESTRO 2'!Z$10,'DATA MAESTRO 2'!Z$11,'DATA MAESTRO 2'!Z$12,'DATA MAESTRO 2'!Z$13,'DATA MAESTRO 2'!Z$14,'DATA MAESTRO 2'!Z$15,'DATA MAESTRO 2'!Z$16,'DATA MAESTRO 2'!Z$17,'DATA MAESTRO 2'!Z$18,'DATA MAESTRO 2'!Z$19,'DATA MAESTRO 2'!Z$20,'DATA MAESTRO 2'!Z$21,'DATA MAESTRO 2'!Z$22,'DATA MAESTRO 2'!Z$23,'DATA MAESTRO 2'!Z$24,'DATA MAESTRO 2'!Z$25,'DATA MAESTRO 2'!Z$26,'DATA MAESTRO 2'!Z$27,'DATA MAESTRO 2'!Z$28,'DATA MAESTRO 2'!Z$29,'DATA MAESTRO 2'!Z$30,'DATA MAESTRO 2'!Z$31,'DATA MAESTRO 2'!Z$32,'DATA MAESTRO 2'!Z$33,'DATA MAESTRO 2'!Z$34,'DATA MAESTRO 2'!Z$35,'DATA MAESTRO 2'!Z$36,'DATA MAESTRO 2'!Z$37,'DATA MAESTRO 2'!Z$38,'DATA MAESTRO 2'!Z$39,'DATA MAESTRO 2'!Z$40,)","v":0},{"$f":"CHOOSE($B19,'DATA MAESTRO 2'!AA$6,'DATA MAESTRO 2'!AA$7,'DATA MAESTRO 2'!AA$8,'DATA MAESTRO 2'!AA$9,'DATA MAESTRO 2'!AA$10,'DATA MAESTRO 2'!AA$11,'DATA MAESTRO 2'!AA$12,'DATA MAESTRO 2'!AA$13,'DATA MAESTRO 2'!AA$14,'DATA MAESTRO 2'!AA$15,'DATA MAESTRO 2'!AA$16,'DATA MAESTRO 2'!AA$17,'DATA MAESTRO 2'!AA$18,'DATA MAESTRO 2'!AA$19,'DATA MAESTRO 2'!AA$20,'DATA MAESTRO 2'!AA$21,'DATA MAESTRO 2'!AA$22,'DATA MAESTRO 2'!AA$23,'DATA MAESTRO 2'!AA$24,'DATA MAESTRO 2'!AA$25,'DATA MAESTRO 2'!AA$26,'DATA MAESTRO 2'!AA$27,'DATA MAESTRO 2'!AA$28,'DATA MAESTRO 2'!AA$29,'DATA MAESTRO 2'!AA$30,'DATA MAESTRO 2'!AA$31,'DATA MAESTRO 2'!AA$32,'DATA MAESTRO 2'!AA$33,'DATA MAESTRO 2'!AA$34,'DATA MAESTRO 2'!AA$35,'DATA MAESTRO 2'!AA$36,'DATA MAESTRO 2'!AA$37,'DATA MAESTRO 2'!AA$38,'DATA MAESTRO 2'!AA$39,'DATA MAESTRO 2'!AA$40,)","v":0},{"$f":"CHOOSE($B19,'DATA MAESTRO 2'!AB$6,'DATA MAESTRO 2'!AB$7,'DATA MAESTRO 2'!AB$8,'DATA MAESTRO 2'!AB$9,'DATA MAESTRO 2'!AB$10,'DATA MAESTRO 2'!AB$11,'DATA MAESTRO 2'!AB$12,'DATA MAESTRO 2'!AB$13,'DATA MAESTRO 2'!AB$14,'DATA MAESTRO 2'!AB$15,'DATA MAESTRO 2'!AB$16,'DATA MAESTRO 2'!AB$17,'DATA MAESTRO 2'!AB$18,'DATA MAESTRO 2'!AB$19,'DATA MAESTRO 2'!AB$20,'DATA MAESTRO 2'!AB$21,'DATA MAESTRO 2'!AB$22,'DATA MAESTRO 2'!AB$23,'DATA MAESTRO 2'!AB$24,'DATA MAESTRO 2'!AB$25,'DATA MAESTRO 2'!AB$26,'DATA MAESTRO 2'!AB$27,'DATA MAESTRO 2'!AB$28,'DATA MAESTRO 2'!AB$29,'DATA MAESTRO 2'!AB$30,'DATA MAESTRO 2'!AB$31,'DATA MAESTRO 2'!AB$32,'DATA MAESTRO 2'!AB$33,'DATA MAESTRO 2'!AB$34,'DATA MAESTRO 2'!AB$35,'DATA MAESTRO 2'!AB$36,'DATA MAESTRO 2'!AB$37,'DATA MAESTRO 2'!AB$38,'DATA MAESTRO 2'!AB$39,'DATA MAESTRO 2'!AB$40,)","v":0},{"$f":"CHOOSE($B19,'DATA MAESTRO 2'!AC$6,'DATA MAESTRO 2'!AC$7,'DATA MAESTRO 2'!AC$8,'DATA MAESTRO 2'!AC$9,'DATA MAESTRO 2'!AC$10,'DATA MAESTRO 2'!AC$11,'DATA MAESTRO 2'!AC$12,'DATA MAESTRO 2'!AC$13,'DATA MAESTRO 2'!AC$14,'DATA MAESTRO 2'!AC$15,'DATA MAESTRO 2'!AC$16,'DATA MAESTRO 2'!AC$17,'DATA MAESTRO 2'!AC$18,'DATA MAESTRO 2'!AC$19,'DATA MAESTRO 2'!AC$20,'DATA MAESTRO 2'!AC$21,'DATA MAESTRO 2'!AC$22,'DATA MAESTRO 2'!AC$23,'DATA MAESTRO 2'!AC$24,'DATA MAESTRO 2'!AC$25,'DATA MAESTRO 2'!AC$26,'DATA MAESTRO 2'!AC$27,'DATA MAESTRO 2'!AC$28,'DATA MAESTRO 2'!AC$29,'DATA MAESTRO 2'!AC$30,'DATA MAESTRO 2'!AC$31,'DATA MAESTRO 2'!AC$32,'DATA MAESTRO 2'!AC$33,'DATA MAESTRO 2'!AC$34,'DATA MAESTRO 2'!AC$35,'DATA MAESTRO 2'!AC$36,'DATA MAESTRO 2'!AC$37,'DATA MAESTRO 2'!AC$38,'DATA MAESTRO 2'!AC$39,'DATA MAESTRO 2'!AC$40,)","v":0},{"$f":"CHOOSE($B19,'DATA MAESTRO 2'!AD$6,'DATA MAESTRO 2'!AD$7,'DATA MAESTRO 2'!AD$8,'DATA MAESTRO 2'!AD$9,'DATA MAESTRO 2'!AD$10,'DATA MAESTRO 2'!AD$11,'DATA MAESTRO 2'!AD$12,'DATA MAESTRO 2'!AD$13,'DATA MAESTRO 2'!AD$14,'DATA MAESTRO 2'!AD$15,'DATA MAESTRO 2'!AD$16,'DATA MAESTRO 2'!AD$17,'DATA MAESTRO 2'!AD$18,'DATA MAESTRO 2'!AD$19,'DATA MAESTRO 2'!AD$20,'DATA MAESTRO 2'!AD$21,'DATA MAESTRO 2'!AD$22,'DATA MAESTRO 2'!AD$23,'DATA MAESTRO 2'!AD$24,'DATA MAESTRO 2'!AD$25,'DATA MAESTRO 2'!AD$26,'DATA MAESTRO 2'!AD$27,'DATA MAESTRO 2'!AD$28,'DATA MAESTRO 2'!AD$29,'DATA MAESTRO 2'!AD$30,'DATA MAESTRO 2'!AD$31,'DATA MAESTRO 2'!AD$32,'DATA MAESTRO 2'!AD$33,'DATA MAESTRO 2'!AD$34,'DATA MAESTRO 2'!AD$35,'DATA MAESTRO 2'!AD$36,'DATA MAESTRO 2'!AD$37,'DATA MAESTRO 2'!AD$38,'DATA MAESTRO 2'!AD$39,'DATA MAESTRO 2'!AD$40,)","v":0},{"$f":"CHOOSE($B19,'DATA MAESTRO 2'!AE$6,'DATA MAESTRO 2'!AE$7,'DATA MAESTRO 2'!AE$8,'DATA MAESTRO 2'!AE$9,'DATA MAESTRO 2'!AE$10,'DATA MAESTRO 2'!AE$11,'DATA MAESTRO 2'!AE$12,'DATA MAESTRO 2'!AE$13,'DATA MAESTRO 2'!AE$14,'DATA MAESTRO 2'!AE$15,'DATA MAESTRO 2'!AE$16,'DATA MAESTRO 2'!AE$17,'DATA MAESTRO 2'!AE$18,'DATA MAESTRO 2'!AE$19,'DATA MAESTRO 2'!AE$20,'DATA MAESTRO 2'!AE$21,'DATA MAESTRO 2'!AE$22,'DATA MAESTRO 2'!AE$23,'DATA MAESTRO 2'!AE$24,'DATA MAESTRO 2'!AE$25,'DATA MAESTRO 2'!AE$26,'DATA MAESTRO 2'!AE$27,'DATA MAESTRO 2'!AE$28,'DATA MAESTRO 2'!AE$29,'DATA MAESTRO 2'!AE$30,'DATA MAESTRO 2'!AE$31,'DATA MAESTRO 2'!AE$32,'DATA MAESTRO 2'!AE$33,'DATA MAESTRO 2'!AE$34,'DATA MAESTRO 2'!AE$35,'DATA MAESTRO 2'!AE$36,'DATA MAESTRO 2'!AE$37,'DATA MAESTRO 2'!AE$38,'DATA MAESTRO 2'!AE$39,'DATA MAESTRO 2'!AE$40,)","v":0},{"$f":"CHOOSE($B19,'DATA MAESTRO 2'!AF$6,'DATA MAESTRO 2'!AF$7,'DATA MAESTRO 2'!AF$8,'DATA MAESTRO 2'!AF$9,'DATA MAESTRO 2'!AF$10,'DATA MAESTRO 2'!AF$11,'DATA MAESTRO 2'!AF$12,'DATA MAESTRO 2'!AF$13,'DATA MAESTRO 2'!AF$14,'DATA MAESTRO 2'!AF$15,'DATA MAESTRO 2'!AF$16,'DATA MAESTRO 2'!AF$17,'DATA MAESTRO 2'!AF$18,'DATA MAESTRO 2'!AF$19,'DATA MAESTRO 2'!AF$20,'DATA MAESTRO 2'!AF$21,'DATA MAESTRO 2'!AF$22,'DATA MAESTRO 2'!AF$23,'DATA MAESTRO 2'!AF$24,'DATA MAESTRO 2'!AF$25,'DATA MAESTRO 2'!AF$26,'DATA MAESTRO 2'!AF$27,'DATA MAESTRO 2'!AF$28,'DATA MAESTRO 2'!AF$29,'DATA MAESTRO 2'!AF$30,'DATA MAESTRO 2'!AF$31,'DATA MAESTRO 2'!AF$32,'DATA MAESTRO 2'!AF$33,'DATA MAESTRO 2'!AF$34,'DATA MAESTRO 2'!AF$35,'DATA MAESTRO 2'!AF$36,'DATA MAESTRO 2'!AF$37,'DATA MAESTRO 2'!AF$38,'DATA MAESTRO 2'!AF$39,'DATA MAESTRO 2'!AF$40,)","v":0},{"$f":"CHOOSE($B19,'DATA MAESTRO 2'!AG$6,'DATA MAESTRO 2'!AG$7,'DATA MAESTRO 2'!AG$8,'DATA MAESTRO 2'!AG$9,'DATA MAESTRO 2'!AG$10,'DATA MAESTRO 2'!AG$11,'DATA MAESTRO 2'!AG$12,'DATA MAESTRO 2'!AG$13,'DATA MAESTRO 2'!AG$14,'DATA MAESTRO 2'!AG$15,'DATA MAESTRO 2'!AG$16,'DATA MAESTRO 2'!AG$17,'DATA MAESTRO 2'!AG$18,'DATA MAESTRO 2'!AG$19,'DATA MAESTRO 2'!AG$20,'DATA MAESTRO 2'!AG$21,'DATA MAESTRO 2'!AG$22,'DATA MAESTRO 2'!AG$23,'DATA MAESTRO 2'!AG$24,'DATA MAESTRO 2'!AG$25,'DATA MAESTRO 2'!AG$26,'DATA MAESTRO 2'!AG$27,'DATA MAESTRO 2'!AG$28,'DATA MAESTRO 2'!AG$29,'DATA MAESTRO 2'!AG$30,'DATA MAESTRO 2'!AG$31,'DATA MAESTRO 2'!AG$32,'DATA MAESTRO 2'!AG$33,'DATA MAESTRO 2'!AG$34,'DATA MAESTRO 2'!AG$35,'DATA MAESTRO 2'!AG$36,'DATA MAESTRO 2'!AG$37,'DATA MAESTRO 2'!AG$38,'DATA MAESTRO 2'!AG$39,'DATA MAESTRO 2'!AG$40,)","v":0},{"$f":"CHOOSE($B19,'DATA MAESTRO 2'!AH$6,'DATA MAESTRO 2'!AH$7,'DATA MAESTRO 2'!AH$8,'DATA MAESTRO 2'!AH$9,'DATA MAESTRO 2'!AH$10,'DATA MAESTRO 2'!AH$11,'DATA MAESTRO 2'!AH$12,'DATA MAESTRO 2'!AH$13,'DATA MAESTRO 2'!AH$14,'DATA MAESTRO 2'!AH$15,'DATA MAESTRO 2'!AH$16,'DATA MAESTRO 2'!AH$17,'DATA MAESTRO 2'!AH$18,'DATA MAESTRO 2'!AH$19,'DATA MAESTRO 2'!AH$20,'DATA MAESTRO 2'!AH$21,'DATA MAESTRO 2'!AH$22,'DATA MAESTRO 2'!AH$23,'DATA MAESTRO 2'!AH$24,'DATA MAESTRO 2'!AH$25,'DATA MAESTRO 2'!AH$26,'DATA MAESTRO 2'!AH$27,'DATA MAESTRO 2'!AH$28,'DATA MAESTRO 2'!AH$29,'DATA MAESTRO 2'!AH$30,'DATA MAESTRO 2'!AH$31,'DATA MAESTRO 2'!AH$32,'DATA MAESTRO 2'!AH$33,'DATA MAESTRO 2'!AH$34,'DATA MAESTRO 2'!AH$35,'DATA MAESTRO 2'!AH$36,'DATA MAESTRO 2'!AH$37,'DATA MAESTRO 2'!AH$38,'DATA MAESTRO 2'!AH$39,'DATA MAESTRO 2'!AH$40,)","v":0},{"$f":"CHOOSE($B19,'DATA MAESTRO 2'!AI$6,'DATA MAESTRO 2'!AI$7,'DATA MAESTRO 2'!AI$8,'DATA MAESTRO 2'!AI$9,'DATA MAESTRO 2'!AI$10,'DATA MAESTRO 2'!AI$11,'DATA MAESTRO 2'!AI$12,'DATA MAESTRO 2'!AI$13,'DATA MAESTRO 2'!AI$14,'DATA MAESTRO 2'!AI$15,'DATA MAESTRO 2'!AI$16,'DATA MAESTRO 2'!AI$17,'DATA MAESTRO 2'!AI$18,'DATA MAESTRO 2'!AI$19,'DATA MAESTRO 2'!AI$20,'DATA MAESTRO 2'!AI$21,'DATA MAESTRO 2'!AI$22,'DATA MAESTRO 2'!AI$23,'DATA MAESTRO 2'!AI$24,'DATA MAESTRO 2'!AI$25,'DATA MAESTRO 2'!AI$26,'DATA MAESTRO 2'!AI$27,'DATA MAESTRO 2'!AI$28,'DATA MAESTRO 2'!AI$29,'DATA MAESTRO 2'!AI$30,'DATA MAESTRO 2'!AI$31,'DATA MAESTRO 2'!AI$32,'DATA MAESTRO 2'!AI$33,'DATA MAESTRO 2'!AI$34,'DATA MAESTRO 2'!AI$35,'DATA MAESTRO 2'!AI$36,'DATA MAESTRO 2'!AI$37,'DATA MAESTRO 2'!AI$38,'DATA MAESTRO 2'!AI$39,'DATA MAESTRO 2'!AI$40,)","v":0},{"$f":"CHOOSE($B19,'DATA MAESTRO 2'!AJ$6,'DATA MAESTRO 2'!AJ$7,'DATA MAESTRO 2'!AJ$8,'DATA MAESTRO 2'!AJ$9,'DATA MAESTRO 2'!AJ$10,'DATA MAESTRO 2'!AJ$11,'DATA MAESTRO 2'!AJ$12,'DATA MAESTRO 2'!AJ$13,'DATA MAESTRO 2'!AJ$14,'DATA MAESTRO 2'!AJ$15,'DATA MAESTRO 2'!AJ$16,'DATA MAESTRO 2'!AJ$17,'DATA MAESTRO 2'!AJ$18,'DATA MAESTRO 2'!AJ$19,'DATA MAESTRO 2'!AJ$20,'DATA MAESTRO 2'!AJ$21,'DATA MAESTRO 2'!AJ$22,'DATA MAESTRO 2'!AJ$23,'DATA MAESTRO 2'!AJ$24,'DATA MAESTRO 2'!AJ$25,'DATA MAESTRO 2'!AJ$26,'DATA MAESTRO 2'!AJ$27,'DATA MAESTRO 2'!AJ$28,'DATA MAESTRO 2'!AJ$29,'DATA MAESTRO 2'!AJ$30,'DATA MAESTRO 2'!AJ$31,'DATA MAESTRO 2'!AJ$32,'DATA MAESTRO 2'!AJ$33,'DATA MAESTRO 2'!AJ$34,'DATA MAESTRO 2'!AJ$35,'DATA MAESTRO 2'!AJ$36,'DATA MAESTRO 2'!AJ$37,'DATA MAESTRO 2'!AJ$38,'DATA MAESTRO 2'!AJ$39,'DATA MAESTRO 2'!AJ$40,)","v":0}]
[18,36,{"$f":"+IF(AND(B20>=1,B20<=36),VLOOKUP(B20,'DATA MAESTRO 2'!$A$6:$B$40,2),0)","v":""},{"$f":"+CHOOSE($B20,'DATA MAESTRO 2'!C$6,'DATA MAESTRO 2'!C$7,'DATA MAESTRO 2'!C$8,'DATA MAESTRO 2'!C$9,'DATA MAESTRO 2'!C$10,'DATA MAESTRO 2'!C$11,'DATA MAESTRO 2'!C$12,'DATA MAESTRO 2'!C$13,'DATA MAESTRO 2'!C$14,'DATA MAESTRO 2'!C$15,'DATA MAESTRO 2'!C$16,'DATA MAESTRO 2'!C$17,'DATA MAESTRO 2'!C$18,'DATA MAESTRO 2'!C$19,'DATA MAESTRO 2'!C$20,'DATA MAESTRO 2'!C$21,'DATA MAESTRO 2'!C$22,'DATA MAESTRO 2'!C$23,'DATA MAESTRO 2'!C$24,'DATA MAESTRO 2'!C$25,'DATA MAESTRO 2'!C$26,'DATA MAESTRO 2'!C$27,'DATA MAESTRO 2'!C$28,'DATA MAESTRO 2'!C$29,'DATA MAESTRO 2'!C$30,'DATA MAESTRO 2'!C$31,'DATA MAESTRO 2'!C$32,'DATA MAESTRO 2'!C$33,'DATA MAESTRO 2'!C$34,'DATA MAESTRO 2'!C$35,'DATA MAESTRO 2'!C$36,'DATA MAESTRO 2'!C$37,'DATA MAESTRO 2'!C$38,'DATA MAESTRO 2'!C$39,'DATA MAESTRO 2'!C$40,)","v":0},{"$f":"CHOOSE($B20,'DATA MAESTRO 2'!D$6,'DATA MAESTRO 2'!D$7,'DATA MAESTRO 2'!D$8,'DATA MAESTRO 2'!D$9,'DATA MAESTRO 2'!D$10,'DATA MAESTRO 2'!D$11,'DATA MAESTRO 2'!D$12,'DATA MAESTRO 2'!D$13,'DATA MAESTRO 2'!D$14,'DATA MAESTRO 2'!D$15,'DATA MAESTRO 2'!D$16,'DATA MAESTRO 2'!D$17,'DATA MAESTRO 2'!D$18,'DATA MAESTRO 2'!D$19,'DATA MAESTRO 2'!D$20,'DATA MAESTRO 2'!D$21,'DATA MAESTRO 2'!D$22,'DATA MAESTRO 2'!D$23,'DATA MAESTRO 2'!D$24,'DATA MAESTRO 2'!D$25,'DATA MAESTRO 2'!D$26,'DATA MAESTRO 2'!D$27,'DATA MAESTRO 2'!D$28,'DATA MAESTRO 2'!D$29,'DATA MAESTRO 2'!D$30,'DATA MAESTRO 2'!D$31,'DATA MAESTRO 2'!D$32,'DATA MAESTRO 2'!D$33,'DATA MAESTRO 2'!D$34,'DATA MAESTRO 2'!D$35,'DATA MAESTRO 2'!D$36,'DATA MAESTRO 2'!D$37,'DATA MAESTRO 2'!D$38,'DATA MAESTRO 2'!D$39,'DATA MAESTRO 2'!D$40,)","v":0},{"$f":"CHOOSE(B20,'DATA MAESTRO 2'!E$6,'DATA MAESTRO 2'!E$7,'DATA MAESTRO 2'!E$8,'DATA MAESTRO 2'!E$9,'DATA MAESTRO 2'!E$10,'DATA MAESTRO 2'!E$11,'DATA MAESTRO 2'!E$12,'DATA MAESTRO 2'!E$13,'DATA MAESTRO 2'!E$14,'DATA MAESTRO 2'!E$15,'DATA MAESTRO 2'!E$16,'DATA MAESTRO 2'!E$17,'DATA MAESTRO 2'!E$18,'DATA MAESTRO 2'!E$19,'DATA MAESTRO 2'!E$20,'DATA MAESTRO 2'!E$21,'DATA MAESTRO 2'!E$22,'DATA MAESTRO 2'!E$23,'DATA MAESTRO 2'!E$24,'DATA MAESTRO 2'!E$25,'DATA MAESTRO 2'!E$26,'DATA MAESTRO 2'!E$27,'DATA MAESTRO 2'!E$28,'DATA MAESTRO 2'!E$29,'DATA MAESTRO 2'!E$30,'DATA MAESTRO 2'!E$31,'DATA MAESTRO 2'!E$32,'DATA MAESTRO 2'!E$33,'DATA MAESTRO 2'!E$34,'DATA MAESTRO 2'!E$35,'DATA MAESTRO 2'!E$36,'DATA MAESTRO 2'!E$37,'DATA MAESTRO 2'!E$38,'DATA MAESTRO 2'!E$39,'DATA MAESTRO 2'!E$40,)","v":0},{"$f":"CHOOSE($B20,'DATA MAESTRO 2'!F$6,'DATA MAESTRO 2'!F$7,'DATA MAESTRO 2'!F$8,'DATA MAESTRO 2'!F$9,'DATA MAESTRO 2'!F$10,'DATA MAESTRO 2'!F$11,'DATA MAESTRO 2'!F$12,'DATA MAESTRO 2'!F$13,'DATA MAESTRO 2'!F$14,'DATA MAESTRO 2'!F$15,'DATA MAESTRO 2'!F$16,'DATA MAESTRO 2'!F$17,'DATA MAESTRO 2'!F$18,'DATA MAESTRO 2'!F$19,'DATA MAESTRO 2'!F$20,'DATA MAESTRO 2'!F$21,'DATA MAESTRO 2'!F$22,'DATA MAESTRO 2'!F$23,'DATA MAESTRO 2'!F$24,'DATA MAESTRO 2'!F$25,'DATA MAESTRO 2'!F$26,'DATA MAESTRO 2'!F$27,'DATA MAESTRO 2'!F$28,'DATA MAESTRO 2'!F$29,'DATA MAESTRO 2'!F$30,'DATA MAESTRO 2'!F$31,'DATA MAESTRO 2'!F$32,'DATA MAESTRO 2'!F$33,'DATA MAESTRO 2'!F$34,'DATA MAESTRO 2'!F$35,'DATA MAESTRO 2'!F$36,'DATA MAESTRO 2'!F$37,'DATA MAESTRO 2'!F$38,'DATA MAESTRO 2'!F$39,'DATA MAESTRO 2'!F$40,)","v":0},{"$f":"CHOOSE($B20,'DATA MAESTRO 2'!G$6,'DATA MAESTRO 2'!G$7,'DATA MAESTRO 2'!G$8,'DATA MAESTRO 2'!G$9,'DATA MAESTRO 2'!G$10,'DATA MAESTRO 2'!G$11,'DATA MAESTRO 2'!G$12,'DATA MAESTRO 2'!G$13,'DATA MAESTRO 2'!G$14,'DATA MAESTRO 2'!G$15,'DATA MAESTRO 2'!G$16,'DATA MAESTRO 2'!G$17,'DATA MAESTRO 2'!G$18,'DATA MAESTRO 2'!G$19,'DATA MAESTRO 2'!G$20,'DATA MAESTRO 2'!G$21,'DATA MAESTRO 2'!G$22,'DATA MAESTRO 2'!G$23,'DATA MAESTRO 2'!G$24,'DATA MAESTRO 2'!G$25,'DATA MAESTRO 2'!G$26,'DATA MAESTRO 2'!G$27,'DATA MAESTRO 2'!G$28,'DATA MAESTRO 2'!G$29,'DATA MAESTRO 2'!G$30,'DATA MAESTRO 2'!G$31,'DATA MAESTRO 2'!G$32,'DATA MAESTRO 2'!G$33,'DATA MAESTRO 2'!G$34,'DATA MAESTRO 2'!G$35,'DATA MAESTRO 2'!G$36,'DATA MAESTRO 2'!G$37,'DATA MAESTRO 2'!G$38,'DATA MAESTRO 2'!G$39,'DATA MAESTRO 2'!G$40,)","v":0},{"$f":"CHOOSE($B20,'DATA MAESTRO 2'!H$6,'DATA MAESTRO 2'!H$7,'DATA MAESTRO 2'!H$8,'DATA MAESTRO 2'!H$9,'DATA MAESTRO 2'!H$10,'DATA MAESTRO 2'!H$11,'DATA MAESTRO 2'!H$12,'DATA MAESTRO 2'!H$13,'DATA MAESTRO 2'!H$14,'DATA MAESTRO 2'!H$15,'DATA MAESTRO 2'!H$16,'DATA MAESTRO 2'!H$17,'DATA MAESTRO 2'!H$18,'DATA MAESTRO 2'!H$19,'DATA MAESTRO 2'!H$20,'DATA MAESTRO 2'!H$21,'DATA MAESTRO 2'!H$22,'DATA MAESTRO 2'!H$23,'DATA MAESTRO 2'!H$24,'DATA MAESTRO 2'!H$25,'DATA MAESTRO 2'!H$26,'DATA MAESTRO 2'!H$27,'DATA MAESTRO 2'!H$28,'DATA MAESTRO 2'!H$29,'DATA MAESTRO 2'!H$30,'DATA MAESTRO 2'!H$31,'DATA MAESTRO 2'!H$32,'DATA MAESTRO 2'!H$33,'DATA MAESTRO 2'!H$34,'DATA MAESTRO 2'!H$35,'DATA MAESTRO 2'!H$36,'DATA MAESTRO 2'!H$37,'DATA MAESTRO 2'!H$38,'DATA MAESTRO 2'!H$39,'DATA MAESTRO 2'!H$40,)","v":0},{"$f":"CHOOSE($B20,'DATA MAESTRO 2'!I$6,'DATA MAESTRO 2'!I$7,'DATA MAESTRO 2'!I$8,'DATA MAESTRO 2'!I$9,'DATA MAESTRO 2'!I$10,'DATA MAESTRO 2'!I$11,'DATA MAESTRO 2'!I$12,'DATA MAESTRO 2'!I$13,'DATA MAESTRO 2'!I$14,'DATA MAESTRO 2'!I$15,'DATA MAESTRO 2'!I$16,'DATA MAESTRO 2'!I$17,'DATA MAESTRO 2'!I$18,'DATA MAESTRO 2'!I$19,'DATA MAESTRO 2'!I$20,'DATA MAESTRO 2'!I$21,'DATA MAESTRO 2'!I$22,'DATA MAESTRO 2'!I$23,'DATA MAESTRO 2'!I$24,'DATA MAESTRO 2'!I$25,'DATA MAESTRO 2'!I$26,'DATA MAESTRO 2'!I$27,'DATA MAESTRO 2'!I$28,'DATA MAESTRO 2'!I$29,'DATA MAESTRO 2'!I$30,'DATA MAESTRO 2'!I$31,'DATA MAESTRO 2'!I$32,'DATA MAESTRO 2'!I$33,'DATA MAESTRO 2'!I$34,'DATA MAESTRO 2'!I$35,'DATA MAESTRO 2'!I$36,'DATA MAESTRO 2'!I$37,'DATA MAESTRO 2'!I$38,'DATA MAESTRO 2'!I$39,'DATA MAESTRO 2'!I$40,)","v":0},{"$f":"CHOOSE($B20,'DATA MAESTRO 2'!J$6,'DATA MAESTRO 2'!J$7,'DATA MAESTRO 2'!J$8,'DATA MAESTRO 2'!J$9,'DATA MAESTRO 2'!J$10,'DATA MAESTRO 2'!J$11,'DATA MAESTRO 2'!J$12,'DATA MAESTRO 2'!J$13,'DATA MAESTRO 2'!J$14,'DATA MAESTRO 2'!J$15,'DATA MAESTRO 2'!J$16,'DATA MAESTRO 2'!J$17,'DATA MAESTRO 2'!J$18,'DATA MAESTRO 2'!J$19,'DATA MAESTRO 2'!J$20,'DATA MAESTRO 2'!J$21,'DATA MAESTRO 2'!J$22,'DATA MAESTRO 2'!J$23,'DATA MAESTRO 2'!J$24,'DATA MAESTRO 2'!J$25,'DATA MAESTRO 2'!J$26,'DATA MAESTRO 2'!J$27,'DATA MAESTRO 2'!J$28,'DATA MAESTRO 2'!J$29,'DATA MAESTRO 2'!J$30,'DATA MAESTRO 2'!J$31,'DATA MAESTRO 2'!J$32,'DATA MAESTRO 2'!J$33,'DATA MAESTRO 2'!J$34,'DATA MAESTRO 2'!J$35,'DATA MAESTRO 2'!J$36,'DATA MAESTRO 2'!J$37,'DATA MAESTRO 2'!J$38,'DATA MAESTRO 2'!J$39,'DATA MAESTRO 2'!J$40,)","v":0},{"$f":"CHOOSE($B20,'DATA MAESTRO 2'!K$6,'DATA MAESTRO 2'!K$7,'DATA MAESTRO 2'!K$8,'DATA MAESTRO 2'!K$9,'DATA MAESTRO 2'!K$10,'DATA MAESTRO 2'!K$11,'DATA MAESTRO 2'!K$12,'DATA MAESTRO 2'!K$13,'DATA MAESTRO 2'!K$14,'DATA MAESTRO 2'!K$15,'DATA MAESTRO 2'!K$16,'DATA MAESTRO 2'!K$17,'DATA MAESTRO 2'!K$18,'DATA MAESTRO 2'!K$19,'DATA MAESTRO 2'!K$20,'DATA MAESTRO 2'!K$21,'DATA MAESTRO 2'!K$22,'DATA MAESTRO 2'!K$23,'DATA MAESTRO 2'!K$24,'DATA MAESTRO 2'!K$25,'DATA MAESTRO 2'!K$26,'DATA MAESTRO 2'!K$27,'DATA MAESTRO 2'!K$28,'DATA MAESTRO 2'!K$29,'DATA MAESTRO 2'!K$30,'DATA MAESTRO 2'!K$31,'DATA MAESTRO 2'!K$32,'DATA MAESTRO 2'!K$33,'DATA MAESTRO 2'!K$34,'DATA MAESTRO 2'!K$35,'DATA MAESTRO 2'!K$36,'DATA MAESTRO 2'!K$37,'DATA MAESTRO 2'!K$38,'DATA MAESTRO 2'!K$39,'DATA MAESTRO 2'!K$40,)","v":0},{"$f":"CHOOSE($B20,'DATA MAESTRO 2'!L$6,'DATA MAESTRO 2'!L$7,'DATA MAESTRO 2'!L$8,'DATA MAESTRO 2'!L$9,'DATA MAESTRO 2'!L$10,'DATA MAESTRO 2'!L$11,'DATA MAESTRO 2'!L$12,'DATA MAESTRO 2'!L$13,'DATA MAESTRO 2'!L$14,'DATA MAESTRO 2'!L$15,'DATA MAESTRO 2'!L$16,'DATA MAESTRO 2'!L$17,'DATA MAESTRO 2'!L$18,'DATA MAESTRO 2'!L$19,'DATA MAESTRO 2'!L$20,'DATA MAESTRO 2'!L$21,'DATA MAESTRO 2'!L$22,'DATA MAESTRO 2'!L$23,'DATA MAESTRO 2'!L$24,'DATA MAESTRO 2'!L$25,'DATA MAESTRO 2'!L$26,'DATA MAESTRO 2'!L$27,'DATA MAESTRO 2'!L$28,'DATA MAESTRO 2'!L$29,'DATA MAESTRO 2'!L$30,'DATA MAESTRO 2'!L$31,'DATA MAESTRO 2'!L$32,'DATA MAESTRO 2'!L$33,'DATA MAESTRO 2'!L$34,'DATA MAESTRO 2'!L$35,'DATA MAESTRO 2'!L$36,'DATA MAESTRO 2'!L$37,'DATA MAESTRO 2'!L$38,'DATA MAESTRO 2'!L$39,'DATA MAESTRO 2'!L$40,)","v":0},{"$f":"CHOOSE($B20,'DATA MAESTRO 2'!M$6,'DATA MAESTRO 2'!M$7,'DATA MAESTRO 2'!M$8,'DATA MAESTRO 2'!M$9,'DATA MAESTRO 2'!M$10,'DATA MAESTRO 2'!M$11,'DATA MAESTRO 2'!M$12,'DATA MAESTRO 2'!M$13,'DATA MAESTRO 2'!M$14,'DATA MAESTRO 2'!M$15,'DATA MAESTRO 2'!M$16,'DATA MAESTRO 2'!M$17,'DATA MAESTRO 2'!M$18,'DATA MAESTRO 2'!M$19,'DATA MAESTRO 2'!M$20,'DATA MAESTRO 2'!M$21,'DATA MAESTRO 2'!M$22,'DATA MAESTRO 2'!M$23,'DATA MAESTRO 2'!M$24,'DATA MAESTRO 2'!M$25,'DATA MAESTRO 2'!M$26,'DATA MAESTRO 2'!M$27,'DATA MAESTRO 2'!M$28,'DATA MAESTRO 2'!M$29,'DATA MAESTRO 2'!M$30,'DATA MAESTRO 2'!M$31,'DATA MAESTRO 2'!M$32,'DATA MAESTRO 2'!M$33,'DATA MAESTRO 2'!M$34,'DATA MAESTRO 2'!M$35,'DATA MAESTRO 2'!M$36,'DATA MAESTRO 2'!M$37,'DATA MAESTRO 2'!M$38,'DATA MAESTRO 2'!M$39,'DATA MAESTRO 2'!M$40,)","v":0},{"$f":"CHOOSE($B20,'DATA MAESTRO 2'!N$6,'DATA MAESTRO 2'!N$7,'DATA MAESTRO 2'!N$8,'DATA MAESTRO 2'!N$9,'DATA MAESTRO 2'!N$10,'DATA MAESTRO 2'!N$11,'DATA MAESTRO 2'!N$12,'DATA MAESTRO 2'!N$13,'DATA MAESTRO 2'!N$14,'DATA MAESTRO 2'!N$15,'DATA MAESTRO 2'!N$16,'DATA MAESTRO 2'!N$17,'DATA MAESTRO 2'!N$18,'DATA MAESTRO 2'!N$19,'DATA MAESTRO 2'!N$20,'DATA MAESTRO 2'!N$21,'DATA MAESTRO 2'!N$22,'DATA MAESTRO 2'!N$23,'DATA MAESTRO 2'!N$24,'DATA MAESTRO 2'!N$25,'DATA MAESTRO 2'!N$26,'DATA MAESTRO 2'!N$27,'DATA MAESTRO 2'!N$28,'DATA MAESTRO 2'!N$29,'DATA MAESTRO 2'!N$30,'DATA MAESTRO 2'!N$31,'DATA MAESTRO 2'!N$32,'DATA MAESTRO 2'!N$33,'DATA MAESTRO 2'!N$34,'DATA MAESTRO 2'!N$35,'DATA MAESTRO 2'!N$36,'DATA MAESTRO 2'!N$37,'DATA MAESTRO 2'!N$38,'DATA MAESTRO 2'!N$39,'DATA MAESTRO 2'!N$40,)","v":0},{"$f":"CHOOSE($B20,'DATA MAESTRO 2'!O$6,'DATA MAESTRO 2'!O$7,'DATA MAESTRO 2'!O$8,'DATA MAESTRO 2'!O$9,'DATA MAESTRO 2'!O$10,'DATA MAESTRO 2'!O$11,'DATA MAESTRO 2'!O$12,'DATA MAESTRO 2'!O$13,'DATA MAESTRO 2'!O$14,'DATA MAESTRO 2'!O$15,'DATA MAESTRO 2'!O$16,'DATA MAESTRO 2'!O$17,'DATA MAESTRO 2'!O$18,'DATA MAESTRO 2'!O$19,'DATA MAESTRO 2'!O$20,'DATA MAESTRO 2'!O$21,'DATA MAESTRO 2'!O$22,'DATA MAESTRO 2'!O$23,'DATA MAESTRO 2'!O$24,'DATA MAESTRO 2'!O$25,'DATA MAESTRO 2'!O$26,'DATA MAESTRO 2'!O$27,'DATA MAESTRO 2'!O$28,'DATA MAESTRO 2'!O$29,'DATA MAESTRO 2'!O$30,'DATA MAESTRO 2'!O$31,'DATA MAESTRO 2'!O$32,'DATA MAESTRO 2'!O$33,'DATA MAESTRO 2'!O$34,'DATA MAESTRO 2'!O$35,'DATA MAESTRO 2'!O$36,'DATA MAESTRO 2'!O$37,'DATA MAESTRO 2'!O$38,'DATA MAESTRO 2'!O$39,'DATA MAESTRO 2'!O$40,)","v":0},{"$f":"CHOOSE($B20,'DATA MAESTRO 2'!P$6,'DATA MAESTRO 2'!P$7,'DATA MAESTRO 2'!P$8,'DATA MAESTRO 2'!P$9,'DATA MAESTRO 2'!P$10,'DATA MAESTRO 2'!P$11,'DATA MAESTRO 2'!P$12,'DATA MAESTRO 2'!P$13,'DATA MAESTRO 2'!P$14,'DATA MAESTRO 2'!P$15,'DATA MAESTRO 2'!P$16,'DATA MAESTRO 2'!P$17,'DATA MAESTRO 2'!P$18,'DATA MAESTRO 2'!P$19,'DATA MAESTRO 2'!P$20,'DATA MAESTRO 2'!P$21,'DATA MAESTRO 2'!P$22,'DATA MAESTRO 2'!P$23,'DATA MAESTRO 2'!P$24,'DATA MAESTRO 2'!P$25,'DATA MAESTRO 2'!P$26,'DATA MAESTRO 2'!P$27,'DATA MAESTRO 2'!P$28,'DATA MAESTRO 2'!P$29,'DATA MAESTRO 2'!P$30,'DATA MAESTRO 2'!P$31,'DATA MAESTRO 2'!P$32,'DATA MAESTRO 2'!P$33,'DATA MAESTRO 2'!P$34,'DATA MAESTRO 2'!P$35,'DATA MAESTRO 2'!P$36,'DATA MAESTRO 2'!P$37,'DATA MAESTRO 2'!P$38,'DATA MAESTRO 2'!P$39,'DATA MAESTRO 2'!P$40,)","v":0},{"$f":"CHOOSE($B20,'DATA MAESTRO 2'!Q$6,'DATA MAESTRO 2'!Q$7,'DATA MAESTRO 2'!Q$8,'DATA MAESTRO 2'!Q$9,'DATA MAESTRO 2'!Q$10,'DATA MAESTRO 2'!Q$11,'DATA MAESTRO 2'!Q$12,'DATA MAESTRO 2'!Q$13,'DATA MAESTRO 2'!Q$14,'DATA MAESTRO 2'!Q$15,'DATA MAESTRO 2'!Q$16,'DATA MAESTRO 2'!Q$17,'DATA MAESTRO 2'!Q$18,'DATA MAESTRO 2'!Q$19,'DATA MAESTRO 2'!Q$20,'DATA MAESTRO 2'!Q$21,'DATA MAESTRO 2'!Q$22,'DATA MAESTRO 2'!Q$23,'DATA MAESTRO 2'!Q$24,'DATA MAESTRO 2'!Q$25,'DATA MAESTRO 2'!Q$26,'DATA MAESTRO 2'!Q$27,'DATA MAESTRO 2'!Q$28,'DATA MAESTRO 2'!Q$29,'DATA MAESTRO 2'!Q$30,'DATA MAESTRO 2'!Q$31,'DATA MAESTRO 2'!Q$32,'DATA MAESTRO 2'!Q$33,'DATA MAESTRO 2'!Q$34,'DATA MAESTRO 2'!Q$35,'DATA MAESTRO 2'!Q$36,'DATA MAESTRO 2'!Q$37,'DATA MAESTRO 2'!Q$38,'DATA MAESTRO 2'!Q$39,'DATA MAESTRO 2'!Q$40,)","v":0},{"$f":"CHOOSE($B20,'DATA MAESTRO 2'!R$6,'DATA MAESTRO 2'!R$7,'DATA MAESTRO 2'!R$8,'DATA MAESTRO 2'!R$9,'DATA MAESTRO 2'!R$10,'DATA MAESTRO 2'!R$11,'DATA MAESTRO 2'!R$12,'DATA MAESTRO 2'!R$13,'DATA MAESTRO 2'!R$14,'DATA MAESTRO 2'!R$15,'DATA MAESTRO 2'!R$16,'DATA MAESTRO 2'!R$17,'DATA MAESTRO 2'!R$18,'DATA MAESTRO 2'!R$19,'DATA MAESTRO 2'!R$20,'DATA MAESTRO 2'!R$21,'DATA MAESTRO 2'!R$22,'DATA MAESTRO 2'!R$23,'DATA MAESTRO 2'!R$24,'DATA MAESTRO 2'!R$25,'DATA MAESTRO 2'!R$26,'DATA MAESTRO 2'!R$27,'DATA MAESTRO 2'!R$28,'DATA MAESTRO 2'!R$29,'DATA MAESTRO 2'!R$30,'DATA MAESTRO 2'!R$31,'DATA MAESTRO 2'!R$32,'DATA MAESTRO 2'!R$33,'DATA MAESTRO 2'!R$34,'DATA MAESTRO 2'!R$35,'DATA MAESTRO 2'!R$36,'DATA MAESTRO 2'!R$37,'DATA MAESTRO 2'!R$38,'DATA MAESTRO 2'!R$39,'DATA MAESTRO 2'!R$40,)","v":0},{"$f":"CHOOSE($B20,'DATA MAESTRO 2'!S$6,'DATA MAESTRO 2'!S$7,'DATA MAESTRO 2'!S$8,'DATA MAESTRO 2'!S$9,'DATA MAESTRO 2'!S$10,'DATA MAESTRO 2'!S$11,'DATA MAESTRO 2'!S$12,'DATA MAESTRO 2'!S$13,'DATA MAESTRO 2'!S$14,'DATA MAESTRO 2'!S$15,'DATA MAESTRO 2'!S$16,'DATA MAESTRO 2'!S$17,'DATA MAESTRO 2'!S$18,'DATA MAESTRO 2'!S$19,'DATA MAESTRO 2'!S$20,'DATA MAESTRO 2'!S$21,'DATA MAESTRO 2'!S$22,'DATA MAESTRO 2'!S$23,'DATA MAESTRO 2'!S$24,'DATA MAESTRO 2'!S$25,'DATA MAESTRO 2'!S$26,'DATA MAESTRO 2'!S$27,'DATA MAESTRO 2'!S$28,'DATA MAESTRO 2'!S$29,'DATA MAESTRO 2'!S$30,'DATA MAESTRO 2'!S$31,'DATA MAESTRO 2'!S$32,'DATA MAESTRO 2'!S$33,'DATA MAESTRO 2'!S$34,'DATA MAESTRO 2'!S$35,'DATA MAESTRO 2'!S$36,'DATA MAESTRO 2'!S$37,'DATA MAESTRO 2'!S$38,'DATA MAESTRO 2'!S$39,'DATA MAESTRO 2'!S$40,)","v":0},{"$f":"CHOOSE($B20,'DATA MAESTRO 2'!T$6,'DATA MAESTRO 2'!T$7,'DATA MAESTRO 2'!T$8,'DATA MAESTRO 2'!T$9,'DATA MAESTRO 2'!T$10,'DATA MAESTRO 2'!T$11,'DATA MAESTRO 2'!T$12,'DATA MAESTRO 2'!T$13,'DATA MAESTRO 2'!T$14,'DATA MAESTRO 2'!T$15,'DATA MAESTRO 2'!T$16,'DATA MAESTRO 2'!T$17,'DATA MAESTRO 2'!T$18,'DATA MAESTRO 2'!T$19,'DATA MAESTRO 2'!T$20,'DATA MAESTRO 2'!T$21,'DATA MAESTRO 2'!T$22,'DATA MAESTRO 2'!T$23,'DATA MAESTRO 2'!T$24,'DATA MAESTRO 2'!T$25,'DATA MAESTRO 2'!T$26,'DATA MAESTRO 2'!T$27,'DATA MAESTRO 2'!T$28,'DATA MAESTRO 2'!T$29,'DATA MAESTRO 2'!T$30,'DATA MAESTRO 2'!T$31,'DATA MAESTRO 2'!T$32,'DATA MAESTRO 2'!T$33,'DATA MAESTRO 2'!T$34,'DATA MAESTRO 2'!T$35,'DATA MAESTRO 2'!T$36,'DATA MAESTRO 2'!T$37,'DATA MAESTRO 2'!T$38,'DATA MAESTRO 2'!T$39,'DATA MAESTRO 2'!T$40,)","v":0},{"$f":"CHOOSE($B20,'DATA MAESTRO 2'!U$6,'DATA MAESTRO 2'!U$7,'DATA MAESTRO 2'!U$8,'DATA MAESTRO 2'!U$9,'DATA MAESTRO 2'!U$10,'DATA MAESTRO 2'!U$11,'DATA MAESTRO 2'!U$12,'DATA MAESTRO 2'!U$13,'DATA MAESTRO 2'!U$14,'DATA MAESTRO 2'!U$15,'DATA MAESTRO 2'!U$16,'DATA MAESTRO 2'!U$17,'DATA MAESTRO 2'!U$18,'DATA MAESTRO 2'!U$19,'DATA MAESTRO 2'!U$20,'DATA MAESTRO 2'!U$21,'DATA MAESTRO 2'!U$22,'DATA MAESTRO 2'!U$23,'DATA MAESTRO 2'!U$24,'DATA MAESTRO 2'!U$25,'DATA MAESTRO 2'!U$26,'DATA MAESTRO 2'!U$27,'DATA MAESTRO 2'!U$28,'DATA MAESTRO 2'!U$29,'DATA MAESTRO 2'!U$30,'DATA MAESTRO 2'!U$31,'DATA MAESTRO 2'!U$32,'DATA MAESTRO 2'!U$33,'DATA MAESTRO 2'!U$34,'DATA MAESTRO 2'!U$35,'DATA MAESTRO 2'!U$36,'DATA MAESTRO 2'!U$37,'DATA MAESTRO 2'!U$38,'DATA MAESTRO 2'!U$39,'DATA MAESTRO 2'!U$40,)","v":0},{"$f":"CHOOSE($B20,'DATA MAESTRO 2'!V$6,'DATA MAESTRO 2'!V$7,'DATA MAESTRO 2'!V$8,'DATA MAESTRO 2'!V$9,'DATA MAESTRO 2'!V$10,'DATA MAESTRO 2'!V$11,'DATA MAESTRO 2'!V$12,'DATA MAESTRO 2'!V$13,'DATA MAESTRO 2'!V$14,'DATA MAESTRO 2'!V$15,'DATA MAESTRO 2'!V$16,'DATA MAESTRO 2'!V$17,'DATA MAESTRO 2'!V$18,'DATA MAESTRO 2'!V$19,'DATA MAESTRO 2'!V$20,'DATA MAESTRO 2'!V$21,'DATA MAESTRO 2'!V$22,'DATA MAESTRO 2'!V$23,'DATA MAESTRO 2'!V$24,'DATA MAESTRO 2'!V$25,'DATA MAESTRO 2'!V$26,'DATA MAESTRO 2'!V$27,'DATA MAESTRO 2'!V$28,'DATA MAESTRO 2'!V$29,'DATA MAESTRO 2'!V$30,'DATA MAESTRO 2'!V$31,'DATA MAESTRO 2'!V$32,'DATA MAESTRO 2'!V$33,'DATA MAESTRO 2'!V$34,'DATA MAESTRO 2'!V$35,'DATA MAESTRO 2'!V$36,'DATA MAESTRO 2'!V$37,'DATA MAESTRO 2'!V$38,'DATA MAESTRO 2'!V$39,'DATA MAESTRO 2'!V$40,)","v":0},{"$f":"CHOOSE($B20,'DATA MAESTRO 2'!W$6,'DATA MAESTRO 2'!W$7,'DATA MAESTRO 2'!W$8,'DATA MAESTRO 2'!W$9,'DATA MAESTRO 2'!W$10,'DATA MAESTRO 2'!W$11,'DATA MAESTRO 2'!W$12,'DATA MAESTRO 2'!W$13,'DATA MAESTRO 2'!W$14,'DATA MAESTRO 2'!W$15,'DATA MAESTRO 2'!W$16,'DATA MAESTRO 2'!W$17,'DATA MAESTRO 2'!W$18,'DATA MAESTRO 2'!W$19,'DATA MAESTRO 2'!W$20,'DATA MAESTRO 2'!W$21,'DATA MAESTRO 2'!W$22,'DATA MAESTRO 2'!W$23,'DATA MAESTRO 2'!W$24,'DATA MAESTRO 2'!W$25,'DATA MAESTRO 2'!W$26,'DATA MAESTRO 2'!W$27,'DATA MAESTRO 2'!W$28,'DATA MAESTRO 2'!W$29,'DATA MAESTRO 2'!W$30,'DATA MAESTRO 2'!W$31,'DATA MAESTRO 2'!W$32,'DATA MAESTRO 2'!W$33,'DATA MAESTRO 2'!W$34,'DATA MAESTRO 2'!W$35,'DATA MAESTRO 2'!W$36,'DATA MAESTRO 2'!W$37,'DATA MAESTRO 2'!W$38,'DATA MAESTRO 2'!W$39,'DATA MAESTRO 2'!W$40,)","v":0},{"$f":"CHOOSE($B20,'DATA MAESTRO 2'!X$6,'DATA MAESTRO 2'!X$7,'DATA MAESTRO 2'!X$8,'DATA MAESTRO 2'!X$9,'DATA MAESTRO 2'!X$10,'DATA MAESTRO 2'!X$11,'DATA MAESTRO 2'!X$12,'DATA MAESTRO 2'!X$13,'DATA MAESTRO 2'!X$14,'DATA MAESTRO 2'!X$15,'DATA MAESTRO 2'!X$16,'DATA MAESTRO 2'!X$17,'DATA MAESTRO 2'!X$18,'DATA MAESTRO 2'!X$19,'DATA MAESTRO 2'!X$20,'DATA MAESTRO 2'!X$21,'DATA MAESTRO 2'!X$22,'DATA MAESTRO 2'!X$23,'DATA MAESTRO 2'!X$24,'DATA MAESTRO 2'!X$25,'DATA MAESTRO 2'!X$26,'DATA MAESTRO 2'!X$27,'DATA MAESTRO 2'!X$28,'DATA MAESTRO 2'!X$29,'DATA MAESTRO 2'!X$30,'DATA MAESTRO 2'!X$31,'DATA MAESTRO 2'!X$32,'DATA MAESTRO 2'!X$33,'DATA MAESTRO 2'!X$34,'DATA MAESTRO 2'!X$35,'DATA MAESTRO 2'!X$36,'DATA MAESTRO 2'!X$37,'DATA MAESTRO 2'!X$38,'DATA MAESTRO 2'!X$39,'DATA MAESTRO 2'!X$40,)","v":0},{"$f":"CHOOSE($B20,'DATA MAESTRO 2'!Y$6,'DATA MAESTRO 2'!Y$7,'DATA MAESTRO 2'!Y$8,'DATA MAESTRO 2'!Y$9,'DATA MAESTRO 2'!Y$10,'DATA MAESTRO 2'!Y$11,'DATA MAESTRO 2'!Y$12,'DATA MAESTRO 2'!Y$13,'DATA MAESTRO 2'!Y$14,'DATA MAESTRO 2'!Y$15,'DATA MAESTRO 2'!Y$16,'DATA MAESTRO 2'!Y$17,'DATA MAESTRO 2'!Y$18,'DATA MAESTRO 2'!Y$19,'DATA MAESTRO 2'!Y$20,'DATA MAESTRO 2'!Y$21,'DATA MAESTRO 2'!Y$22,'DATA MAESTRO 2'!Y$23,'DATA MAESTRO 2'!Y$24,'DATA MAESTRO 2'!Y$25,'DATA MAESTRO 2'!Y$26,'DATA MAESTRO 2'!Y$27,'DATA MAESTRO 2'!Y$28,'DATA MAESTRO 2'!Y$29,'DATA MAESTRO 2'!Y$30,'DATA MAESTRO 2'!Y$31,'DATA MAESTRO 2'!Y$32,'DATA MAESTRO 2'!Y$33,'DATA MAESTRO 2'!Y$34,'DATA MAESTRO 2'!Y$35,'DATA MAESTRO 2'!Y$36,'DATA MAESTRO 2'!Y$37,'DATA MAESTRO 2'!Y$38,'DATA MAESTRO 2'!Y$39,'DATA MAESTRO 2'!Y$40,)","v":0},{"$f":"CHOOSE($B20,'DATA MAESTRO 2'!Z$6,'DATA MAESTRO 2'!Z$7,'DATA MAESTRO 2'!Z$8,'DATA MAESTRO 2'!Z$9,'DATA MAESTRO 2'!Z$10,'DATA MAESTRO 2'!Z$11,'DATA MAESTRO 2'!Z$12,'DATA MAESTRO 2'!Z$13,'DATA MAESTRO 2'!Z$14,'DATA MAESTRO 2'!Z$15,'DATA MAESTRO 2'!Z$16,'DATA MAESTRO 2'!Z$17,'DATA MAESTRO 2'!Z$18,'DATA MAESTRO 2'!Z$19,'DATA MAESTRO 2'!Z$20,'DATA MAESTRO 2'!Z$21,'DATA MAESTRO 2'!Z$22,'DATA MAESTRO 2'!Z$23,'DATA MAESTRO 2'!Z$24,'DATA MAESTRO 2'!Z$25,'DATA MAESTRO 2'!Z$26,'DATA MAESTRO 2'!Z$27,'DATA MAESTRO 2'!Z$28,'DATA MAESTRO 2'!Z$29,'DATA MAESTRO 2'!Z$30,'DATA MAESTRO 2'!Z$31,'DATA MAESTRO 2'!Z$32,'DATA MAESTRO 2'!Z$33,'DATA MAESTRO 2'!Z$34,'DATA MAESTRO 2'!Z$35,'DATA MAESTRO 2'!Z$36,'DATA MAESTRO 2'!Z$37,'DATA MAESTRO 2'!Z$38,'DATA MAESTRO 2'!Z$39,'DATA MAESTRO 2'!Z$40,)","v":0},{"$f":"CHOOSE($B20,'DATA MAESTRO 2'!AA$6,'DATA MAESTRO 2'!AA$7,'DATA MAESTRO 2'!AA$8,'DATA MAESTRO 2'!AA$9,'DATA MAESTRO 2'!AA$10,'DATA MAESTRO 2'!AA$11,'DATA MAESTRO 2'!AA$12,'DATA MAESTRO 2'!AA$13,'DATA MAESTRO 2'!AA$14,'DATA MAESTRO 2'!AA$15,'DATA MAESTRO 2'!AA$16,'DATA MAESTRO 2'!AA$17,'DATA MAESTRO 2'!AA$18,'DATA MAESTRO 2'!AA$19,'DATA MAESTRO 2'!AA$20,'DATA MAESTRO 2'!AA$21,'DATA MAESTRO 2'!AA$22,'DATA MAESTRO 2'!AA$23,'DATA MAESTRO 2'!AA$24,'DATA MAESTRO 2'!AA$25,'DATA MAESTRO 2'!AA$26,'DATA MAESTRO 2'!AA$27,'DATA MAESTRO 2'!AA$28,'DATA MAESTRO 2'!AA$29,'DATA MAESTRO 2'!AA$30,'DATA MAESTRO 2'!AA$31,'DATA MAESTRO 2'!AA$32,'DATA MAESTRO 2'!AA$33,'DATA MAESTRO 2'!AA$34,'DATA MAESTRO 2'!AA$35,'DATA MAESTRO 2'!AA$36,'DATA MAESTRO 2'!AA$37,'DATA MAESTRO 2'!AA$38,'DATA MAESTRO 2'!AA$39,'DATA MAESTRO 2'!AA$40,)","v":0},{"$f":"CHOOSE($B20,'DATA MAESTRO 2'!AB$6,'DATA MAESTRO 2'!AB$7,'DATA MAESTRO 2'!AB$8,'DATA MAESTRO 2'!AB$9,'DATA MAESTRO 2'!AB$10,'DATA MAESTRO 2'!AB$11,'DATA MAESTRO 2'!AB$12,'DATA MAESTRO 2'!AB$13,'DATA MAESTRO 2'!AB$14,'DATA MAESTRO 2'!AB$15,'DATA MAESTRO 2'!AB$16,'DATA MAESTRO 2'!AB$17,'DATA MAESTRO 2'!AB$18,'DATA MAESTRO 2'!AB$19,'DATA MAESTRO 2'!AB$20,'DATA MAESTRO 2'!AB$21,'DATA MAESTRO 2'!AB$22,'DATA MAESTRO 2'!AB$23,'DATA MAESTRO 2'!AB$24,'DATA MAESTRO 2'!AB$25,'DATA MAESTRO 2'!AB$26,'DATA MAESTRO 2'!AB$27,'DATA MAESTRO 2'!AB$28,'DATA MAESTRO 2'!AB$29,'DATA MAESTRO 2'!AB$30,'DATA MAESTRO 2'!AB$31,'DATA MAESTRO 2'!AB$32,'DATA MAESTRO 2'!AB$33,'DATA MAESTRO 2'!AB$34,'DATA MAESTRO 2'!AB$35,'DATA MAESTRO 2'!AB$36,'DATA MAESTRO 2'!AB$37,'DATA MAESTRO 2'!AB$38,'DATA MAESTRO 2'!AB$39,'DATA MAESTRO 2'!AB$40,)","v":0},{"$f":"CHOOSE($B20,'DATA MAESTRO 2'!AC$6,'DATA MAESTRO 2'!AC$7,'DATA MAESTRO 2'!AC$8,'DATA MAESTRO 2'!AC$9,'DATA MAESTRO 2'!AC$10,'DATA MAESTRO 2'!AC$11,'DATA MAESTRO 2'!AC$12,'DATA MAESTRO 2'!AC$13,'DATA MAESTRO 2'!AC$14,'DATA MAESTRO 2'!AC$15,'DATA MAESTRO 2'!AC$16,'DATA MAESTRO 2'!AC$17,'DATA MAESTRO 2'!AC$18,'DATA MAESTRO 2'!AC$19,'DATA MAESTRO 2'!AC$20,'DATA MAESTRO 2'!AC$21,'DATA MAESTRO 2'!AC$22,'DATA MAESTRO 2'!AC$23,'DATA MAESTRO 2'!AC$24,'DATA MAESTRO 2'!AC$25,'DATA MAESTRO 2'!AC$26,'DATA MAESTRO 2'!AC$27,'DATA MAESTRO 2'!AC$28,'DATA MAESTRO 2'!AC$29,'DATA MAESTRO 2'!AC$30,'DATA MAESTRO 2'!AC$31,'DATA MAESTRO 2'!AC$32,'DATA MAESTRO 2'!AC$33,'DATA MAESTRO 2'!AC$34,'DATA MAESTRO 2'!AC$35,'DATA MAESTRO 2'!AC$36,'DATA MAESTRO 2'!AC$37,'DATA MAESTRO 2'!AC$38,'DATA MAESTRO 2'!AC$39,'DATA MAESTRO 2'!AC$40,)","v":0},{"$f":"CHOOSE($B20,'DATA MAESTRO 2'!AD$6,'DATA MAESTRO 2'!AD$7,'DATA MAESTRO 2'!AD$8,'DATA MAESTRO 2'!AD$9,'DATA MAESTRO 2'!AD$10,'DATA MAESTRO 2'!AD$11,'DATA MAESTRO 2'!AD$12,'DATA MAESTRO 2'!AD$13,'DATA MAESTRO 2'!AD$14,'DATA MAESTRO 2'!AD$15,'DATA MAESTRO 2'!AD$16,'DATA MAESTRO 2'!AD$17,'DATA MAESTRO 2'!AD$18,'DATA MAESTRO 2'!AD$19,'DATA MAESTRO 2'!AD$20,'DATA MAESTRO 2'!AD$21,'DATA MAESTRO 2'!AD$22,'DATA MAESTRO 2'!AD$23,'DATA MAESTRO 2'!AD$24,'DATA MAESTRO 2'!AD$25,'DATA MAESTRO 2'!AD$26,'DATA MAESTRO 2'!AD$27,'DATA MAESTRO 2'!AD$28,'DATA MAESTRO 2'!AD$29,'DATA MAESTRO 2'!AD$30,'DATA MAESTRO 2'!AD$31,'DATA MAESTRO 2'!AD$32,'DATA MAESTRO 2'!AD$33,'DATA MAESTRO 2'!AD$34,'DATA MAESTRO 2'!AD$35,'DATA MAESTRO 2'!AD$36,'DATA MAESTRO 2'!AD$37,'DATA MAESTRO 2'!AD$38,'DATA MAESTRO 2'!AD$39,'DATA MAESTRO 2'!AD$40,)","v":0},{"$f":"CHOOSE($B20,'DATA MAESTRO 2'!AE$6,'DATA MAESTRO 2'!AE$7,'DATA MAESTRO 2'!AE$8,'DATA MAESTRO 2'!AE$9,'DATA MAESTRO 2'!AE$10,'DATA MAESTRO 2'!AE$11,'DATA MAESTRO 2'!AE$12,'DATA MAESTRO 2'!AE$13,'DATA MAESTRO 2'!AE$14,'DATA MAESTRO 2'!AE$15,'DATA MAESTRO 2'!AE$16,'DATA MAESTRO 2'!AE$17,'DATA MAESTRO 2'!AE$18,'DATA MAESTRO 2'!AE$19,'DATA MAESTRO 2'!AE$20,'DATA MAESTRO 2'!AE$21,'DATA MAESTRO 2'!AE$22,'DATA MAESTRO 2'!AE$23,'DATA MAESTRO 2'!AE$24,'DATA MAESTRO 2'!AE$25,'DATA MAESTRO 2'!AE$26,'DATA MAESTRO 2'!AE$27,'DATA MAESTRO 2'!AE$28,'DATA MAESTRO 2'!AE$29,'DATA MAESTRO 2'!AE$30,'DATA MAESTRO 2'!AE$31,'DATA MAESTRO 2'!AE$32,'DATA MAESTRO 2'!AE$33,'DATA MAESTRO 2'!AE$34,'DATA MAESTRO 2'!AE$35,'DATA MAESTRO 2'!AE$36,'DATA MAESTRO 2'!AE$37,'DATA MAESTRO 2'!AE$38,'DATA MAESTRO 2'!AE$39,'DATA MAESTRO 2'!AE$40,)","v":0},{"$f":"CHOOSE($B20,'DATA MAESTRO 2'!AF$6,'DATA MAESTRO 2'!AF$7,'DATA MAESTRO 2'!AF$8,'DATA MAESTRO 2'!AF$9,'DATA MAESTRO 2'!AF$10,'DATA MAESTRO 2'!AF$11,'DATA MAESTRO 2'!AF$12,'DATA MAESTRO 2'!AF$13,'DATA MAESTRO 2'!AF$14,'DATA MAESTRO 2'!AF$15,'DATA MAESTRO 2'!AF$16,'DATA MAESTRO 2'!AF$17,'DATA MAESTRO 2'!AF$18,'DATA MAESTRO 2'!AF$19,'DATA MAESTRO 2'!AF$20,'DATA MAESTRO 2'!AF$21,'DATA MAESTRO 2'!AF$22,'DATA MAESTRO 2'!AF$23,'DATA MAESTRO 2'!AF$24,'DATA MAESTRO 2'!AF$25,'DATA MAESTRO 2'!AF$26,'DATA MAESTRO 2'!AF$27,'DATA MAESTRO 2'!AF$28,'DATA MAESTRO 2'!AF$29,'DATA MAESTRO 2'!AF$30,'DATA MAESTRO 2'!AF$31,'DATA MAESTRO 2'!AF$32,'DATA MAESTRO 2'!AF$33,'DATA MAESTRO 2'!AF$34,'DATA MAESTRO 2'!AF$35,'DATA MAESTRO 2'!AF$36,'DATA MAESTRO 2'!AF$37,'DATA MAESTRO 2'!AF$38,'DATA MAESTRO 2'!AF$39,'DATA MAESTRO 2'!AF$40,)","v":0},{"$f":"CHOOSE($B20,'DATA MAESTRO 2'!AG$6,'DATA MAESTRO 2'!AG$7,'DATA MAESTRO 2'!AG$8,'DATA MAESTRO 2'!AG$9,'DATA MAESTRO 2'!AG$10,'DATA MAESTRO 2'!AG$11,'DATA MAESTRO 2'!AG$12,'DATA MAESTRO 2'!AG$13,'DATA MAESTRO 2'!AG$14,'DATA MAESTRO 2'!AG$15,'DATA MAESTRO 2'!AG$16,'DATA MAESTRO 2'!AG$17,'DATA MAESTRO 2'!AG$18,'DATA MAESTRO 2'!AG$19,'DATA MAESTRO 2'!AG$20,'DATA MAESTRO 2'!AG$21,'DATA MAESTRO 2'!AG$22,'DATA MAESTRO 2'!AG$23,'DATA MAESTRO 2'!AG$24,'DATA MAESTRO 2'!AG$25,'DATA MAESTRO 2'!AG$26,'DATA MAESTRO 2'!AG$27,'DATA MAESTRO 2'!AG$28,'DATA MAESTRO 2'!AG$29,'DATA MAESTRO 2'!AG$30,'DATA MAESTRO 2'!AG$31,'DATA MAESTRO 2'!AG$32,'DATA MAESTRO 2'!AG$33,'DATA MAESTRO 2'!AG$34,'DATA MAESTRO 2'!AG$35,'DATA MAESTRO 2'!AG$36,'DATA MAESTRO 2'!AG$37,'DATA MAESTRO 2'!AG$38,'DATA MAESTRO 2'!AG$39,'DATA MAESTRO 2'!AG$40,)","v":0},{"$f":"CHOOSE($B20,'DATA MAESTRO 2'!AH$6,'DATA MAESTRO 2'!AH$7,'DATA MAESTRO 2'!AH$8,'DATA MAESTRO 2'!AH$9,'DATA MAESTRO 2'!AH$10,'DATA MAESTRO 2'!AH$11,'DATA MAESTRO 2'!AH$12,'DATA MAESTRO 2'!AH$13,'DATA MAESTRO 2'!AH$14,'DATA MAESTRO 2'!AH$15,'DATA MAESTRO 2'!AH$16,'DATA MAESTRO 2'!AH$17,'DATA MAESTRO 2'!AH$18,'DATA MAESTRO 2'!AH$19,'DATA MAESTRO 2'!AH$20,'DATA MAESTRO 2'!AH$21,'DATA MAESTRO 2'!AH$22,'DATA MAESTRO 2'!AH$23,'DATA MAESTRO 2'!AH$24,'DATA MAESTRO 2'!AH$25,'DATA MAESTRO 2'!AH$26,'DATA MAESTRO 2'!AH$27,'DATA MAESTRO 2'!AH$28,'DATA MAESTRO 2'!AH$29,'DATA MAESTRO 2'!AH$30,'DATA MAESTRO 2'!AH$31,'DATA MAESTRO 2'!AH$32,'DATA MAESTRO 2'!AH$33,'DATA MAESTRO 2'!AH$34,'DATA MAESTRO 2'!AH$35,'DATA MAESTRO 2'!AH$36,'DATA MAESTRO 2'!AH$37,'DATA MAESTRO 2'!AH$38,'DATA MAESTRO 2'!AH$39,'DATA MAESTRO 2'!AH$40,)","v":0},{"$f":"CHOOSE($B20,'DATA MAESTRO 2'!AI$6,'DATA MAESTRO 2'!AI$7,'DATA MAESTRO 2'!AI$8,'DATA MAESTRO 2'!AI$9,'DATA MAESTRO 2'!AI$10,'DATA MAESTRO 2'!AI$11,'DATA MAESTRO 2'!AI$12,'DATA MAESTRO 2'!AI$13,'DATA MAESTRO 2'!AI$14,'DATA MAESTRO 2'!AI$15,'DATA MAESTRO 2'!AI$16,'DATA MAESTRO 2'!AI$17,'DATA MAESTRO 2'!AI$18,'DATA MAESTRO 2'!AI$19,'DATA MAESTRO 2'!AI$20,'DATA MAESTRO 2'!AI$21,'DATA MAESTRO 2'!AI$22,'DATA MAESTRO 2'!AI$23,'DATA MAESTRO 2'!AI$24,'DATA MAESTRO 2'!AI$25,'DATA MAESTRO 2'!AI$26,'DATA MAESTRO 2'!AI$27,'DATA MAESTRO 2'!AI$28,'DATA MAESTRO 2'!AI$29,'DATA MAESTRO 2'!AI$30,'DATA MAESTRO 2'!AI$31,'DATA MAESTRO 2'!AI$32,'DATA MAESTRO 2'!AI$33,'DATA MAESTRO 2'!AI$34,'DATA MAESTRO 2'!AI$35,'DATA MAESTRO 2'!AI$36,'DATA MAESTRO 2'!AI$37,'DATA MAESTRO 2'!AI$38,'DATA MAESTRO 2'!AI$39,'DATA MAESTRO 2'!AI$40,)","v":0},{"$f":"CHOOSE($B20,'DATA MAESTRO 2'!AJ$6,'DATA MAESTRO 2'!AJ$7,'DATA MAESTRO 2'!AJ$8,'DATA MAESTRO 2'!AJ$9,'DATA MAESTRO 2'!AJ$10,'DATA MAESTRO 2'!AJ$11,'DATA MAESTRO 2'!AJ$12,'DATA MAESTRO 2'!AJ$13,'DATA MAESTRO 2'!AJ$14,'DATA MAESTRO 2'!AJ$15,'DATA MAESTRO 2'!AJ$16,'DATA MAESTRO 2'!AJ$17,'DATA MAESTRO 2'!AJ$18,'DATA MAESTRO 2'!AJ$19,'DATA MAESTRO 2'!AJ$20,'DATA MAESTRO 2'!AJ$21,'DATA MAESTRO 2'!AJ$22,'DATA MAESTRO 2'!AJ$23,'DATA MAESTRO 2'!AJ$24,'DATA MAESTRO 2'!AJ$25,'DATA MAESTRO 2'!AJ$26,'DATA MAESTRO 2'!AJ$27,'DATA MAESTRO 2'!AJ$28,'DATA MAESTRO 2'!AJ$29,'DATA MAESTRO 2'!AJ$30,'DATA MAESTRO 2'!AJ$31,'DATA MAESTRO 2'!AJ$32,'DATA MAESTRO 2'!AJ$33,'DATA MAESTRO 2'!AJ$34,'DATA MAESTRO 2'!AJ$35,'DATA MAESTRO 2'!AJ$36,'DATA MAESTRO 2'!AJ$37,'DATA MAESTRO 2'!AJ$38,'DATA MAESTRO 2'!AJ$39,'DATA MAESTRO 2'!AJ$40,)","v":0}]
[19,36,{"$f":"+IF(AND(B21>=1,B21<=36),VLOOKUP(B21,'DATA MAESTRO 2'!$A$6:$B$40,2),0)","v":""},{"$f":"+CHOOSE($B21,'DATA MAESTRO 2'!C$6,'DATA MAESTRO 2'!C$7,'DATA MAESTRO 2'!C$8,'DATA MAESTRO 2'!C$9,'DATA MAESTRO 2'!C$10,'DATA MAESTRO 2'!C$11,'DATA MAESTRO 2'!C$12,'DATA MAESTRO 2'!C$13,'DATA MAESTRO 2'!C$14,'DATA MAESTRO 2'!C$15,'DATA MAESTRO 2'!C$16,'DATA MAESTRO 2'!C$17,'DATA MAESTRO 2'!C$18,'DATA MAESTRO 2'!C$19,'DATA MAESTRO 2'!C$20,'DATA MAESTRO 2'!C$21,'DATA MAESTRO 2'!C$22,'DATA MAESTRO 2'!C$23,'DATA MAESTRO 2'!C$24,'DATA MAESTRO 2'!C$25,'DATA MAESTRO 2'!C$26,'DATA MAESTRO 2'!C$27,'DATA MAESTRO 2'!C$28,'DATA MAESTRO 2'!C$29,'DATA MAESTRO 2'!C$30,'DATA MAESTRO 2'!C$31,'DATA MAESTRO 2'!C$32,'DATA MAESTRO 2'!C$33,'DATA MAESTRO 2'!C$34,'DATA MAESTRO 2'!C$35,'DATA MAESTRO 2'!C$36,'DATA MAESTRO 2'!C$37,'DATA MAESTRO 2'!C$38,'DATA MAESTRO 2'!C$39,'DATA MAESTRO 2'!C$40,)","v":0},{"$f":"CHOOSE($B21,'DATA MAESTRO 2'!D$6,'DATA MAESTRO 2'!D$7,'DATA MAESTRO 2'!D$8,'DATA MAESTRO 2'!D$9,'DATA MAESTRO 2'!D$10,'DATA MAESTRO 2'!D$11,'DATA MAESTRO 2'!D$12,'DATA MAESTRO 2'!D$13,'DATA MAESTRO 2'!D$14,'DATA MAESTRO 2'!D$15,'DATA MAESTRO 2'!D$16,'DATA MAESTRO 2'!D$17,'DATA MAESTRO 2'!D$18,'DATA MAESTRO 2'!D$19,'DATA MAESTRO 2'!D$20,'DATA MAESTRO 2'!D$21,'DATA MAESTRO 2'!D$22,'DATA MAESTRO 2'!D$23,'DATA MAESTRO 2'!D$24,'DATA MAESTRO 2'!D$25,'DATA MAESTRO 2'!D$26,'DATA MAESTRO 2'!D$27,'DATA MAESTRO 2'!D$28,'DATA MAESTRO 2'!D$29,'DATA MAESTRO 2'!D$30,'DATA MAESTRO 2'!D$31,'DATA MAESTRO 2'!D$32,'DATA MAESTRO 2'!D$33,'DATA MAESTRO 2'!D$34,'DATA MAESTRO 2'!D$35,'DATA MAESTRO 2'!D$36,'DATA MAESTRO 2'!D$37,'DATA MAESTRO 2'!D$38,'DATA MAESTRO 2'!D$39,'DATA MAESTRO 2'!D$40,)","v":0},{"$f":"CHOOSE(B21,'DATA MAESTRO 2'!E$6,'DATA MAESTRO 2'!E$7,'DATA MAESTRO 2'!E$8,'DATA MAESTRO 2'!E$9,'DATA MAESTRO 2'!E$10,'DATA MAESTRO 2'!E$11,'DATA MAESTRO 2'!E$12,'DATA MAESTRO 2'!E$13,'DATA MAESTRO 2'!E$14,'DATA MAESTRO 2'!E$15,'DATA MAESTRO 2'!E$16,'DATA MAESTRO 2'!E$17,'DATA MAESTRO 2'!E$18,'DATA MAESTRO 2'!E$19,'DATA MAESTRO 2'!E$20,'DATA MAESTRO 2'!E$21,'DATA MAESTRO 2'!E$22,'DATA MAESTRO 2'!E$23,'DATA MAESTRO 2'!E$24,'DATA MAESTRO 2'!E$25,'DATA MAESTRO 2'!E$26,'DATA MAESTRO 2'!E$27,'DATA MAESTRO 2'!E$28,'DATA MAESTRO 2'!E$29,'DATA MAESTRO 2'!E$30,'DATA MAESTRO 2'!E$31,'DATA MAESTRO 2'!E$32,'DATA MAESTRO 2'!E$33,'DATA MAESTRO 2'!E$34,'DATA MAESTRO 2'!E$35,'DATA MAESTRO 2'!E$36,'DATA MAESTRO 2'!E$37,'DATA MAESTRO 2'!E$38,'DATA MAESTRO 2'!E$39,'DATA MAESTRO 2'!E$40,)","v":0},{"$f":"CHOOSE($B21,'DATA MAESTRO 2'!F$6,'DATA MAESTRO 2'!F$7,'DATA MAESTRO 2'!F$8,'DATA MAESTRO 2'!F$9,'DATA MAESTRO 2'!F$10,'DATA MAESTRO 2'!F$11,'DATA MAESTRO 2'!F$12,'DATA MAESTRO 2'!F$13,'DATA MAESTRO 2'!F$14,'DATA MAESTRO 2'!F$15,'DATA MAESTRO 2'!F$16,'DATA MAESTRO 2'!F$17,'DATA MAESTRO 2'!F$18,'DATA MAESTRO 2'!F$19,'DATA MAESTRO 2'!F$20,'DATA MAESTRO 2'!F$21,'DATA MAESTRO 2'!F$22,'DATA MAESTRO 2'!F$23,'DATA MAESTRO 2'!F$24,'DATA MAESTRO 2'!F$25,'DATA MAESTRO 2'!F$26,'DATA MAESTRO 2'!F$27,'DATA MAESTRO 2'!F$28,'DATA MAESTRO 2'!F$29,'DATA MAESTRO 2'!F$30,'DATA MAESTRO 2'!F$31,'DATA MAESTRO 2'!F$32,'DATA MAESTRO 2'!F$33,'DATA MAESTRO 2'!F$34,'DATA MAESTRO 2'!F$35,'DATA MAESTRO 2'!F$36,'DATA MAESTRO 2'!F$37,'DATA MAESTRO 2'!F$38,'DATA MAESTRO 2'!F$39,'DATA MAESTRO 2'!F$40,)","v":0},{"$f":"CHOOSE($B21,'DATA MAESTRO 2'!G$6,'DATA MAESTRO 2'!G$7,'DATA MAESTRO 2'!G$8,'DATA MAESTRO 2'!G$9,'DATA MAESTRO 2'!G$10,'DATA MAESTRO 2'!G$11,'DATA MAESTRO 2'!G$12,'DATA MAESTRO 2'!G$13,'DATA MAESTRO 2'!G$14,'DATA MAESTRO 2'!G$15,'DATA MAESTRO 2'!G$16,'DATA MAESTRO 2'!G$17,'DATA MAESTRO 2'!G$18,'DATA MAESTRO 2'!G$19,'DATA MAESTRO 2'!G$20,'DATA MAESTRO 2'!G$21,'DATA MAESTRO 2'!G$22,'DATA MAESTRO 2'!G$23,'DATA MAESTRO 2'!G$24,'DATA MAESTRO 2'!G$25,'DATA MAESTRO 2'!G$26,'DATA MAESTRO 2'!G$27,'DATA MAESTRO 2'!G$28,'DATA MAESTRO 2'!G$29,'DATA MAESTRO 2'!G$30,'DATA MAESTRO 2'!G$31,'DATA MAESTRO 2'!G$32,'DATA MAESTRO 2'!G$33,'DATA MAESTRO 2'!G$34,'DATA MAESTRO 2'!G$35,'DATA MAESTRO 2'!G$36,'DATA MAESTRO 2'!G$37,'DATA MAESTRO 2'!G$38,'DATA MAESTRO 2'!G$39,'DATA MAESTRO 2'!G$40,)","v":0},{"$f":"CHOOSE($B21,'DATA MAESTRO 2'!H$6,'DATA MAESTRO 2'!H$7,'DATA MAESTRO 2'!H$8,'DATA MAESTRO 2'!H$9,'DATA MAESTRO 2'!H$10,'DATA MAESTRO 2'!H$11,'DATA MAESTRO 2'!H$12,'DATA MAESTRO 2'!H$13,'DATA MAESTRO 2'!H$14,'DATA MAESTRO 2'!H$15,'DATA MAESTRO 2'!H$16,'DATA MAESTRO 2'!H$17,'DATA MAESTRO 2'!H$18,'DATA MAESTRO 2'!H$19,'DATA MAESTRO 2'!H$20,'DATA MAESTRO 2'!H$21,'DATA MAESTRO 2'!H$22,'DATA MAESTRO 2'!H$23,'DATA MAESTRO 2'!H$24,'DATA MAESTRO 2'!H$25,'DATA MAESTRO 2'!H$26,'DATA MAESTRO 2'!H$27,'DATA MAESTRO 2'!H$28,'DATA MAESTRO 2'!H$29,'DATA MAESTRO 2'!H$30,'DATA MAESTRO 2'!H$31,'DATA MAESTRO 2'!H$32,'DATA MAESTRO 2'!H$33,'DATA MAESTRO 2'!H$34,'DATA MAESTRO 2'!H$35,'DATA MAESTRO 2'!H$36,'DATA MAESTRO 2'!H$37,'DATA MAESTRO 2'!H$38,'DATA MAESTRO 2'!H$39,'DATA MAESTRO 2'!H$40,)","v":0},{"$f":"CHOOSE($B21,'DATA MAESTRO 2'!I$6,'DATA MAESTRO 2'!I$7,'DATA MAESTRO 2'!I$8,'DATA MAESTRO 2'!I$9,'DATA MAESTRO 2'!I$10,'DATA MAESTRO 2'!I$11,'DATA MAESTRO 2'!I$12,'DATA MAESTRO 2'!I$13,'DATA MAESTRO 2'!I$14,'DATA MAESTRO 2'!I$15,'DATA MAESTRO 2'!I$16,'DATA MAESTRO 2'!I$17,'DATA MAESTRO 2'!I$18,'DATA MAESTRO 2'!I$19,'DATA MAESTRO 2'!I$20,'DATA MAESTRO 2'!I$21,'DATA MAESTRO 2'!I$22,'DATA MAESTRO 2'!I$23,'DATA MAESTRO 2'!I$24,'DATA MAESTRO 2'!I$25,'DATA MAESTRO 2'!I$26,'DATA MAESTRO 2'!I$27,'DATA MAESTRO 2'!I$28,'DATA MAESTRO 2'!I$29,'DATA MAESTRO 2'!I$30,'DATA MAESTRO 2'!I$31,'DATA MAESTRO 2'!I$32,'DATA MAESTRO 2'!I$33,'DATA MAESTRO 2'!I$34,'DATA MAESTRO 2'!I$35,'DATA MAESTRO 2'!I$36,'DATA MAESTRO 2'!I$37,'DATA MAESTRO 2'!I$38,'DATA MAESTRO 2'!I$39,'DATA MAESTRO 2'!I$40,)","v":0},{"$f":"CHOOSE($B21,'DATA MAESTRO 2'!J$6,'DATA MAESTRO 2'!J$7,'DATA MAESTRO 2'!J$8,'DATA MAESTRO 2'!J$9,'DATA MAESTRO 2'!J$10,'DATA MAESTRO 2'!J$11,'DATA MAESTRO 2'!J$12,'DATA MAESTRO 2'!J$13,'DATA MAESTRO 2'!J$14,'DATA MAESTRO 2'!J$15,'DATA MAESTRO 2'!J$16,'DATA MAESTRO 2'!J$17,'DATA MAESTRO 2'!J$18,'DATA MAESTRO 2'!J$19,'DATA MAESTRO 2'!J$20,'DATA MAESTRO 2'!J$21,'DATA MAESTRO 2'!J$22,'DATA MAESTRO 2'!J$23,'DATA MAESTRO 2'!J$24,'DATA MAESTRO 2'!J$25,'DATA MAESTRO 2'!J$26,'DATA MAESTRO 2'!J$27,'DATA MAESTRO 2'!J$28,'DATA MAESTRO 2'!J$29,'DATA MAESTRO 2'!J$30,'DATA MAESTRO 2'!J$31,'DATA MAESTRO 2'!J$32,'DATA MAESTRO 2'!J$33,'DATA MAESTRO 2'!J$34,'DATA MAESTRO 2'!J$35,'DATA MAESTRO 2'!J$36,'DATA MAESTRO 2'!J$37,'DATA MAESTRO 2'!J$38,'DATA MAESTRO 2'!J$39,'DATA MAESTRO 2'!J$40,)","v":0},{"$f":"CHOOSE($B21,'DATA MAESTRO 2'!K$6,'DATA MAESTRO 2'!K$7,'DATA MAESTRO 2'!K$8,'DATA MAESTRO 2'!K$9,'DATA MAESTRO 2'!K$10,'DATA MAESTRO 2'!K$11,'DATA MAESTRO 2'!K$12,'DATA MAESTRO 2'!K$13,'DATA MAESTRO 2'!K$14,'DATA MAESTRO 2'!K$15,'DATA MAESTRO 2'!K$16,'DATA MAESTRO 2'!K$17,'DATA MAESTRO 2'!K$18,'DATA MAESTRO 2'!K$19,'DATA MAESTRO 2'!K$20,'DATA MAESTRO 2'!K$21,'DATA MAESTRO 2'!K$22,'DATA MAESTRO 2'!K$23,'DATA MAESTRO 2'!K$24,'DATA MAESTRO 2'!K$25,'DATA MAESTRO 2'!K$26,'DATA MAESTRO 2'!K$27,'DATA MAESTRO 2'!K$28,'DATA MAESTRO 2'!K$29,'DATA MAESTRO 2'!K$30,'DATA MAESTRO 2'!K$31,'DATA MAESTRO 2'!K$32,'DATA MAESTRO 2'!K$33,'DATA MAESTRO 2'!K$34,'DATA MAESTRO 2'!K$35,'DATA MAESTRO 2'!K$36,'DATA MAESTRO 2'!K$37,'DATA MAESTRO 2'!K$38,'DATA MAESTRO 2'!K$39,'DATA MAESTRO 2'!K$40,)","v":0},{"$f":"CHOOSE($B21,'DATA MAESTRO 2'!L$6,'DATA MAESTRO 2'!L$7,'DATA MAESTRO 2'!L$8,'DATA MAESTRO 2'!L$9,'DATA MAESTRO 2'!L$10,'DATA MAESTRO 2'!L$11,'DATA MAESTRO 2'!L$12,'DATA MAESTRO 2'!L$13,'DATA MAESTRO 2'!L$14,'DATA MAESTRO 2'!L$15,'DATA MAESTRO 2'!L$16,'DATA MAESTRO 2'!L$17,'DATA MAESTRO 2'!L$18,'DATA MAESTRO 2'!L$19,'DATA MAESTRO 2'!L$20,'DATA MAESTRO 2'!L$21,'DATA MAESTRO 2'!L$22,'DATA MAESTRO 2'!L$23,'DATA MAESTRO 2'!L$24,'DATA MAESTRO 2'!L$25,'DATA MAESTRO 2'!L$26,'DATA MAESTRO 2'!L$27,'DATA MAESTRO 2'!L$28,'DATA MAESTRO 2'!L$29,'DATA MAESTRO 2'!L$30,'DATA MAESTRO 2'!L$31,'DATA MAESTRO 2'!L$32,'DATA MAESTRO 2'!L$33,'DATA MAESTRO 2'!L$34,'DATA MAESTRO 2'!L$35,'DATA MAESTRO 2'!L$36,'DATA MAESTRO 2'!L$37,'DATA MAESTRO 2'!L$38,'DATA MAESTRO 2'!L$39,'DATA MAESTRO 2'!L$40,)","v":0},{"$f":"CHOOSE($B21,'DATA MAESTRO 2'!M$6,'DATA MAESTRO 2'!M$7,'DATA MAESTRO 2'!M$8,'DATA MAESTRO 2'!M$9,'DATA MAESTRO 2'!M$10,'DATA MAESTRO 2'!M$11,'DATA MAESTRO 2'!M$12,'DATA MAESTRO 2'!M$13,'DATA MAESTRO 2'!M$14,'DATA MAESTRO 2'!M$15,'DATA MAESTRO 2'!M$16,'DATA MAESTRO 2'!M$17,'DATA MAESTRO 2'!M$18,'DATA MAESTRO 2'!M$19,'DATA MAESTRO 2'!M$20,'DATA MAESTRO 2'!M$21,'DATA MAESTRO 2'!M$22,'DATA MAESTRO 2'!M$23,'DATA MAESTRO 2'!M$24,'DATA MAESTRO 2'!M$25,'DATA MAESTRO 2'!M$26,'DATA MAESTRO 2'!M$27,'DATA MAESTRO 2'!M$28,'DATA MAESTRO 2'!M$29,'DATA MAESTRO 2'!M$30,'DATA MAESTRO 2'!M$31,'DATA MAESTRO 2'!M$32,'DATA MAESTRO 2'!M$33,'DATA MAESTRO 2'!M$34,'DATA MAESTRO 2'!M$35,'DATA MAESTRO 2'!M$36,'DATA MAESTRO 2'!M$37,'DATA MAESTRO 2'!M$38,'DATA MAESTRO 2'!M$39,'DATA MAESTRO 2'!M$40,)","v":0},{"$f":"CHOOSE($B21,'DATA MAESTRO 2'!N$6,'DATA MAESTRO 2'!N$7,'DATA MAESTRO 2'!N$8,'DATA MAESTRO 2'!N$9,'DATA MAESTRO 2'!N$10,'DATA MAESTRO 2'!N$11,'DATA MAESTRO 2'!N$12,'DATA MAESTRO 2'!N$13,'DATA MAESTRO 2'!N$14,'DATA MAESTRO 2'!N$15,'DATA MAESTRO 2'!N$16,'DATA MAESTRO 2'!N$17,'DATA MAESTRO 2'!N$18,'DATA MAESTRO 2'!N$19,'DATA MAESTRO 2'!N$20,'DATA MAESTRO 2'!N$21,'DATA MAESTRO 2'!N$22,'DATA MAESTRO 2'!N$23,'DATA MAESTRO 2'!N$24,'DATA MAESTRO 2'!N$25,'DATA MAESTRO 2'!N$26,'DATA MAESTRO 2'!N$27,'DATA MAESTRO 2'!N$28,'DATA MAESTRO 2'!N$29,'DATA MAESTRO 2'!N$30,'DATA MAESTRO 2'!N$31,'DATA MAESTRO 2'!N$32,'DATA MAESTRO 2'!N$33,'DATA MAESTRO 2'!N$34,'DATA MAESTRO 2'!N$35,'DATA MAESTRO 2'!N$36,'DATA MAESTRO 2'!N$37,'DATA MAESTRO 2'!N$38,'DATA MAESTRO 2'!N$39,'DATA MAESTRO 2'!N$40,)","v":0},{"$f":"CHOOSE($B21,'DATA MAESTRO 2'!O$6,'DATA MAESTRO 2'!O$7,'DATA MAESTRO 2'!O$8,'DATA MAESTRO 2'!O$9,'DATA MAESTRO 2'!O$10,'DATA MAESTRO 2'!O$11,'DATA MAESTRO 2'!O$12,'DATA MAESTRO 2'!O$13,'DATA MAESTRO 2'!O$14,'DATA MAESTRO 2'!O$15,'DATA MAESTRO 2'!O$16,'DATA MAESTRO 2'!O$17,'DATA MAESTRO 2'!O$18,'DATA MAESTRO 2'!O$19,'DATA MAESTRO 2'!O$20,'DATA MAESTRO 2'!O$21,'DATA MAESTRO 2'!O$22,'DATA MAESTRO 2'!O$23,'DATA MAESTRO 2'!O$24,'DATA MAESTRO 2'!O$25,'DATA MAESTRO 2'!O$26,'DATA MAESTRO 2'!O$27,'DATA MAESTRO 2'!O$28,'DATA MAESTRO 2'!O$29,'DATA MAESTRO 2'!O$30,'DATA MAESTRO 2'!O$31,'DATA MAESTRO 2'!O$32,'DATA MAESTRO 2'!O$33,'DATA MAESTRO 2'!O$34,'DATA MAESTRO 2'!O$35,'DATA MAESTRO 2'!O$36,'DATA MAESTRO 2'!O$37,'DATA MAESTRO 2'!O$38,'DATA MAESTRO 2'!O$39,'DATA MAESTRO 2'!O$40,)","v":0},{"$f":"CHOOSE($B21,'DATA MAESTRO 2'!P$6,'DATA MAESTRO 2'!P$7,'DATA MAESTRO 2'!P$8,'DATA MAESTRO 2'!P$9,'DATA MAESTRO 2'!P$10,'DATA MAESTRO 2'!P$11,'DATA MAESTRO 2'!P$12,'DATA MAESTRO 2'!P$13,'DATA MAESTRO 2'!P$14,'DATA MAESTRO 2'!P$15,'DATA MAESTRO 2'!P$16,'DATA MAESTRO 2'!P$17,'DATA MAESTRO 2'!P$18,'DATA MAESTRO 2'!P$19,'DATA MAESTRO 2'!P$20,'DATA MAESTRO 2'!P$21,'DATA MAESTRO 2'!P$22,'DATA MAESTRO 2'!P$23,'DATA MAESTRO 2'!P$24,'DATA MAESTRO 2'!P$25,'DATA MAESTRO 2'!P$26,'DATA MAESTRO 2'!P$27,'DATA MAESTRO 2'!P$28,'DATA MAESTRO 2'!P$29,'DATA MAESTRO 2'!P$30,'DATA MAESTRO 2'!P$31,'DATA MAESTRO 2'!P$32,'DATA MAESTRO 2'!P$33,'DATA MAESTRO 2'!P$34,'DATA MAESTRO 2'!P$35,'DATA MAESTRO 2'!P$36,'DATA MAESTRO 2'!P$37,'DATA MAESTRO 2'!P$38,'DATA MAESTRO 2'!P$39,'DATA MAESTRO 2'!P$40,)","v":0},{"$f":"CHOOSE($B21,'DATA MAESTRO 2'!Q$6,'DATA MAESTRO 2'!Q$7,'DATA MAESTRO 2'!Q$8,'DATA MAESTRO 2'!Q$9,'DATA MAESTRO 2'!Q$10,'DATA MAESTRO 2'!Q$11,'DATA MAESTRO 2'!Q$12,'DATA MAESTRO 2'!Q$13,'DATA MAESTRO 2'!Q$14,'DATA MAESTRO 2'!Q$15,'DATA MAESTRO 2'!Q$16,'DATA MAESTRO 2'!Q$17,'DATA MAESTRO 2'!Q$18,'DATA MAESTRO 2'!Q$19,'DATA MAESTRO 2'!Q$20,'DATA MAESTRO 2'!Q$21,'DATA MAESTRO 2'!Q$22,'DATA MAESTRO 2'!Q$23,'DATA MAESTRO 2'!Q$24,'DATA MAESTRO 2'!Q$25,'DATA MAESTRO 2'!Q$26,'DATA MAESTRO 2'!Q$27,'DATA MAESTRO 2'!Q$28,'DATA MAESTRO 2'!Q$29,'DATA MAESTRO 2'!Q$30,'DATA MAESTRO 2'!Q$31,'DATA MAESTRO 2'!Q$32,'DATA MAESTRO 2'!Q$33,'DATA MAESTRO 2'!Q$34,'DATA MAESTRO 2'!Q$35,'DATA MAESTRO 2'!Q$36,'DATA MAESTRO 2'!Q$37,'DATA MAESTRO 2'!Q$38,'DATA MAESTRO 2'!Q$39,'DATA MAESTRO 2'!Q$40,)","v":0},{"$f":"CHOOSE($B21,'DATA MAESTRO 2'!R$6,'DATA MAESTRO 2'!R$7,'DATA MAESTRO 2'!R$8,'DATA MAESTRO 2'!R$9,'DATA MAESTRO 2'!R$10,'DATA MAESTRO 2'!R$11,'DATA MAESTRO 2'!R$12,'DATA MAESTRO 2'!R$13,'DATA MAESTRO 2'!R$14,'DATA MAESTRO 2'!R$15,'DATA MAESTRO 2'!R$16,'DATA MAESTRO 2'!R$17,'DATA MAESTRO 2'!R$18,'DATA MAESTRO 2'!R$19,'DATA MAESTRO 2'!R$20,'DATA MAESTRO 2'!R$21,'DATA MAESTRO 2'!R$22,'DATA MAESTRO 2'!R$23,'DATA MAESTRO 2'!R$24,'DATA MAESTRO 2'!R$25,'DATA MAESTRO 2'!R$26,'DATA MAESTRO 2'!R$27,'DATA MAESTRO 2'!R$28,'DATA MAESTRO 2'!R$29,'DATA MAESTRO 2'!R$30,'DATA MAESTRO 2'!R$31,'DATA MAESTRO 2'!R$32,'DATA MAESTRO 2'!R$33,'DATA MAESTRO 2'!R$34,'DATA MAESTRO 2'!R$35,'DATA MAESTRO 2'!R$36,'DATA MAESTRO 2'!R$37,'DATA MAESTRO 2'!R$38,'DATA MAESTRO 2'!R$39,'DATA MAESTRO 2'!R$40,)","v":0},{"$f":"CHOOSE($B21,'DATA MAESTRO 2'!S$6,'DATA MAESTRO 2'!S$7,'DATA MAESTRO 2'!S$8,'DATA MAESTRO 2'!S$9,'DATA MAESTRO 2'!S$10,'DATA MAESTRO 2'!S$11,'DATA MAESTRO 2'!S$12,'DATA MAESTRO 2'!S$13,'DATA MAESTRO 2'!S$14,'DATA MAESTRO 2'!S$15,'DATA MAESTRO 2'!S$16,'DATA MAESTRO 2'!S$17,'DATA MAESTRO 2'!S$18,'DATA MAESTRO 2'!S$19,'DATA MAESTRO 2'!S$20,'DATA MAESTRO 2'!S$21,'DATA MAESTRO 2'!S$22,'DATA MAESTRO 2'!S$23,'DATA MAESTRO 2'!S$24,'DATA MAESTRO 2'!S$25,'DATA MAESTRO 2'!S$26,'DATA MAESTRO 2'!S$27,'DATA MAESTRO 2'!S$28,'DATA MAESTRO 2'!S$29,'DATA MAESTRO 2'!S$30,'DATA MAESTRO 2'!S$31,'DATA MAESTRO 2'!S$32,'DATA MAESTRO 2'!S$33,'DATA MAESTRO 2'!S$34,'DATA MAESTRO 2'!S$35,'DATA MAESTRO 2'!S$36,'DATA MAESTRO 2'!S$37,'DATA MAESTRO 2'!S$38,'DATA MAESTRO 2'!S$39,'DATA MAESTRO 2'!S$40,)","v":0},{"$f":"CHOOSE($B21,'DATA MAESTRO 2'!T$6,'DATA MAESTRO 2'!T$7,'DATA MAESTRO 2'!T$8,'DATA MAESTRO 2'!T$9,'DATA MAESTRO 2'!T$10,'DATA MAESTRO 2'!T$11,'DATA MAESTRO 2'!T$12,'DATA MAESTRO 2'!T$13,'DATA MAESTRO 2'!T$14,'DATA MAESTRO 2'!T$15,'DATA MAESTRO 2'!T$16,'DATA MAESTRO 2'!T$17,'DATA MAESTRO 2'!T$18,'DATA MAESTRO 2'!T$19,'DATA MAESTRO 2'!T$20,'DATA MAESTRO 2'!T$21,'DATA MAESTRO 2'!T$22,'DATA MAESTRO 2'!T$23,'DATA MAESTRO 2'!T$24,'DATA MAESTRO 2'!T$25,'DATA MAESTRO 2'!T$26,'DATA MAESTRO 2'!T$27,'DATA MAESTRO 2'!T$28,'DATA MAESTRO 2'!T$29,'DATA MAESTRO 2'!T$30,'DATA MAESTRO 2'!T$31,'DATA MAESTRO 2'!T$32,'DATA MAESTRO 2'!T$33,'DATA MAESTRO 2'!T$34,'DATA MAESTRO 2'!T$35,'DATA MAESTRO 2'!T$36,'DATA MAESTRO 2'!T$37,'DATA MAESTRO 2'!T$38,'DATA MAESTRO 2'!T$39,'DATA MAESTRO 2'!T$40,)","v":0},{"$f":"CHOOSE($B21,'DATA MAESTRO 2'!U$6,'DATA MAESTRO 2'!U$7,'DATA MAESTRO 2'!U$8,'DATA MAESTRO 2'!U$9,'DATA MAESTRO 2'!U$10,'DATA MAESTRO 2'!U$11,'DATA MAESTRO 2'!U$12,'DATA MAESTRO 2'!U$13,'DATA MAESTRO 2'!U$14,'DATA MAESTRO 2'!U$15,'DATA MAESTRO 2'!U$16,'DATA MAESTRO 2'!U$17,'DATA MAESTRO 2'!U$18,'DATA MAESTRO 2'!U$19,'DATA MAESTRO 2'!U$20,'DATA MAESTRO 2'!U$21,'DATA MAESTRO 2'!U$22,'DATA MAESTRO 2'!U$23,'DATA MAESTRO 2'!U$24,'DATA MAESTRO 2'!U$25,'DATA MAESTRO 2'!U$26,'DATA MAESTRO 2'!U$27,'DATA MAESTRO 2'!U$28,'DATA MAESTRO 2'!U$29,'DATA MAESTRO 2'!U$30,'DATA MAESTRO 2'!U$31,'DATA MAESTRO 2'!U$32,'DATA MAESTRO 2'!U$33,'DATA MAESTRO 2'!U$34,'DATA MAESTRO 2'!U$35,'DATA MAESTRO 2'!U$36,'DATA MAESTRO 2'!U$37,'DATA MAESTRO 2'!U$38,'DATA MAESTRO 2'!U$39,'DATA MAESTRO 2'!U$40,)","v":0},{"$f":"CHOOSE($B21,'DATA MAESTRO 2'!V$6,'DATA MAESTRO 2'!V$7,'DATA MAESTRO 2'!V$8,'DATA MAESTRO 2'!V$9,'DATA MAESTRO 2'!V$10,'DATA MAESTRO 2'!V$11,'DATA MAESTRO 2'!V$12,'DATA MAESTRO 2'!V$13,'DATA MAESTRO 2'!V$14,'DATA MAESTRO 2'!V$15,'DATA MAESTRO 2'!V$16,'DATA MAESTRO 2'!V$17,'DATA MAESTRO 2'!V$18,'DATA MAESTRO 2'!V$19,'DATA MAESTRO 2'!V$20,'DATA MAESTRO 2'!V$21,'DATA MAESTRO 2'!V$22,'DATA MAESTRO 2'!V$23,'DATA MAESTRO 2'!V$24,'DATA MAESTRO 2'!V$25,'DATA MAESTRO 2'!V$26,'DATA MAESTRO 2'!V$27,'DATA MAESTRO 2'!V$28,'DATA MAESTRO 2'!V$29,'DATA MAESTRO 2'!V$30,'DATA MAESTRO 2'!V$31,'DATA MAESTRO 2'!V$32,'DATA MAESTRO 2'!V$33,'DATA MAESTRO 2'!V$34,'DATA MAESTRO 2'!V$35,'DATA MAESTRO 2'!V$36,'DATA MAESTRO 2'!V$37,'DATA MAESTRO 2'!V$38,'DATA MAESTRO 2'!V$39,'DATA MAESTRO 2'!V$40,)","v":0},{"$f":"CHOOSE($B21,'DATA MAESTRO 2'!W$6,'DATA MAESTRO 2'!W$7,'DATA MAESTRO 2'!W$8,'DATA MAESTRO 2'!W$9,'DATA MAESTRO 2'!W$10,'DATA MAESTRO 2'!W$11,'DATA MAESTRO 2'!W$12,'DATA MAESTRO 2'!W$13,'DATA MAESTRO 2'!W$14,'DATA MAESTRO 2'!W$15,'DATA MAESTRO 2'!W$16,'DATA MAESTRO 2'!W$17,'DATA MAESTRO 2'!W$18,'DATA MAESTRO 2'!W$19,'DATA MAESTRO 2'!W$20,'DATA MAESTRO 2'!W$21,'DATA MAESTRO 2'!W$22,'DATA MAESTRO 2'!W$23,'DATA MAESTRO 2'!W$24,'DATA MAESTRO 2'!W$25,'DATA MAESTRO 2'!W$26,'DATA MAESTRO 2'!W$27,'DATA MAESTRO 2'!W$28,'DATA MAESTRO 2'!W$29,'DATA MAESTRO 2'!W$30,'DATA MAESTRO 2'!W$31,'DATA MAESTRO 2'!W$32,'DATA MAESTRO 2'!W$33,'DATA MAESTRO 2'!W$34,'DATA MAESTRO 2'!W$35,'DATA MAESTRO 2'!W$36,'DATA MAESTRO 2'!W$37,'DATA MAESTRO 2'!W$38,'DATA MAESTRO 2'!W$39,'DATA MAESTRO 2'!W$40,)","v":0},{"$f":"CHOOSE($B21,'DATA MAESTRO 2'!X$6,'DATA MAESTRO 2'!X$7,'DATA MAESTRO 2'!X$8,'DATA MAESTRO 2'!X$9,'DATA MAESTRO 2'!X$10,'DATA MAESTRO 2'!X$11,'DATA MAESTRO 2'!X$12,'DATA MAESTRO 2'!X$13,'DATA MAESTRO 2'!X$14,'DATA MAESTRO 2'!X$15,'DATA MAESTRO 2'!X$16,'DATA MAESTRO 2'!X$17,'DATA MAESTRO 2'!X$18,'DATA MAESTRO 2'!X$19,'DATA MAESTRO 2'!X$20,'DATA MAESTRO 2'!X$21,'DATA MAESTRO 2'!X$22,'DATA MAESTRO 2'!X$23,'DATA MAESTRO 2'!X$24,'DATA MAESTRO 2'!X$25,'DATA MAESTRO 2'!X$26,'DATA MAESTRO 2'!X$27,'DATA MAESTRO 2'!X$28,'DATA MAESTRO 2'!X$29,'DATA MAESTRO 2'!X$30,'DATA MAESTRO 2'!X$31,'DATA MAESTRO 2'!X$32,'DATA MAESTRO 2'!X$33,'DATA MAESTRO 2'!X$34,'DATA MAESTRO 2'!X$35,'DATA MAESTRO 2'!X$36,'DATA MAESTRO 2'!X$37,'DATA MAESTRO 2'!X$38,'DATA MAESTRO 2'!X$39,'DATA MAESTRO 2'!X$40,)","v":0},{"$f":"CHOOSE($B21,'DATA MAESTRO 2'!Y$6,'DATA MAESTRO 2'!Y$7,'DATA MAESTRO 2'!Y$8,'DATA MAESTRO 2'!Y$9,'DATA MAESTRO 2'!Y$10,'DATA MAESTRO 2'!Y$11,'DATA MAESTRO 2'!Y$12,'DATA MAESTRO 2'!Y$13,'DATA MAESTRO 2'!Y$14,'DATA MAESTRO 2'!Y$15,'DATA MAESTRO 2'!Y$16,'DATA MAESTRO 2'!Y$17,'DATA MAESTRO 2'!Y$18,'DATA MAESTRO 2'!Y$19,'DATA MAESTRO 2'!Y$20,'DATA MAESTRO 2'!Y$21,'DATA MAESTRO 2'!Y$22,'DATA MAESTRO 2'!Y$23,'DATA MAESTRO 2'!Y$24,'DATA MAESTRO 2'!Y$25,'DATA MAESTRO 2'!Y$26,'DATA MAESTRO 2'!Y$27,'DATA MAESTRO 2'!Y$28,'DATA MAESTRO 2'!Y$29,'DATA MAESTRO 2'!Y$30,'DATA MAESTRO 2'!Y$31,'DATA MAESTRO 2'!Y$32,'DATA MAESTRO 2'!Y$33,'DATA MAESTRO 2'!Y$34,'DATA MAESTRO 2'!Y$35,'DATA MAESTRO 2'!Y$36,'DATA MAESTRO 2'!Y$37,'DATA MAESTRO 2'!Y$38,'DATA MAESTRO 2'!Y$39,'DATA MAESTRO 2'!Y$40,)","v":0},{"$f":"CHOOSE($B21,'DATA MAESTRO 2'!Z$6,'DATA MAESTRO 2'!Z$7,'DATA MAESTRO 2'!Z$8,'DATA MAESTRO 2'!Z$9,'DATA MAESTRO 2'!Z$10,'DATA MAESTRO 2'!Z$11,'DATA MAESTRO 2'!Z$12,'DATA MAESTRO 2'!Z$13,'DATA MAESTRO 2'!Z$14,'DATA MAESTRO 2'!Z$15,'DATA MAESTRO 2'!Z$16,'DATA MAESTRO 2'!Z$17,'DATA MAESTRO 2'!Z$18,'DATA MAESTRO 2'!Z$19,'DATA MAESTRO 2'!Z$20,'DATA MAESTRO 2'!Z$21,'DATA MAESTRO 2'!Z$22,'DATA MAESTRO 2'!Z$23,'DATA MAESTRO 2'!Z$24,'DATA MAESTRO 2'!Z$25,'DATA MAESTRO 2'!Z$26,'DATA MAESTRO 2'!Z$27,'DATA MAESTRO 2'!Z$28,'DATA MAESTRO 2'!Z$29,'DATA MAESTRO 2'!Z$30,'DATA MAESTRO 2'!Z$31,'DATA MAESTRO 2'!Z$32,'DATA MAESTRO 2'!Z$33,'DATA MAESTRO 2'!Z$34,'DATA MAESTRO 2'!Z$35,'DATA MAESTRO 2'!Z$36,'DATA MAESTRO 2'!Z$37,'DATA MAESTRO 2'!Z$38,'DATA MAESTRO 2'!Z$39,'DATA MAESTRO 2'!Z$40,)","v":0},{"$f":"CHOOSE($B21,'DATA MAESTRO 2'!AA$6,'DATA MAESTRO 2'!AA$7,'DATA MAESTRO 2'!AA$8,'DATA MAESTRO 2'!AA$9,'DATA MAESTRO 2'!AA$10,'DATA MAESTRO 2'!AA$11,'DATA MAESTRO 2'!AA$12,'DATA MAESTRO 2'!AA$13,'DATA MAESTRO 2'!AA$14,'DATA MAESTRO 2'!AA$15,'DATA MAESTRO 2'!AA$16,'DATA MAESTRO 2'!AA$17,'DATA MAESTRO 2'!AA$18,'DATA MAESTRO 2'!AA$19,'DATA MAESTRO 2'!AA$20,'DATA MAESTRO 2'!AA$21,'DATA MAESTRO 2'!AA$22,'DATA MAESTRO 2'!AA$23,'DATA MAESTRO 2'!AA$24,'DATA MAESTRO 2'!AA$25,'DATA MAESTRO 2'!AA$26,'DATA MAESTRO 2'!AA$27,'DATA MAESTRO 2'!AA$28,'DATA MAESTRO 2'!AA$29,'DATA MAESTRO 2'!AA$30,'DATA MAESTRO 2'!AA$31,'DATA MAESTRO 2'!AA$32,'DATA MAESTRO 2'!AA$33,'DATA MAESTRO 2'!AA$34,'DATA MAESTRO 2'!AA$35,'DATA MAESTRO 2'!AA$36,'DATA MAESTRO 2'!AA$37,'DATA MAESTRO 2'!AA$38,'DATA MAESTRO 2'!AA$39,'DATA MAESTRO 2'!AA$40,)","v":0},{"$f":"CHOOSE($B21,'DATA MAESTRO 2'!AB$6,'DATA MAESTRO 2'!AB$7,'DATA MAESTRO 2'!AB$8,'DATA MAESTRO 2'!AB$9,'DATA MAESTRO 2'!AB$10,'DATA MAESTRO 2'!AB$11,'DATA MAESTRO 2'!AB$12,'DATA MAESTRO 2'!AB$13,'DATA MAESTRO 2'!AB$14,'DATA MAESTRO 2'!AB$15,'DATA MAESTRO 2'!AB$16,'DATA MAESTRO 2'!AB$17,'DATA MAESTRO 2'!AB$18,'DATA MAESTRO 2'!AB$19,'DATA MAESTRO 2'!AB$20,'DATA MAESTRO 2'!AB$21,'DATA MAESTRO 2'!AB$22,'DATA MAESTRO 2'!AB$23,'DATA MAESTRO 2'!AB$24,'DATA MAESTRO 2'!AB$25,'DATA MAESTRO 2'!AB$26,'DATA MAESTRO 2'!AB$27,'DATA MAESTRO 2'!AB$28,'DATA MAESTRO 2'!AB$29,'DATA MAESTRO 2'!AB$30,'DATA MAESTRO 2'!AB$31,'DATA MAESTRO 2'!AB$32,'DATA MAESTRO 2'!AB$33,'DATA MAESTRO 2'!AB$34,'DATA MAESTRO 2'!AB$35,'DATA MAESTRO 2'!AB$36,'DATA MAESTRO 2'!AB$37,'DATA MAESTRO 2'!AB$38,'DATA MAESTRO 2'!AB$39,'DATA MAESTRO 2'!AB$40,)","v":0},{"$f":"CHOOSE($B21,'DATA MAESTRO 2'!AC$6,'DATA MAESTRO 2'!AC$7,'DATA MAESTRO 2'!AC$8,'DATA MAESTRO 2'!AC$9,'DATA MAESTRO 2'!AC$10,'DATA MAESTRO 2'!AC$11,'DATA MAESTRO 2'!AC$12,'DATA MAESTRO 2'!AC$13,'DATA MAESTRO 2'!AC$14,'DATA MAESTRO 2'!AC$15,'DATA MAESTRO 2'!AC$16,'DATA MAESTRO 2'!AC$17,'DATA MAESTRO 2'!AC$18,'DATA MAESTRO 2'!AC$19,'DATA MAESTRO 2'!AC$20,'DATA MAESTRO 2'!AC$21,'DATA MAESTRO 2'!AC$22,'DATA MAESTRO 2'!AC$23,'DATA MAESTRO 2'!AC$24,'DATA MAESTRO 2'!AC$25,'DATA MAESTRO 2'!AC$26,'DATA MAESTRO 2'!AC$27,'DATA MAESTRO 2'!AC$28,'DATA MAESTRO 2'!AC$29,'DATA MAESTRO 2'!AC$30,'DATA MAESTRO 2'!AC$31,'DATA MAESTRO 2'!AC$32,'DATA MAESTRO 2'!AC$33,'DATA MAESTRO 2'!AC$34,'DATA MAESTRO 2'!AC$35,'DATA MAESTRO 2'!AC$36,'DATA MAESTRO 2'!AC$37,'DATA MAESTRO 2'!AC$38,'DATA MAESTRO 2'!AC$39,'DATA MAESTRO 2'!AC$40,)","v":0},{"$f":"CHOOSE($B21,'DATA MAESTRO 2'!AD$6,'DATA MAESTRO 2'!AD$7,'DATA MAESTRO 2'!AD$8,'DATA MAESTRO 2'!AD$9,'DATA MAESTRO 2'!AD$10,'DATA MAESTRO 2'!AD$11,'DATA MAESTRO 2'!AD$12,'DATA MAESTRO 2'!AD$13,'DATA MAESTRO 2'!AD$14,'DATA MAESTRO 2'!AD$15,'DATA MAESTRO 2'!AD$16,'DATA MAESTRO 2'!AD$17,'DATA MAESTRO 2'!AD$18,'DATA MAESTRO 2'!AD$19,'DATA MAESTRO 2'!AD$20,'DATA MAESTRO 2'!AD$21,'DATA MAESTRO 2'!AD$22,'DATA MAESTRO 2'!AD$23,'DATA MAESTRO 2'!AD$24,'DATA MAESTRO 2'!AD$25,'DATA MAESTRO 2'!AD$26,'DATA MAESTRO 2'!AD$27,'DATA MAESTRO 2'!AD$28,'DATA MAESTRO 2'!AD$29,'DATA MAESTRO 2'!AD$30,'DATA MAESTRO 2'!AD$31,'DATA MAESTRO 2'!AD$32,'DATA MAESTRO 2'!AD$33,'DATA MAESTRO 2'!AD$34,'DATA MAESTRO 2'!AD$35,'DATA MAESTRO 2'!AD$36,'DATA MAESTRO 2'!AD$37,'DATA MAESTRO 2'!AD$38,'DATA MAESTRO 2'!AD$39,'DATA MAESTRO 2'!AD$40,)","v":0},{"$f":"CHOOSE($B21,'DATA MAESTRO 2'!AE$6,'DATA MAESTRO 2'!AE$7,'DATA MAESTRO 2'!AE$8,'DATA MAESTRO 2'!AE$9,'DATA MAESTRO 2'!AE$10,'DATA MAESTRO 2'!AE$11,'DATA MAESTRO 2'!AE$12,'DATA MAESTRO 2'!AE$13,'DATA MAESTRO 2'!AE$14,'DATA MAESTRO 2'!AE$15,'DATA MAESTRO 2'!AE$16,'DATA MAESTRO 2'!AE$17,'DATA MAESTRO 2'!AE$18,'DATA MAESTRO 2'!AE$19,'DATA MAESTRO 2'!AE$20,'DATA MAESTRO 2'!AE$21,'DATA MAESTRO 2'!AE$22,'DATA MAESTRO 2'!AE$23,'DATA MAESTRO 2'!AE$24,'DATA MAESTRO 2'!AE$25,'DATA MAESTRO 2'!AE$26,'DATA MAESTRO 2'!AE$27,'DATA MAESTRO 2'!AE$28,'DATA MAESTRO 2'!AE$29,'DATA MAESTRO 2'!AE$30,'DATA MAESTRO 2'!AE$31,'DATA MAESTRO 2'!AE$32,'DATA MAESTRO 2'!AE$33,'DATA MAESTRO 2'!AE$34,'DATA MAESTRO 2'!AE$35,'DATA MAESTRO 2'!AE$36,'DATA MAESTRO 2'!AE$37,'DATA MAESTRO 2'!AE$38,'DATA MAESTRO 2'!AE$39,'DATA MAESTRO 2'!AE$40,)","v":0},{"$f":"CHOOSE($B21,'DATA MAESTRO 2'!AF$6,'DATA MAESTRO 2'!AF$7,'DATA MAESTRO 2'!AF$8,'DATA MAESTRO 2'!AF$9,'DATA MAESTRO 2'!AF$10,'DATA MAESTRO 2'!AF$11,'DATA MAESTRO 2'!AF$12,'DATA MAESTRO 2'!AF$13,'DATA MAESTRO 2'!AF$14,'DATA MAESTRO 2'!AF$15,'DATA MAESTRO 2'!AF$16,'DATA MAESTRO 2'!AF$17,'DATA MAESTRO 2'!AF$18,'DATA MAESTRO 2'!AF$19,'DATA MAESTRO 2'!AF$20,'DATA MAESTRO 2'!AF$21,'DATA MAESTRO 2'!AF$22,'DATA MAESTRO 2'!AF$23,'DATA MAESTRO 2'!AF$24,'DATA MAESTRO 2'!AF$25,'DATA MAESTRO 2'!AF$26,'DATA MAESTRO 2'!AF$27,'DATA MAESTRO 2'!AF$28,'DATA MAESTRO 2'!AF$29,'DATA MAESTRO 2'!AF$30,'DATA MAESTRO 2'!AF$31,'DATA MAESTRO 2'!AF$32,'DATA MAESTRO 2'!AF$33,'DATA MAESTRO 2'!AF$34,'DATA MAESTRO 2'!AF$35,'DATA MAESTRO 2'!AF$36,'DATA MAESTRO 2'!AF$37,'DATA MAESTRO 2'!AF$38,'DATA MAESTRO 2'!AF$39,'DATA MAESTRO 2'!AF$40,)","v":0},{"$f":"CHOOSE($B21,'DATA MAESTRO 2'!AG$6,'DATA MAESTRO 2'!AG$7,'DATA MAESTRO 2'!AG$8,'DATA MAESTRO 2'!AG$9,'DATA MAESTRO 2'!AG$10,'DATA MAESTRO 2'!AG$11,'DATA MAESTRO 2'!AG$12,'DATA MAESTRO 2'!AG$13,'DATA MAESTRO 2'!AG$14,'DATA MAESTRO 2'!AG$15,'DATA MAESTRO 2'!AG$16,'DATA MAESTRO 2'!AG$17,'DATA MAESTRO 2'!AG$18,'DATA MAESTRO 2'!AG$19,'DATA MAESTRO 2'!AG$20,'DATA MAESTRO 2'!AG$21,'DATA MAESTRO 2'!AG$22,'DATA MAESTRO 2'!AG$23,'DATA MAESTRO 2'!AG$24,'DATA MAESTRO 2'!AG$25,'DATA MAESTRO 2'!AG$26,'DATA MAESTRO 2'!AG$27,'DATA MAESTRO 2'!AG$28,'DATA MAESTRO 2'!AG$29,'DATA MAESTRO 2'!AG$30,'DATA MAESTRO 2'!AG$31,'DATA MAESTRO 2'!AG$32,'DATA MAESTRO 2'!AG$33,'DATA MAESTRO 2'!AG$34,'DATA MAESTRO 2'!AG$35,'DATA MAESTRO 2'!AG$36,'DATA MAESTRO 2'!AG$37,'DATA MAESTRO 2'!AG$38,'DATA MAESTRO 2'!AG$39,'DATA MAESTRO 2'!AG$40,)","v":0},{"$f":"CHOOSE($B21,'DATA MAESTRO 2'!AH$6,'DATA MAESTRO 2'!AH$7,'DATA MAESTRO 2'!AH$8,'DATA MAESTRO 2'!AH$9,'DATA MAESTRO 2'!AH$10,'DATA MAESTRO 2'!AH$11,'DATA MAESTRO 2'!AH$12,'DATA MAESTRO 2'!AH$13,'DATA MAESTRO 2'!AH$14,'DATA MAESTRO 2'!AH$15,'DATA MAESTRO 2'!AH$16,'DATA MAESTRO 2'!AH$17,'DATA MAESTRO 2'!AH$18,'DATA MAESTRO 2'!AH$19,'DATA MAESTRO 2'!AH$20,'DATA MAESTRO 2'!AH$21,'DATA MAESTRO 2'!AH$22,'DATA MAESTRO 2'!AH$23,'DATA MAESTRO 2'!AH$24,'DATA MAESTRO 2'!AH$25,'DATA MAESTRO 2'!AH$26,'DATA MAESTRO 2'!AH$27,'DATA MAESTRO 2'!AH$28,'DATA MAESTRO 2'!AH$29,'DATA MAESTRO 2'!AH$30,'DATA MAESTRO 2'!AH$31,'DATA MAESTRO 2'!AH$32,'DATA MAESTRO 2'!AH$33,'DATA MAESTRO 2'!AH$34,'DATA MAESTRO 2'!AH$35,'DATA MAESTRO 2'!AH$36,'DATA MAESTRO 2'!AH$37,'DATA MAESTRO 2'!AH$38,'DATA MAESTRO 2'!AH$39,'DATA MAESTRO 2'!AH$40,)","v":0},{"$f":"CHOOSE($B21,'DATA MAESTRO 2'!AI$6,'DATA MAESTRO 2'!AI$7,'DATA MAESTRO 2'!AI$8,'DATA MAESTRO 2'!AI$9,'DATA MAESTRO 2'!AI$10,'DATA MAESTRO 2'!AI$11,'DATA MAESTRO 2'!AI$12,'DATA MAESTRO 2'!AI$13,'DATA MAESTRO 2'!AI$14,'DATA MAESTRO 2'!AI$15,'DATA MAESTRO 2'!AI$16,'DATA MAESTRO 2'!AI$17,'DATA MAESTRO 2'!AI$18,'DATA MAESTRO 2'!AI$19,'DATA MAESTRO 2'!AI$20,'DATA MAESTRO 2'!AI$21,'DATA MAESTRO 2'!AI$22,'DATA MAESTRO 2'!AI$23,'DATA MAESTRO 2'!AI$24,'DATA MAESTRO 2'!AI$25,'DATA MAESTRO 2'!AI$26,'DATA MAESTRO 2'!AI$27,'DATA MAESTRO 2'!AI$28,'DATA MAESTRO 2'!AI$29,'DATA MAESTRO 2'!AI$30,'DATA MAESTRO 2'!AI$31,'DATA MAESTRO 2'!AI$32,'DATA MAESTRO 2'!AI$33,'DATA MAESTRO 2'!AI$34,'DATA MAESTRO 2'!AI$35,'DATA MAESTRO 2'!AI$36,'DATA MAESTRO 2'!AI$37,'DATA MAESTRO 2'!AI$38,'DATA MAESTRO 2'!AI$39,'DATA MAESTRO 2'!AI$40,)","v":0},{"$f":"CHOOSE($B21,'DATA MAESTRO 2'!AJ$6,'DATA MAESTRO 2'!AJ$7,'DATA MAESTRO 2'!AJ$8,'DATA MAESTRO 2'!AJ$9,'DATA MAESTRO 2'!AJ$10,'DATA MAESTRO 2'!AJ$11,'DATA MAESTRO 2'!AJ$12,'DATA MAESTRO 2'!AJ$13,'DATA MAESTRO 2'!AJ$14,'DATA MAESTRO 2'!AJ$15,'DATA MAESTRO 2'!AJ$16,'DATA MAESTRO 2'!AJ$17,'DATA MAESTRO 2'!AJ$18,'DATA MAESTRO 2'!AJ$19,'DATA MAESTRO 2'!AJ$20,'DATA MAESTRO 2'!AJ$21,'DATA MAESTRO 2'!AJ$22,'DATA MAESTRO 2'!AJ$23,'DATA MAESTRO 2'!AJ$24,'DATA MAESTRO 2'!AJ$25,'DATA MAESTRO 2'!AJ$26,'DATA MAESTRO 2'!AJ$27,'DATA MAESTRO 2'!AJ$28,'DATA MAESTRO 2'!AJ$29,'DATA MAESTRO 2'!AJ$30,'DATA MAESTRO 2'!AJ$31,'DATA MAESTRO 2'!AJ$32,'DATA MAESTRO 2'!AJ$33,'DATA MAESTRO 2'!AJ$34,'DATA MAESTRO 2'!AJ$35,'DATA MAESTRO 2'!AJ$36,'DATA MAESTRO 2'!AJ$37,'DATA MAESTRO 2'!AJ$38,'DATA MAESTRO 2'!AJ$39,'DATA MAESTRO 2'!AJ$40,)","v":0}]
[20,36,{"$f":"+IF(AND(B22>=1,B22<=36),VLOOKUP(B22,'DATA MAESTRO 2'!$A$6:$B$40,2),0)","v":""},{"$f":"+CHOOSE($B22,'DATA MAESTRO 2'!C$6,'DATA MAESTRO 2'!C$7,'DATA MAESTRO 2'!C$8,'DATA MAESTRO 2'!C$9,'DATA MAESTRO 2'!C$10,'DATA MAESTRO 2'!C$11,'DATA MAESTRO 2'!C$12,'DATA MAESTRO 2'!C$13,'DATA MAESTRO 2'!C$14,'DATA MAESTRO 2'!C$15,'DATA MAESTRO 2'!C$16,'DATA MAESTRO 2'!C$17,'DATA MAESTRO 2'!C$18,'DATA MAESTRO 2'!C$19,'DATA MAESTRO 2'!C$20,'DATA MAESTRO 2'!C$21,'DATA MAESTRO 2'!C$22,'DATA MAESTRO 2'!C$23,'DATA MAESTRO 2'!C$24,'DATA MAESTRO 2'!C$25,'DATA MAESTRO 2'!C$26,'DATA MAESTRO 2'!C$27,'DATA MAESTRO 2'!C$28,'DATA MAESTRO 2'!C$29,'DATA MAESTRO 2'!C$30,'DATA MAESTRO 2'!C$31,'DATA MAESTRO 2'!C$32,'DATA MAESTRO 2'!C$33,'DATA MAESTRO 2'!C$34,'DATA MAESTRO 2'!C$35,'DATA MAESTRO 2'!C$36,'DATA MAESTRO 2'!C$37,'DATA MAESTRO 2'!C$38,'DATA MAESTRO 2'!C$39,'DATA MAESTRO 2'!C$40,)","v":0},{"$f":"CHOOSE($B22,'DATA MAESTRO 2'!D$6,'DATA MAESTRO 2'!D$7,'DATA MAESTRO 2'!D$8,'DATA MAESTRO 2'!D$9,'DATA MAESTRO 2'!D$10,'DATA MAESTRO 2'!D$11,'DATA MAESTRO 2'!D$12,'DATA MAESTRO 2'!D$13,'DATA MAESTRO 2'!D$14,'DATA MAESTRO 2'!D$15,'DATA MAESTRO 2'!D$16,'DATA MAESTRO 2'!D$17,'DATA MAESTRO 2'!D$18,'DATA MAESTRO 2'!D$19,'DATA MAESTRO 2'!D$20,'DATA MAESTRO 2'!D$21,'DATA MAESTRO 2'!D$22,'DATA MAESTRO 2'!D$23,'DATA MAESTRO 2'!D$24,'DATA MAESTRO 2'!D$25,'DATA MAESTRO 2'!D$26,'DATA MAESTRO 2'!D$27,'DATA MAESTRO 2'!D$28,'DATA MAESTRO 2'!D$29,'DATA MAESTRO 2'!D$30,'DATA MAESTRO 2'!D$31,'DATA MAESTRO 2'!D$32,'DATA MAESTRO 2'!D$33,'DATA MAESTRO 2'!D$34,'DATA MAESTRO 2'!D$35,'DATA MAESTRO 2'!D$36,'DATA MAESTRO 2'!D$37,'DATA MAESTRO 2'!D$38,'DATA MAESTRO 2'!D$39,'DATA MAESTRO 2'!D$40,)","v":0},{"$f":"CHOOSE(B22,'DATA MAESTRO 2'!E$6,'DATA MAESTRO 2'!E$7,'DATA MAESTRO 2'!E$8,'DATA MAESTRO 2'!E$9,'DATA MAESTRO 2'!E$10,'DATA MAESTRO 2'!E$11,'DATA MAESTRO 2'!E$12,'DATA MAESTRO 2'!E$13,'DATA MAESTRO 2'!E$14,'DATA MAESTRO 2'!E$15,'DATA MAESTRO 2'!E$16,'DATA MAESTRO 2'!E$17,'DATA MAESTRO 2'!E$18,'DATA MAESTRO 2'!E$19,'DATA MAESTRO 2'!E$20,'DATA MAESTRO 2'!E$21,'DATA MAESTRO 2'!E$22,'DATA MAESTRO 2'!E$23,'DATA MAESTRO 2'!E$24,'DATA MAESTRO 2'!E$25,'DATA MAESTRO 2'!E$26,'DATA MAESTRO 2'!E$27,'DATA MAESTRO 2'!E$28,'DATA MAESTRO 2'!E$29,'DATA MAESTRO 2'!E$30,'DATA MAESTRO 2'!E$31,'DATA MAESTRO 2'!E$32,'DATA MAESTRO 2'!E$33,'DATA MAESTRO 2'!E$34,'DATA MAESTRO 2'!E$35,'DATA MAESTRO 2'!E$36,'DATA MAESTRO 2'!E$37,'DATA MAESTRO 2'!E$38,'DATA MAESTRO 2'!E$39,'DATA MAESTRO 2'!E$40,)","v":0},{"$f":"CHOOSE($B22,'DATA MAESTRO 2'!F$6,'DATA MAESTRO 2'!F$7,'DATA MAESTRO 2'!F$8,'DATA MAESTRO 2'!F$9,'DATA MAESTRO 2'!F$10,'DATA MAESTRO 2'!F$11,'DATA MAESTRO 2'!F$12,'DATA MAESTRO 2'!F$13,'DATA MAESTRO 2'!F$14,'DATA MAESTRO 2'!F$15,'DATA MAESTRO 2'!F$16,'DATA MAESTRO 2'!F$17,'DATA MAESTRO 2'!F$18,'DATA MAESTRO 2'!F$19,'DATA MAESTRO 2'!F$20,'DATA MAESTRO 2'!F$21,'DATA MAESTRO 2'!F$22,'DATA MAESTRO 2'!F$23,'DATA MAESTRO 2'!F$24,'DATA MAESTRO 2'!F$25,'DATA MAESTRO 2'!F$26,'DATA MAESTRO 2'!F$27,'DATA MAESTRO 2'!F$28,'DATA MAESTRO 2'!F$29,'DATA MAESTRO 2'!F$30,'DATA MAESTRO 2'!F$31,'DATA MAESTRO 2'!F$32,'DATA MAESTRO 2'!F$33,'DATA MAESTRO 2'!F$34,'DATA MAESTRO 2'!F$35,'DATA MAESTRO 2'!F$36,'DATA MAESTRO 2'!F$37,'DATA MAESTRO 2'!F$38,'DATA MAESTRO 2'!F$39,'DATA MAESTRO 2'!F$40,)","v":0},{"$f":"CHOOSE($B22,'DATA MAESTRO 2'!G$6,'DATA MAESTRO 2'!G$7,'DATA MAESTRO 2'!G$8,'DATA MAESTRO 2'!G$9,'DATA MAESTRO 2'!G$10,'DATA MAESTRO 2'!G$11,'DATA MAESTRO 2'!G$12,'DATA MAESTRO 2'!G$13,'DATA MAESTRO 2'!G$14,'DATA MAESTRO 2'!G$15,'DATA MAESTRO 2'!G$16,'DATA MAESTRO 2'!G$17,'DATA MAESTRO 2'!G$18,'DATA MAESTRO 2'!G$19,'DATA MAESTRO 2'!G$20,'DATA MAESTRO 2'!G$21,'DATA MAESTRO 2'!G$22,'DATA MAESTRO 2'!G$23,'DATA MAESTRO 2'!G$24,'DATA MAESTRO 2'!G$25,'DATA MAESTRO 2'!G$26,'DATA MAESTRO 2'!G$27,'DATA MAESTRO 2'!G$28,'DATA MAESTRO 2'!G$29,'DATA MAESTRO 2'!G$30,'DATA MAESTRO 2'!G$31,'DATA MAESTRO 2'!G$32,'DATA MAESTRO 2'!G$33,'DATA MAESTRO 2'!G$34,'DATA MAESTRO 2'!G$35,'DATA MAESTRO 2'!G$36,'DATA MAESTRO 2'!G$37,'DATA MAESTRO 2'!G$38,'DATA MAESTRO 2'!G$39,'DATA MAESTRO 2'!G$40,)","v":0},{"$f":"CHOOSE($B22,'DATA MAESTRO 2'!H$6,'DATA MAESTRO 2'!H$7,'DATA MAESTRO 2'!H$8,'DATA MAESTRO 2'!H$9,'DATA MAESTRO 2'!H$10,'DATA MAESTRO 2'!H$11,'DATA MAESTRO 2'!H$12,'DATA MAESTRO 2'!H$13,'DATA MAESTRO 2'!H$14,'DATA MAESTRO 2'!H$15,'DATA MAESTRO 2'!H$16,'DATA MAESTRO 2'!H$17,'DATA MAESTRO 2'!H$18,'DATA MAESTRO 2'!H$19,'DATA MAESTRO 2'!H$20,'DATA MAESTRO 2'!H$21,'DATA MAESTRO 2'!H$22,'DATA MAESTRO 2'!H$23,'DATA MAESTRO 2'!H$24,'DATA MAESTRO 2'!H$25,'DATA MAESTRO 2'!H$26,'DATA MAESTRO 2'!H$27,'DATA MAESTRO 2'!H$28,'DATA MAESTRO 2'!H$29,'DATA MAESTRO 2'!H$30,'DATA MAESTRO 2'!H$31,'DATA MAESTRO 2'!H$32,'DATA MAESTRO 2'!H$33,'DATA MAESTRO 2'!H$34,'DATA MAESTRO 2'!H$35,'DATA MAESTRO 2'!H$36,'DATA MAESTRO 2'!H$37,'DATA MAESTRO 2'!H$38,'DATA MAESTRO 2'!H$39,'DATA MAESTRO 2'!H$40,)","v":0},{"$f":"CHOOSE($B22,'DATA MAESTRO 2'!I$6,'DATA MAESTRO 2'!I$7,'DATA MAESTRO 2'!I$8,'DATA MAESTRO 2'!I$9,'DATA MAESTRO 2'!I$10,'DATA MAESTRO 2'!I$11,'DATA MAESTRO 2'!I$12,'DATA MAESTRO 2'!I$13,'DATA MAESTRO 2'!I$14,'DATA MAESTRO 2'!I$15,'DATA MAESTRO 2'!I$16,'DATA MAESTRO 2'!I$17,'DATA MAESTRO 2'!I$18,'DATA MAESTRO 2'!I$19,'DATA MAESTRO 2'!I$20,'DATA MAESTRO 2'!I$21,'DATA MAESTRO 2'!I$22,'DATA MAESTRO 2'!I$23,'DATA MAESTRO 2'!I$24,'DATA MAESTRO 2'!I$25,'DATA MAESTRO 2'!I$26,'DATA MAESTRO 2'!I$27,'DATA MAESTRO 2'!I$28,'DATA MAESTRO 2'!I$29,'DATA MAESTRO 2'!I$30,'DATA MAESTRO 2'!I$31,'DATA MAESTRO 2'!I$32,'DATA MAESTRO 2'!I$33,'DATA MAESTRO 2'!I$34,'DATA MAESTRO 2'!I$35,'DATA MAESTRO 2'!I$36,'DATA MAESTRO 2'!I$37,'DATA MAESTRO 2'!I$38,'DATA MAESTRO 2'!I$39,'DATA MAESTRO 2'!I$40,)","v":0},{"$f":"CHOOSE($B22,'DATA MAESTRO 2'!J$6,'DATA MAESTRO 2'!J$7,'DATA MAESTRO 2'!J$8,'DATA MAESTRO 2'!J$9,'DATA MAESTRO 2'!J$10,'DATA MAESTRO 2'!J$11,'DATA MAESTRO 2'!J$12,'DATA MAESTRO 2'!J$13,'DATA MAESTRO 2'!J$14,'DATA MAESTRO 2'!J$15,'DATA MAESTRO 2'!J$16,'DATA MAESTRO 2'!J$17,'DATA MAESTRO 2'!J$18,'DATA MAESTRO 2'!J$19,'DATA MAESTRO 2'!J$20,'DATA MAESTRO 2'!J$21,'DATA MAESTRO 2'!J$22,'DATA MAESTRO 2'!J$23,'DATA MAESTRO 2'!J$24,'DATA MAESTRO 2'!J$25,'DATA MAESTRO 2'!J$26,'DATA MAESTRO 2'!J$27,'DATA MAESTRO 2'!J$28,'DATA MAESTRO 2'!J$29,'DATA MAESTRO 2'!J$30,'DATA MAESTRO 2'!J$31,'DATA MAESTRO 2'!J$32,'DATA MAESTRO 2'!J$33,'DATA MAESTRO 2'!J$34,'DATA MAESTRO 2'!J$35,'DATA MAESTRO 2'!J$36,'DATA MAESTRO 2'!J$37,'DATA MAESTRO 2'!J$38,'DATA MAESTRO 2'!J$39,'DATA MAESTRO 2'!J$40,)","v":0},{"$f":"CHOOSE($B22,'DATA MAESTRO 2'!K$6,'DATA MAESTRO 2'!K$7,'DATA MAESTRO 2'!K$8,'DATA MAESTRO 2'!K$9,'DATA MAESTRO 2'!K$10,'DATA MAESTRO 2'!K$11,'DATA MAESTRO 2'!K$12,'DATA MAESTRO 2'!K$13,'DATA MAESTRO 2'!K$14,'DATA MAESTRO 2'!K$15,'DATA MAESTRO 2'!K$16,'DATA MAESTRO 2'!K$17,'DATA MAESTRO 2'!K$18,'DATA MAESTRO 2'!K$19,'DATA MAESTRO 2'!K$20,'DATA MAESTRO 2'!K$21,'DATA MAESTRO 2'!K$22,'DATA MAESTRO 2'!K$23,'DATA MAESTRO 2'!K$24,'DATA MAESTRO 2'!K$25,'DATA MAESTRO 2'!K$26,'DATA MAESTRO 2'!K$27,'DATA MAESTRO 2'!K$28,'DATA MAESTRO 2'!K$29,'DATA MAESTRO 2'!K$30,'DATA MAESTRO 2'!K$31,'DATA MAESTRO 2'!K$32,'DATA MAESTRO 2'!K$33,'DATA MAESTRO 2'!K$34,'DATA MAESTRO 2'!K$35,'DATA MAESTRO 2'!K$36,'DATA MAESTRO 2'!K$37,'DATA MAESTRO 2'!K$38,'DATA MAESTRO 2'!K$39,'DATA MAESTRO 2'!K$40,)","v":0},{"$f":"CHOOSE($B22,'DATA MAESTRO 2'!L$6,'DATA MAESTRO 2'!L$7,'DATA MAESTRO 2'!L$8,'DATA MAESTRO 2'!L$9,'DATA MAESTRO 2'!L$10,'DATA MAESTRO 2'!L$11,'DATA MAESTRO 2'!L$12,'DATA MAESTRO 2'!L$13,'DATA MAESTRO 2'!L$14,'DATA MAESTRO 2'!L$15,'DATA MAESTRO 2'!L$16,'DATA MAESTRO 2'!L$17,'DATA MAESTRO 2'!L$18,'DATA MAESTRO 2'!L$19,'DATA MAESTRO 2'!L$20,'DATA MAESTRO 2'!L$21,'DATA MAESTRO 2'!L$22,'DATA MAESTRO 2'!L$23,'DATA MAESTRO 2'!L$24,'DATA MAESTRO 2'!L$25,'DATA MAESTRO 2'!L$26,'DATA MAESTRO 2'!L$27,'DATA MAESTRO 2'!L$28,'DATA MAESTRO 2'!L$29,'DATA MAESTRO 2'!L$30,'DATA MAESTRO 2'!L$31,'DATA MAESTRO 2'!L$32,'DATA MAESTRO 2'!L$33,'DATA MAESTRO 2'!L$34,'DATA MAESTRO 2'!L$35,'DATA MAESTRO 2'!L$36,'DATA MAESTRO 2'!L$37,'DATA MAESTRO 2'!L$38,'DATA MAESTRO 2'!L$39,'DATA MAESTRO 2'!L$40,)","v":0},{"$f":"CHOOSE($B22,'DATA MAESTRO 2'!M$6,'DATA MAESTRO 2'!M$7,'DATA MAESTRO 2'!M$8,'DATA MAESTRO 2'!M$9,'DATA MAESTRO 2'!M$10,'DATA MAESTRO 2'!M$11,'DATA MAESTRO 2'!M$12,'DATA MAESTRO 2'!M$13,'DATA MAESTRO 2'!M$14,'DATA MAESTRO 2'!M$15,'DATA MAESTRO 2'!M$16,'DATA MAESTRO 2'!M$17,'DATA MAESTRO 2'!M$18,'DATA MAESTRO 2'!M$19,'DATA MAESTRO 2'!M$20,'DATA MAESTRO 2'!M$21,'DATA MAESTRO 2'!M$22,'DATA MAESTRO 2'!M$23,'DATA MAESTRO 2'!M$24,'DATA MAESTRO 2'!M$25,'DATA MAESTRO 2'!M$26,'DATA MAESTRO 2'!M$27,'DATA MAESTRO 2'!M$28,'DATA MAESTRO 2'!M$29,'DATA MAESTRO 2'!M$30,'DATA MAESTRO 2'!M$31,'DATA MAESTRO 2'!M$32,'DATA MAESTRO 2'!M$33,'DATA MAESTRO 2'!M$34,'DATA MAESTRO 2'!M$35,'DATA MAESTRO 2'!M$36,'DATA MAESTRO 2'!M$37,'DATA MAESTRO 2'!M$38,'DATA MAESTRO 2'!M$39,'DATA MAESTRO 2'!M$40,)","v":0},{"$f":"CHOOSE($B22,'DATA MAESTRO 2'!N$6,'DATA MAESTRO 2'!N$7,'DATA MAESTRO 2'!N$8,'DATA MAESTRO 2'!N$9,'DATA MAESTRO 2'!N$10,'DATA MAESTRO 2'!N$11,'DATA MAESTRO 2'!N$12,'DATA MAESTRO 2'!N$13,'DATA MAESTRO 2'!N$14,'DATA MAESTRO 2'!N$15,'DATA MAESTRO 2'!N$16,'DATA MAESTRO 2'!N$17,'DATA MAESTRO 2'!N$18,'DATA MAESTRO 2'!N$19,'DATA MAESTRO 2'!N$20,'DATA MAESTRO 2'!N$21,'DATA MAESTRO 2'!N$22,'DATA MAESTRO 2'!N$23,'DATA MAESTRO 2'!N$24,'DATA MAESTRO 2'!N$25,'DATA MAESTRO 2'!N$26,'DATA MAESTRO 2'!N$27,'DATA MAESTRO 2'!N$28,'DATA MAESTRO 2'!N$29,'DATA MAESTRO 2'!N$30,'DATA MAESTRO 2'!N$31,'DATA MAESTRO 2'!N$32,'DATA MAESTRO 2'!N$33,'DATA MAESTRO 2'!N$34,'DATA MAESTRO 2'!N$35,'DATA MAESTRO 2'!N$36,'DATA MAESTRO 2'!N$37,'DATA MAESTRO 2'!N$38,'DATA MAESTRO 2'!N$39,'DATA MAESTRO 2'!N$40,)","v":0},{"$f":"CHOOSE($B22,'DATA MAESTRO 2'!O$6,'DATA MAESTRO 2'!O$7,'DATA MAESTRO 2'!O$8,'DATA MAESTRO 2'!O$9,'DATA MAESTRO 2'!O$10,'DATA MAESTRO 2'!O$11,'DATA MAESTRO 2'!O$12,'DATA MAESTRO 2'!O$13,'DATA MAESTRO 2'!O$14,'DATA MAESTRO 2'!O$15,'DATA MAESTRO 2'!O$16,'DATA MAESTRO 2'!O$17,'DATA MAESTRO 2'!O$18,'DATA MAESTRO 2'!O$19,'DATA MAESTRO 2'!O$20,'DATA MAESTRO 2'!O$21,'DATA MAESTRO 2'!O$22,'DATA MAESTRO 2'!O$23,'DATA MAESTRO 2'!O$24,'DATA MAESTRO 2'!O$25,'DATA MAESTRO 2'!O$26,'DATA MAESTRO 2'!O$27,'DATA MAESTRO 2'!O$28,'DATA MAESTRO 2'!O$29,'DATA MAESTRO 2'!O$30,'DATA MAESTRO 2'!O$31,'DATA MAESTRO 2'!O$32,'DATA MAESTRO 2'!O$33,'DATA MAESTRO 2'!O$34,'DATA MAESTRO 2'!O$35,'DATA MAESTRO 2'!O$36,'DATA MAESTRO 2'!O$37,'DATA MAESTRO 2'!O$38,'DATA MAESTRO 2'!O$39,'DATA MAESTRO 2'!O$40,)","v":0},{"$f":"CHOOSE($B22,'DATA MAESTRO 2'!P$6,'DATA MAESTRO 2'!P$7,'DATA MAESTRO 2'!P$8,'DATA MAESTRO 2'!P$9,'DATA MAESTRO 2'!P$10,'DATA MAESTRO 2'!P$11,'DATA MAESTRO 2'!P$12,'DATA MAESTRO 2'!P$13,'DATA MAESTRO 2'!P$14,'DATA MAESTRO 2'!P$15,'DATA MAESTRO 2'!P$16,'DATA MAESTRO 2'!P$17,'DATA MAESTRO 2'!P$18,'DATA MAESTRO 2'!P$19,'DATA MAESTRO 2'!P$20,'DATA MAESTRO 2'!P$21,'DATA MAESTRO 2'!P$22,'DATA MAESTRO 2'!P$23,'DATA MAESTRO 2'!P$24,'DATA MAESTRO 2'!P$25,'DATA MAESTRO 2'!P$26,'DATA MAESTRO 2'!P$27,'DATA MAESTRO 2'!P$28,'DATA MAESTRO 2'!P$29,'DATA MAESTRO 2'!P$30,'DATA MAESTRO 2'!P$31,'DATA MAESTRO 2'!P$32,'DATA MAESTRO 2'!P$33,'DATA MAESTRO 2'!P$34,'DATA MAESTRO 2'!P$35,'DATA MAESTRO 2'!P$36,'DATA MAESTRO 2'!P$37,'DATA MAESTRO 2'!P$38,'DATA MAESTRO 2'!P$39,'DATA MAESTRO 2'!P$40,)","v":0},{"$f":"CHOOSE($B22,'DATA MAESTRO 2'!Q$6,'DATA MAESTRO 2'!Q$7,'DATA MAESTRO 2'!Q$8,'DATA MAESTRO 2'!Q$9,'DATA MAESTRO 2'!Q$10,'DATA MAESTRO 2'!Q$11,'DATA MAESTRO 2'!Q$12,'DATA MAESTRO 2'!Q$13,'DATA MAESTRO 2'!Q$14,'DATA MAESTRO 2'!Q$15,'DATA MAESTRO 2'!Q$16,'DATA MAESTRO 2'!Q$17,'DATA MAESTRO 2'!Q$18,'DATA MAESTRO 2'!Q$19,'DATA MAESTRO 2'!Q$20,'DATA MAESTRO 2'!Q$21,'DATA MAESTRO 2'!Q$22,'DATA MAESTRO 2'!Q$23,'DATA MAESTRO 2'!Q$24,'DATA MAESTRO 2'!Q$25,'DATA MAESTRO 2'!Q$26,'DATA MAESTRO 2'!Q$27,'DATA MAESTRO 2'!Q$28,'DATA MAESTRO 2'!Q$29,'DATA MAESTRO 2'!Q$30,'DATA MAESTRO 2'!Q$31,'DATA MAESTRO 2'!Q$32,'DATA MAESTRO 2'!Q$33,'DATA MAESTRO 2'!Q$34,'DATA MAESTRO 2'!Q$35,'DATA MAESTRO 2'!Q$36,'DATA MAESTRO 2'!Q$37,'DATA MAESTRO 2'!Q$38,'DATA MAESTRO 2'!Q$39,'DATA MAESTRO 2'!Q$40,)","v":0},{"$f":"CHOOSE($B22,'DATA MAESTRO 2'!R$6,'DATA MAESTRO 2'!R$7,'DATA MAESTRO 2'!R$8,'DATA MAESTRO 2'!R$9,'DATA MAESTRO 2'!R$10,'DATA MAESTRO 2'!R$11,'DATA MAESTRO 2'!R$12,'DATA MAESTRO 2'!R$13,'DATA MAESTRO 2'!R$14,'DATA MAESTRO 2'!R$15,'DATA MAESTRO 2'!R$16,'DATA MAESTRO 2'!R$17,'DATA MAESTRO 2'!R$18,'DATA MAESTRO 2'!R$19,'DATA MAESTRO 2'!R$20,'DATA MAESTRO 2'!R$21,'DATA MAESTRO 2'!R$22,'DATA MAESTRO 2'!R$23,'DATA MAESTRO 2'!R$24,'DATA MAESTRO 2'!R$25,'DATA MAESTRO 2'!R$26,'DATA MAESTRO 2'!R$27,'DATA MAESTRO 2'!R$28,'DATA MAESTRO 2'!R$29,'DATA MAESTRO 2'!R$30,'DATA MAESTRO 2'!R$31,'DATA MAESTRO 2'!R$32,'DATA MAESTRO 2'!R$33,'DATA MAESTRO 2'!R$34,'DATA MAESTRO 2'!R$35,'DATA MAESTRO 2'!R$36,'DATA MAESTRO 2'!R$37,'DATA MAESTRO 2'!R$38,'DATA MAESTRO 2'!R$39,'DATA MAESTRO 2'!R$40,)","v":0},{"$f":"CHOOSE($B22,'DATA MAESTRO 2'!S$6,'DATA MAESTRO 2'!S$7,'DATA MAESTRO 2'!S$8,'DATA MAESTRO 2'!S$9,'DATA MAESTRO 2'!S$10,'DATA MAESTRO 2'!S$11,'DATA MAESTRO 2'!S$12,'DATA MAESTRO 2'!S$13,'DATA MAESTRO 2'!S$14,'DATA MAESTRO 2'!S$15,'DATA MAESTRO 2'!S$16,'DATA MAESTRO 2'!S$17,'DATA MAESTRO 2'!S$18,'DATA MAESTRO 2'!S$19,'DATA MAESTRO 2'!S$20,'DATA MAESTRO 2'!S$21,'DATA MAESTRO 2'!S$22,'DATA MAESTRO 2'!S$23,'DATA MAESTRO 2'!S$24,'DATA MAESTRO 2'!S$25,'DATA MAESTRO 2'!S$26,'DATA MAESTRO 2'!S$27,'DATA MAESTRO 2'!S$28,'DATA MAESTRO 2'!S$29,'DATA MAESTRO 2'!S$30,'DATA MAESTRO 2'!S$31,'DATA MAESTRO 2'!S$32,'DATA MAESTRO 2'!S$33,'DATA MAESTRO 2'!S$34,'DATA MAESTRO 2'!S$35,'DATA MAESTRO 2'!S$36,'DATA MAESTRO 2'!S$37,'DATA MAESTRO 2'!S$38,'DATA MAESTRO 2'!S$39,'DATA MAESTRO 2'!S$40,)","v":0},{"$f":"CHOOSE($B22,'DATA MAESTRO 2'!T$6,'DATA MAESTRO 2'!T$7,'DATA MAESTRO 2'!T$8,'DATA MAESTRO 2'!T$9,'DATA MAESTRO 2'!T$10,'DATA MAESTRO 2'!T$11,'DATA MAESTRO 2'!T$12,'DATA MAESTRO 2'!T$13,'DATA MAESTRO 2'!T$14,'DATA MAESTRO 2'!T$15,'DATA MAESTRO 2'!T$16,'DATA MAESTRO 2'!T$17,'DATA MAESTRO 2'!T$18,'DATA MAESTRO 2'!T$19,'DATA MAESTRO 2'!T$20,'DATA MAESTRO 2'!T$21,'DATA MAESTRO 2'!T$22,'DATA MAESTRO 2'!T$23,'DATA MAESTRO 2'!T$24,'DATA MAESTRO 2'!T$25,'DATA MAESTRO 2'!T$26,'DATA MAESTRO 2'!T$27,'DATA MAESTRO 2'!T$28,'DATA MAESTRO 2'!T$29,'DATA MAESTRO 2'!T$30,'DATA MAESTRO 2'!T$31,'DATA MAESTRO 2'!T$32,'DATA MAESTRO 2'!T$33,'DATA MAESTRO 2'!T$34,'DATA MAESTRO 2'!T$35,'DATA MAESTRO 2'!T$36,'DATA MAESTRO 2'!T$37,'DATA MAESTRO 2'!T$38,'DATA MAESTRO 2'!T$39,'DATA MAESTRO 2'!T$40,)","v":0},{"$f":"CHOOSE($B22,'DATA MAESTRO 2'!U$6,'DATA MAESTRO 2'!U$7,'DATA MAESTRO 2'!U$8,'DATA MAESTRO 2'!U$9,'DATA MAESTRO 2'!U$10,'DATA MAESTRO 2'!U$11,'DATA MAESTRO 2'!U$12,'DATA MAESTRO 2'!U$13,'DATA MAESTRO 2'!U$14,'DATA MAESTRO 2'!U$15,'DATA MAESTRO 2'!U$16,'DATA MAESTRO 2'!U$17,'DATA MAESTRO 2'!U$18,'DATA MAESTRO 2'!U$19,'DATA MAESTRO 2'!U$20,'DATA MAESTRO 2'!U$21,'DATA MAESTRO 2'!U$22,'DATA MAESTRO 2'!U$23,'DATA MAESTRO 2'!U$24,'DATA MAESTRO 2'!U$25,'DATA MAESTRO 2'!U$26,'DATA MAESTRO 2'!U$27,'DATA MAESTRO 2'!U$28,'DATA MAESTRO 2'!U$29,'DATA MAESTRO 2'!U$30,'DATA MAESTRO 2'!U$31,'DATA MAESTRO 2'!U$32,'DATA MAESTRO 2'!U$33,'DATA MAESTRO 2'!U$34,'DATA MAESTRO 2'!U$35,'DATA MAESTRO 2'!U$36,'DATA MAESTRO 2'!U$37,'DATA MAESTRO 2'!U$38,'DATA MAESTRO 2'!U$39,'DATA MAESTRO 2'!U$40,)","v":0},{"$f":"CHOOSE($B22,'DATA MAESTRO 2'!V$6,'DATA MAESTRO 2'!V$7,'DATA MAESTRO 2'!V$8,'DATA MAESTRO 2'!V$9,'DATA MAESTRO 2'!V$10,'DATA MAESTRO 2'!V$11,'DATA MAESTRO 2'!V$12,'DATA MAESTRO 2'!V$13,'DATA MAESTRO 2'!V$14,'DATA MAESTRO 2'!V$15,'DATA MAESTRO 2'!V$16,'DATA MAESTRO 2'!V$17,'DATA MAESTRO 2'!V$18,'DATA MAESTRO 2'!V$19,'DATA MAESTRO 2'!V$20,'DATA MAESTRO 2'!V$21,'DATA MAESTRO 2'!V$22,'DATA MAESTRO 2'!V$23,'DATA MAESTRO 2'!V$24,'DATA MAESTRO 2'!V$25,'DATA MAESTRO 2'!V$26,'DATA MAESTRO 2'!V$27,'DATA MAESTRO 2'!V$28,'DATA MAESTRO 2'!V$29,'DATA MAESTRO 2'!V$30,'DATA MAESTRO 2'!V$31,'DATA MAESTRO 2'!V$32,'DATA MAESTRO 2'!V$33,'DATA MAESTRO 2'!V$34,'DATA MAESTRO 2'!V$35,'DATA MAESTRO 2'!V$36,'DATA MAESTRO 2'!V$37,'DATA MAESTRO 2'!V$38,'DATA MAESTRO 2'!V$39,'DATA MAESTRO 2'!V$40,)","v":0},{"$f":"CHOOSE($B22,'DATA MAESTRO 2'!W$6,'DATA MAESTRO 2'!W$7,'DATA MAESTRO 2'!W$8,'DATA MAESTRO 2'!W$9,'DATA MAESTRO 2'!W$10,'DATA MAESTRO 2'!W$11,'DATA MAESTRO 2'!W$12,'DATA MAESTRO 2'!W$13,'DATA MAESTRO 2'!W$14,'DATA MAESTRO 2'!W$15,'DATA MAESTRO 2'!W$16,'DATA MAESTRO 2'!W$17,'DATA MAESTRO 2'!W$18,'DATA MAESTRO 2'!W$19,'DATA MAESTRO 2'!W$20,'DATA MAESTRO 2'!W$21,'DATA MAESTRO 2'!W$22,'DATA MAESTRO 2'!W$23,'DATA MAESTRO 2'!W$24,'DATA MAESTRO 2'!W$25,'DATA MAESTRO 2'!W$26,'DATA MAESTRO 2'!W$27,'DATA MAESTRO 2'!W$28,'DATA MAESTRO 2'!W$29,'DATA MAESTRO 2'!W$30,'DATA MAESTRO 2'!W$31,'DATA MAESTRO 2'!W$32,'DATA MAESTRO 2'!W$33,'DATA MAESTRO 2'!W$34,'DATA MAESTRO 2'!W$35,'DATA MAESTRO 2'!W$36,'DATA MAESTRO 2'!W$37,'DATA MAESTRO 2'!W$38,'DATA MAESTRO 2'!W$39,'DATA MAESTRO 2'!W$40,)","v":0},{"$f":"CHOOSE($B22,'DATA MAESTRO 2'!X$6,'DATA MAESTRO 2'!X$7,'DATA MAESTRO 2'!X$8,'DATA MAESTRO 2'!X$9,'DATA MAESTRO 2'!X$10,'DATA MAESTRO 2'!X$11,'DATA MAESTRO 2'!X$12,'DATA MAESTRO 2'!X$13,'DATA MAESTRO 2'!X$14,'DATA MAESTRO 2'!X$15,'DATA MAESTRO 2'!X$16,'DATA MAESTRO 2'!X$17,'DATA MAESTRO 2'!X$18,'DATA MAESTRO 2'!X$19,'DATA MAESTRO 2'!X$20,'DATA MAESTRO 2'!X$21,'DATA MAESTRO 2'!X$22,'DATA MAESTRO 2'!X$23,'DATA MAESTRO 2'!X$24,'DATA MAESTRO 2'!X$25,'DATA MAESTRO 2'!X$26,'DATA MAESTRO 2'!X$27,'DATA MAESTRO 2'!X$28,'DATA MAESTRO 2'!X$29,'DATA MAESTRO 2'!X$30,'DATA MAESTRO 2'!X$31,'DATA MAESTRO 2'!X$32,'DATA MAESTRO 2'!X$33,'DATA MAESTRO 2'!X$34,'DATA MAESTRO 2'!X$35,'DATA MAESTRO 2'!X$36,'DATA MAESTRO 2'!X$37,'DATA MAESTRO 2'!X$38,'DATA MAESTRO 2'!X$39,'DATA MAESTRO 2'!X$40,)","v":0},{"$f":"CHOOSE($B22,'DATA MAESTRO 2'!Y$6,'DATA MAESTRO 2'!Y$7,'DATA MAESTRO 2'!Y$8,'DATA MAESTRO 2'!Y$9,'DATA MAESTRO 2'!Y$10,'DATA MAESTRO 2'!Y$11,'DATA MAESTRO 2'!Y$12,'DATA MAESTRO 2'!Y$13,'DATA MAESTRO 2'!Y$14,'DATA MAESTRO 2'!Y$15,'DATA MAESTRO 2'!Y$16,'DATA MAESTRO 2'!Y$17,'DATA MAESTRO 2'!Y$18,'DATA MAESTRO 2'!Y$19,'DATA MAESTRO 2'!Y$20,'DATA MAESTRO 2'!Y$21,'DATA MAESTRO 2'!Y$22,'DATA MAESTRO 2'!Y$23,'DATA MAESTRO 2'!Y$24,'DATA MAESTRO 2'!Y$25,'DATA MAESTRO 2'!Y$26,'DATA MAESTRO 2'!Y$27,'DATA MAESTRO 2'!Y$28,'DATA MAESTRO 2'!Y$29,'DATA MAESTRO 2'!Y$30,'DATA MAESTRO 2'!Y$31,'DATA MAESTRO 2'!Y$32,'DATA MAESTRO 2'!Y$33,'DATA MAESTRO 2'!Y$34,'DATA MAESTRO 2'!Y$35,'DATA MAESTRO 2'!Y$36,'DATA MAESTRO 2'!Y$37,'DATA MAESTRO 2'!Y$38,'DATA MAESTRO 2'!Y$39,'DATA MAESTRO 2'!Y$40,)","v":0},{"$f":"CHOOSE($B22,'DATA MAESTRO 2'!Z$6,'DATA MAESTRO 2'!Z$7,'DATA MAESTRO 2'!Z$8,'DATA MAESTRO 2'!Z$9,'DATA MAESTRO 2'!Z$10,'DATA MAESTRO 2'!Z$11,'DATA MAESTRO 2'!Z$12,'DATA MAESTRO 2'!Z$13,'DATA MAESTRO 2'!Z$14,'DATA MAESTRO 2'!Z$15,'DATA MAESTRO 2'!Z$16,'DATA MAESTRO 2'!Z$17,'DATA MAESTRO 2'!Z$18,'DATA MAESTRO 2'!Z$19,'DATA MAESTRO 2'!Z$20,'DATA MAESTRO 2'!Z$21,'DATA MAESTRO 2'!Z$22,'DATA MAESTRO 2'!Z$23,'DATA MAESTRO 2'!Z$24,'DATA MAESTRO 2'!Z$25,'DATA MAESTRO 2'!Z$26,'DATA MAESTRO 2'!Z$27,'DATA MAESTRO 2'!Z$28,'DATA MAESTRO 2'!Z$29,'DATA MAESTRO 2'!Z$30,'DATA MAESTRO 2'!Z$31,'DATA MAESTRO 2'!Z$32,'DATA MAESTRO 2'!Z$33,'DATA MAESTRO 2'!Z$34,'DATA MAESTRO 2'!Z$35,'DATA MAESTRO 2'!Z$36,'DATA MAESTRO 2'!Z$37,'DATA MAESTRO 2'!Z$38,'DATA MAESTRO 2'!Z$39,'DATA MAESTRO 2'!Z$40,)","v":0},{"$f":"CHOOSE($B22,'DATA MAESTRO 2'!AA$6,'DATA MAESTRO 2'!AA$7,'DATA MAESTRO 2'!AA$8,'DATA MAESTRO 2'!AA$9,'DATA MAESTRO 2'!AA$10,'DATA MAESTRO 2'!AA$11,'DATA MAESTRO 2'!AA$12,'DATA MAESTRO 2'!AA$13,'DATA MAESTRO 2'!AA$14,'DATA MAESTRO 2'!AA$15,'DATA MAESTRO 2'!AA$16,'DATA MAESTRO 2'!AA$17,'DATA MAESTRO 2'!AA$18,'DATA MAESTRO 2'!AA$19,'DATA MAESTRO 2'!AA$20,'DATA MAESTRO 2'!AA$21,'DATA MAESTRO 2'!AA$22,'DATA MAESTRO 2'!AA$23,'DATA MAESTRO 2'!AA$24,'DATA MAESTRO 2'!AA$25,'DATA MAESTRO 2'!AA$26,'DATA MAESTRO 2'!AA$27,'DATA MAESTRO 2'!AA$28,'DATA MAESTRO 2'!AA$29,'DATA MAESTRO 2'!AA$30,'DATA MAESTRO 2'!AA$31,'DATA MAESTRO 2'!AA$32,'DATA MAESTRO 2'!AA$33,'DATA MAESTRO 2'!AA$34,'DATA MAESTRO 2'!AA$35,'DATA MAESTRO 2'!AA$36,'DATA MAESTRO 2'!AA$37,'DATA MAESTRO 2'!AA$38,'DATA MAESTRO 2'!AA$39,'DATA MAESTRO 2'!AA$40,)","v":0},{"$f":"CHOOSE($B22,'DATA MAESTRO 2'!AB$6,'DATA MAESTRO 2'!AB$7,'DATA MAESTRO 2'!AB$8,'DATA MAESTRO 2'!AB$9,'DATA MAESTRO 2'!AB$10,'DATA MAESTRO 2'!AB$11,'DATA MAESTRO 2'!AB$12,'DATA MAESTRO 2'!AB$13,'DATA MAESTRO 2'!AB$14,'DATA MAESTRO 2'!AB$15,'DATA MAESTRO 2'!AB$16,'DATA MAESTRO 2'!AB$17,'DATA MAESTRO 2'!AB$18,'DATA MAESTRO 2'!AB$19,'DATA MAESTRO 2'!AB$20,'DATA MAESTRO 2'!AB$21,'DATA MAESTRO 2'!AB$22,'DATA MAESTRO 2'!AB$23,'DATA MAESTRO 2'!AB$24,'DATA MAESTRO 2'!AB$25,'DATA MAESTRO 2'!AB$26,'DATA MAESTRO 2'!AB$27,'DATA MAESTRO 2'!AB$28,'DATA MAESTRO 2'!AB$29,'DATA MAESTRO 2'!AB$30,'DATA MAESTRO 2'!AB$31,'DATA MAESTRO 2'!AB$32,'DATA MAESTRO 2'!AB$33,'DATA MAESTRO 2'!AB$34,'DATA MAESTRO 2'!AB$35,'DATA MAESTRO 2'!AB$36,'DATA MAESTRO 2'!AB$37,'DATA MAESTRO 2'!AB$38,'DATA MAESTRO 2'!AB$39,'DATA MAESTRO 2'!AB$40,)","v":0},{"$f":"CHOOSE($B22,'DATA MAESTRO 2'!AC$6,'DATA MAESTRO 2'!AC$7,'DATA MAESTRO 2'!AC$8,'DATA MAESTRO 2'!AC$9,'DATA MAESTRO 2'!AC$10,'DATA MAESTRO 2'!AC$11,'DATA MAESTRO 2'!AC$12,'DATA MAESTRO 2'!AC$13,'DATA MAESTRO 2'!AC$14,'DATA MAESTRO 2'!AC$15,'DATA MAESTRO 2'!AC$16,'DATA MAESTRO 2'!AC$17,'DATA MAESTRO 2'!AC$18,'DATA MAESTRO 2'!AC$19,'DATA MAESTRO 2'!AC$20,'DATA MAESTRO 2'!AC$21,'DATA MAESTRO 2'!AC$22,'DATA MAESTRO 2'!AC$23,'DATA MAESTRO 2'!AC$24,'DATA MAESTRO 2'!AC$25,'DATA MAESTRO 2'!AC$26,'DATA MAESTRO 2'!AC$27,'DATA MAESTRO 2'!AC$28,'DATA MAESTRO 2'!AC$29,'DATA MAESTRO 2'!AC$30,'DATA MAESTRO 2'!AC$31,'DATA MAESTRO 2'!AC$32,'DATA MAESTRO 2'!AC$33,'DATA MAESTRO 2'!AC$34,'DATA MAESTRO 2'!AC$35,'DATA MAESTRO 2'!AC$36,'DATA MAESTRO 2'!AC$37,'DATA MAESTRO 2'!AC$38,'DATA MAESTRO 2'!AC$39,'DATA MAESTRO 2'!AC$40,)","v":0},{"$f":"CHOOSE($B22,'DATA MAESTRO 2'!AD$6,'DATA MAESTRO 2'!AD$7,'DATA MAESTRO 2'!AD$8,'DATA MAESTRO 2'!AD$9,'DATA MAESTRO 2'!AD$10,'DATA MAESTRO 2'!AD$11,'DATA MAESTRO 2'!AD$12,'DATA MAESTRO 2'!AD$13,'DATA MAESTRO 2'!AD$14,'DATA MAESTRO 2'!AD$15,'DATA MAESTRO 2'!AD$16,'DATA MAESTRO 2'!AD$17,'DATA MAESTRO 2'!AD$18,'DATA MAESTRO 2'!AD$19,'DATA MAESTRO 2'!AD$20,'DATA MAESTRO 2'!AD$21,'DATA MAESTRO 2'!AD$22,'DATA MAESTRO 2'!AD$23,'DATA MAESTRO 2'!AD$24,'DATA MAESTRO 2'!AD$25,'DATA MAESTRO 2'!AD$26,'DATA MAESTRO 2'!AD$27,'DATA MAESTRO 2'!AD$28,'DATA MAESTRO 2'!AD$29,'DATA MAESTRO 2'!AD$30,'DATA MAESTRO 2'!AD$31,'DATA MAESTRO 2'!AD$32,'DATA MAESTRO 2'!AD$33,'DATA MAESTRO 2'!AD$34,'DATA MAESTRO 2'!AD$35,'DATA MAESTRO 2'!AD$36,'DATA MAESTRO 2'!AD$37,'DATA MAESTRO 2'!AD$38,'DATA MAESTRO 2'!AD$39,'DATA MAESTRO 2'!AD$40,)","v":0},{"$f":"CHOOSE($B22,'DATA MAESTRO 2'!AE$6,'DATA MAESTRO 2'!AE$7,'DATA MAESTRO 2'!AE$8,'DATA MAESTRO 2'!AE$9,'DATA MAESTRO 2'!AE$10,'DATA MAESTRO 2'!AE$11,'DATA MAESTRO 2'!AE$12,'DATA MAESTRO 2'!AE$13,'DATA MAESTRO 2'!AE$14,'DATA MAESTRO 2'!AE$15,'DATA MAESTRO 2'!AE$16,'DATA MAESTRO 2'!AE$17,'DATA MAESTRO 2'!AE$18,'DATA MAESTRO 2'!AE$19,'DATA MAESTRO 2'!AE$20,'DATA MAESTRO 2'!AE$21,'DATA MAESTRO 2'!AE$22,'DATA MAESTRO 2'!AE$23,'DATA MAESTRO 2'!AE$24,'DATA MAESTRO 2'!AE$25,'DATA MAESTRO 2'!AE$26,'DATA MAESTRO 2'!AE$27,'DATA MAESTRO 2'!AE$28,'DATA MAESTRO 2'!AE$29,'DATA MAESTRO 2'!AE$30,'DATA MAESTRO 2'!AE$31,'DATA MAESTRO 2'!AE$32,'DATA MAESTRO 2'!AE$33,'DATA MAESTRO 2'!AE$34,'DATA MAESTRO 2'!AE$35,'DATA MAESTRO 2'!AE$36,'DATA MAESTRO 2'!AE$37,'DATA MAESTRO 2'!AE$38,'DATA MAESTRO 2'!AE$39,'DATA MAESTRO 2'!AE$40,)","v":0},{"$f":"CHOOSE($B22,'DATA MAESTRO 2'!AF$6,'DATA MAESTRO 2'!AF$7,'DATA MAESTRO 2'!AF$8,'DATA MAESTRO 2'!AF$9,'DATA MAESTRO 2'!AF$10,'DATA MAESTRO 2'!AF$11,'DATA MAESTRO 2'!AF$12,'DATA MAESTRO 2'!AF$13,'DATA MAESTRO 2'!AF$14,'DATA MAESTRO 2'!AF$15,'DATA MAESTRO 2'!AF$16,'DATA MAESTRO 2'!AF$17,'DATA MAESTRO 2'!AF$18,'DATA MAESTRO 2'!AF$19,'DATA MAESTRO 2'!AF$20,'DATA MAESTRO 2'!AF$21,'DATA MAESTRO 2'!AF$22,'DATA MAESTRO 2'!AF$23,'DATA MAESTRO 2'!AF$24,'DATA MAESTRO 2'!AF$25,'DATA MAESTRO 2'!AF$26,'DATA MAESTRO 2'!AF$27,'DATA MAESTRO 2'!AF$28,'DATA MAESTRO 2'!AF$29,'DATA MAESTRO 2'!AF$30,'DATA MAESTRO 2'!AF$31,'DATA MAESTRO 2'!AF$32,'DATA MAESTRO 2'!AF$33,'DATA MAESTRO 2'!AF$34,'DATA MAESTRO 2'!AF$35,'DATA MAESTRO 2'!AF$36,'DATA MAESTRO 2'!AF$37,'DATA MAESTRO 2'!AF$38,'DATA MAESTRO 2'!AF$39,'DATA MAESTRO 2'!AF$40,)","v":0},{"$f":"CHOOSE($B22,'DATA MAESTRO 2'!AG$6,'DATA MAESTRO 2'!AG$7,'DATA MAESTRO 2'!AG$8,'DATA MAESTRO 2'!AG$9,'DATA MAESTRO 2'!AG$10,'DATA MAESTRO 2'!AG$11,'DATA MAESTRO 2'!AG$12,'DATA MAESTRO 2'!AG$13,'DATA MAESTRO 2'!AG$14,'DATA MAESTRO 2'!AG$15,'DATA MAESTRO 2'!AG$16,'DATA MAESTRO 2'!AG$17,'DATA MAESTRO 2'!AG$18,'DATA MAESTRO 2'!AG$19,'DATA MAESTRO 2'!AG$20,'DATA MAESTRO 2'!AG$21,'DATA MAESTRO 2'!AG$22,'DATA MAESTRO 2'!AG$23,'DATA MAESTRO 2'!AG$24,'DATA MAESTRO 2'!AG$25,'DATA MAESTRO 2'!AG$26,'DATA MAESTRO 2'!AG$27,'DATA MAESTRO 2'!AG$28,'DATA MAESTRO 2'!AG$29,'DATA MAESTRO 2'!AG$30,'DATA MAESTRO 2'!AG$31,'DATA MAESTRO 2'!AG$32,'DATA MAESTRO 2'!AG$33,'DATA MAESTRO 2'!AG$34,'DATA MAESTRO 2'!AG$35,'DATA MAESTRO 2'!AG$36,'DATA MAESTRO 2'!AG$37,'DATA MAESTRO 2'!AG$38,'DATA MAESTRO 2'!AG$39,'DATA MAESTRO 2'!AG$40,)","v":0},{"$f":"CHOOSE($B22,'DATA MAESTRO 2'!AH$6,'DATA MAESTRO 2'!AH$7,'DATA MAESTRO 2'!AH$8,'DATA MAESTRO 2'!AH$9,'DATA MAESTRO 2'!AH$10,'DATA MAESTRO 2'!AH$11,'DATA MAESTRO 2'!AH$12,'DATA MAESTRO 2'!AH$13,'DATA MAESTRO 2'!AH$14,'DATA MAESTRO 2'!AH$15,'DATA MAESTRO 2'!AH$16,'DATA MAESTRO 2'!AH$17,'DATA MAESTRO 2'!AH$18,'DATA MAESTRO 2'!AH$19,'DATA MAESTRO 2'!AH$20,'DATA MAESTRO 2'!AH$21,'DATA MAESTRO 2'!AH$22,'DATA MAESTRO 2'!AH$23,'DATA MAESTRO 2'!AH$24,'DATA MAESTRO 2'!AH$25,'DATA MAESTRO 2'!AH$26,'DATA MAESTRO 2'!AH$27,'DATA MAESTRO 2'!AH$28,'DATA MAESTRO 2'!AH$29,'DATA MAESTRO 2'!AH$30,'DATA MAESTRO 2'!AH$31,'DATA MAESTRO 2'!AH$32,'DATA MAESTRO 2'!AH$33,'DATA MAESTRO 2'!AH$34,'DATA MAESTRO 2'!AH$35,'DATA MAESTRO 2'!AH$36,'DATA MAESTRO 2'!AH$37,'DATA MAESTRO 2'!AH$38,'DATA MAESTRO 2'!AH$39,'DATA MAESTRO 2'!AH$40,)","v":0},{"$f":"CHOOSE($B22,'DATA MAESTRO 2'!AI$6,'DATA MAESTRO 2'!AI$7,'DATA MAESTRO 2'!AI$8,'DATA MAESTRO 2'!AI$9,'DATA MAESTRO 2'!AI$10,'DATA MAESTRO 2'!AI$11,'DATA MAESTRO 2'!AI$12,'DATA MAESTRO 2'!AI$13,'DATA MAESTRO 2'!AI$14,'DATA MAESTRO 2'!AI$15,'DATA MAESTRO 2'!AI$16,'DATA MAESTRO 2'!AI$17,'DATA MAESTRO 2'!AI$18,'DATA MAESTRO 2'!AI$19,'DATA MAESTRO 2'!AI$20,'DATA MAESTRO 2'!AI$21,'DATA MAESTRO 2'!AI$22,'DATA MAESTRO 2'!AI$23,'DATA MAESTRO 2'!AI$24,'DATA MAESTRO 2'!AI$25,'DATA MAESTRO 2'!AI$26,'DATA MAESTRO 2'!AI$27,'DATA MAESTRO 2'!AI$28,'DATA MAESTRO 2'!AI$29,'DATA MAESTRO 2'!AI$30,'DATA MAESTRO 2'!AI$31,'DATA MAESTRO 2'!AI$32,'DATA MAESTRO 2'!AI$33,'DATA MAESTRO 2'!AI$34,'DATA MAESTRO 2'!AI$35,'DATA MAESTRO 2'!AI$36,'DATA MAESTRO 2'!AI$37,'DATA MAESTRO 2'!AI$38,'DATA MAESTRO 2'!AI$39,'DATA MAESTRO 2'!AI$40,)","v":0},{"$f":"CHOOSE($B22,'DATA MAESTRO 2'!AJ$6,'DATA MAESTRO 2'!AJ$7,'DATA MAESTRO 2'!AJ$8,'DATA MAESTRO 2'!AJ$9,'DATA MAESTRO 2'!AJ$10,'DATA MAESTRO 2'!AJ$11,'DATA MAESTRO 2'!AJ$12,'DATA MAESTRO 2'!AJ$13,'DATA MAESTRO 2'!AJ$14,'DATA MAESTRO 2'!AJ$15,'DATA MAESTRO 2'!AJ$16,'DATA MAESTRO 2'!AJ$17,'DATA MAESTRO 2'!AJ$18,'DATA MAESTRO 2'!AJ$19,'DATA MAESTRO 2'!AJ$20,'DATA MAESTRO 2'!AJ$21,'DATA MAESTRO 2'!AJ$22,'DATA MAESTRO 2'!AJ$23,'DATA MAESTRO 2'!AJ$24,'DATA MAESTRO 2'!AJ$25,'DATA MAESTRO 2'!AJ$26,'DATA MAESTRO 2'!AJ$27,'DATA MAESTRO 2'!AJ$28,'DATA MAESTRO 2'!AJ$29,'DATA MAESTRO 2'!AJ$30,'DATA MAESTRO 2'!AJ$31,'DATA MAESTRO 2'!AJ$32,'DATA MAESTRO 2'!AJ$33,'DATA MAESTRO 2'!AJ$34,'DATA MAESTRO 2'!AJ$35,'DATA MAESTRO 2'!AJ$36,'DATA MAESTRO 2'!AJ$37,'DATA MAESTRO 2'!AJ$38,'DATA MAESTRO 2'!AJ$39,'DATA MAESTRO 2'!AJ$40,)","v":0}]
[21,3,{"$f":"+IF(AND(B23>=1,B23<=23),VLOOKUP(B23,'DATA MAESTRO 2'!$A$43:$B$65,2),0)","v":"Chala con choclo"},{"$f":"+CHOOSE($B23,'DATA MAESTRO 2'!C$43,'DATA MAESTRO 2'!C$44,'DATA MAESTRO 2'!C$45,'DATA MAESTRO 2'!C$46,'DATA MAESTRO 2'!C$47,'DATA MAESTRO 2'!C$48,'DATA MAESTRO 2'!C$49,'DATA MAESTRO 2'!C$50,'DATA MAESTRO 2'!C$51,'DATA MAESTRO 2'!C$52,'DATA MAESTRO 2'!C$53,'DATA MAESTRO 2'!C$54,'DATA MAESTRO 2'!C$55,'DATA MAESTRO 2'!C$56,'DATA MAESTRO 2'!C$57,'DATA MAESTRO 2'!C$58,'DATA MAESTRO 2'!C$59,'DATA MAESTRO 2'!C$60,'DATA MAESTRO 2'!C$61,'DATA MAESTRO 2'!C$62,'DATA MAESTRO 2'!C$63,'DATA MAESTRO 2'!C$64,'DATA MAESTRO 2'!C$65)","v":0},{"$f":"CHOOSE($B23,'DATA MAESTRO 2'!D$43,'DATA MAESTRO 2'!D$44,'DATA MAESTRO 2'!D$45,'DATA MAESTRO 2'!D$46,'DATA MAESTRO 2'!D$47,'DATA MAESTRO 2'!D$48,'DATA MAESTRO 2'!D$49,'DATA MAESTRO 2'!D$50,'DATA MAESTRO 2'!D$51,'DATA MAESTRO 2'!D$52,'DATA MAESTRO 2'!D$53,'DATA MAESTRO 2'!D$54,'DATA MAESTRO 2'!D$55,'DATA MAESTRO 2'!D$56,'DATA MAESTRO 2'!D$57,'DATA MAESTRO 2'!D$58,'DATA MAESTRO 2'!D$59,'DATA MAESTRO 2'!D$60,'DATA MAESTRO 2'!D$61,'DATA MAESTRO 2'!D$62,'DATA MAESTRO 2'!D$63,'DATA MAESTRO 2'!D$64,'DATA MAESTRO 2'!D$65)","v":0.26},{"$f":"CHOOSE($B23,'DATA MAESTRO 2'!E$43,'DATA MAESTRO 2'!E$44,'DATA MAESTRO 2'!E$45,'DATA MAESTRO 2'!E$46,'DATA MAESTRO 2'!E$47,'DATA MAESTRO 2'!E$48,'DATA MAESTRO 2'!E$49,'DATA MAESTRO 2'!E$50,'DATA MAESTRO 2'!E$51,'DATA MAESTRO 2'!E$52,'DATA MAESTRO 2'!E$53,'DATA MAESTRO 2'!E$54,'DATA MAESTRO 2'!E$55,'DATA MAESTRO 2'!E$56,'DATA MAESTRO 2'!E$57,'DATA MAESTRO 2'!E$58,'DATA MAESTRO 2'!E$59,'DATA MAESTRO 2'!E$60,'DATA MAESTRO 2'!E$61,'DATA MAESTRO 2'!E$62,'DATA MAESTRO 2'!E$63,'DATA MAESTRO 2'!E$64,'DATA MAESTRO 2'!E$65)","v":0.65},{"$f":"CHOOSE($B23,'DATA MAESTRO 2'!F$43,'DATA MAESTRO 2'!F$44,'DATA MAESTRO 2'!F$45,'DATA MAESTRO 2'!F$46,'DATA MAESTRO 2'!F$47,'DATA MAESTRO 2'!F$48,'DATA MAESTRO 2'!F$49,'DATA MAESTRO 2'!F$50,'DATA MAESTRO 2'!F$51,'DATA MAESTRO 2'!F$52,'DATA MAESTRO 2'!F$53,'DATA MAESTRO 2'!F$54,'DATA MAESTRO 2'!F$55,'DATA MAESTRO 2'!F$56,'DATA MAESTRO 2'!F$57,'DATA MAESTRO 2'!F$58,'DATA MAESTRO 2'!F$59,'DATA MAESTRO 2'!F$60,'DATA MAESTRO 2'!F$61,'DATA MAESTRO 2'!F$62,'DATA MAESTRO 2'!F$63,'DATA MAESTRO 2'!F$64,'DATA MAESTRO 2'!F$65)","v":9.7000000000000017E-2},{"$f":"CHOOSE($B23,'DATA MAESTRO 2'!G$43,'DATA MAESTRO 2'!G$44,'DATA MAESTRO 2'!G$45,'DATA MAESTRO 2'!G$46,'DATA MAESTRO 2'!G$47,'DATA MAESTRO 2'!G$48,'DATA MAESTRO 2'!G$49,'DATA MAESTRO 2'!G$50,'DATA MAESTRO 2'!G$51,'DATA MAESTRO 2'!G$52,'DATA MAESTRO 2'!G$53,'DATA MAESTRO 2'!G$54,'DATA MAESTRO 2'!G$55,'DATA MAESTRO 2'!G$56,'DATA MAESTRO 2'!G$57,'DATA MAESTRO 2'!G$58,'DATA MAESTRO 2'!G$59,'DATA MAESTRO 2'!G$60,'DATA MAESTRO 2'!G$61,'DATA MAESTRO 2'!G$62,'DATA MAESTRO 2'!G$63,'DATA MAESTRO 2'!G$64,'DATA MAESTRO 2'!G$65)","v":0.3},{"$f":"CHOOSE($B23,'DATA MAESTRO 2'!H$43,'DATA MAESTRO 2'!H$44,'DATA MAESTRO 2'!H$45,'DATA MAESTRO 2'!H$46,'DATA MAESTRO 2'!H$47,'DATA MAESTRO 2'!H$48,'DATA MAESTRO 2'!H$49,'DATA MAESTRO 2'!H$50,'DATA MAESTRO 2'!H$51,'DATA MAESTRO 2'!H$52,'DATA MAESTRO 2'!H$53,'DATA MAESTRO 2'!H$54,'DATA MAESTRO 2'!H$55,'DATA MAESTRO 2'!H$56,'DATA MAESTRO 2'!H$57,'DATA MAESTRO 2'!H$58,'DATA MAESTRO 2'!H$59,'DATA MAESTRO 2'!H$60,'DATA MAESTRO 2'!H$61,'DATA MAESTRO 2'!H$62,'DATA MAESTRO 2'!H$63,'DATA MAESTRO 2'!H$64,'DATA MAESTRO 2'!H$65)","v":0.52},{"$f":"CHOOSE($B23,'DATA MAESTRO 2'!I$43,'DATA MAESTRO 2'!I$44,'DATA MAESTRO 2'!I$45,'DATA MAESTRO 2'!I$46,'DATA MAESTRO 2'!I$47,'DATA MAESTRO 2'!I$48,'DATA MAESTRO 2'!I$49,'DATA MAESTRO 2'!I$50,'DATA MAESTRO 2'!I$51,'DATA MAESTRO 2'!I$52,'DATA MAESTRO 2'!I$53,'DATA MAESTRO 2'!I$54,'DATA MAESTRO 2'!I$55,'DATA MAESTRO 2'!I$56,'DATA MAESTRO 2'!I$57,'DATA MAESTRO 2'!I$58,'DATA MAESTRO 2'!I$59,'DATA MAESTRO 2'!I$60,'DATA MAESTRO 2'!I$61,'DATA MAESTRO 2'!I$62,'DATA MAESTRO 2'!I$63,'DATA MAESTRO 2'!I$64,'DATA MAESTRO 2'!I$65)","v":0.32},{"$f":"CHOOSE($B23,'DATA MAESTRO 2'!J$43,'DATA MAESTRO 2'!J$44,'DATA MAESTRO 2'!J$45,'DATA MAESTRO 2'!J$46,'DATA MAESTRO 2'!J$47,'DATA MAESTRO 2'!J$48,'DATA MAESTRO 2'!J$49,'DATA MAESTRO 2'!J$50,'DATA MAESTRO 2'!J$51,'DATA MAESTRO 2'!J$52,'DATA MAESTRO 2'!J$53,'DATA MAESTRO 2'!J$54,'DATA MAESTRO 2'!J$55,'DATA MAESTRO 2'!J$56,'DATA MAESTRO 2'!J$57,'DATA MAESTRO 2'!J$58,'DATA MAESTRO 2'!J$59,'DATA MAESTRO 2'!J$60,'DATA MAESTRO 2'!J$61,'DATA MAESTRO 2'!J$62,'DATA MAESTRO 2'!J$63,'DATA MAESTRO 2'!J$64,'DATA MAESTRO 2'!J$65)","v":2.5000000000000001E-3},{"$f":"CHOOSE($B23,'DATA MAESTRO 2'!K$43,'DATA MAESTRO 2'!K$44,'DATA MAESTRO 2'!K$45,'DATA MAESTRO 2'!K$46,'DATA MAESTRO 2'!K$47,'DATA MAESTRO 2'!K$48,'DATA MAESTRO 2'!K$49,'DATA MAESTRO 2'!K$50,'DATA MAESTRO 2'!K$51,'DATA MAESTRO 2'!K$52,'DATA MAESTRO 2'!K$53,'DATA MAESTRO 2'!K$54,'DATA MAESTRO 2'!K$55,'DATA MAESTRO 2'!K$56,'DATA MAESTRO 2'!K$57,'DATA MAESTRO 2'!K$58,'DATA MAESTRO 2'!K$59,'DATA MAESTRO 2'!K$60,'DATA MAESTRO 2'!K$61,'DATA MAESTRO 2'!K$62,'DATA MAESTRO 2'!K$63,'DATA MAESTRO 2'!K$64,'DATA MAESTRO 2'!K$65)","v":2.3E-3},{"$f":"CHOOSE($B23,'DATA MAESTRO 2'!L$43,'DATA MAESTRO 2'!L$44,'DATA MAESTRO 2'!L$45,'DATA MAESTRO 2'!L$46,'DATA MAESTRO 2'!L$47,'DATA MAESTRO 2'!L$48,'DATA MAESTRO 2'!L$49,'DATA MAESTRO 2'!L$50,'DATA MAESTRO 2'!L$51,'DATA MAESTRO 2'!L$52,'DATA MAESTRO 2'!L$53,'DATA MAESTRO 2'!L$54,'DATA MAESTRO 2'!L$55,'DATA MAESTRO 2'!L$56,'DATA MAESTRO 2'!L$57,'DATA MAESTRO 2'!L$58,'DATA MAESTRO 2'!L$59,'DATA MAESTRO 2'!L$60,'DATA MAESTRO 2'!L$61,'DATA MAESTRO 2'!L$62,'DATA MAESTRO 2'!L$63,'DATA MAESTRO 2'!L$64,'DATA MAESTRO 2'!L$65)","v":2.3499969999999997},{"$f":"CHOOSE($B23,'DATA MAESTRO 2'!M$43,'DATA MAESTRO 2'!M$44,'DATA MAESTRO 2'!M$45,'DATA MAESTRO 2'!M$46,'DATA MAESTRO 2'!M$47,'DATA MAESTRO 2'!M$48,'DATA MAESTRO 2'!M$49,'DATA MAESTRO 2'!M$50,'DATA MAESTRO 2'!M$51,'DATA MAESTRO 2'!M$52,'DATA MAESTRO 2'!M$53,'DATA MAESTRO 2'!M$54,'DATA MAESTRO 2'!M$55,'DATA MAESTRO 2'!M$56,'DATA MAESTRO 2'!M$57,'DATA MAESTRO 2'!M$58,'DATA MAESTRO 2'!M$59,'DATA MAESTRO 2'!M$60,'DATA MAESTRO 2'!M$61,'DATA MAESTRO 2'!M$62,'DATA MAESTRO 2'!M$63,'DATA MAESTRO 2'!M$64,'DATA MAESTRO 2'!M$65)","v":1.2494262985999995},{"$f":"CHOOSE($B23,'DATA MAESTRO 2'!N$43,'DATA MAESTRO 2'!N$44,'DATA MAESTRO 2'!N$45,'DATA MAESTRO 2'!N$46,'DATA MAESTRO 2'!N$47,'DATA MAESTRO 2'!N$48,'DATA MAESTRO 2'!N$49,'DATA MAESTRO 2'!N$50,'DATA MAESTRO 2'!N$51,'DATA MAESTRO 2'!N$52,'DATA MAESTRO 2'!N$53,'DATA MAESTRO 2'!N$54,'DATA MAESTRO 2'!N$55,'DATA MAESTRO 2'!N$56,'DATA MAESTRO 2'!N$57,'DATA MAESTRO 2'!N$58,'DATA MAESTRO 2'!N$59,'DATA MAESTRO 2'!N$60,'DATA MAESTRO 2'!N$61,'DATA MAESTRO 2'!N$62,'DATA MAESTRO 2'!N$63,'DATA MAESTRO 2'!N$64,'DATA MAESTRO 2'!N$65)","v":1.4725000000000001},{"$f":"CHOOSE($B23,'DATA MAESTRO 2'!O$43,'DATA MAESTRO 2'!O$44,'DATA MAESTRO 2'!O$45,'DATA MAESTRO 2'!O$46,'DATA MAESTRO 2'!O$47,'DATA MAESTRO 2'!O$48,'DATA MAESTRO 2'!O$49,'DATA MAESTRO 2'!O$50,'DATA MAESTRO 2'!O$51,'DATA MAESTRO 2'!O$52,'DATA MAESTRO 2'!O$53,'DATA MAESTRO 2'!O$54,'DATA MAESTRO 2'!O$55,'DATA MAESTRO 2'!O$56,'DATA MAESTRO 2'!O$57,'DATA MAESTRO 2'!O$58,'DATA MAESTRO 2'!O$59,'DATA MAESTRO 2'!O$60,'DATA MAESTRO 2'!O$61,'DATA MAESTRO 2'!O$62,'DATA MAESTRO 2'!O$63,'DATA MAESTRO 2'!O$64,'DATA MAESTRO 2'!O$65)","v":1.7505213354999996},{"$f":"CHOOSE($B23,'DATA MAESTRO 2'!P$43,'DATA MAESTRO 2'!P$44,'DATA MAESTRO 2'!P$45,'DATA MAESTRO 2'!P$46,'DATA MAESTRO 2'!P$47,'DATA MAESTRO 2'!P$48,'DATA MAESTRO 2'!P$49,'DATA MAESTRO 2'!P$50,'DATA MAESTRO 2'!P$51,'DATA MAESTRO 2'!P$52,'DATA MAESTRO 2'!P$53,'DATA MAESTRO 2'!P$54,'DATA MAESTRO 2'!P$55,'DATA MAESTRO 2'!P$56,'DATA MAESTRO 2'!P$57,'DATA MAESTRO 2'!P$58,'DATA MAESTRO 2'!P$59,'DATA MAESTRO 2'!P$60,'DATA MAESTRO 2'!P$61,'DATA MAESTRO 2'!P$62,'DATA MAESTRO 2'!P$63,'DATA MAESTRO 2'!P$64,'DATA MAESTRO 2'!P$65)","v":0.02},{"$f":"CHOOSE($B23,'DATA MAESTRO 2'!Q$43,'DATA MAESTRO 2'!Q$44,'DATA MAESTRO 2'!Q$45,'DATA MAESTRO 2'!Q$46,'DATA MAESTRO 2'!Q$47,'DATA MAESTRO 2'!Q$48,'DATA MAESTRO 2'!Q$49,'DATA MAESTRO 2'!Q$50,'DATA MAESTRO 2'!Q$51,'DATA MAESTRO 2'!Q$52,'DATA MAESTRO 2'!Q$53,'DATA MAESTRO 2'!Q$54,'DATA MAESTRO 2'!Q$55,'DATA MAESTRO 2'!Q$56,'DATA MAESTRO 2'!Q$57,'DATA MAESTRO 2'!Q$58,'DATA MAESTRO 2'!Q$59,'DATA MAESTRO 2'!Q$60,'DATA MAESTRO 2'!Q$61,'DATA MAESTRO 2'!Q$62,'DATA MAESTRO 2'!Q$63,'DATA MAESTRO 2'!Q$64,'DATA MAESTRO 2'!Q$65)","v":0.36},{"$f":"CHOOSE($B23,'DATA MAESTRO 2'!R$43,'DATA MAESTRO 2'!R$44,'DATA MAESTRO 2'!R$45,'DATA MAESTRO 2'!R$46,'DATA MAESTRO 2'!R$47,'DATA MAESTRO 2'!R$48,'DATA MAESTRO 2'!R$49,'DATA MAESTRO 2'!R$50,'DATA MAESTRO 2'!R$51,'DATA MAESTRO 2'!R$52,'DATA MAESTRO 2'!R$53,'DATA MAESTRO 2'!R$54,'DATA MAESTRO 2'!R$55,'DATA MAESTRO 2'!R$56,'DATA MAESTRO 2'!R$57,'DATA MAESTRO 2'!R$58,'DATA MAESTRO 2'!R$59,'DATA MAESTRO 2'!R$60,'DATA MAESTRO 2'!R$61,'DATA MAESTRO 2'!R$62,'DATA MAESTRO 2'!R$63,'DATA MAESTRO 2'!R$64,'DATA MAESTRO 2'!R$65)","v":0.7},{"$f":"CHOOSE($B23,'DATA MAESTRO 2'!S$43,'DATA MAESTRO 2'!S$44,'DATA MAESTRO 2'!S$45,'DATA MAESTRO 2'!S$46,'DATA MAESTRO 2'!S$47,'DATA MAESTRO 2'!S$48,'DATA MAESTRO 2'!S$49,'DATA MAESTRO 2'!S$50,'DATA MAESTRO 2'!S$51,'DATA MAESTRO 2'!S$52,'DATA MAESTRO 2'!S$53,'DATA MAESTRO 2'!S$54,'DATA MAESTRO 2'!S$55,'DATA MAESTRO 2'!S$56,'DATA MAESTRO 2'!S$57,'DATA MAESTRO 2'!S$58,'DATA MAESTRO 2'!S$59,'DATA MAESTRO 2'!S$60,'DATA MAESTRO 2'!S$61,'DATA MAESTRO 2'!S$62,'DATA MAESTRO 2'!S$63,'DATA MAESTRO 2'!S$64,'DATA MAESTRO 2'!S$65)","v":0.3},{"$f":"CHOOSE($B23,'DATA MAESTRO 2'!T$43,'DATA MAESTRO 2'!T$44,'DATA MAESTRO 2'!T$45,'DATA MAESTRO 2'!T$46,'DATA MAESTRO 2'!T$47,'DATA MAESTRO 2'!T$48,'DATA MAESTRO 2'!T$49,'DATA MAESTRO 2'!T$50,'DATA MAESTRO 2'!T$51,'DATA MAESTRO 2'!T$52,'DATA MAESTRO 2'!T$53,'DATA MAESTRO 2'!T$54,'DATA MAESTRO 2'!T$55,'DATA MAESTRO 2'!T$56,'DATA MAESTRO 2'!T$57,'DATA MAESTRO 2'!T$58,'DATA MAESTRO 2'!T$59,'DATA MAESTRO 2'!T$60,'DATA MAESTRO 2'!T$61,'DATA MAESTRO 2'!T$62,'DATA MAESTRO 2'!T$63,'DATA MAESTRO 2'!T$64,'DATA MAESTRO 2'!T$65)","v":1E-4},{"$f":"CHOOSE($B23,'DATA MAESTRO 2'!U$43,'DATA MAESTRO 2'!U$44,'DATA MAESTRO 2'!U$45,'DATA MAESTRO 2'!U$46,'DATA MAESTRO 2'!U$47,'DATA MAESTRO 2'!U$48,'DATA MAESTRO 2'!U$49,'DATA MAESTRO 2'!U$50,'DATA MAESTRO 2'!U$51,'DATA MAESTRO 2'!U$52,'DATA MAESTRO 2'!U$53,'DATA MAESTRO 2'!U$54,'DATA MAESTRO 2'!U$55,'DATA MAESTRO 2'!U$56,'DATA MAESTRO 2'!U$57,'DATA MAESTRO 2'!U$58,'DATA MAESTRO 2'!U$59,'DATA MAESTRO 2'!U$60,'DATA MAESTRO 2'!U$61,'DATA MAESTRO 2'!U$62,'DATA MAESTRO 2'!U$63,'DATA MAESTRO 2'!U$64,'DATA MAESTRO 2'!U$65)","v":1.9E-3},{"$f":"CHOOSE($B23,'DATA MAESTRO 2'!V$43,'DATA MAESTRO 2'!V$44,'DATA MAESTRO 2'!V$45,'DATA MAESTRO 2'!V$46,'DATA MAESTRO 2'!V$47,'DATA MAESTRO 2'!V$48,'DATA MAESTRO 2'!V$49,'DATA MAESTRO 2'!V$50,'DATA MAESTRO 2'!V$51,'DATA MAESTRO 2'!V$52,'DATA MAESTRO 2'!V$53,'DATA MAESTRO 2'!V$54,'DATA MAESTRO 2'!V$55,'DATA MAESTRO 2'!V$56,'DATA MAESTRO 2'!V$57,'DATA MAESTRO 2'!V$58,'DATA MAESTRO 2'!V$59,'DATA MAESTRO 2'!V$60,'DATA MAESTRO 2'!V$61,'DATA MAESTRO 2'!V$62,'DATA MAESTRO 2'!V$63,'DATA MAESTRO 2'!V$64,'DATA MAESTRO 2'!V$65)","v":1.6E-2},{"$f":"CHOOSE($B23,'DATA MAESTRO 2'!W$43,'DATA MAESTRO 2'!W$44,'DATA MAESTRO 2'!W$45,'DATA MAESTRO 2'!W$46,'DATA MAESTRO 2'!W$47,'DATA MAESTRO 2'!W$48,'DATA MAESTRO 2'!W$49,'DATA MAESTRO 2'!W$50,'DATA MAESTRO 2'!W$51,'DATA MAESTRO 2'!W$52,'DATA MAESTRO 2'!W$53,'DATA MAESTRO 2'!W$54,'DATA MAESTRO 2'!W$55,'DATA MAESTRO 2'!W$56,'DATA MAESTRO 2'!W$57,'DATA MAESTRO 2'!W$58,'DATA MAESTRO 2'!W$59,'DATA MAESTRO 2'!W$60,'DATA MAESTRO 2'!W$61,'DATA MAESTRO 2'!W$62,'DATA MAESTRO 2'!W$63,'DATA MAESTRO 2'!W$64,'DATA MAESTRO 2'!W$65)","v":3.0000000000000001E-3},{"$f":"CHOOSE($B23,'DATA MAESTRO 2'!X$43,'DATA MAESTRO 2'!X$44,'DATA MAESTRO 2'!X$45,'DATA MAESTRO 2'!X$46,'DATA MAESTRO 2'!X$47,'DATA MAESTRO 2'!X$48,'DATA MAESTRO 2'!X$49,'DATA MAESTRO 2'!X$50,'DATA MAESTRO 2'!X$51,'DATA MAESTRO 2'!X$52,'DATA MAESTRO 2'!X$53,'DATA MAESTRO 2'!X$54,'DATA MAESTRO 2'!X$55,'DATA MAESTRO 2'!X$56,'DATA MAESTRO 2'!X$57,'DATA MAESTRO 2'!X$58,'DATA MAESTRO 2'!X$59,'DATA MAESTRO 2'!X$60,'DATA MAESTRO 2'!X$61,'DATA MAESTRO 2'!X$62,'DATA MAESTRO 2'!X$63,'DATA MAESTRO 2'!X$64,'DATA MAESTRO 2'!X$65)","v":1.1000000000000001E-3},{"$f":"CHOOSE($B23,'DATA MAESTRO 2'!Y$43,'DATA MAESTRO 2'!Y$44,'DATA MAESTRO 2'!Y$45,'DATA MAESTRO 2'!Y$46,'DATA MAESTRO 2'!Y$47,'DATA MAESTRO 2'!Y$48,'DATA MAESTRO 2'!Y$49,'DATA MAESTRO 2'!Y$50,'DATA MAESTRO 2'!Y$51,'DATA MAESTRO 2'!Y$52,'DATA MAESTRO 2'!Y$53,'DATA MAESTRO 2'!Y$54,'DATA MAESTRO 2'!Y$55,'DATA MAESTRO 2'!Y$56,'DATA MAESTRO 2'!Y$57,'DATA MAESTRO 2'!Y$58,'DATA MAESTRO 2'!Y$59,'DATA MAESTRO 2'!Y$60,'DATA MAESTRO 2'!Y$61,'DATA MAESTRO 2'!Y$62,'DATA MAESTRO 2'!Y$63,'DATA MAESTRO 2'!Y$64,'DATA MAESTRO 2'!Y$65)","v":0},{"$f":"CHOOSE($B23,'DATA MAESTRO 2'!Z$43,'DATA MAESTRO 2'!Z$44,'DATA MAESTRO 2'!Z$45,'DATA MAESTRO 2'!Z$46,'DATA MAESTRO 2'!Z$47,'DATA MAESTRO 2'!Z$48,'DATA MAESTRO 2'!Z$49,'DATA MAESTRO 2'!Z$50,'DATA MAESTRO 2'!Z$51,'DATA MAESTRO 2'!Z$52,'DATA MAESTRO 2'!Z$53,'DATA MAESTRO 2'!Z$54,'DATA MAESTRO 2'!Z$55,'DATA MAESTRO 2'!Z$56,'DATA MAESTRO 2'!Z$57,'DATA MAESTRO 2'!Z$58,'DATA MAESTRO 2'!Z$59,'DATA MAESTRO 2'!Z$60,'DATA MAESTRO 2'!Z$61,'DATA MAESTRO 2'!Z$62,'DATA MAESTRO 2'!Z$63,'DATA MAESTRO 2'!Z$64,'DATA MAESTRO 2'!Z$65)","v":0.6},{"$f":"CHOOSE($B23,'DATA MAESTRO 2'!AA$43,'DATA MAESTRO 2'!AA$44,'DATA MAESTRO 2'!AA$45,'DATA MAESTRO 2'!AA$46,'DATA MAESTRO 2'!AA$47,'DATA MAESTRO 2'!AA$48,'DATA MAESTRO 2'!AA$49,'DATA MAESTRO 2'!AA$50,'DATA MAESTRO 2'!AA$51,'DATA MAESTRO 2'!AA$52,'DATA MAESTRO 2'!AA$53,'DATA MAESTRO 2'!AA$54,'DATA MAESTRO 2'!AA$55,'DATA MAESTRO 2'!AA$56,'DATA MAESTRO 2'!AA$57,'DATA MAESTRO 2'!AA$58,'DATA MAESTRO 2'!AA$59,'DATA MAESTRO 2'!AA$60,'DATA MAESTRO 2'!AA$61,'DATA MAESTRO 2'!AA$62,'DATA MAESTRO 2'!AA$63,'DATA MAESTRO 2'!AA$64,'DATA MAESTRO 2'!AA$65)","v":0},{"$f":"CHOOSE($B23,'DATA MAESTRO 2'!AB$43,'DATA MAESTRO 2'!AB$44,'DATA MAESTRO 2'!AB$45,'DATA MAESTRO 2'!AB$46,'DATA MAESTRO 2'!AB$47,'DATA MAESTRO 2'!AB$48,'DATA MAESTRO 2'!AB$49,'DATA MAESTRO 2'!AB$50,'DATA MAESTRO 2'!AB$51,'DATA MAESTRO 2'!AB$52,'DATA MAESTRO 2'!AB$53,'DATA MAESTRO 2'!AB$54,'DATA MAESTRO 2'!AB$55,'DATA MAESTRO 2'!AB$56,'DATA MAESTRO 2'!AB$57,'DATA MAESTRO 2'!AB$58,'DATA MAESTRO 2'!AB$59,'DATA MAESTRO 2'!AB$60,'DATA MAESTRO 2'!AB$61,'DATA MAESTRO 2'!AB$62,'DATA MAESTRO 2'!AB$63,'DATA MAESTRO 2'!AB$64,'DATA MAESTRO 2'!AB$65)","v":0},{"$f":"CHOOSE($B23,'DATA MAESTRO 2'!AC$43,'DATA MAESTRO 2'!AC$44,'DATA MAESTRO 2'!AC$45,'DATA MAESTRO 2'!AC$46,'DATA MAESTRO 2'!AC$47,'DATA MAESTRO 2'!AC$48,'DATA MAESTRO 2'!AC$49,'DATA MAESTRO 2'!AC$50,'DATA MAESTRO 2'!AC$51,'DATA MAESTRO 2'!AC$52,'DATA MAESTRO 2'!AC$53,'DATA MAESTRO 2'!AC$54,'DATA MAESTRO 2'!AC$55,'DATA MAESTRO 2'!AC$56,'DATA MAESTRO 2'!AC$57,'DATA MAESTRO 2'!AC$58,'DATA MAESTRO 2'!AC$59,'DATA MAESTRO 2'!AC$60,'DATA MAESTRO 2'!AC$61,'DATA MAESTRO 2'!AC$62,'DATA MAESTRO 2'!AC$63,'DATA MAESTRO 2'!AC$64,'DATA MAESTRO 2'!AC$65)","v":0},{"$f":"CHOOSE($B23,'DATA MAESTRO 2'!AD$43,'DATA MAESTRO 2'!AD$44,'DATA MAESTRO 2'!AD$45,'DATA MAESTRO 2'!AD$46,'DATA MAESTRO 2'!AD$47,'DATA MAESTRO 2'!AD$48,'DATA MAESTRO 2'!AD$49,'DATA MAESTRO 2'!AD$50,'DATA MAESTRO 2'!AD$51,'DATA MAESTRO 2'!AD$52,'DATA MAESTRO 2'!AD$53,'DATA MAESTRO 2'!AD$54,'DATA MAESTRO 2'!AD$55,'DATA MAESTRO 2'!AD$56,'DATA MAESTRO 2'!AD$57,'DATA MAESTRO 2'!AD$58,'DATA MAESTRO 2'!AD$59,'DATA MAESTRO 2'!AD$60,'DATA MAESTRO 2'!AD$61,'DATA MAESTRO 2'!AD$62,'DATA MAESTRO 2'!AD$63,'DATA MAESTRO 2'!AD$64,'DATA MAESTRO 2'!AD$65)","v":0},{"$f":"CHOOSE($B23,'DATA MAESTRO 2'!AE$43,'DATA MAESTRO 2'!AE$44,'DATA MAESTRO 2'!AE$45,'DATA MAESTRO 2'!AE$46,'DATA MAESTRO 2'!AE$47,'DATA MAESTRO 2'!AE$48,'DATA MAESTRO 2'!AE$49,'DATA MAESTRO 2'!AE$50,'DATA MAESTRO 2'!AE$51,'DATA MAESTRO 2'!AE$52,'DATA MAESTRO 2'!AE$53,'DATA MAESTRO 2'!AE$54,'DATA MAESTRO 2'!AE$55,'DATA MAESTRO 2'!AE$56,'DATA MAESTRO 2'!AE$57,'DATA MAESTRO 2'!AE$58,'DATA MAESTRO 2'!AE$59,'DATA MAESTRO 2'!AE$60,'DATA MAESTRO 2'!AE$61,'DATA MAESTRO 2'!AE$62,'DATA MAESTRO 2'!AE$63,'DATA MAESTRO 2'!AE$64,'DATA MAESTRO 2'!AE$65)","v":0},{"$f":"CHOOSE($B23,'DATA MAESTRO 2'!AF$43,'DATA MAESTRO 2'!AF$44,'DATA MAESTRO 2'!AF$45,'DATA MAESTRO 2'!AF$46,'DATA MAESTRO 2'!AF$47,'DATA MAESTRO 2'!AF$48,'DATA MAESTRO 2'!AF$49,'DATA MAESTRO 2'!AF$50,'DATA MAESTRO 2'!AF$51,'DATA MAESTRO 2'!AF$52,'DATA MAESTRO 2'!AF$53,'DATA MAESTRO 2'!AF$54,'DATA MAESTRO 2'!AF$55,'DATA MAESTRO 2'!AF$56,'DATA MAESTRO 2'!AF$57,'DATA MAESTRO 2'!AF$58,'DATA MAESTRO 2'!AF$59,'DATA MAESTRO 2'!AF$60,'DATA MAESTRO 2'!AF$61,'DATA MAESTRO 2'!AF$62,'DATA MAESTRO 2'!AF$63,'DATA MAESTRO 2'!AF$64,'DATA MAESTRO 2'!AF$65)","v":0},{"$f":"CHOOSE($B23,'DATA MAESTRO 2'!AG$43,'DATA MAESTRO 2'!AG$44,'DATA MAESTRO 2'!AG$45,'DATA MAESTRO 2'!AG$46,'DATA MAESTRO 2'!AG$47,'DATA MAESTRO 2'!AG$48,'DATA MAESTRO 2'!AG$49,'DATA MAESTRO 2'!AG$50,'DATA MAESTRO 2'!AG$51,'DATA MAESTRO 2'!AG$52,'DATA MAESTRO 2'!AG$53,'DATA MAESTRO 2'!AG$54,'DATA MAESTRO 2'!AG$55,'DATA MAESTRO 2'!AG$56,'DATA MAESTRO 2'!AG$57,'DATA MAESTRO 2'!AG$58,'DATA MAESTRO 2'!AG$59,'DATA MAESTRO 2'!AG$60,'DATA MAESTRO 2'!AG$61,'DATA MAESTRO 2'!AG$62,'DATA MAESTRO 2'!AG$63,'DATA MAESTRO 2'!AG$64,'DATA MAESTRO 2'!AG$65)","v":0},{"$f":"CHOOSE($B23,'DATA MAESTRO 2'!AH$43,'DATA MAESTRO 2'!AH$44,'DATA MAESTRO 2'!AH$45,'DATA MAESTRO 2'!AH$46,'DATA MAESTRO 2'!AH$47,'DATA MAESTRO 2'!AH$48,'DATA MAESTRO 2'!AH$49,'DATA MAESTRO 2'!AH$50,'DATA MAESTRO 2'!AH$51,'DATA MAESTRO 2'!AH$52,'DATA MAESTRO 2'!AH$53,'DATA MAESTRO 2'!AH$54,'DATA MAESTRO 2'!AH$55,'DATA MAESTRO 2'!AH$56,'DATA MAESTRO 2'!AH$57,'DATA MAESTRO 2'!AH$58,'DATA MAESTRO 2'!AH$59,'DATA MAESTRO 2'!AH$60,'DATA MAESTRO 2'!AH$61,'DATA MAESTRO 2'!AH$62,'DATA MAESTRO 2'!AH$63,'DATA MAESTRO 2'!AH$64,'DATA MAESTRO 2'!AH$65)","v":0},{"$f":"CHOOSE($B23,'DATA MAESTRO 2'!AI$43,'DATA MAESTRO 2'!AI$44,'DATA MAESTRO 2'!AI$45,'DATA MAESTRO 2'!AI$46,'DATA MAESTRO 2'!AI$47,'DATA MAESTRO 2'!AI$48,'DATA MAESTRO 2'!AI$49,'DATA MAESTRO 2'!AI$50,'DATA MAESTRO 2'!AI$51,'DATA MAESTRO 2'!AI$52,'DATA MAESTRO 2'!AI$53,'DATA MAESTRO 2'!AI$54,'DATA MAESTRO 2'!AI$55,'DATA MAESTRO 2'!AI$56,'DATA MAESTRO 2'!AI$57,'DATA MAESTRO 2'!AI$58,'DATA MAESTRO 2'!AI$59,'DATA MAESTRO 2'!AI$60,'DATA MAESTRO 2'!AI$61,'DATA MAESTRO 2'!AI$62,'DATA MAESTRO 2'!AI$63,'DATA MAESTRO 2'!AI$64,'DATA MAESTRO 2'!AI$65)","v":0},{"$f":"CHOOSE($B23,'DATA MAESTRO 2'!AJ$43,'DATA MAESTRO 2'!AJ$44,'DATA MAESTRO 2'!AJ$45,'DATA MAESTRO 2'!AJ$46,'DATA MAESTRO 2'!AJ$47,'DATA MAESTRO 2'!AJ$48,'DATA MAESTRO 2'!AJ$49,'DATA MAESTRO 2'!AJ$50,'DATA MAESTRO 2'!AJ$51,'DATA MAESTRO 2'!AJ$52,'DATA MAESTRO 2'!AJ$53,'DATA MAESTRO 2'!AJ$54,'DATA MAESTRO 2'!AJ$55,'DATA MAESTRO 2'!AJ$56,'DATA MAESTRO 2'!AJ$57,'DATA MAESTRO 2'!AJ$58,'DATA MAESTRO 2'!AJ$59,'DATA MAESTRO 2'!AJ$60,'DATA MAESTRO 2'!AJ$61,'DATA MAESTRO 2'!AJ$62,'DATA MAESTRO 2'!AJ$63,'DATA MAESTRO 2'!AJ$64,'DATA MAESTRO 2'!AJ$65)","v":0}]
[22,23,{"$f":"+IF(AND(B24>=1,B24<=23),VLOOKUP(B24,'DATA MAESTRO 2'!$A$43:$B$65,2),0)","v":"Vacio"},{"$f":"+CHOOSE($B24,'DATA MAESTRO 2'!C$43,'DATA MAESTRO 2'!C$44,'DATA MAESTRO 2'!C$45,'DATA MAESTRO 2'!C$46,'DATA MAESTRO 2'!C$47,'DATA MAESTRO 2'!C$48,'DATA MAESTRO 2'!C$49,'DATA MAESTRO 2'!C$50,'DATA MAESTRO 2'!C$51,'DATA MAESTRO 2'!C$52,'DATA MAESTRO 2'!C$53,'DATA MAESTRO 2'!C$54,'DATA MAESTRO 2'!C$55,'DATA MAESTRO 2'!C$56,'DATA MAESTRO 2'!C$57,'DATA MAESTRO 2'!C$58,'DATA MAESTRO 2'!C$59,'DATA MAESTRO 2'!C$60,'DATA MAESTRO 2'!C$61,'DATA MAESTRO 2'!C$62,'DATA MAESTRO 2'!C$63,'DATA MAESTRO 2'!C$64,'DATA MAESTRO 2'!C$65)","v":0},{"$f":"CHOOSE(B24,'DATA MAESTRO 2'!D$43,'DATA MAESTRO 2'!D$44,'DATA MAESTRO 2'!D$45,'DATA MAESTRO 2'!D$46,'DATA MAESTRO 2'!D$47,'DATA MAESTRO 2'!D$48,'DATA MAESTRO 2'!D$49,'DATA MAESTRO 2'!D$50,'DATA MAESTRO 2'!D$51,'DATA MAESTRO 2'!D$52,'DATA MAESTRO 2'!D$53,'DATA MAESTRO 2'!D$54,'DATA MAESTRO 2'!D$55,'DATA MAESTRO 2'!D$56,'DATA MAESTRO 2'!D$57,'DATA MAESTRO 2'!D$58,'DATA MAESTRO 2'!D$59,'DATA MAESTRO 2'!D$60,'DATA MAESTRO 2'!D$61,'DATA MAESTRO 2'!D$62,'DATA MAESTRO 2'!D$63,'DATA MAESTRO 2'!D$64,'DATA MAESTRO 2'!D$65)","v":0},{"$f":"CHOOSE($B24,'DATA MAESTRO 2'!E$43,'DATA MAESTRO 2'!E$44,'DATA MAESTRO 2'!E$45,'DATA MAESTRO 2'!E$46,'DATA MAESTRO 2'!E$47,'DATA MAESTRO 2'!E$48,'DATA MAESTRO 2'!E$49,'DATA MAESTRO 2'!E$50,'DATA MAESTRO 2'!E$51,'DATA MAESTRO 2'!E$52,'DATA MAESTRO 2'!E$53,'DATA MAESTRO 2'!E$54,'DATA MAESTRO 2'!E$55,'DATA MAESTRO 2'!E$56,'DATA MAESTRO 2'!E$57,'DATA MAESTRO 2'!E$58,'DATA MAESTRO 2'!E$59,'DATA MAESTRO 2'!E$60,'DATA MAESTRO 2'!E$61,'DATA MAESTRO 2'!E$62,'DATA MAESTRO 2'!E$63,'DATA MAESTRO 2'!E$64,'DATA MAESTRO 2'!E$65)","v":0},{"$f":"CHOOSE($B24,'DATA MAESTRO 2'!F$43,'DATA MAESTRO 2'!F$44,'DATA MAESTRO 2'!F$45,'DATA MAESTRO 2'!F$46,'DATA MAESTRO 2'!F$47,'DATA MAESTRO 2'!F$48,'DATA MAESTRO 2'!F$49,'DATA MAESTRO 2'!F$50,'DATA MAESTRO 2'!F$51,'DATA MAESTRO 2'!F$52,'DATA MAESTRO 2'!F$53,'DATA MAESTRO 2'!F$54,'DATA MAESTRO 2'!F$55,'DATA MAESTRO 2'!F$56,'DATA MAESTRO 2'!F$57,'DATA MAESTRO 2'!F$58,'DATA MAESTRO 2'!F$59,'DATA MAESTRO 2'!F$60,'DATA MAESTRO 2'!F$61,'DATA MAESTRO 2'!F$62,'DATA MAESTRO 2'!F$63,'DATA MAESTRO 2'!F$64,'DATA MAESTRO 2'!F$65)","v":0},{"$f":"CHOOSE($B24,'DATA MAESTRO 2'!G$43,'DATA MAESTRO 2'!G$44,'DATA MAESTRO 2'!G$45,'DATA MAESTRO 2'!G$46,'DATA MAESTRO 2'!G$47,'DATA MAESTRO 2'!G$48,'DATA MAESTRO 2'!G$49,'DATA MAESTRO 2'!G$50,'DATA MAESTRO 2'!G$51,'DATA MAESTRO 2'!G$52,'DATA MAESTRO 2'!G$53,'DATA MAESTRO 2'!G$54,'DATA MAESTRO 2'!G$55,'DATA MAESTRO 2'!G$56,'DATA MAESTRO 2'!G$57,'DATA MAESTRO 2'!G$58,'DATA MAESTRO 2'!G$59,'DATA MAESTRO 2'!G$60,'DATA MAESTRO 2'!G$61,'DATA MAESTRO 2'!G$62,'DATA MAESTRO 2'!G$63,'DATA MAESTRO 2'!G$64,'DATA MAESTRO 2'!G$65)","v":0},{"$f":"CHOOSE($B24,'DATA MAESTRO 2'!H$43,'DATA MAESTRO 2'!H$44,'DATA MAESTRO 2'!H$45,'DATA MAESTRO 2'!H$46,'DATA MAESTRO 2'!H$47,'DATA MAESTRO 2'!H$48,'DATA MAESTRO 2'!H$49,'DATA MAESTRO 2'!H$50,'DATA MAESTRO 2'!H$51,'DATA MAESTRO 2'!H$52,'DATA MAESTRO 2'!H$53,'DATA MAESTRO 2'!H$54,'DATA MAESTRO 2'!H$55,'DATA MAESTRO 2'!H$56,'DATA MAESTRO 2'!H$57,'DATA MAESTRO 2'!H$58,'DATA MAESTRO 2'!H$59,'DATA MAESTRO 2'!H$60,'DATA MAESTRO 2'!H$61,'DATA MAESTRO 2'!H$62,'DATA MAESTRO 2'!H$63,'DATA MAESTRO 2'!H$64,'DATA MAESTRO 2'!H$65)","v":0},{"$f":"CHOOSE($B24,'DATA MAESTRO 2'!I$43,'DATA MAESTRO 2'!I$44,'DATA MAESTRO 2'!I$45,'DATA MAESTRO 2'!I$46,'DATA MAESTRO 2'!I$47,'DATA MAESTRO 2'!I$48,'DATA MAESTRO 2'!I$49,'DATA MAESTRO 2'!I$50,'DATA MAESTRO 2'!I$51,'DATA MAESTRO 2'!I$52,'DATA MAESTRO 2'!I$53,'DATA MAESTRO 2'!I$54,'DATA MAESTRO 2'!I$55,'DATA MAESTRO 2'!I$56,'DATA MAESTRO 2'!I$57,'DATA MAESTRO 2'!I$58,'DATA MAESTRO 2'!I$59,'DATA MAESTRO 2'!I$60,'DATA MAESTRO 2'!I$61,'DATA MAESTRO 2'!I$62,'DATA MAESTRO 2'!I$63,'DATA MAESTRO 2'!I$64,'DATA MAESTRO 2'!I$65)","v":0},{"$f":"CHOOSE($B24,'DATA MAESTRO 2'!J$43,'DATA MAESTRO 2'!J$44,'DATA MAESTRO 2'!J$45,'DATA MAESTRO 2'!J$46,'DATA MAESTRO 2'!J$47,'DATA MAESTRO 2'!J$48,'DATA MAESTRO 2'!J$49,'DATA MAESTRO 2'!J$50,'DATA MAESTRO 2'!J$51,'DATA MAESTRO 2'!J$52,'DATA MAESTRO 2'!J$53,'DATA MAESTRO 2'!J$54,'DATA MAESTRO 2'!J$55,'DATA MAESTRO 2'!J$56,'DATA MAESTRO 2'!J$57,'DATA MAESTRO 2'!J$58,'DATA MAESTRO 2'!J$59,'DATA MAESTRO 2'!J$60,'DATA MAESTRO 2'!J$61,'DATA MAESTRO 2'!J$62,'DATA MAESTRO 2'!J$63,'DATA MAESTRO 2'!J$64,'DATA MAESTRO 2'!J$65)","v":0},{"$f":"CHOOSE($B24,'DATA MAESTRO 2'!K$43,'DATA MAESTRO 2'!K$44,'DATA MAESTRO 2'!K$45,'DATA MAESTRO 2'!K$46,'DATA MAESTRO 2'!K$47,'DATA MAESTRO 2'!K$48,'DATA MAESTRO 2'!K$49,'DATA MAESTRO 2'!K$50,'DATA MAESTRO 2'!K$51,'DATA MAESTRO 2'!K$52,'DATA MAESTRO 2'!K$53,'DATA MAESTRO 2'!K$54,'DATA MAESTRO 2'!K$55,'DATA MAESTRO 2'!K$56,'DATA MAESTRO 2'!K$57,'DATA MAESTRO 2'!K$58,'DATA MAESTRO 2'!K$59,'DATA MAESTRO 2'!K$60,'DATA MAESTRO 2'!K$61,'DATA MAESTRO 2'!K$62,'DATA MAESTRO 2'!K$63,'DATA MAESTRO 2'!K$64,'DATA MAESTRO 2'!K$65)","v":0},{"$f":"CHOOSE($B24,'DATA MAESTRO 2'!L$43,'DATA MAESTRO 2'!L$44,'DATA MAESTRO 2'!L$45,'DATA MAESTRO 2'!L$46,'DATA MAESTRO 2'!L$47,'DATA MAESTRO 2'!L$48,'DATA MAESTRO 2'!L$49,'DATA MAESTRO 2'!L$50,'DATA MAESTRO 2'!L$51,'DATA MAESTRO 2'!L$52,'DATA MAESTRO 2'!L$53,'DATA MAESTRO 2'!L$54,'DATA MAESTRO 2'!L$55,'DATA MAESTRO 2'!L$56,'DATA MAESTRO 2'!L$57,'DATA MAESTRO 2'!L$58,'DATA MAESTRO 2'!L$59,'DATA MAESTRO 2'!L$60,'DATA MAESTRO 2'!L$61,'DATA MAESTRO 2'!L$62,'DATA MAESTRO 2'!L$63,'DATA MAESTRO 2'!L$64,'DATA MAESTRO 2'!L$65)","v":0},{"$f":"CHOOSE($B24,'DATA MAESTRO 2'!M$43,'DATA MAESTRO 2'!M$44,'DATA MAESTRO 2'!M$45,'DATA MAESTRO 2'!M$46,'DATA MAESTRO 2'!M$47,'DATA MAESTRO 2'!M$48,'DATA MAESTRO 2'!M$49,'DATA MAESTRO 2'!M$50,'DATA MAESTRO 2'!M$51,'DATA MAESTRO 2'!M$52,'DATA MAESTRO 2'!M$53,'DATA MAESTRO 2'!M$54,'DATA MAESTRO 2'!M$55,'DATA MAESTRO 2'!M$56,'DATA MAESTRO 2'!M$57,'DATA MAESTRO 2'!M$58,'DATA MAESTRO 2'!M$59,'DATA MAESTRO 2'!M$60,'DATA MAESTRO 2'!M$61,'DATA MAESTRO 2'!M$62,'DATA MAESTRO 2'!M$63,'DATA MAESTRO 2'!M$64,'DATA MAESTRO 2'!M$65)","v":0},{"$f":"CHOOSE($B24,'DATA MAESTRO 2'!N$43,'DATA MAESTRO 2'!N$44,'DATA MAESTRO 2'!N$45,'DATA MAESTRO 2'!N$46,'DATA MAESTRO 2'!N$47,'DATA MAESTRO 2'!N$48,'DATA MAESTRO 2'!N$49,'DATA MAESTRO 2'!N$50,'DATA MAESTRO 2'!N$51,'DATA MAESTRO 2'!N$52,'DATA MAESTRO 2'!N$53,'DATA MAESTRO 2'!N$54,'DATA MAESTRO 2'!N$55,'DATA MAESTRO 2'!N$56,'DATA MAESTRO 2'!N$57,'DATA MAESTRO 2'!N$58,'DATA MAESTRO 2'!N$59,'DATA MAESTRO 2'!N$60,'DATA MAESTRO 2'!N$61,'DATA MAESTRO 2'!N$62,'DATA MAESTRO 2'!N$63,'DATA MAESTRO 2'!N$64,'DATA MAESTRO 2'!N$65)","v":0},{"$f":"CHOOSE($B24,'DATA MAESTRO 2'!O$43,'DATA MAESTRO 2'!O$44,'DATA MAESTRO 2'!O$45,'DATA MAESTRO 2'!O$46,'DATA MAESTRO 2'!O$47,'DATA MAESTRO 2'!O$48,'DATA MAESTRO 2'!O$49,'DATA MAESTRO 2'!O$50,'DATA MAESTRO 2'!O$51,'DATA MAESTRO 2'!O$52,'DATA MAESTRO 2'!O$53,'DATA MAESTRO 2'!O$54,'DATA MAESTRO 2'!O$55,'DATA MAESTRO 2'!O$56,'DATA MAESTRO 2'!O$57,'DATA MAESTRO 2'!O$58,'DATA MAESTRO 2'!O$59,'DATA MAESTRO 2'!O$60,'DATA MAESTRO 2'!O$61,'DATA MAESTRO 2'!O$62,'DATA MAESTRO 2'!O$63,'DATA MAESTRO 2'!O$64,'DATA MAESTRO 2'!O$65)","v":0},{"$f":"CHOOSE($B24,'DATA MAESTRO 2'!P$43,'DATA MAESTRO 2'!P$44,'DATA MAESTRO 2'!P$45,'DATA MAESTRO 2'!P$46,'DATA MAESTRO 2'!P$47,'DATA MAESTRO 2'!P$48,'DATA MAESTRO 2'!P$49,'DATA MAESTRO 2'!P$50,'DATA MAESTRO 2'!P$51,'DATA MAESTRO 2'!P$52,'DATA MAESTRO 2'!P$53,'DATA MAESTRO 2'!P$54,'DATA MAESTRO 2'!P$55,'DATA MAESTRO 2'!P$56,'DATA MAESTRO 2'!P$57,'DATA MAESTRO 2'!P$58,'DATA MAESTRO 2'!P$59,'DATA MAESTRO 2'!P$60,'DATA MAESTRO 2'!P$61,'DATA MAESTRO 2'!P$62,'DATA MAESTRO 2'!P$63,'DATA MAESTRO 2'!P$64,'DATA MAESTRO 2'!P$65)","v":0},{"$f":"CHOOSE($B24,'DATA MAESTRO 2'!Q$43,'DATA MAESTRO 2'!Q$44,'DATA MAESTRO 2'!Q$45,'DATA MAESTRO 2'!Q$46,'DATA MAESTRO 2'!Q$47,'DATA MAESTRO 2'!Q$48,'DATA MAESTRO 2'!Q$49,'DATA MAESTRO 2'!Q$50,'DATA MAESTRO 2'!Q$51,'DATA MAESTRO 2'!Q$52,'DATA MAESTRO 2'!Q$53,'DATA MAESTRO 2'!Q$54,'DATA MAESTRO 2'!Q$55,'DATA MAESTRO 2'!Q$56,'DATA MAESTRO 2'!Q$57,'DATA MAESTRO 2'!Q$58,'DATA MAESTRO 2'!Q$59,'DATA MAESTRO 2'!Q$60,'DATA MAESTRO 2'!Q$61,'DATA MAESTRO 2'!Q$62,'DATA MAESTRO 2'!Q$63,'DATA MAESTRO 2'!Q$64,'DATA MAESTRO 2'!Q$65)","v":0},{"$f":"CHOOSE($B24,'DATA MAESTRO 2'!R$43,'DATA MAESTRO 2'!R$44,'DATA MAESTRO 2'!R$45,'DATA MAESTRO 2'!R$46,'DATA MAESTRO 2'!R$47,'DATA MAESTRO 2'!R$48,'DATA MAESTRO 2'!R$49,'DATA MAESTRO 2'!R$50,'DATA MAESTRO 2'!R$51,'DATA MAESTRO 2'!R$52,'DATA MAESTRO 2'!R$53,'DATA MAESTRO 2'!R$54,'DATA MAESTRO 2'!R$55,'DATA MAESTRO 2'!R$56,'DATA MAESTRO 2'!R$57,'DATA MAESTRO 2'!R$58,'DATA MAESTRO 2'!R$59,'DATA MAESTRO 2'!R$60,'DATA MAESTRO 2'!R$61,'DATA MAESTRO 2'!R$62,'DATA MAESTRO 2'!R$63,'DATA MAESTRO 2'!R$64,'DATA MAESTRO 2'!R$65)","v":0},{"$f":"CHOOSE($B24,'DATA MAESTRO 2'!S$43,'DATA MAESTRO 2'!S$44,'DATA MAESTRO 2'!S$45,'DATA MAESTRO 2'!S$46,'DATA MAESTRO 2'!S$47,'DATA MAESTRO 2'!S$48,'DATA MAESTRO 2'!S$49,'DATA MAESTRO 2'!S$50,'DATA MAESTRO 2'!S$51,'DATA MAESTRO 2'!S$52,'DATA MAESTRO 2'!S$53,'DATA MAESTRO 2'!S$54,'DATA MAESTRO 2'!S$55,'DATA MAESTRO 2'!S$56,'DATA MAESTRO 2'!S$57,'DATA MAESTRO 2'!S$58,'DATA MAESTRO 2'!S$59,'DATA MAESTRO 2'!S$60,'DATA MAESTRO 2'!S$61,'DATA MAESTRO 2'!S$62,'DATA MAESTRO 2'!S$63,'DATA MAESTRO 2'!S$64,'DATA MAESTRO 2'!S$65)","v":0},{"$f":"CHOOSE($B24,'DATA MAESTRO 2'!T$43,'DATA MAESTRO 2'!T$44,'DATA MAESTRO 2'!T$45,'DATA MAESTRO 2'!T$46,'DATA MAESTRO 2'!T$47,'DATA MAESTRO 2'!T$48,'DATA MAESTRO 2'!T$49,'DATA MAESTRO 2'!T$50,'DATA MAESTRO 2'!T$51,'DATA MAESTRO 2'!T$52,'DATA MAESTRO 2'!T$53,'DATA MAESTRO 2'!T$54,'DATA MAESTRO 2'!T$55,'DATA MAESTRO 2'!T$56,'DATA MAESTRO 2'!T$57,'DATA MAESTRO 2'!T$58,'DATA MAESTRO 2'!T$59,'DATA MAESTRO 2'!T$60,'DATA MAESTRO 2'!T$61,'DATA MAESTRO 2'!T$62,'DATA MAESTRO 2'!T$63,'DATA MAESTRO 2'!T$64,'DATA MAESTRO 2'!T$65)","v":0},{"$f":"CHOOSE($B24,'DATA MAESTRO 2'!U$43,'DATA MAESTRO 2'!U$44,'DATA MAESTRO 2'!U$45,'DATA MAESTRO 2'!U$46,'DATA MAESTRO 2'!U$47,'DATA MAESTRO 2'!U$48,'DATA MAESTRO 2'!U$49,'DATA MAESTRO 2'!U$50,'DATA MAESTRO 2'!U$51,'DATA MAESTRO 2'!U$52,'DATA MAESTRO 2'!U$53,'DATA MAESTRO 2'!U$54,'DATA MAESTRO 2'!U$55,'DATA MAESTRO 2'!U$56,'DATA MAESTRO 2'!U$57,'DATA MAESTRO 2'!U$58,'DATA MAESTRO 2'!U$59,'DATA MAESTRO 2'!U$60,'DATA MAESTRO 2'!U$61,'DATA MAESTRO 2'!U$62,'DATA MAESTRO 2'!U$63,'DATA MAESTRO 2'!U$64,'DATA MAESTRO 2'!U$65)","v":0},{"$f":"CHOOSE($B24,'DATA MAESTRO 2'!V$43,'DATA MAESTRO 2'!V$44,'DATA MAESTRO 2'!V$45,'DATA MAESTRO 2'!V$46,'DATA MAESTRO 2'!V$47,'DATA MAESTRO 2'!V$48,'DATA MAESTRO 2'!V$49,'DATA MAESTRO 2'!V$50,'DATA MAESTRO 2'!V$51,'DATA MAESTRO 2'!V$52,'DATA MAESTRO 2'!V$53,'DATA MAESTRO 2'!V$54,'DATA MAESTRO 2'!V$55,'DATA MAESTRO 2'!V$56,'DATA MAESTRO 2'!V$57,'DATA MAESTRO 2'!V$58,'DATA MAESTRO 2'!V$59,'DATA MAESTRO 2'!V$60,'DATA MAESTRO 2'!V$61,'DATA MAESTRO 2'!V$62,'DATA MAESTRO 2'!V$63,'DATA MAESTRO 2'!V$64,'DATA MAESTRO 2'!V$65)","v":0},{"$f":"CHOOSE($B24,'DATA MAESTRO 2'!W$43,'DATA MAESTRO 2'!W$44,'DATA MAESTRO 2'!W$45,'DATA MAESTRO 2'!W$46,'DATA MAESTRO 2'!W$47,'DATA MAESTRO 2'!W$48,'DATA MAESTRO 2'!W$49,'DATA MAESTRO 2'!W$50,'DATA MAESTRO 2'!W$51,'DATA MAESTRO 2'!W$52,'DATA MAESTRO 2'!W$53,'DATA MAESTRO 2'!W$54,'DATA MAESTRO 2'!W$55,'DATA MAESTRO 2'!W$56,'DATA MAESTRO 2'!W$57,'DATA MAESTRO 2'!W$58,'DATA MAESTRO 2'!W$59,'DATA MAESTRO 2'!W$60,'DATA MAESTRO 2'!W$61,'DATA MAESTRO 2'!W$62,'DATA MAESTRO 2'!W$63,'DATA MAESTRO 2'!W$64,'DATA MAESTRO 2'!W$65)","v":0},{"$f":"CHOOSE($B24,'DATA MAESTRO 2'!X$43,'DATA MAESTRO 2'!X$44,'DATA MAESTRO 2'!X$45,'DATA MAESTRO 2'!X$46,'DATA MAESTRO 2'!X$47,'DATA MAESTRO 2'!X$48,'DATA MAESTRO 2'!X$49,'DATA MAESTRO 2'!X$50,'DATA MAESTRO 2'!X$51,'DATA MAESTRO 2'!X$52,'DATA MAESTRO 2'!X$53,'DATA MAESTRO 2'!X$54,'DATA MAESTRO 2'!X$55,'DATA MAESTRO 2'!X$56,'DATA MAESTRO 2'!X$57,'DATA MAESTRO 2'!X$58,'DATA MAESTRO 2'!X$59,'DATA MAESTRO 2'!X$60,'DATA MAESTRO 2'!X$61,'DATA MAESTRO 2'!X$62,'DATA MAESTRO 2'!X$63,'DATA MAESTRO 2'!X$64,'DATA MAESTRO 2'!X$65)","v":0},{"$f":"CHOOSE($B24,'DATA MAESTRO 2'!Y$43,'DATA MAESTRO 2'!Y$44,'DATA MAESTRO 2'!Y$45,'DATA MAESTRO 2'!Y$46,'DATA MAESTRO 2'!Y$47,'DATA MAESTRO 2'!Y$48,'DATA MAESTRO 2'!Y$49,'DATA MAESTRO 2'!Y$50,'DATA MAESTRO 2'!Y$51,'DATA MAESTRO 2'!Y$52,'DATA MAESTRO 2'!Y$53,'DATA MAESTRO 2'!Y$54,'DATA MAESTRO 2'!Y$55,'DATA MAESTRO 2'!Y$56,'DATA MAESTRO 2'!Y$57,'DATA MAESTRO 2'!Y$58,'DATA MAESTRO 2'!Y$59,'DATA MAESTRO 2'!Y$60,'DATA MAESTRO 2'!Y$61,'DATA MAESTRO 2'!Y$62,'DATA MAESTRO 2'!Y$63,'DATA MAESTRO 2'!Y$64,'DATA MAESTRO 2'!Y$65)","v":0},{"$f":"CHOOSE($B24,'DATA MAESTRO 2'!Z$43,'DATA MAESTRO 2'!Z$44,'DATA MAESTRO 2'!Z$45,'DATA MAESTRO 2'!Z$46,'DATA MAESTRO 2'!Z$47,'DATA MAESTRO 2'!Z$48,'DATA MAESTRO 2'!Z$49,'DATA MAESTRO 2'!Z$50,'DATA MAESTRO 2'!Z$51,'DATA MAESTRO 2'!Z$52,'DATA MAESTRO 2'!Z$53,'DATA MAESTRO 2'!Z$54,'DATA MAESTRO 2'!Z$55,'DATA MAESTRO 2'!Z$56,'DATA MAESTRO 2'!Z$57,'DATA MAESTRO 2'!Z$58,'DATA MAESTRO 2'!Z$59,'DATA MAESTRO 2'!Z$60,'DATA MAESTRO 2'!Z$61,'DATA MAESTRO 2'!Z$62,'DATA MAESTRO 2'!Z$63,'DATA MAESTRO 2'!Z$64,'DATA MAESTRO 2'!Z$65)","v":0},{"$f":"CHOOSE($B24,'DATA MAESTRO 2'!AA$43,'DATA MAESTRO 2'!AA$44,'DATA MAESTRO 2'!AA$45,'DATA MAESTRO 2'!AA$46,'DATA MAESTRO 2'!AA$47,'DATA MAESTRO 2'!AA$48,'DATA MAESTRO 2'!AA$49,'DATA MAESTRO 2'!AA$50,'DATA MAESTRO 2'!AA$51,'DATA MAESTRO 2'!AA$52,'DATA MAESTRO 2'!AA$53,'DATA MAESTRO 2'!AA$54,'DATA MAESTRO 2'!AA$55,'DATA MAESTRO 2'!AA$56,'DATA MAESTRO 2'!AA$57,'DATA MAESTRO 2'!AA$58,'DATA MAESTRO 2'!AA$59,'DATA MAESTRO 2'!AA$60,'DATA MAESTRO 2'!AA$61,'DATA MAESTRO 2'!AA$62,'DATA MAESTRO 2'!AA$63,'DATA MAESTRO 2'!AA$64,'DATA MAESTRO 2'!AA$65)","v":0},{"$f":"CHOOSE($B24,'DATA MAESTRO 2'!AB$43,'DATA MAESTRO 2'!AB$44,'DATA MAESTRO 2'!AB$45,'DATA MAESTRO 2'!AB$46,'DATA MAESTRO 2'!AB$47,'DATA MAESTRO 2'!AB$48,'DATA MAESTRO 2'!AB$49,'DATA MAESTRO 2'!AB$50,'DATA MAESTRO 2'!AB$51,'DATA MAESTRO 2'!AB$52,'DATA MAESTRO 2'!AB$53,'DATA MAESTRO 2'!AB$54,'DATA MAESTRO 2'!AB$55,'DATA MAESTRO 2'!AB$56,'DATA MAESTRO 2'!AB$57,'DATA MAESTRO 2'!AB$58,'DATA MAESTRO 2'!AB$59,'DATA MAESTRO 2'!AB$60,'DATA MAESTRO 2'!AB$61,'DATA MAESTRO 2'!AB$62,'DATA MAESTRO 2'!AB$63,'DATA MAESTRO 2'!AB$64,'DATA MAESTRO 2'!AB$65)","v":0},{"$f":"CHOOSE($B24,'DATA MAESTRO 2'!AC$43,'DATA MAESTRO 2'!AC$44,'DATA MAESTRO 2'!AC$45,'DATA MAESTRO 2'!AC$46,'DATA MAESTRO 2'!AC$47,'DATA MAESTRO 2'!AC$48,'DATA MAESTRO 2'!AC$49,'DATA MAESTRO 2'!AC$50,'DATA MAESTRO 2'!AC$51,'DATA MAESTRO 2'!AC$52,'DATA MAESTRO 2'!AC$53,'DATA MAESTRO 2'!AC$54,'DATA MAESTRO 2'!AC$55,'DATA MAESTRO 2'!AC$56,'DATA MAESTRO 2'!AC$57,'DATA MAESTRO 2'!AC$58,'DATA MAESTRO 2'!AC$59,'DATA MAESTRO 2'!AC$60,'DATA MAESTRO 2'!AC$61,'DATA MAESTRO 2'!AC$62,'DATA MAESTRO 2'!AC$63,'DATA MAESTRO 2'!AC$64,'DATA MAESTRO 2'!AC$65)","v":0},{"$f":"CHOOSE($B24,'DATA MAESTRO 2'!AD$43,'DATA MAESTRO 2'!AD$44,'DATA MAESTRO 2'!AD$45,'DATA MAESTRO 2'!AD$46,'DATA MAESTRO 2'!AD$47,'DATA MAESTRO 2'!AD$48,'DATA MAESTRO 2'!AD$49,'DATA MAESTRO 2'!AD$50,'DATA MAESTRO 2'!AD$51,'DATA MAESTRO 2'!AD$52,'DATA MAESTRO 2'!AD$53,'DATA MAESTRO 2'!AD$54,'DATA MAESTRO 2'!AD$55,'DATA MAESTRO 2'!AD$56,'DATA MAESTRO 2'!AD$57,'DATA MAESTRO 2'!AD$58,'DATA MAESTRO 2'!AD$59,'DATA MAESTRO 2'!AD$60,'DATA MAESTRO 2'!AD$61,'DATA MAESTRO 2'!AD$62,'DATA MAESTRO 2'!AD$63,'DATA MAESTRO 2'!AD$64,'DATA MAESTRO 2'!AD$65)","v":0},{"$f":"CHOOSE($B24,'DATA MAESTRO 2'!AE$43,'DATA MAESTRO 2'!AE$44,'DATA MAESTRO 2'!AE$45,'DATA MAESTRO 2'!AE$46,'DATA MAESTRO 2'!AE$47,'DATA MAESTRO 2'!AE$48,'DATA MAESTRO 2'!AE$49,'DATA MAESTRO 2'!AE$50,'DATA MAESTRO 2'!AE$51,'DATA MAESTRO 2'!AE$52,'DATA MAESTRO 2'!AE$53,'DATA MAESTRO 2'!AE$54,'DATA MAESTRO 2'!AE$55,'DATA MAESTRO 2'!AE$56,'DATA MAESTRO 2'!AE$57,'DATA MAESTRO 2'!AE$58,'DATA MAESTRO 2'!AE$59,'DATA MAESTRO 2'!AE$60,'DATA MAESTRO 2'!AE$61,'DATA MAESTRO 2'!AE$62,'DATA MAESTRO 2'!AE$63,'DATA MAESTRO 2'!AE$64,'DATA MAESTRO 2'!AE$65)","v":0},{"$f":"CHOOSE($B24,'DATA MAESTRO 2'!AF$43,'DATA MAESTRO 2'!AF$44,'DATA MAESTRO 2'!AF$45,'DATA MAESTRO 2'!AF$46,'DATA MAESTRO 2'!AF$47,'DATA MAESTRO 2'!AF$48,'DATA MAESTRO 2'!AF$49,'DATA MAESTRO 2'!AF$50,'DATA MAESTRO 2'!AF$51,'DATA MAESTRO 2'!AF$52,'DATA MAESTRO 2'!AF$53,'DATA MAESTRO 2'!AF$54,'DATA MAESTRO 2'!AF$55,'DATA MAESTRO 2'!AF$56,'DATA MAESTRO 2'!AF$57,'DATA MAESTRO 2'!AF$58,'DATA MAESTRO 2'!AF$59,'DATA MAESTRO 2'!AF$60,'DATA MAESTRO 2'!AF$61,'DATA MAESTRO 2'!AF$62,'DATA MAESTRO 2'!AF$63,'DATA MAESTRO 2'!AF$64,'DATA MAESTRO 2'!AF$65)","v":0},{"$f":"CHOOSE($B24,'DATA MAESTRO 2'!AG$43,'DATA MAESTRO 2'!AG$44,'DATA MAESTRO 2'!AG$45,'DATA MAESTRO 2'!AG$46,'DATA MAESTRO 2'!AG$47,'DATA MAESTRO 2'!AG$48,'DATA MAESTRO 2'!AG$49,'DATA MAESTRO 2'!AG$50,'DATA MAESTRO 2'!AG$51,'DATA MAESTRO 2'!AG$52,'DATA MAESTRO 2'!AG$53,'DATA MAESTRO 2'!AG$54,'DATA MAESTRO 2'!AG$55,'DATA MAESTRO 2'!AG$56,'DATA MAESTRO 2'!AG$57,'DATA MAESTRO 2'!AG$58,'DATA MAESTRO 2'!AG$59,'DATA MAESTRO 2'!AG$60,'DATA MAESTRO 2'!AG$61,'DATA MAESTRO 2'!AG$62,'DATA MAESTRO 2'!AG$63,'DATA MAESTRO 2'!AG$64,'DATA MAESTRO 2'!AG$65)","v":0},{"$f":"CHOOSE($B24,'DATA MAESTRO 2'!AH$43,'DATA MAESTRO 2'!AH$44,'DATA MAESTRO 2'!AH$45,'DATA MAESTRO 2'!AH$46,'DATA MAESTRO 2'!AH$47,'DATA MAESTRO 2'!AH$48,'DATA MAESTRO 2'!AH$49,'DATA MAESTRO 2'!AH$50,'DATA MAESTRO 2'!AH$51,'DATA MAESTRO 2'!AH$52,'DATA MAESTRO 2'!AH$53,'DATA MAESTRO 2'!AH$54,'DATA MAESTRO 2'!AH$55,'DATA MAESTRO 2'!AH$56,'DATA MAESTRO 2'!AH$57,'DATA MAESTRO 2'!AH$58,'DATA MAESTRO 2'!AH$59,'DATA MAESTRO 2'!AH$60,'DATA MAESTRO 2'!AH$61,'DATA MAESTRO 2'!AH$62,'DATA MAESTRO 2'!AH$63,'DATA MAESTRO 2'!AH$64,'DATA MAESTRO 2'!AH$65)","v":0},{"$f":"CHOOSE($B24,'DATA MAESTRO 2'!AI$43,'DATA MAESTRO 2'!AI$44,'DATA MAESTRO 2'!AI$45,'DATA MAESTRO 2'!AI$46,'DATA MAESTRO 2'!AI$47,'DATA MAESTRO 2'!AI$48,'DATA MAESTRO 2'!AI$49,'DATA MAESTRO 2'!AI$50,'DATA MAESTRO 2'!AI$51,'DATA MAESTRO 2'!AI$52,'DATA MAESTRO 2'!AI$53,'DATA MAESTRO 2'!AI$54,'DATA MAESTRO 2'!AI$55,'DATA MAESTRO 2'!AI$56,'DATA MAESTRO 2'!AI$57,'DATA MAESTRO 2'!AI$58,'DATA MAESTRO 2'!AI$59,'DATA MAESTRO 2'!AI$60,'DATA MAESTRO 2'!AI$61,'DATA MAESTRO 2'!AI$62,'DATA MAESTRO 2'!AI$63,'DATA MAESTRO 2'!AI$64,'DATA MAESTRO 2'!AI$65)","v":0},{"$f":"CHOOSE($B24,'DATA MAESTRO 2'!AJ$43,'DATA MAESTRO 2'!AJ$44,'DATA MAESTRO 2'!AJ$45,'DATA MAESTRO 2'!AJ$46,'DATA MAESTRO 2'!AJ$47,'DATA MAESTRO 2'!AJ$48,'DATA MAESTRO 2'!AJ$49,'DATA MAESTRO 2'!AJ$50,'DATA MAESTRO 2'!AJ$51,'DATA MAESTRO 2'!AJ$52,'DATA MAESTRO 2'!AJ$53,'DATA MAESTRO 2'!AJ$54,'DATA MAESTRO 2'!AJ$55,'DATA MAESTRO 2'!AJ$56,'DATA MAESTRO 2'!AJ$57,'DATA MAESTRO 2'!AJ$58,'DATA MAESTRO 2'!AJ$59,'DATA MAESTRO 2'!AJ$60,'DATA MAESTRO 2'!AJ$61,'DATA MAESTRO 2'!AJ$62,'DATA MAESTRO 2'!AJ$63,'DATA MAESTRO 2'!AJ$64,'DATA MAESTRO 2'!AJ$65)","v":0}]
[23,23,{"$f":"+IF(AND(B25>=1,B25<=23),VLOOKUP(B25,'DATA MAESTRO 2'!$A$43:$B$65,2),0)","v":"Vacio"},{"$f":"+CHOOSE($B25,'DATA MAESTRO 2'!C$43,'DATA MAESTRO 2'!C$44,'DATA MAESTRO 2'!C$45,'DATA MAESTRO 2'!C$46,'DATA MAESTRO 2'!C$47,'DATA MAESTRO 2'!C$48,'DATA MAESTRO 2'!C$49,'DATA MAESTRO 2'!C$50,'DATA MAESTRO 2'!C$51,'DATA MAESTRO 2'!C$52,'DATA MAESTRO 2'!C$53,'DATA MAESTRO 2'!C$54,'DATA MAESTRO 2'!C$55,'DATA MAESTRO 2'!C$56,'DATA MAESTRO 2'!C$57,'DATA MAESTRO 2'!C$58,'DATA MAESTRO 2'!C$59,'DATA MAESTRO 2'!C$60,'DATA MAESTRO 2'!C$61,'DATA MAESTRO 2'!C$62,'DATA MAESTRO 2'!C$63,'DATA MAESTRO 2'!C$64,'DATA MAESTRO 2'!C$65)","v":0},{"$f":"CHOOSE(B25,'DATA MAESTRO 2'!D$43,'DATA MAESTRO 2'!D$44,'DATA MAESTRO 2'!D$45,'DATA MAESTRO 2'!D$46,'DATA MAESTRO 2'!D$47,'DATA MAESTRO 2'!D$48,'DATA MAESTRO 2'!D$49,'DATA MAESTRO 2'!D$50,'DATA MAESTRO 2'!D$51,'DATA MAESTRO 2'!D$52,'DATA MAESTRO 2'!D$53,'DATA MAESTRO 2'!D$54,'DATA MAESTRO 2'!D$55,'DATA MAESTRO 2'!D$56,'DATA MAESTRO 2'!D$57,'DATA MAESTRO 2'!D$58,'DATA MAESTRO 2'!D$59,'DATA MAESTRO 2'!D$60,'DATA MAESTRO 2'!D$61,'DATA MAESTRO 2'!D$62,'DATA MAESTRO 2'!D$63,'DATA MAESTRO 2'!D$64,'DATA MAESTRO 2'!D$65)","v":0},{"$f":"CHOOSE($B25,'DATA MAESTRO 2'!E$43,'DATA MAESTRO 2'!E$44,'DATA MAESTRO 2'!E$45,'DATA MAESTRO 2'!E$46,'DATA MAESTRO 2'!E$47,'DATA MAESTRO 2'!E$48,'DATA MAESTRO 2'!E$49,'DATA MAESTRO 2'!E$50,'DATA MAESTRO 2'!E$51,'DATA MAESTRO 2'!E$52,'DATA MAESTRO 2'!E$53,'DATA MAESTRO 2'!E$54,'DATA MAESTRO 2'!E$55,'DATA MAESTRO 2'!E$56,'DATA MAESTRO 2'!E$57,'DATA MAESTRO 2'!E$58,'DATA MAESTRO 2'!E$59,'DATA MAESTRO 2'!E$60,'DATA MAESTRO 2'!E$61,'DATA MAESTRO 2'!E$62,'DATA MAESTRO 2'!E$63,'DATA MAESTRO 2'!E$64,'DATA MAESTRO 2'!E$65)","v":0},{"$f":"CHOOSE($B25,'DATA MAESTRO 2'!F$43,'DATA MAESTRO 2'!F$44,'DATA MAESTRO 2'!F$45,'DATA MAESTRO 2'!F$46,'DATA MAESTRO 2'!F$47,'DATA MAESTRO 2'!F$48,'DATA MAESTRO 2'!F$49,'DATA MAESTRO 2'!F$50,'DATA MAESTRO 2'!F$51,'DATA MAESTRO 2'!F$52,'DATA MAESTRO 2'!F$53,'DATA MAESTRO 2'!F$54,'DATA MAESTRO 2'!F$55,'DATA MAESTRO 2'!F$56,'DATA MAESTRO 2'!F$57,'DATA MAESTRO 2'!F$58,'DATA MAESTRO 2'!F$59,'DATA MAESTRO 2'!F$60,'DATA MAESTRO 2'!F$61,'DATA MAESTRO 2'!F$62,'DATA MAESTRO 2'!F$63,'DATA MAESTRO 2'!F$64,'DATA MAESTRO 2'!F$65)","v":0},{"$f":"CHOOSE($B25,'DATA MAESTRO 2'!G$43,'DATA MAESTRO 2'!G$44,'DATA MAESTRO 2'!G$45,'DATA MAESTRO 2'!G$46,'DATA MAESTRO 2'!G$47,'DATA MAESTRO 2'!G$48,'DATA MAESTRO 2'!G$49,'DATA MAESTRO 2'!G$50,'DATA MAESTRO 2'!G$51,'DATA MAESTRO 2'!G$52,'DATA MAESTRO 2'!G$53,'DATA MAESTRO 2'!G$54,'DATA MAESTRO 2'!G$55,'DATA MAESTRO 2'!G$56,'DATA MAESTRO 2'!G$57,'DATA MAESTRO 2'!G$58,'DATA MAESTRO 2'!G$59,'DATA MAESTRO 2'!G$60,'DATA MAESTRO 2'!G$61,'DATA MAESTRO 2'!G$62,'DATA MAESTRO 2'!G$63,'DATA MAESTRO 2'!G$64,'DATA MAESTRO 2'!G$65)","v":0},{"$f":"CHOOSE($B25,'DATA MAESTRO 2'!H$43,'DATA MAESTRO 2'!H$44,'DATA MAESTRO 2'!H$45,'DATA MAESTRO 2'!H$46,'DATA MAESTRO 2'!H$47,'DATA MAESTRO 2'!H$48,'DATA MAESTRO 2'!H$49,'DATA MAESTRO 2'!H$50,'DATA MAESTRO 2'!H$51,'DATA MAESTRO 2'!H$52,'DATA MAESTRO 2'!H$53,'DATA MAESTRO 2'!H$54,'DATA MAESTRO 2'!H$55,'DATA MAESTRO 2'!H$56,'DATA MAESTRO 2'!H$57,'DATA MAESTRO 2'!H$58,'DATA MAESTRO 2'!H$59,'DATA MAESTRO 2'!H$60,'DATA MAESTRO 2'!H$61,'DATA MAESTRO 2'!H$62,'DATA MAESTRO 2'!H$63,'DATA MAESTRO 2'!H$64,'DATA MAESTRO 2'!H$65)","v":0},{"$f":"CHOOSE($B25,'DATA MAESTRO 2'!I$43,'DATA MAESTRO 2'!I$44,'DATA MAESTRO 2'!I$45,'DATA MAESTRO 2'!I$46,'DATA MAESTRO 2'!I$47,'DATA MAESTRO 2'!I$48,'DATA MAESTRO 2'!I$49,'DATA MAESTRO 2'!I$50,'DATA MAESTRO 2'!I$51,'DATA MAESTRO 2'!I$52,'DATA MAESTRO 2'!I$53,'DATA MAESTRO 2'!I$54,'DATA MAESTRO 2'!I$55,'DATA MAESTRO 2'!I$56,'DATA MAESTRO 2'!I$57,'DATA MAESTRO 2'!I$58,'DATA MAESTRO 2'!I$59,'DATA MAESTRO 2'!I$60,'DATA MAESTRO 2'!I$61,'DATA MAESTRO 2'!I$62,'DATA MAESTRO 2'!I$63,'DATA MAESTRO 2'!I$64,'DATA MAESTRO 2'!I$65)","v":0},{"$f":"CHOOSE($B25,'DATA MAESTRO 2'!J$43,'DATA MAESTRO 2'!J$44,'DATA MAESTRO 2'!J$45,'DATA MAESTRO 2'!J$46,'DATA MAESTRO 2'!J$47,'DATA MAESTRO 2'!J$48,'DATA MAESTRO 2'!J$49,'DATA MAESTRO 2'!J$50,'DATA MAESTRO 2'!J$51,'DATA MAESTRO 2'!J$52,'DATA MAESTRO 2'!J$53,'DATA MAESTRO 2'!J$54,'DATA MAESTRO 2'!J$55,'DATA MAESTRO 2'!J$56,'DATA MAESTRO 2'!J$57,'DATA MAESTRO 2'!J$58,'DATA MAESTRO 2'!J$59,'DATA MAESTRO 2'!J$60,'DATA MAESTRO 2'!J$61,'DATA MAESTRO 2'!J$62,'DATA MAESTRO 2'!J$63,'DATA MAESTRO 2'!J$64,'DATA MAESTRO 2'!J$65)","v":0},{"$f":"CHOOSE($B25,'DATA MAESTRO 2'!K$43,'DATA MAESTRO 2'!K$44,'DATA MAESTRO 2'!K$45,'DATA MAESTRO 2'!K$46,'DATA MAESTRO 2'!K$47,'DATA MAESTRO 2'!K$48,'DATA MAESTRO 2'!K$49,'DATA MAESTRO 2'!K$50,'DATA MAESTRO 2'!K$51,'DATA MAESTRO 2'!K$52,'DATA MAESTRO 2'!K$53,'DATA MAESTRO 2'!K$54,'DATA MAESTRO 2'!K$55,'DATA MAESTRO 2'!K$56,'DATA MAESTRO 2'!K$57,'DATA MAESTRO 2'!K$58,'DATA MAESTRO 2'!K$59,'DATA MAESTRO 2'!K$60,'DATA MAESTRO 2'!K$61,'DATA MAESTRO 2'!K$62,'DATA MAESTRO 2'!K$63,'DATA MAESTRO 2'!K$64,'DATA MAESTRO 2'!K$65)","v":0},{"$f":"CHOOSE($B25,'DATA MAESTRO 2'!L$43,'DATA MAESTRO 2'!L$44,'DATA MAESTRO 2'!L$45,'DATA MAESTRO 2'!L$46,'DATA MAESTRO 2'!L$47,'DATA MAESTRO 2'!L$48,'DATA MAESTRO 2'!L$49,'DATA MAESTRO 2'!L$50,'DATA MAESTRO 2'!L$51,'DATA MAESTRO 2'!L$52,'DATA MAESTRO 2'!L$53,'DATA MAESTRO 2'!L$54,'DATA MAESTRO 2'!L$55,'DATA MAESTRO 2'!L$56,'DATA MAESTRO 2'!L$57,'DATA MAESTRO 2'!L$58,'DATA MAESTRO 2'!L$59,'DATA MAESTRO 2'!L$60,'DATA MAESTRO 2'!L$61,'DATA MAESTRO 2'!L$62,'DATA MAESTRO 2'!L$63,'DATA MAESTRO 2'!L$64,'DATA MAESTRO 2'!L$65)","v":0},{"$f":"CHOOSE($B25,'DATA MAESTRO 2'!M$43,'DATA MAESTRO 2'!M$44,'DATA MAESTRO 2'!M$45,'DATA MAESTRO 2'!M$46,'DATA MAESTRO 2'!M$47,'DATA MAESTRO 2'!M$48,'DATA MAESTRO 2'!M$49,'DATA MAESTRO 2'!M$50,'DATA MAESTRO 2'!M$51,'DATA MAESTRO 2'!M$52,'DATA MAESTRO 2'!M$53,'DATA MAESTRO 2'!M$54,'DATA MAESTRO 2'!M$55,'DATA MAESTRO 2'!M$56,'DATA MAESTRO 2'!M$57,'DATA MAESTRO 2'!M$58,'DATA MAESTRO 2'!M$59,'DATA MAESTRO 2'!M$60,'DATA MAESTRO 2'!M$61,'DATA MAESTRO 2'!M$62,'DATA MAESTRO 2'!M$63,'DATA MAESTRO 2'!M$64,'DATA MAESTRO 2'!M$65)","v":0},{"$f":"CHOOSE($B25,'DATA MAESTRO 2'!N$43,'DATA MAESTRO 2'!N$44,'DATA MAESTRO 2'!N$45,'DATA MAESTRO 2'!N$46,'DATA MAESTRO 2'!N$47,'DATA MAESTRO 2'!N$48,'DATA MAESTRO 2'!N$49,'DATA MAESTRO 2'!N$50,'DATA MAESTRO 2'!N$51,'DATA MAESTRO 2'!N$52,'DATA MAESTRO 2'!N$53,'DATA MAESTRO 2'!N$54,'DATA MAESTRO 2'!N$55,'DATA MAESTRO 2'!N$56,'DATA MAESTRO 2'!N$57,'DATA MAESTRO 2'!N$58,'DATA MAESTRO 2'!N$59,'DATA MAESTRO 2'!N$60,'DATA MAESTRO 2'!N$61,'DATA MAESTRO 2'!N$62,'DATA MAESTRO 2'!N$63,'DATA MAESTRO 2'!N$64,'DATA MAESTRO 2'!N$65)","v":0},{"$f":"CHOOSE($B25,'DATA MAESTRO 2'!O$43,'DATA MAESTRO 2'!O$44,'DATA MAESTRO 2'!O$45,'DATA MAESTRO 2'!O$46,'DATA MAESTRO 2'!O$47,'DATA MAESTRO 2'!O$48,'DATA MAESTRO 2'!O$49,'DATA MAESTRO 2'!O$50,'DATA MAESTRO 2'!O$51,'DATA MAESTRO 2'!O$52,'DATA MAESTRO 2'!O$53,'DATA MAESTRO 2'!O$54,'DATA MAESTRO 2'!O$55,'DATA MAESTRO 2'!O$56,'DATA MAESTRO 2'!O$57,'DATA MAESTRO 2'!O$58,'DATA MAESTRO 2'!O$59,'DATA MAESTRO 2'!O$60,'DATA MAESTRO 2'!O$61,'DATA MAESTRO 2'!O$62,'DATA MAESTRO 2'!O$63,'DATA MAESTRO 2'!O$64,'DATA MAESTRO 2'!O$65)","v":0},{"$f":"CHOOSE($B25,'DATA MAESTRO 2'!P$43,'DATA MAESTRO 2'!P$44,'DATA MAESTRO 2'!P$45,'DATA MAESTRO 2'!P$46,'DATA MAESTRO 2'!P$47,'DATA MAESTRO 2'!P$48,'DATA MAESTRO 2'!P$49,'DATA MAESTRO 2'!P$50,'DATA MAESTRO 2'!P$51,'DATA MAESTRO 2'!P$52,'DATA MAESTRO 2'!P$53,'DATA MAESTRO 2'!P$54,'DATA MAESTRO 2'!P$55,'DATA MAESTRO 2'!P$56,'DATA MAESTRO 2'!P$57,'DATA MAESTRO 2'!P$58,'DATA MAESTRO 2'!P$59,'DATA MAESTRO 2'!P$60,'DATA MAESTRO 2'!P$61,'DATA MAESTRO 2'!P$62,'DATA MAESTRO 2'!P$63,'DATA MAESTRO 2'!P$64,'DATA MAESTRO 2'!P$65)","v":0},{"$f":"CHOOSE($B25,'DATA MAESTRO 2'!Q$43,'DATA MAESTRO 2'!Q$44,'DATA MAESTRO 2'!Q$45,'DATA MAESTRO 2'!Q$46,'DATA MAESTRO 2'!Q$47,'DATA MAESTRO 2'!Q$48,'DATA MAESTRO 2'!Q$49,'DATA MAESTRO 2'!Q$50,'DATA MAESTRO 2'!Q$51,'DATA MAESTRO 2'!Q$52,'DATA MAESTRO 2'!Q$53,'DATA MAESTRO 2'!Q$54,'DATA MAESTRO 2'!Q$55,'DATA MAESTRO 2'!Q$56,'DATA MAESTRO 2'!Q$57,'DATA MAESTRO 2'!Q$58,'DATA MAESTRO 2'!Q$59,'DATA MAESTRO 2'!Q$60,'DATA MAESTRO 2'!Q$61,'DATA MAESTRO 2'!Q$62,'DATA MAESTRO 2'!Q$63,'DATA MAESTRO 2'!Q$64,'DATA MAESTRO 2'!Q$65)","v":0},{"$f":"CHOOSE($B25,'DATA MAESTRO 2'!R$43,'DATA MAESTRO 2'!R$44,'DATA MAESTRO 2'!R$45,'DATA MAESTRO 2'!R$46,'DATA MAESTRO 2'!R$47,'DATA MAESTRO 2'!R$48,'DATA MAESTRO 2'!R$49,'DATA MAESTRO 2'!R$50,'DATA MAESTRO 2'!R$51,'DATA MAESTRO 2'!R$52,'DATA MAESTRO 2'!R$53,'DATA MAESTRO 2'!R$54,'DATA MAESTRO 2'!R$55,'DATA MAESTRO 2'!R$56,'DATA MAESTRO 2'!R$57,'DATA MAESTRO 2'!R$58,'DATA MAESTRO 2'!R$59,'DATA MAESTRO 2'!R$60,'DATA MAESTRO 2'!R$61,'DATA MAESTRO 2'!R$62,'DATA MAESTRO 2'!R$63,'DATA MAESTRO 2'!R$64,'DATA MAESTRO 2'!R$65)","v":0},{"$f":"CHOOSE($B25,'DATA MAESTRO 2'!S$43,'DATA MAESTRO 2'!S$44,'DATA MAESTRO 2'!S$45,'DATA MAESTRO 2'!S$46,'DATA MAESTRO 2'!S$47,'DATA MAESTRO 2'!S$48,'DATA MAESTRO 2'!S$49,'DATA MAESTRO 2'!S$50,'DATA MAESTRO 2'!S$51,'DATA MAESTRO 2'!S$52,'DATA MAESTRO 2'!S$53,'DATA MAESTRO 2'!S$54,'DATA MAESTRO 2'!S$55,'DATA MAESTRO 2'!S$56,'DATA MAESTRO 2'!S$57,'DATA MAESTRO 2'!S$58,'DATA MAESTRO 2'!S$59,'DATA MAESTRO 2'!S$60,'DATA MAESTRO 2'!S$61,'DATA MAESTRO 2'!S$62,'DATA MAESTRO 2'!S$63,'DATA MAESTRO 2'!S$64,'DATA MAESTRO 2'!S$65)","v":0},{"$f":"CHOOSE($B25,'DATA MAESTRO 2'!T$43,'DATA MAESTRO 2'!T$44,'DATA MAESTRO 2'!T$45,'DATA MAESTRO 2'!T$46,'DATA MAESTRO 2'!T$47,'DATA MAESTRO 2'!T$48,'DATA MAESTRO 2'!T$49,'DATA MAESTRO 2'!T$50,'DATA MAESTRO 2'!T$51,'DATA MAESTRO 2'!T$52,'DATA MAESTRO 2'!T$53,'DATA MAESTRO 2'!T$54,'DATA MAESTRO 2'!T$55,'DATA MAESTRO 2'!T$56,'DATA MAESTRO 2'!T$57,'DATA MAESTRO 2'!T$58,'DATA MAESTRO 2'!T$59,'DATA MAESTRO 2'!T$60,'DATA MAESTRO 2'!T$61,'DATA MAESTRO 2'!T$62,'DATA MAESTRO 2'!T$63,'DATA MAESTRO 2'!T$64,'DATA MAESTRO 2'!T$65)","v":0},{"$f":"CHOOSE($B25,'DATA MAESTRO 2'!U$43,'DATA MAESTRO 2'!U$44,'DATA MAESTRO 2'!U$45,'DATA MAESTRO 2'!U$46,'DATA MAESTRO 2'!U$47,'DATA MAESTRO 2'!U$48,'DATA MAESTRO 2'!U$49,'DATA MAESTRO 2'!U$50,'DATA MAESTRO 2'!U$51,'DATA MAESTRO 2'!U$52,'DATA MAESTRO 2'!U$53,'DATA MAESTRO 2'!U$54,'DATA MAESTRO 2'!U$55,'DATA MAESTRO 2'!U$56,'DATA MAESTRO 2'!U$57,'DATA MAESTRO 2'!U$58,'DATA MAESTRO 2'!U$59,'DATA MAESTRO 2'!U$60,'DATA MAESTRO 2'!U$61,'DATA MAESTRO 2'!U$62,'DATA MAESTRO 2'!U$63,'DATA MAESTRO 2'!U$64,'DATA MAESTRO 2'!U$65)","v":0},{"$f":"CHOOSE($B25,'DATA MAESTRO 2'!V$43,'DATA MAESTRO 2'!V$44,'DATA MAESTRO 2'!V$45,'DATA MAESTRO 2'!V$46,'DATA MAESTRO 2'!V$47,'DATA MAESTRO 2'!V$48,'DATA MAESTRO 2'!V$49,'DATA MAESTRO 2'!V$50,'DATA MAESTRO 2'!V$51,'DATA MAESTRO 2'!V$52,'DATA MAESTRO 2'!V$53,'DATA MAESTRO 2'!V$54,'DATA MAESTRO 2'!V$55,'DATA MAESTRO 2'!V$56,'DATA MAESTRO 2'!V$57,'DATA MAESTRO 2'!V$58,'DATA MAESTRO 2'!V$59,'DATA MAESTRO 2'!V$60,'DATA MAESTRO 2'!V$61,'DATA MAESTRO 2'!V$62,'DATA MAESTRO 2'!V$63,'DATA MAESTRO 2'!V$64,'DATA MAESTRO 2'!V$65)","v":0},{"$f":"CHOOSE($B25,'DATA MAESTRO 2'!W$43,'DATA MAESTRO 2'!W$44,'DATA MAESTRO 2'!W$45,'DATA MAESTRO 2'!W$46,'DATA MAESTRO 2'!W$47,'DATA MAESTRO 2'!W$48,'DATA MAESTRO 2'!W$49,'DATA MAESTRO 2'!W$50,'DATA MAESTRO 2'!W$51,'DATA MAESTRO 2'!W$52,'DATA MAESTRO 2'!W$53,'DATA MAESTRO 2'!W$54,'DATA MAESTRO 2'!W$55,'DATA MAESTRO 2'!W$56,'DATA MAESTRO 2'!W$57,'DATA MAESTRO 2'!W$58,'DATA MAESTRO 2'!W$59,'DATA MAESTRO 2'!W$60,'DATA MAESTRO 2'!W$61,'DATA MAESTRO 2'!W$62,'DATA MAESTRO 2'!W$63,'DATA MAESTRO 2'!W$64,'DATA MAESTRO 2'!W$65)","v":0},{"$f":"CHOOSE($B25,'DATA MAESTRO 2'!X$43,'DATA MAESTRO 2'!X$44,'DATA MAESTRO 2'!X$45,'DATA MAESTRO 2'!X$46,'DATA MAESTRO 2'!X$47,'DATA MAESTRO 2'!X$48,'DATA MAESTRO 2'!X$49,'DATA MAESTRO 2'!X$50,'DATA MAESTRO 2'!X$51,'DATA MAESTRO 2'!X$52,'DATA MAESTRO 2'!X$53,'DATA MAESTRO 2'!X$54,'DATA MAESTRO 2'!X$55,'DATA MAESTRO 2'!X$56,'DATA MAESTRO 2'!X$57,'DATA MAESTRO 2'!X$58,'DATA MAESTRO 2'!X$59,'DATA MAESTRO 2'!X$60,'DATA MAESTRO 2'!X$61,'DATA MAESTRO 2'!X$62,'DATA MAESTRO 2'!X$63,'DATA MAESTRO 2'!X$64,'DATA MAESTRO 2'!X$65)","v":0},{"$f":"CHOOSE($B25,'DATA MAESTRO 2'!Y$43,'DATA MAESTRO 2'!Y$44,'DATA MAESTRO 2'!Y$45,'DATA MAESTRO 2'!Y$46,'DATA MAESTRO 2'!Y$47,'DATA MAESTRO 2'!Y$48,'DATA MAESTRO 2'!Y$49,'DATA MAESTRO 2'!Y$50,'DATA MAESTRO 2'!Y$51,'DATA MAESTRO 2'!Y$52,'DATA MAESTRO 2'!Y$53,'DATA MAESTRO 2'!Y$54,'DATA MAESTRO 2'!Y$55,'DATA MAESTRO 2'!Y$56,'DATA MAESTRO 2'!Y$57,'DATA MAESTRO 2'!Y$58,'DATA MAESTRO 2'!Y$59,'DATA MAESTRO 2'!Y$60,'DATA MAESTRO 2'!Y$61,'DATA MAESTRO 2'!Y$62,'DATA MAESTRO 2'!Y$63,'DATA MAESTRO 2'!Y$64,'DATA MAESTRO 2'!Y$65)","v":0},{"$f":"CHOOSE($B25,'DATA MAESTRO 2'!Z$43,'DATA MAESTRO 2'!Z$44,'DATA MAESTRO 2'!Z$45,'DATA MAESTRO 2'!Z$46,'DATA MAESTRO 2'!Z$47,'DATA MAESTRO 2'!Z$48,'DATA MAESTRO 2'!Z$49,'DATA MAESTRO 2'!Z$50,'DATA MAESTRO 2'!Z$51,'DATA MAESTRO 2'!Z$52,'DATA MAESTRO 2'!Z$53,'DATA MAESTRO 2'!Z$54,'DATA MAESTRO 2'!Z$55,'DATA MAESTRO 2'!Z$56,'DATA MAESTRO 2'!Z$57,'DATA MAESTRO 2'!Z$58,'DATA MAESTRO 2'!Z$59,'DATA MAESTRO 2'!Z$60,'DATA MAESTRO 2'!Z$61,'DATA MAESTRO 2'!Z$62,'DATA MAESTRO 2'!Z$63,'DATA MAESTRO 2'!Z$64,'DATA MAESTRO 2'!Z$65)","v":0},{"$f":"CHOOSE($B25,'DATA MAESTRO 2'!AA$43,'DATA MAESTRO 2'!AA$44,'DATA MAESTRO 2'!AA$45,'DATA MAESTRO 2'!AA$46,'DATA MAESTRO 2'!AA$47,'DATA MAESTRO 2'!AA$48,'DATA MAESTRO 2'!AA$49,'DATA MAESTRO 2'!AA$50,'DATA MAESTRO 2'!AA$51,'DATA MAESTRO 2'!AA$52,'DATA MAESTRO 2'!AA$53,'DATA MAESTRO 2'!AA$54,'DATA MAESTRO 2'!AA$55,'DATA MAESTRO 2'!AA$56,'DATA MAESTRO 2'!AA$57,'DATA MAESTRO 2'!AA$58,'DATA MAESTRO 2'!AA$59,'DATA MAESTRO 2'!AA$60,'DATA MAESTRO 2'!AA$61,'DATA MAESTRO 2'!AA$62,'DATA MAESTRO 2'!AA$63,'DATA MAESTRO 2'!AA$64,'DATA MAESTRO 2'!AA$65)","v":0},{"$f":"CHOOSE($B25,'DATA MAESTRO 2'!AB$43,'DATA MAESTRO 2'!AB$44,'DATA MAESTRO 2'!AB$45,'DATA MAESTRO 2'!AB$46,'DATA MAESTRO 2'!AB$47,'DATA MAESTRO 2'!AB$48,'DATA MAESTRO 2'!AB$49,'DATA MAESTRO 2'!AB$50,'DATA MAESTRO 2'!AB$51,'DATA MAESTRO 2'!AB$52,'DATA MAESTRO 2'!AB$53,'DATA MAESTRO 2'!AB$54,'DATA MAESTRO 2'!AB$55,'DATA MAESTRO 2'!AB$56,'DATA MAESTRO 2'!AB$57,'DATA MAESTRO 2'!AB$58,'DATA MAESTRO 2'!AB$59,'DATA MAESTRO 2'!AB$60,'DATA MAESTRO 2'!AB$61,'DATA MAESTRO 2'!AB$62,'DATA MAESTRO 2'!AB$63,'DATA MAESTRO 2'!AB$64,'DATA MAESTRO 2'!AB$65)","v":0},{"$f":"CHOOSE($B25,'DATA MAESTRO 2'!AC$43,'DATA MAESTRO 2'!AC$44,'DATA MAESTRO 2'!AC$45,'DATA MAESTRO 2'!AC$46,'DATA MAESTRO 2'!AC$47,'DATA MAESTRO 2'!AC$48,'DATA MAESTRO 2'!AC$49,'DATA MAESTRO 2'!AC$50,'DATA MAESTRO 2'!AC$51,'DATA MAESTRO 2'!AC$52,'DATA MAESTRO 2'!AC$53,'DATA MAESTRO 2'!AC$54,'DATA MAESTRO 2'!AC$55,'DATA MAESTRO 2'!AC$56,'DATA MAESTRO 2'!AC$57,'DATA MAESTRO 2'!AC$58,'DATA MAESTRO 2'!AC$59,'DATA MAESTRO 2'!AC$60,'DATA MAESTRO 2'!AC$61,'DATA MAESTRO 2'!AC$62,'DATA MAESTRO 2'!AC$63,'DATA MAESTRO 2'!AC$64,'DATA MAESTRO 2'!AC$65)","v":0},{"$f":"CHOOSE($B25,'DATA MAESTRO 2'!AD$43,'DATA MAESTRO 2'!AD$44,'DATA MAESTRO 2'!AD$45,'DATA MAESTRO 2'!AD$46,'DATA MAESTRO 2'!AD$47,'DATA MAESTRO 2'!AD$48,'DATA MAESTRO 2'!AD$49,'DATA MAESTRO 2'!AD$50,'DATA MAESTRO 2'!AD$51,'DATA MAESTRO 2'!AD$52,'DATA MAESTRO 2'!AD$53,'DATA MAESTRO 2'!AD$54,'DATA MAESTRO 2'!AD$55,'DATA MAESTRO 2'!AD$56,'DATA MAESTRO 2'!AD$57,'DATA MAESTRO 2'!AD$58,'DATA MAESTRO 2'!AD$59,'DATA MAESTRO 2'!AD$60,'DATA MAESTRO 2'!AD$61,'DATA MAESTRO 2'!AD$62,'DATA MAESTRO 2'!AD$63,'DATA MAESTRO 2'!AD$64,'DATA MAESTRO 2'!AD$65)","v":0},{"$f":"CHOOSE($B25,'DATA MAESTRO 2'!AE$43,'DATA MAESTRO 2'!AE$44,'DATA MAESTRO 2'!AE$45,'DATA MAESTRO 2'!AE$46,'DATA MAESTRO 2'!AE$47,'DATA MAESTRO 2'!AE$48,'DATA MAESTRO 2'!AE$49,'DATA MAESTRO 2'!AE$50,'DATA MAESTRO 2'!AE$51,'DATA MAESTRO 2'!AE$52,'DATA MAESTRO 2'!AE$53,'DATA MAESTRO 2'!AE$54,'DATA MAESTRO 2'!AE$55,'DATA MAESTRO 2'!AE$56,'DATA MAESTRO 2'!AE$57,'DATA MAESTRO 2'!AE$58,'DATA MAESTRO 2'!AE$59,'DATA MAESTRO 2'!AE$60,'DATA MAESTRO 2'!AE$61,'DATA MAESTRO 2'!AE$62,'DATA MAESTRO 2'!AE$63,'DATA MAESTRO 2'!AE$64,'DATA MAESTRO 2'!AE$65)","v":0},{"$f":"CHOOSE($B25,'DATA MAESTRO 2'!AF$43,'DATA MAESTRO 2'!AF$44,'DATA MAESTRO 2'!AF$45,'DATA MAESTRO 2'!AF$46,'DATA MAESTRO 2'!AF$47,'DATA MAESTRO 2'!AF$48,'DATA MAESTRO 2'!AF$49,'DATA MAESTRO 2'!AF$50,'DATA MAESTRO 2'!AF$51,'DATA MAESTRO 2'!AF$52,'DATA MAESTRO 2'!AF$53,'DATA MAESTRO 2'!AF$54,'DATA MAESTRO 2'!AF$55,'DATA MAESTRO 2'!AF$56,'DATA MAESTRO 2'!AF$57,'DATA MAESTRO 2'!AF$58,'DATA MAESTRO 2'!AF$59,'DATA MAESTRO 2'!AF$60,'DATA MAESTRO 2'!AF$61,'DATA MAESTRO 2'!AF$62,'DATA MAESTRO 2'!AF$63,'DATA MAESTRO 2'!AF$64,'DATA MAESTRO 2'!AF$65)","v":0},{"$f":"CHOOSE($B25,'DATA MAESTRO 2'!AG$43,'DATA MAESTRO 2'!AG$44,'DATA MAESTRO 2'!AG$45,'DATA MAESTRO 2'!AG$46,'DATA MAESTRO 2'!AG$47,'DATA MAESTRO 2'!AG$48,'DATA MAESTRO 2'!AG$49,'DATA MAESTRO 2'!AG$50,'DATA MAESTRO 2'!AG$51,'DATA MAESTRO 2'!AG$52,'DATA MAESTRO 2'!AG$53,'DATA MAESTRO 2'!AG$54,'DATA MAESTRO 2'!AG$55,'DATA MAESTRO 2'!AG$56,'DATA MAESTRO 2'!AG$57,'DATA MAESTRO 2'!AG$58,'DATA MAESTRO 2'!AG$59,'DATA MAESTRO 2'!AG$60,'DATA MAESTRO 2'!AG$61,'DATA MAESTRO 2'!AG$62,'DATA MAESTRO 2'!AG$63,'DATA MAESTRO 2'!AG$64,'DATA MAESTRO 2'!AG$65)","v":0},{"$f":"CHOOSE($B25,'DATA MAESTRO 2'!AH$43,'DATA MAESTRO 2'!AH$44,'DATA MAESTRO 2'!AH$45,'DATA MAESTRO 2'!AH$46,'DATA MAESTRO 2'!AH$47,'DATA MAESTRO 2'!AH$48,'DATA MAESTRO 2'!AH$49,'DATA MAESTRO 2'!AH$50,'DATA MAESTRO 2'!AH$51,'DATA MAESTRO 2'!AH$52,'DATA MAESTRO 2'!AH$53,'DATA MAESTRO 2'!AH$54,'DATA MAESTRO 2'!AH$55,'DATA MAESTRO 2'!AH$56,'DATA MAESTRO 2'!AH$57,'DATA MAESTRO 2'!AH$58,'DATA MAESTRO 2'!AH$59,'DATA MAESTRO 2'!AH$60,'DATA MAESTRO 2'!AH$61,'DATA MAESTRO 2'!AH$62,'DATA MAESTRO 2'!AH$63,'DATA MAESTRO 2'!AH$64,'DATA MAESTRO 2'!AH$65)","v":0},{"$f":"CHOOSE($B25,'DATA MAESTRO 2'!AI$43,'DATA MAESTRO 2'!AI$44,'DATA MAESTRO 2'!AI$45,'DATA MAESTRO 2'!AI$46,'DATA MAESTRO 2'!AI$47,'DATA MAESTRO 2'!AI$48,'DATA MAESTRO 2'!AI$49,'DATA MAESTRO 2'!AI$50,'DATA MAESTRO 2'!AI$51,'DATA MAESTRO 2'!AI$52,'DATA MAESTRO 2'!AI$53,'DATA MAESTRO 2'!AI$54,'DATA MAESTRO 2'!AI$55,'DATA MAESTRO 2'!AI$56,'DATA MAESTRO 2'!AI$57,'DATA MAESTRO 2'!AI$58,'DATA MAESTRO 2'!AI$59,'DATA MAESTRO 2'!AI$60,'DATA MAESTRO 2'!AI$61,'DATA MAESTRO 2'!AI$62,'DATA MAESTRO 2'!AI$63,'DATA MAESTRO 2'!AI$64,'DATA MAESTRO 2'!AI$65)","v":0},{"$f":"CHOOSE($B25,'DATA MAESTRO 2'!AJ$43,'DATA MAESTRO 2'!AJ$44,'DATA MAESTRO 2'!AJ$45,'DATA MAESTRO 2'!AJ$46,'DATA MAESTRO 2'!AJ$47,'DATA MAESTRO 2'!AJ$48,'DATA MAESTRO 2'!AJ$49,'DATA MAESTRO 2'!AJ$50,'DATA MAESTRO 2'!AJ$51,'DATA MAESTRO 2'!AJ$52,'DATA MAESTRO 2'!AJ$53,'DATA MAESTRO 2'!AJ$54,'DATA MAESTRO 2'!AJ$55,'DATA MAESTRO 2'!AJ$56,'DATA MAESTRO 2'!AJ$57,'DATA MAESTRO 2'!AJ$58,'DATA MAESTRO 2'!AJ$59,'DATA MAESTRO 2'!AJ$60,'DATA MAESTRO 2'!AJ$61,'DATA MAESTRO 2'!AJ$62,'DATA MAESTRO 2'!AJ$63,'DATA MAESTRO 2'!AJ$64,'DATA MAESTRO 2'!AJ$65)","v":0}]
[24,23,{"$f":"+IF(AND(B26>=1,B26<=23),VLOOKUP(B26,'DATA MAESTRO 2'!$A$43:$B$65,2),0)","v":"Vacio"},{"$f":"+CHOOSE($B26,'DATA MAESTRO 2'!C$43,'DATA MAESTRO 2'!C$44,'DATA MAESTRO 2'!C$45,'DATA MAESTRO 2'!C$46,'DATA MAESTRO 2'!C$47,'DATA MAESTRO 2'!C$48,'DATA MAESTRO 2'!C$49,'DATA MAESTRO 2'!C$50,'DATA MAESTRO 2'!C$51,'DATA MAESTRO 2'!C$52,'DATA MAESTRO 2'!C$53,'DATA MAESTRO 2'!C$54,'DATA MAESTRO 2'!C$55,'DATA MAESTRO 2'!C$56,'DATA MAESTRO 2'!C$57,'DATA MAESTRO 2'!C$58,'DATA MAESTRO 2'!C$59,'DATA MAESTRO 2'!C$60,'DATA MAESTRO 2'!C$61,'DATA MAESTRO 2'!C$62,'DATA MAESTRO 2'!C$63,'DATA MAESTRO 2'!C$64,'DATA MAESTRO 2'!C$65)","v":0},{"$f":"CHOOSE(B26,'DATA MAESTRO 2'!D$43,'DATA MAESTRO 2'!D$44,'DATA MAESTRO 2'!D$45,'DATA MAESTRO 2'!D$46,'DATA MAESTRO 2'!D$47,'DATA MAESTRO 2'!D$48,'DATA MAESTRO 2'!D$49,'DATA MAESTRO 2'!D$50,'DATA MAESTRO 2'!D$51,'DATA MAESTRO 2'!D$52,'DATA MAESTRO 2'!D$53,'DATA MAESTRO 2'!D$54,'DATA MAESTRO 2'!D$55,'DATA MAESTRO 2'!D$56,'DATA MAESTRO 2'!D$57,'DATA MAESTRO 2'!D$58,'DATA MAESTRO 2'!D$59,'DATA MAESTRO 2'!D$60,'DATA MAESTRO 2'!D$61,'DATA MAESTRO 2'!D$62,'DATA MAESTRO 2'!D$63,'DATA MAESTRO 2'!D$64,'DATA MAESTRO 2'!D$65)","v":0},{"$f":"CHOOSE($B26,'DATA MAESTRO 2'!E$43,'DATA MAESTRO 2'!E$44,'DATA MAESTRO 2'!E$45,'DATA MAESTRO 2'!E$46,'DATA MAESTRO 2'!E$47,'DATA MAESTRO 2'!E$48,'DATA MAESTRO 2'!E$49,'DATA MAESTRO 2'!E$50,'DATA MAESTRO 2'!E$51,'DATA MAESTRO 2'!E$52,'DATA MAESTRO 2'!E$53,'DATA MAESTRO 2'!E$54,'DATA MAESTRO 2'!E$55,'DATA MAESTRO 2'!E$56,'DATA MAESTRO 2'!E$57,'DATA MAESTRO 2'!E$58,'DATA MAESTRO 2'!E$59,'DATA MAESTRO 2'!E$60,'DATA MAESTRO 2'!E$61,'DATA MAESTRO 2'!E$62,'DATA MAESTRO 2'!E$63,'DATA MAESTRO 2'!E$64,'DATA MAESTRO 2'!E$65)","v":0},{"$f":"CHOOSE($B26,'DATA MAESTRO 2'!F$43,'DATA MAESTRO 2'!F$44,'DATA MAESTRO 2'!F$45,'DATA MAESTRO 2'!F$46,'DATA MAESTRO 2'!F$47,'DATA MAESTRO 2'!F$48,'DATA MAESTRO 2'!F$49,'DATA MAESTRO 2'!F$50,'DATA MAESTRO 2'!F$51,'DATA MAESTRO 2'!F$52,'DATA MAESTRO 2'!F$53,'DATA MAESTRO 2'!F$54,'DATA MAESTRO 2'!F$55,'DATA MAESTRO 2'!F$56,'DATA MAESTRO 2'!F$57,'DATA MAESTRO 2'!F$58,'DATA MAESTRO 2'!F$59,'DATA MAESTRO 2'!F$60,'DATA MAESTRO 2'!F$61,'DATA MAESTRO 2'!F$62,'DATA MAESTRO 2'!F$63,'DATA MAESTRO 2'!F$64,'DATA MAESTRO 2'!F$65)","v":0},{"$f":"CHOOSE($B26,'DATA MAESTRO 2'!G$43,'DATA MAESTRO 2'!G$44,'DATA MAESTRO 2'!G$45,'DATA MAESTRO 2'!G$46,'DATA MAESTRO 2'!G$47,'DATA MAESTRO 2'!G$48,'DATA MAESTRO 2'!G$49,'DATA MAESTRO 2'!G$50,'DATA MAESTRO 2'!G$51,'DATA MAESTRO 2'!G$52,'DATA MAESTRO 2'!G$53,'DATA MAESTRO 2'!G$54,'DATA MAESTRO 2'!G$55,'DATA MAESTRO 2'!G$56,'DATA MAESTRO 2'!G$57,'DATA MAESTRO 2'!G$58,'DATA MAESTRO 2'!G$59,'DATA MAESTRO 2'!G$60,'DATA MAESTRO 2'!G$61,'DATA MAESTRO 2'!G$62,'DATA MAESTRO 2'!G$63,'DATA MAESTRO 2'!G$64,'DATA MAESTRO 2'!G$65)","v":0},{"$f":"CHOOSE($B26,'DATA MAESTRO 2'!H$43,'DATA MAESTRO 2'!H$44,'DATA MAESTRO 2'!H$45,'DATA MAESTRO 2'!H$46,'DATA MAESTRO 2'!H$47,'DATA MAESTRO 2'!H$48,'DATA MAESTRO 2'!H$49,'DATA MAESTRO 2'!H$50,'DATA MAESTRO 2'!H$51,'DATA MAESTRO 2'!H$52,'DATA MAESTRO 2'!H$53,'DATA MAESTRO 2'!H$54,'DATA MAESTRO 2'!H$55,'DATA MAESTRO 2'!H$56,'DATA MAESTRO 2'!H$57,'DATA MAESTRO 2'!H$58,'DATA MAESTRO 2'!H$59,'DATA MAESTRO 2'!H$60,'DATA MAESTRO 2'!H$61,'DATA MAESTRO 2'!H$62,'DATA MAESTRO 2'!H$63,'DATA MAESTRO 2'!H$64,'DATA MAESTRO 2'!H$65)","v":0},{"$f":"CHOOSE($B26,'DATA MAESTRO 2'!I$43,'DATA MAESTRO 2'!I$44,'DATA MAESTRO 2'!I$45,'DATA MAESTRO 2'!I$46,'DATA MAESTRO 2'!I$47,'DATA MAESTRO 2'!I$48,'DATA MAESTRO 2'!I$49,'DATA MAESTRO 2'!I$50,'DATA MAESTRO 2'!I$51,'DATA MAESTRO 2'!I$52,'DATA MAESTRO 2'!I$53,'DATA MAESTRO 2'!I$54,'DATA MAESTRO 2'!I$55,'DATA MAESTRO 2'!I$56,'DATA MAESTRO 2'!I$57,'DATA MAESTRO 2'!I$58,'DATA MAESTRO 2'!I$59,'DATA MAESTRO 2'!I$60,'DATA MAESTRO 2'!I$61,'DATA MAESTRO 2'!I$62,'DATA MAESTRO 2'!I$63,'DATA MAESTRO 2'!I$64,'DATA MAESTRO 2'!I$65)","v":0},{"$f":"CHOOSE($B26,'DATA MAESTRO 2'!J$43,'DATA MAESTRO 2'!J$44,'DATA MAESTRO 2'!J$45,'DATA MAESTRO 2'!J$46,'DATA MAESTRO 2'!J$47,'DATA MAESTRO 2'!J$48,'DATA MAESTRO 2'!J$49,'DATA MAESTRO 2'!J$50,'DATA MAESTRO 2'!J$51,'DATA MAESTRO 2'!J$52,'DATA MAESTRO 2'!J$53,'DATA MAESTRO 2'!J$54,'DATA MAESTRO 2'!J$55,'DATA MAESTRO 2'!J$56,'DATA MAESTRO 2'!J$57,'DATA MAESTRO 2'!J$58,'DATA MAESTRO 2'!J$59,'DATA MAESTRO 2'!J$60,'DATA MAESTRO 2'!J$61,'DATA MAESTRO 2'!J$62,'DATA MAESTRO 2'!J$63,'DATA MAESTRO 2'!J$64,'DATA MAESTRO 2'!J$65)","v":0},{"$f":"CHOOSE($B26,'DATA MAESTRO 2'!K$43,'DATA MAESTRO 2'!K$44,'DATA MAESTRO 2'!K$45,'DATA MAESTRO 2'!K$46,'DATA MAESTRO 2'!K$47,'DATA MAESTRO 2'!K$48,'DATA MAESTRO 2'!K$49,'DATA MAESTRO 2'!K$50,'DATA MAESTRO 2'!K$51,'DATA MAESTRO 2'!K$52,'DATA MAESTRO 2'!K$53,'DATA MAESTRO 2'!K$54,'DATA MAESTRO 2'!K$55,'DATA MAESTRO 2'!K$56,'DATA MAESTRO 2'!K$57,'DATA MAESTRO 2'!K$58,'DATA MAESTRO 2'!K$59,'DATA MAESTRO 2'!K$60,'DATA MAESTRO 2'!K$61,'DATA MAESTRO 2'!K$62,'DATA MAESTRO 2'!K$63,'DATA MAESTRO 2'!K$64,'DATA MAESTRO 2'!K$65)","v":0},{"$f":"CHOOSE($B26,'DATA MAESTRO 2'!L$43,'DATA MAESTRO 2'!L$44,'DATA MAESTRO 2'!L$45,'DATA MAESTRO 2'!L$46,'DATA MAESTRO 2'!L$47,'DATA MAESTRO 2'!L$48,'DATA MAESTRO 2'!L$49,'DATA MAESTRO 2'!L$50,'DATA MAESTRO 2'!L$51,'DATA MAESTRO 2'!L$52,'DATA MAESTRO 2'!L$53,'DATA MAESTRO 2'!L$54,'DATA MAESTRO 2'!L$55,'DATA MAESTRO 2'!L$56,'DATA MAESTRO 2'!L$57,'DATA MAESTRO 2'!L$58,'DATA MAESTRO 2'!L$59,'DATA MAESTRO 2'!L$60,'DATA MAESTRO 2'!L$61,'DATA MAESTRO 2'!L$62,'DATA MAESTRO 2'!L$63,'DATA MAESTRO 2'!L$64,'DATA MAESTRO 2'!L$65)","v":0},{"$f":"CHOOSE($B26,'DATA MAESTRO 2'!M$43,'DATA MAESTRO 2'!M$44,'DATA MAESTRO 2'!M$45,'DATA MAESTRO 2'!M$46,'DATA MAESTRO 2'!M$47,'DATA MAESTRO 2'!M$48,'DATA MAESTRO 2'!M$49,'DATA MAESTRO 2'!M$50,'DATA MAESTRO 2'!M$51,'DATA MAESTRO 2'!M$52,'DATA MAESTRO 2'!M$53,'DATA MAESTRO 2'!M$54,'DATA MAESTRO 2'!M$55,'DATA MAESTRO 2'!M$56,'DATA MAESTRO 2'!M$57,'DATA MAESTRO 2'!M$58,'DATA MAESTRO 2'!M$59,'DATA MAESTRO 2'!M$60,'DATA MAESTRO 2'!M$61,'DATA MAESTRO 2'!M$62,'DATA MAESTRO 2'!M$63,'DATA MAESTRO 2'!M$64,'DATA MAESTRO 2'!M$65)","v":0},{"$f":"CHOOSE($B26,'DATA MAESTRO 2'!N$43,'DATA MAESTRO 2'!N$44,'DATA MAESTRO 2'!N$45,'DATA MAESTRO 2'!N$46,'DATA MAESTRO 2'!N$47,'DATA MAESTRO 2'!N$48,'DATA MAESTRO 2'!N$49,'DATA MAESTRO 2'!N$50,'DATA MAESTRO 2'!N$51,'DATA MAESTRO 2'!N$52,'DATA MAESTRO 2'!N$53,'DATA MAESTRO 2'!N$54,'DATA MAESTRO 2'!N$55,'DATA MAESTRO 2'!N$56,'DATA MAESTRO 2'!N$57,'DATA MAESTRO 2'!N$58,'DATA MAESTRO 2'!N$59,'DATA MAESTRO 2'!N$60,'DATA MAESTRO 2'!N$61,'DATA MAESTRO 2'!N$62,'DATA MAESTRO 2'!N$63,'DATA MAESTRO 2'!N$64,'DATA MAESTRO 2'!N$65)","v":0},{"$f":"CHOOSE($B26,'DATA MAESTRO 2'!O$43,'DATA MAESTRO 2'!O$44,'DATA MAESTRO 2'!O$45,'DATA MAESTRO 2'!O$46,'DATA MAESTRO 2'!O$47,'DATA MAESTRO 2'!O$48,'DATA MAESTRO 2'!O$49,'DATA MAESTRO 2'!O$50,'DATA MAESTRO 2'!O$51,'DATA MAESTRO 2'!O$52,'DATA MAESTRO 2'!O$53,'DATA MAESTRO 2'!O$54,'DATA MAESTRO 2'!O$55,'DATA MAESTRO 2'!O$56,'DATA MAESTRO 2'!O$57,'DATA MAESTRO 2'!O$58,'DATA MAESTRO 2'!O$59,'DATA MAESTRO 2'!O$60,'DATA MAESTRO 2'!O$61,'DATA MAESTRO 2'!O$62,'DATA MAESTRO 2'!O$63,'DATA MAESTRO 2'!O$64,'DATA MAESTRO 2'!O$65)","v":0},{"$f":"CHOOSE($B26,'DATA MAESTRO 2'!P$43,'DATA MAESTRO 2'!P$44,'DATA MAESTRO 2'!P$45,'DATA MAESTRO 2'!P$46,'DATA MAESTRO 2'!P$47,'DATA MAESTRO 2'!P$48,'DATA MAESTRO 2'!P$49,'DATA MAESTRO 2'!P$50,'DATA MAESTRO 2'!P$51,'DATA MAESTRO 2'!P$52,'DATA MAESTRO 2'!P$53,'DATA MAESTRO 2'!P$54,'DATA MAESTRO 2'!P$55,'DATA MAESTRO 2'!P$56,'DATA MAESTRO 2'!P$57,'DATA MAESTRO 2'!P$58,'DATA MAESTRO 2'!P$59,'DATA MAESTRO 2'!P$60,'DATA MAESTRO 2'!P$61,'DATA MAESTRO 2'!P$62,'DATA MAESTRO 2'!P$63,'DATA MAESTRO 2'!P$64,'DATA MAESTRO 2'!P$65)","v":0},{"$f":"CHOOSE($B26,'DATA MAESTRO 2'!Q$43,'DATA MAESTRO 2'!Q$44,'DATA MAESTRO 2'!Q$45,'DATA MAESTRO 2'!Q$46,'DATA MAESTRO 2'!Q$47,'DATA MAESTRO 2'!Q$48,'DATA MAESTRO 2'!Q$49,'DATA MAESTRO 2'!Q$50,'DATA MAESTRO 2'!Q$51,'DATA MAESTRO 2'!Q$52,'DATA MAESTRO 2'!Q$53,'DATA MAESTRO 2'!Q$54,'DATA MAESTRO 2'!Q$55,'DATA MAESTRO 2'!Q$56,'DATA MAESTRO 2'!Q$57,'DATA MAESTRO 2'!Q$58,'DATA MAESTRO 2'!Q$59,'DATA MAESTRO 2'!Q$60,'DATA MAESTRO 2'!Q$61,'DATA MAESTRO 2'!Q$62,'DATA MAESTRO 2'!Q$63,'DATA MAESTRO 2'!Q$64,'DATA MAESTRO 2'!Q$65)","v":0},{"$f":"CHOOSE($B26,'DATA MAESTRO 2'!R$43,'DATA MAESTRO 2'!R$44,'DATA MAESTRO 2'!R$45,'DATA MAESTRO 2'!R$46,'DATA MAESTRO 2'!R$47,'DATA MAESTRO 2'!R$48,'DATA MAESTRO 2'!R$49,'DATA MAESTRO 2'!R$50,'DATA MAESTRO 2'!R$51,'DATA MAESTRO 2'!R$52,'DATA MAESTRO 2'!R$53,'DATA MAESTRO 2'!R$54,'DATA MAESTRO 2'!R$55,'DATA MAESTRO 2'!R$56,'DATA MAESTRO 2'!R$57,'DATA MAESTRO 2'!R$58,'DATA MAESTRO 2'!R$59,'DATA MAESTRO 2'!R$60,'DATA MAESTRO 2'!R$61,'DATA MAESTRO 2'!R$62,'DATA MAESTRO 2'!R$63,'DATA MAESTRO 2'!R$64,'DATA MAESTRO 2'!R$65)","v":0},{"$f":"CHOOSE($B26,'DATA MAESTRO 2'!S$43,'DATA MAESTRO 2'!S$44,'DATA MAESTRO 2'!S$45,'DATA MAESTRO 2'!S$46,'DATA MAESTRO 2'!S$47,'DATA MAESTRO 2'!S$48,'DATA MAESTRO 2'!S$49,'DATA MAESTRO 2'!S$50,'DATA MAESTRO 2'!S$51,'DATA MAESTRO 2'!S$52,'DATA MAESTRO 2'!S$53,'DATA MAESTRO 2'!S$54,'DATA MAESTRO 2'!S$55,'DATA MAESTRO 2'!S$56,'DATA MAESTRO 2'!S$57,'DATA MAESTRO 2'!S$58,'DATA MAESTRO 2'!S$59,'DATA MAESTRO 2'!S$60,'DATA MAESTRO 2'!S$61,'DATA MAESTRO 2'!S$62,'DATA MAESTRO 2'!S$63,'DATA MAESTRO 2'!S$64,'DATA MAESTRO 2'!S$65)","v":0},{"$f":"CHOOSE($B26,'DATA MAESTRO 2'!T$43,'DATA MAESTRO 2'!T$44,'DATA MAESTRO 2'!T$45,'DATA MAESTRO 2'!T$46,'DATA MAESTRO 2'!T$47,'DATA MAESTRO 2'!T$48,'DATA MAESTRO 2'!T$49,'DATA MAESTRO 2'!T$50,'DATA MAESTRO 2'!T$51,'DATA MAESTRO 2'!T$52,'DATA MAESTRO 2'!T$53,'DATA MAESTRO 2'!T$54,'DATA MAESTRO 2'!T$55,'DATA MAESTRO 2'!T$56,'DATA MAESTRO 2'!T$57,'DATA MAESTRO 2'!T$58,'DATA MAESTRO 2'!T$59,'DATA MAESTRO 2'!T$60,'DATA MAESTRO 2'!T$61,'DATA MAESTRO 2'!T$62,'DATA MAESTRO 2'!T$63,'DATA MAESTRO 2'!T$64,'DATA MAESTRO 2'!T$65)","v":0},{"$f":"CHOOSE($B26,'DATA MAESTRO 2'!U$43,'DATA MAESTRO 2'!U$44,'DATA MAESTRO 2'!U$45,'DATA MAESTRO 2'!U$46,'DATA MAESTRO 2'!U$47,'DATA MAESTRO 2'!U$48,'DATA MAESTRO 2'!U$49,'DATA MAESTRO 2'!U$50,'DATA MAESTRO 2'!U$51,'DATA MAESTRO 2'!U$52,'DATA MAESTRO 2'!U$53,'DATA MAESTRO 2'!U$54,'DATA MAESTRO 2'!U$55,'DATA MAESTRO 2'!U$56,'DATA MAESTRO 2'!U$57,'DATA MAESTRO 2'!U$58,'DATA MAESTRO 2'!U$59,'DATA MAESTRO 2'!U$60,'DATA MAESTRO 2'!U$61,'DATA MAESTRO 2'!U$62,'DATA MAESTRO 2'!U$63,'DATA MAESTRO 2'!U$64,'DATA MAESTRO 2'!U$65)","v":0},{"$f":"CHOOSE($B26,'DATA MAESTRO 2'!V$43,'DATA MAESTRO 2'!V$44,'DATA MAESTRO 2'!V$45,'DATA MAESTRO 2'!V$46,'DATA MAESTRO 2'!V$47,'DATA MAESTRO 2'!V$48,'DATA MAESTRO 2'!V$49,'DATA MAESTRO 2'!V$50,'DATA MAESTRO 2'!V$51,'DATA MAESTRO 2'!V$52,'DATA MAESTRO 2'!V$53,'DATA MAESTRO 2'!V$54,'DATA MAESTRO 2'!V$55,'DATA MAESTRO 2'!V$56,'DATA MAESTRO 2'!V$57,'DATA MAESTRO 2'!V$58,'DATA MAESTRO 2'!V$59,'DATA MAESTRO 2'!V$60,'DATA MAESTRO 2'!V$61,'DATA MAESTRO 2'!V$62,'DATA MAESTRO 2'!V$63,'DATA MAESTRO 2'!V$64,'DATA MAESTRO 2'!V$65)","v":0},{"$f":"CHOOSE($B26,'DATA MAESTRO 2'!W$43,'DATA MAESTRO 2'!W$44,'DATA MAESTRO 2'!W$45,'DATA MAESTRO 2'!W$46,'DATA MAESTRO 2'!W$47,'DATA MAESTRO 2'!W$48,'DATA MAESTRO 2'!W$49,'DATA MAESTRO 2'!W$50,'DATA MAESTRO 2'!W$51,'DATA MAESTRO 2'!W$52,'DATA MAESTRO 2'!W$53,'DATA MAESTRO 2'!W$54,'DATA MAESTRO 2'!W$55,'DATA MAESTRO 2'!W$56,'DATA MAESTRO 2'!W$57,'DATA MAESTRO 2'!W$58,'DATA MAESTRO 2'!W$59,'DATA MAESTRO 2'!W$60,'DATA MAESTRO 2'!W$61,'DATA MAESTRO 2'!W$62,'DATA MAESTRO 2'!W$63,'DATA MAESTRO 2'!W$64,'DATA MAESTRO 2'!W$65)","v":0},{"$f":"CHOOSE($B26,'DATA MAESTRO 2'!X$43,'DATA MAESTRO 2'!X$44,'DATA MAESTRO 2'!X$45,'DATA MAESTRO 2'!X$46,'DATA MAESTRO 2'!X$47,'DATA MAESTRO 2'!X$48,'DATA MAESTRO 2'!X$49,'DATA MAESTRO 2'!X$50,'DATA MAESTRO 2'!X$51,'DATA MAESTRO 2'!X$52,'DATA MAESTRO 2'!X$53,'DATA MAESTRO 2'!X$54,'DATA MAESTRO 2'!X$55,'DATA MAESTRO 2'!X$56,'DATA MAESTRO 2'!X$57,'DATA MAESTRO 2'!X$58,'DATA MAESTRO 2'!X$59,'DATA MAESTRO 2'!X$60,'DATA MAESTRO 2'!X$61,'DATA MAESTRO 2'!X$62,'DATA MAESTRO 2'!X$63,'DATA MAESTRO 2'!X$64,'DATA MAESTRO 2'!X$65)","v":0},{"$f":"CHOOSE($B26,'DATA MAESTRO 2'!Y$43,'DATA MAESTRO 2'!Y$44,'DATA MAESTRO 2'!Y$45,'DATA MAESTRO 2'!Y$46,'DATA MAESTRO 2'!Y$47,'DATA MAESTRO 2'!Y$48,'DATA MAESTRO 2'!Y$49,'DATA MAESTRO 2'!Y$50,'DATA MAESTRO 2'!Y$51,'DATA MAESTRO 2'!Y$52,'DATA MAESTRO 2'!Y$53,'DATA MAESTRO 2'!Y$54,'DATA MAESTRO 2'!Y$55,'DATA MAESTRO 2'!Y$56,'DATA MAESTRO 2'!Y$57,'DATA MAESTRO 2'!Y$58,'DATA MAESTRO 2'!Y$59,'DATA MAESTRO 2'!Y$60,'DATA MAESTRO 2'!Y$61,'DATA MAESTRO 2'!Y$62,'DATA MAESTRO 2'!Y$63,'DATA MAESTRO 2'!Y$64,'DATA MAESTRO 2'!Y$65)","v":0},{"$f":"CHOOSE($B26,'DATA MAESTRO 2'!Z$43,'DATA MAESTRO 2'!Z$44,'DATA MAESTRO 2'!Z$45,'DATA MAESTRO 2'!Z$46,'DATA MAESTRO 2'!Z$47,'DATA MAESTRO 2'!Z$48,'DATA MAESTRO 2'!Z$49,'DATA MAESTRO 2'!Z$50,'DATA MAESTRO 2'!Z$51,'DATA MAESTRO 2'!Z$52,'DATA MAESTRO 2'!Z$53,'DATA MAESTRO 2'!Z$54,'DATA MAESTRO 2'!Z$55,'DATA MAESTRO 2'!Z$56,'DATA MAESTRO 2'!Z$57,'DATA MAESTRO 2'!Z$58,'DATA MAESTRO 2'!Z$59,'DATA MAESTRO 2'!Z$60,'DATA MAESTRO 2'!Z$61,'DATA MAESTRO 2'!Z$62,'DATA MAESTRO 2'!Z$63,'DATA MAESTRO 2'!Z$64,'DATA MAESTRO 2'!Z$65)","v":0},{"$f":"CHOOSE($B26,'DATA MAESTRO 2'!AA$43,'DATA MAESTRO 2'!AA$44,'DATA MAESTRO 2'!AA$45,'DATA MAESTRO 2'!AA$46,'DATA MAESTRO 2'!AA$47,'DATA MAESTRO 2'!AA$48,'DATA MAESTRO 2'!AA$49,'DATA MAESTRO 2'!AA$50,'DATA MAESTRO 2'!AA$51,'DATA MAESTRO 2'!AA$52,'DATA MAESTRO 2'!AA$53,'DATA MAESTRO 2'!AA$54,'DATA MAESTRO 2'!AA$55,'DATA MAESTRO 2'!AA$56,'DATA MAESTRO 2'!AA$57,'DATA MAESTRO 2'!AA$58,'DATA MAESTRO 2'!AA$59,'DATA MAESTRO 2'!AA$60,'DATA MAESTRO 2'!AA$61,'DATA MAESTRO 2'!AA$62,'DATA MAESTRO 2'!AA$63,'DATA MAESTRO 2'!AA$64,'DATA MAESTRO 2'!AA$65)","v":0},{"$f":"CHOOSE($B26,'DATA MAESTRO 2'!AB$43,'DATA MAESTRO 2'!AB$44,'DATA MAESTRO 2'!AB$45,'DATA MAESTRO 2'!AB$46,'DATA MAESTRO 2'!AB$47,'DATA MAESTRO 2'!AB$48,'DATA MAESTRO 2'!AB$49,'DATA MAESTRO 2'!AB$50,'DATA MAESTRO 2'!AB$51,'DATA MAESTRO 2'!AB$52,'DATA MAESTRO 2'!AB$53,'DATA MAESTRO 2'!AB$54,'DATA MAESTRO 2'!AB$55,'DATA MAESTRO 2'!AB$56,'DATA MAESTRO 2'!AB$57,'DATA MAESTRO 2'!AB$58,'DATA MAESTRO 2'!AB$59,'DATA MAESTRO 2'!AB$60,'DATA MAESTRO 2'!AB$61,'DATA MAESTRO 2'!AB$62,'DATA MAESTRO 2'!AB$63,'DATA MAESTRO 2'!AB$64,'DATA MAESTRO 2'!AB$65)","v":0},{"$f":"CHOOSE($B26,'DATA MAESTRO 2'!AC$43,'DATA MAESTRO 2'!AC$44,'DATA MAESTRO 2'!AC$45,'DATA MAESTRO 2'!AC$46,'DATA MAESTRO 2'!AC$47,'DATA MAESTRO 2'!AC$48,'DATA MAESTRO 2'!AC$49,'DATA MAESTRO 2'!AC$50,'DATA MAESTRO 2'!AC$51,'DATA MAESTRO 2'!AC$52,'DATA MAESTRO 2'!AC$53,'DATA MAESTRO 2'!AC$54,'DATA MAESTRO 2'!AC$55,'DATA MAESTRO 2'!AC$56,'DATA MAESTRO 2'!AC$57,'DATA MAESTRO 2'!AC$58,'DATA MAESTRO 2'!AC$59,'DATA MAESTRO 2'!AC$60,'DATA MAESTRO 2'!AC$61,'DATA MAESTRO 2'!AC$62,'DATA MAESTRO 2'!AC$63,'DATA MAESTRO 2'!AC$64,'DATA MAESTRO 2'!AC$65)","v":0},{"$f":"CHOOSE($B26,'DATA MAESTRO 2'!AD$43,'DATA MAESTRO 2'!AD$44,'DATA MAESTRO 2'!AD$45,'DATA MAESTRO 2'!AD$46,'DATA MAESTRO 2'!AD$47,'DATA MAESTRO 2'!AD$48,'DATA MAESTRO 2'!AD$49,'DATA MAESTRO 2'!AD$50,'DATA MAESTRO 2'!AD$51,'DATA MAESTRO 2'!AD$52,'DATA MAESTRO 2'!AD$53,'DATA MAESTRO 2'!AD$54,'DATA MAESTRO 2'!AD$55,'DATA MAESTRO 2'!AD$56,'DATA MAESTRO 2'!AD$57,'DATA MAESTRO 2'!AD$58,'DATA MAESTRO 2'!AD$59,'DATA MAESTRO 2'!AD$60,'DATA MAESTRO 2'!AD$61,'DATA MAESTRO 2'!AD$62,'DATA MAESTRO 2'!AD$63,'DATA MAESTRO 2'!AD$64,'DATA MAESTRO 2'!AD$65)","v":0},{"$f":"CHOOSE($B26,'DATA MAESTRO 2'!AE$43,'DATA MAESTRO 2'!AE$44,'DATA MAESTRO 2'!AE$45,'DATA MAESTRO 2'!AE$46,'DATA MAESTRO 2'!AE$47,'DATA MAESTRO 2'!AE$48,'DATA MAESTRO 2'!AE$49,'DATA MAESTRO 2'!AE$50,'DATA MAESTRO 2'!AE$51,'DATA MAESTRO 2'!AE$52,'DATA MAESTRO 2'!AE$53,'DATA MAESTRO 2'!AE$54,'DATA MAESTRO 2'!AE$55,'DATA MAESTRO 2'!AE$56,'DATA MAESTRO 2'!AE$57,'DATA MAESTRO 2'!AE$58,'DATA MAESTRO 2'!AE$59,'DATA MAESTRO 2'!AE$60,'DATA MAESTRO 2'!AE$61,'DATA MAESTRO 2'!AE$62,'DATA MAESTRO 2'!AE$63,'DATA MAESTRO 2'!AE$64,'DATA MAESTRO 2'!AE$65)","v":0},{"$f":"CHOOSE($B26,'DATA MAESTRO 2'!AF$43,'DATA MAESTRO 2'!AF$44,'DATA MAESTRO 2'!AF$45,'DATA MAESTRO 2'!AF$46,'DATA MAESTRO 2'!AF$47,'DATA MAESTRO 2'!AF$48,'DATA MAESTRO 2'!AF$49,'DATA MAESTRO 2'!AF$50,'DATA MAESTRO 2'!AF$51,'DATA MAESTRO 2'!AF$52,'DATA MAESTRO 2'!AF$53,'DATA MAESTRO 2'!AF$54,'DATA MAESTRO 2'!AF$55,'DATA MAESTRO 2'!AF$56,'DATA MAESTRO 2'!AF$57,'DATA MAESTRO 2'!AF$58,'DATA MAESTRO 2'!AF$59,'DATA MAESTRO 2'!AF$60,'DATA MAESTRO 2'!AF$61,'DATA MAESTRO 2'!AF$62,'DATA MAESTRO 2'!AF$63,'DATA MAESTRO 2'!AF$64,'DATA MAESTRO 2'!AF$65)","v":0},{"$f":"CHOOSE($B26,'DATA MAESTRO 2'!AG$43,'DATA MAESTRO 2'!AG$44,'DATA MAESTRO 2'!AG$45,'DATA MAESTRO 2'!AG$46,'DATA MAESTRO 2'!AG$47,'DATA MAESTRO 2'!AG$48,'DATA MAESTRO 2'!AG$49,'DATA MAESTRO 2'!AG$50,'DATA MAESTRO 2'!AG$51,'DATA MAESTRO 2'!AG$52,'DATA MAESTRO 2'!AG$53,'DATA MAESTRO 2'!AG$54,'DATA MAESTRO 2'!AG$55,'DATA MAESTRO 2'!AG$56,'DATA MAESTRO 2'!AG$57,'DATA MAESTRO 2'!AG$58,'DATA MAESTRO 2'!AG$59,'DATA MAESTRO 2'!AG$60,'DATA MAESTRO 2'!AG$61,'DATA MAESTRO 2'!AG$62,'DATA MAESTRO 2'!AG$63,'DATA MAESTRO 2'!AG$64,'DATA MAESTRO 2'!AG$65)","v":0},{"$f":"CHOOSE($B26,'DATA MAESTRO 2'!AH$43,'DATA MAESTRO 2'!AH$44,'DATA MAESTRO 2'!AH$45,'DATA MAESTRO 2'!AH$46,'DATA MAESTRO 2'!AH$47,'DATA MAESTRO 2'!AH$48,'DATA MAESTRO 2'!AH$49,'DATA MAESTRO 2'!AH$50,'DATA MAESTRO 2'!AH$51,'DATA MAESTRO 2'!AH$52,'DATA MAESTRO 2'!AH$53,'DATA MAESTRO 2'!AH$54,'DATA MAESTRO 2'!AH$55,'DATA MAESTRO 2'!AH$56,'DATA MAESTRO 2'!AH$57,'DATA MAESTRO 2'!AH$58,'DATA MAESTRO 2'!AH$59,'DATA MAESTRO 2'!AH$60,'DATA MAESTRO 2'!AH$61,'DATA MAESTRO 2'!AH$62,'DATA MAESTRO 2'!AH$63,'DATA MAESTRO 2'!AH$64,'DATA MAESTRO 2'!AH$65)","v":0},{"$f":"CHOOSE($B26,'DATA MAESTRO 2'!AI$43,'DATA MAESTRO 2'!AI$44,'DATA MAESTRO 2'!AI$45,'DATA MAESTRO 2'!AI$46,'DATA MAESTRO 2'!AI$47,'DATA MAESTRO 2'!AI$48,'DATA MAESTRO 2'!AI$49,'DATA MAESTRO 2'!AI$50,'DATA MAESTRO 2'!AI$51,'DATA MAESTRO 2'!AI$52,'DATA MAESTRO 2'!AI$53,'DATA MAESTRO 2'!AI$54,'DATA MAESTRO 2'!AI$55,'DATA MAESTRO 2'!AI$56,'DATA MAESTRO 2'!AI$57,'DATA MAESTRO 2'!AI$58,'DATA MAESTRO 2'!AI$59,'DATA MAESTRO 2'!AI$60,'DATA MAESTRO 2'!AI$61,'DATA MAESTRO 2'!AI$62,'DATA MAESTRO 2'!AI$63,'DATA MAESTRO 2'!AI$64,'DATA MAESTRO 2'!AI$65)","v":0},{"$f":"CHOOSE($B26,'DATA MAESTRO 2'!AJ$43,'DATA MAESTRO 2'!AJ$44,'DATA MAESTRO 2'!AJ$45,'DATA MAESTRO 2'!AJ$46,'DATA MAESTRO 2'!AJ$47,'DATA MAESTRO 2'!AJ$48,'DATA MAESTRO 2'!AJ$49,'DATA MAESTRO 2'!AJ$50,'DATA MAESTRO 2'!AJ$51,'DATA MAESTRO 2'!AJ$52,'DATA MAESTRO 2'!AJ$53,'DATA MAESTRO 2'!AJ$54,'DATA MAESTRO 2'!AJ$55,'DATA MAESTRO 2'!AJ$56,'DATA MAESTRO 2'!AJ$57,'DATA MAESTRO 2'!AJ$58,'DATA MAESTRO 2'!AJ$59,'DATA MAESTRO 2'!AJ$60,'DATA MAESTRO 2'!AJ$61,'DATA MAESTRO 2'!AJ$62,'DATA MAESTRO 2'!AJ$63,'DATA MAESTRO 2'!AJ$64,'DATA MAESTRO 2'!AJ$65)","v":0}]
[25,23,{"$f":"+IF(AND(B27>=1,B27<=23),VLOOKUP(B27,'DATA MAESTRO 2'!$A$43:$B$65,2),0)","v":"Vacio"},{"$f":"+CHOOSE($B27,'DATA MAESTRO 2'!C$43,'DATA MAESTRO 2'!C$44,'DATA MAESTRO 2'!C$45,'DATA MAESTRO 2'!C$46,'DATA MAESTRO 2'!C$47,'DATA MAESTRO 2'!C$48,'DATA MAESTRO 2'!C$49,'DATA MAESTRO 2'!C$50,'DATA MAESTRO 2'!C$51,'DATA MAESTRO 2'!C$52,'DATA MAESTRO 2'!C$53,'DATA MAESTRO 2'!C$54,'DATA MAESTRO 2'!C$55,'DATA MAESTRO 2'!C$56,'DATA MAESTRO 2'!C$57,'DATA MAESTRO 2'!C$58,'DATA MAESTRO 2'!C$59,'DATA MAESTRO 2'!C$60,'DATA MAESTRO 2'!C$61,'DATA MAESTRO 2'!C$62,'DATA MAESTRO 2'!C$63,'DATA MAESTRO 2'!C$64,'DATA MAESTRO 2'!C$65)","v":0},{"$f":"CHOOSE(B27,'DATA MAESTRO 2'!D$43,'DATA MAESTRO 2'!D$44,'DATA MAESTRO 2'!D$45,'DATA MAESTRO 2'!D$46,'DATA MAESTRO 2'!D$47,'DATA MAESTRO 2'!D$48,'DATA MAESTRO 2'!D$49,'DATA MAESTRO 2'!D$50,'DATA MAESTRO 2'!D$51,'DATA MAESTRO 2'!D$52,'DATA MAESTRO 2'!D$53,'DATA MAESTRO 2'!D$54,'DATA MAESTRO 2'!D$55,'DATA MAESTRO 2'!D$56,'DATA MAESTRO 2'!D$57,'DATA MAESTRO 2'!D$58,'DATA MAESTRO 2'!D$59,'DATA MAESTRO 2'!D$60,'DATA MAESTRO 2'!D$61,'DATA MAESTRO 2'!D$62,'DATA MAESTRO 2'!D$63,'DATA MAESTRO 2'!D$64,'DATA MAESTRO 2'!D$65)","v":0},{"$f":"CHOOSE($B27,'DATA MAESTRO 2'!E$43,'DATA MAESTRO 2'!E$44,'DATA MAESTRO 2'!E$45,'DATA MAESTRO 2'!E$46,'DATA MAESTRO 2'!E$47,'DATA MAESTRO 2'!E$48,'DATA MAESTRO 2'!E$49,'DATA MAESTRO 2'!E$50,'DATA MAESTRO 2'!E$51,'DATA MAESTRO 2'!E$52,'DATA MAESTRO 2'!E$53,'DATA MAESTRO 2'!E$54,'DATA MAESTRO 2'!E$55,'DATA MAESTRO 2'!E$56,'DATA MAESTRO 2'!E$57,'DATA MAESTRO 2'!E$58,'DATA MAESTRO 2'!E$59,'DATA MAESTRO 2'!E$60,'DATA MAESTRO 2'!E$61,'DATA MAESTRO 2'!E$62,'DATA MAESTRO 2'!E$63,'DATA MAESTRO 2'!E$64,'DATA MAESTRO 2'!E$65)","v":0},{"$f":"CHOOSE($B27,'DATA MAESTRO 2'!F$43,'DATA MAESTRO 2'!F$44,'DATA MAESTRO 2'!F$45,'DATA MAESTRO 2'!F$46,'DATA MAESTRO 2'!F$47,'DATA MAESTRO 2'!F$48,'DATA MAESTRO 2'!F$49,'DATA MAESTRO 2'!F$50,'DATA MAESTRO 2'!F$51,'DATA MAESTRO 2'!F$52,'DATA MAESTRO 2'!F$53,'DATA MAESTRO 2'!F$54,'DATA MAESTRO 2'!F$55,'DATA MAESTRO 2'!F$56,'DATA MAESTRO 2'!F$57,'DATA MAESTRO 2'!F$58,'DATA MAESTRO 2'!F$59,'DATA MAESTRO 2'!F$60,'DATA MAESTRO 2'!F$61,'DATA MAESTRO 2'!F$62,'DATA MAESTRO 2'!F$63,'DATA MAESTRO 2'!F$64,'DATA MAESTRO 2'!F$65)","v":0},{"$f":"CHOOSE($B27,'DATA MAESTRO 2'!G$43,'DATA MAESTRO 2'!G$44,'DATA MAESTRO 2'!G$45,'DATA MAESTRO 2'!G$46,'DATA MAESTRO 2'!G$47,'DATA MAESTRO 2'!G$48,'DATA MAESTRO 2'!G$49,'DATA MAESTRO 2'!G$50,'DATA MAESTRO 2'!G$51,'DATA MAESTRO 2'!G$52,'DATA MAESTRO 2'!G$53,'DATA MAESTRO 2'!G$54,'DATA MAESTRO 2'!G$55,'DATA MAESTRO 2'!G$56,'DATA MAESTRO 2'!G$57,'DATA MAESTRO 2'!G$58,'DATA MAESTRO 2'!G$59,'DATA MAESTRO 2'!G$60,'DATA MAESTRO 2'!G$61,'DATA MAESTRO 2'!G$62,'DATA MAESTRO 2'!G$63,'DATA MAESTRO 2'!G$64,'DATA MAESTRO 2'!G$65)","v":0},{"$f":"CHOOSE($B27,'DATA MAESTRO 2'!H$43,'DATA MAESTRO 2'!H$44,'DATA MAESTRO 2'!H$45,'DATA MAESTRO 2'!H$46,'DATA MAESTRO 2'!H$47,'DATA MAESTRO 2'!H$48,'DATA MAESTRO 2'!H$49,'DATA MAESTRO 2'!H$50,'DATA MAESTRO 2'!H$51,'DATA MAESTRO 2'!H$52,'DATA MAESTRO 2'!H$53,'DATA MAESTRO 2'!H$54,'DATA MAESTRO 2'!H$55,'DATA MAESTRO 2'!H$56,'DATA MAESTRO 2'!H$57,'DATA MAESTRO 2'!H$58,'DATA MAESTRO 2'!H$59,'DATA MAESTRO 2'!H$60,'DATA MAESTRO 2'!H$61,'DATA MAESTRO 2'!H$62,'DATA MAESTRO 2'!H$63,'DATA MAESTRO 2'!H$64,'DATA MAESTRO 2'!H$65)","v":0},{"$f":"CHOOSE($B27,'DATA MAESTRO 2'!I$43,'DATA MAESTRO 2'!I$44,'DATA MAESTRO 2'!I$45,'DATA MAESTRO 2'!I$46,'DATA MAESTRO 2'!I$47,'DATA MAESTRO 2'!I$48,'DATA MAESTRO 2'!I$49,'DATA MAESTRO 2'!I$50,'DATA MAESTRO 2'!I$51,'DATA MAESTRO 2'!I$52,'DATA MAESTRO 2'!I$53,'DATA MAESTRO 2'!I$54,'DATA MAESTRO 2'!I$55,'DATA MAESTRO 2'!I$56,'DATA MAESTRO 2'!I$57,'DATA MAESTRO 2'!I$58,'DATA MAESTRO 2'!I$59,'DATA MAESTRO 2'!I$60,'DATA MAESTRO 2'!I$61,'DATA MAESTRO 2'!I$62,'DATA MAESTRO 2'!I$63,'DATA MAESTRO 2'!I$64,'DATA MAESTRO 2'!I$65)","v":0},{"$f":"CHOOSE($B27,'DATA MAESTRO 2'!J$43,'DATA MAESTRO 2'!J$44,'DATA MAESTRO 2'!J$45,'DATA MAESTRO 2'!J$46,'DATA MAESTRO 2'!J$47,'DATA MAESTRO 2'!J$48,'DATA MAESTRO 2'!J$49,'DATA MAESTRO 2'!J$50,'DATA MAESTRO 2'!J$51,'DATA MAESTRO 2'!J$52,'DATA MAESTRO 2'!J$53,'DATA MAESTRO 2'!J$54,'DATA MAESTRO 2'!J$55,'DATA MAESTRO 2'!J$56,'DATA MAESTRO 2'!J$57,'DATA MAESTRO 2'!J$58,'DATA MAESTRO 2'!J$59,'DATA MAESTRO 2'!J$60,'DATA MAESTRO 2'!J$61,'DATA MAESTRO 2'!J$62,'DATA MAESTRO 2'!J$63,'DATA MAESTRO 2'!J$64,'DATA MAESTRO 2'!J$65)","v":0},{"$f":"CHOOSE($B27,'DATA MAESTRO 2'!K$43,'DATA MAESTRO 2'!K$44,'DATA MAESTRO 2'!K$45,'DATA MAESTRO 2'!K$46,'DATA MAESTRO 2'!K$47,'DATA MAESTRO 2'!K$48,'DATA MAESTRO 2'!K$49,'DATA MAESTRO 2'!K$50,'DATA MAESTRO 2'!K$51,'DATA MAESTRO 2'!K$52,'DATA MAESTRO 2'!K$53,'DATA MAESTRO 2'!K$54,'DATA MAESTRO 2'!K$55,'DATA MAESTRO 2'!K$56,'DATA MAESTRO 2'!K$57,'DATA MAESTRO 2'!K$58,'DATA MAESTRO 2'!K$59,'DATA MAESTRO 2'!K$60,'DATA MAESTRO 2'!K$61,'DATA MAESTRO 2'!K$62,'DATA MAESTRO 2'!K$63,'DATA MAESTRO 2'!K$64,'DATA MAESTRO 2'!K$65)","v":0},{"$f":"CHOOSE($B27,'DATA MAESTRO 2'!L$43,'DATA MAESTRO 2'!L$44,'DATA MAESTRO 2'!L$45,'DATA MAESTRO 2'!L$46,'DATA MAESTRO 2'!L$47,'DATA MAESTRO 2'!L$48,'DATA MAESTRO 2'!L$49,'DATA MAESTRO 2'!L$50,'DATA MAESTRO 2'!L$51,'DATA MAESTRO 2'!L$52,'DATA MAESTRO 2'!L$53,'DATA MAESTRO 2'!L$54,'DATA MAESTRO 2'!L$55,'DATA MAESTRO 2'!L$56,'DATA MAESTRO 2'!L$57,'DATA MAESTRO 2'!L$58,'DATA MAESTRO 2'!L$59,'DATA MAESTRO 2'!L$60,'DATA MAESTRO 2'!L$61,'DATA MAESTRO 2'!L$62,'DATA MAESTRO 2'!L$63,'DATA MAESTRO 2'!L$64,'DATA MAESTRO 2'!L$65)","v":0},{"$f":"CHOOSE($B27,'DATA MAESTRO 2'!M$43,'DATA MAESTRO 2'!M$44,'DATA MAESTRO 2'!M$45,'DATA MAESTRO 2'!M$46,'DATA MAESTRO 2'!M$47,'DATA MAESTRO 2'!M$48,'DATA MAESTRO 2'!M$49,'DATA MAESTRO 2'!M$50,'DATA MAESTRO 2'!M$51,'DATA MAESTRO 2'!M$52,'DATA MAESTRO 2'!M$53,'DATA MAESTRO 2'!M$54,'DATA MAESTRO 2'!M$55,'DATA MAESTRO 2'!M$56,'DATA MAESTRO 2'!M$57,'DATA MAESTRO 2'!M$58,'DATA MAESTRO 2'!M$59,'DATA MAESTRO 2'!M$60,'DATA MAESTRO 2'!M$61,'DATA MAESTRO 2'!M$62,'DATA MAESTRO 2'!M$63,'DATA MAESTRO 2'!M$64,'DATA MAESTRO 2'!M$65)","v":0},{"$f":"CHOOSE($B27,'DATA MAESTRO 2'!N$43,'DATA MAESTRO 2'!N$44,'DATA MAESTRO 2'!N$45,'DATA MAESTRO 2'!N$46,'DATA MAESTRO 2'!N$47,'DATA MAESTRO 2'!N$48,'DATA MAESTRO 2'!N$49,'DATA MAESTRO 2'!N$50,'DATA MAESTRO 2'!N$51,'DATA MAESTRO 2'!N$52,'DATA MAESTRO 2'!N$53,'DATA MAESTRO 2'!N$54,'DATA MAESTRO 2'!N$55,'DATA MAESTRO 2'!N$56,'DATA MAESTRO 2'!N$57,'DATA MAESTRO 2'!N$58,'DATA MAESTRO 2'!N$59,'DATA MAESTRO 2'!N$60,'DATA MAESTRO 2'!N$61,'DATA MAESTRO 2'!N$62,'DATA MAESTRO 2'!N$63,'DATA MAESTRO 2'!N$64,'DATA MAESTRO 2'!N$65)","v":0},{"$f":"CHOOSE($B27,'DATA MAESTRO 2'!O$43,'DATA MAESTRO 2'!O$44,'DATA MAESTRO 2'!O$45,'DATA MAESTRO 2'!O$46,'DATA MAESTRO 2'!O$47,'DATA MAESTRO 2'!O$48,'DATA MAESTRO 2'!O$49,'DATA MAESTRO 2'!O$50,'DATA MAESTRO 2'!O$51,'DATA MAESTRO 2'!O$52,'DATA MAESTRO 2'!O$53,'DATA MAESTRO 2'!O$54,'DATA MAESTRO 2'!O$55,'DATA MAESTRO 2'!O$56,'DATA MAESTRO 2'!O$57,'DATA MAESTRO 2'!O$58,'DATA MAESTRO 2'!O$59,'DATA MAESTRO 2'!O$60,'DATA MAESTRO 2'!O$61,'DATA MAESTRO 2'!O$62,'DATA MAESTRO 2'!O$63,'DATA MAESTRO 2'!O$64,'DATA MAESTRO 2'!O$65)","v":0},{"$f":"CHOOSE($B27,'DATA MAESTRO 2'!P$43,'DATA MAESTRO 2'!P$44,'DATA MAESTRO 2'!P$45,'DATA MAESTRO 2'!P$46,'DATA MAESTRO 2'!P$47,'DATA MAESTRO 2'!P$48,'DATA MAESTRO 2'!P$49,'DATA MAESTRO 2'!P$50,'DATA MAESTRO 2'!P$51,'DATA MAESTRO 2'!P$52,'DATA MAESTRO 2'!P$53,'DATA MAESTRO 2'!P$54,'DATA MAESTRO 2'!P$55,'DATA MAESTRO 2'!P$56,'DATA MAESTRO 2'!P$57,'DATA MAESTRO 2'!P$58,'DATA MAESTRO 2'!P$59,'DATA MAESTRO 2'!P$60,'DATA MAESTRO 2'!P$61,'DATA MAESTRO 2'!P$62,'DATA MAESTRO 2'!P$63,'DATA MAESTRO 2'!P$64,'DATA MAESTRO 2'!P$65)","v":0},{"$f":"CHOOSE($B27,'DATA MAESTRO 2'!Q$43,'DATA MAESTRO 2'!Q$44,'DATA MAESTRO 2'!Q$45,'DATA MAESTRO 2'!Q$46,'DATA MAESTRO 2'!Q$47,'DATA MAESTRO 2'!Q$48,'DATA MAESTRO 2'!Q$49,'DATA MAESTRO 2'!Q$50,'DATA MAESTRO 2'!Q$51,'DATA MAESTRO 2'!Q$52,'DATA MAESTRO 2'!Q$53,'DATA MAESTRO 2'!Q$54,'DATA MAESTRO 2'!Q$55,'DATA MAESTRO 2'!Q$56,'DATA MAESTRO 2'!Q$57,'DATA MAESTRO 2'!Q$58,'DATA MAESTRO 2'!Q$59,'DATA MAESTRO 2'!Q$60,'DATA MAESTRO 2'!Q$61,'DATA MAESTRO 2'!Q$62,'DATA MAESTRO 2'!Q$63,'DATA MAESTRO 2'!Q$64,'DATA MAESTRO 2'!Q$65)","v":0},{"$f":"CHOOSE($B27,'DATA MAESTRO 2'!R$43,'DATA MAESTRO 2'!R$44,'DATA MAESTRO 2'!R$45,'DATA MAESTRO 2'!R$46,'DATA MAESTRO 2'!R$47,'DATA MAESTRO 2'!R$48,'DATA MAESTRO 2'!R$49,'DATA MAESTRO 2'!R$50,'DATA MAESTRO 2'!R$51,'DATA MAESTRO 2'!R$52,'DATA MAESTRO 2'!R$53,'DATA MAESTRO 2'!R$54,'DATA MAESTRO 2'!R$55,'DATA MAESTRO 2'!R$56,'DATA MAESTRO 2'!R$57,'DATA MAESTRO 2'!R$58,'DATA MAESTRO 2'!R$59,'DATA MAESTRO 2'!R$60,'DATA MAESTRO 2'!R$61,'DATA MAESTRO 2'!R$62,'DATA MAESTRO 2'!R$63,'DATA MAESTRO 2'!R$64,'DATA MAESTRO 2'!R$65)","v":0},{"$f":"CHOOSE($B27,'DATA MAESTRO 2'!S$43,'DATA MAESTRO 2'!S$44,'DATA MAESTRO 2'!S$45,'DATA MAESTRO 2'!S$46,'DATA MAESTRO 2'!S$47,'DATA MAESTRO 2'!S$48,'DATA MAESTRO 2'!S$49,'DATA MAESTRO 2'!S$50,'DATA MAESTRO 2'!S$51,'DATA MAESTRO 2'!S$52,'DATA MAESTRO 2'!S$53,'DATA MAESTRO 2'!S$54,'DATA MAESTRO 2'!S$55,'DATA MAESTRO 2'!S$56,'DATA MAESTRO 2'!S$57,'DATA MAESTRO 2'!S$58,'DATA MAESTRO 2'!S$59,'DATA MAESTRO 2'!S$60,'DATA MAESTRO 2'!S$61,'DATA MAESTRO 2'!S$62,'DATA MAESTRO 2'!S$63,'DATA MAESTRO 2'!S$64,'DATA MAESTRO 2'!S$65)","v":0},{"$f":"CHOOSE($B27,'DATA MAESTRO 2'!T$43,'DATA MAESTRO 2'!T$44,'DATA MAESTRO 2'!T$45,'DATA MAESTRO 2'!T$46,'DATA MAESTRO 2'!T$47,'DATA MAESTRO 2'!T$48,'DATA MAESTRO 2'!T$49,'DATA MAESTRO 2'!T$50,'DATA MAESTRO 2'!T$51,'DATA MAESTRO 2'!T$52,'DATA MAESTRO 2'!T$53,'DATA MAESTRO 2'!T$54,'DATA MAESTRO 2'!T$55,'DATA MAESTRO 2'!T$56,'DATA MAESTRO 2'!T$57,'DATA MAESTRO 2'!T$58,'DATA MAESTRO 2'!T$59,'DATA MAESTRO 2'!T$60,'DATA MAESTRO 2'!T$61,'DATA MAESTRO 2'!T$62,'DATA MAESTRO 2'!T$63,'DATA MAESTRO 2'!T$64,'DATA MAESTRO 2'!T$65)","v":0},{"$f":"CHOOSE($B27,'DATA MAESTRO 2'!U$43,'DATA MAESTRO 2'!U$44,'DATA MAESTRO 2'!U$45,'DATA MAESTRO 2'!U$46,'DATA MAESTRO 2'!U$47,'DATA MAESTRO 2'!U$48,'DATA MAESTRO 2'!U$49,'DATA MAESTRO 2'!U$50,'DATA MAESTRO 2'!U$51,'DATA MAESTRO 2'!U$52,'DATA MAESTRO 2'!U$53,'DATA MAESTRO 2'!U$54,'DATA MAESTRO 2'!U$55,'DATA MAESTRO 2'!U$56,'DATA MAESTRO 2'!U$57,'DATA MAESTRO 2'!U$58,'DATA MAESTRO 2'!U$59,'DATA MAESTRO 2'!U$60,'DATA MAESTRO 2'!U$61,'DATA MAESTRO 2'!U$62,'DATA MAESTRO 2'!U$63,'DATA MAESTRO 2'!U$64,'DATA MAESTRO 2'!U$65)","v":0},{"$f":"CHOOSE($B27,'DATA MAESTRO 2'!V$43,'DATA MAESTRO 2'!V$44,'DATA MAESTRO 2'!V$45,'DATA MAESTRO 2'!V$46,'DATA MAESTRO 2'!V$47,'DATA MAESTRO 2'!V$48,'DATA MAESTRO 2'!V$49,'DATA MAESTRO 2'!V$50,'DATA MAESTRO 2'!V$51,'DATA MAESTRO 2'!V$52,'DATA MAESTRO 2'!V$53,'DATA MAESTRO 2'!V$54,'DATA MAESTRO 2'!V$55,'DATA MAESTRO 2'!V$56,'DATA MAESTRO 2'!V$57,'DATA MAESTRO 2'!V$58,'DATA MAESTRO 2'!V$59,'DATA MAESTRO 2'!V$60,'DATA MAESTRO 2'!V$61,'DATA MAESTRO 2'!V$62,'DATA MAESTRO 2'!V$63,'DATA MAESTRO 2'!V$64,'DATA MAESTRO 2'!V$65)","v":0},{"$f":"CHOOSE($B27,'DATA MAESTRO 2'!W$43,'DATA MAESTRO 2'!W$44,'DATA MAESTRO 2'!W$45,'DATA MAESTRO 2'!W$46,'DATA MAESTRO 2'!W$47,'DATA MAESTRO 2'!W$48,'DATA MAESTRO 2'!W$49,'DATA MAESTRO 2'!W$50,'DATA MAESTRO 2'!W$51,'DATA MAESTRO 2'!W$52,'DATA MAESTRO 2'!W$53,'DATA MAESTRO 2'!W$54,'DATA MAESTRO 2'!W$55,'DATA MAESTRO 2'!W$56,'DATA MAESTRO 2'!W$57,'DATA MAESTRO 2'!W$58,'DATA MAESTRO 2'!W$59,'DATA MAESTRO 2'!W$60,'DATA MAESTRO 2'!W$61,'DATA MAESTRO 2'!W$62,'DATA MAESTRO 2'!W$63,'DATA MAESTRO 2'!W$64,'DATA MAESTRO 2'!W$65)","v":0},{"$f":"CHOOSE($B27,'DATA MAESTRO 2'!X$43,'DATA MAESTRO 2'!X$44,'DATA MAESTRO 2'!X$45,'DATA MAESTRO 2'!X$46,'DATA MAESTRO 2'!X$47,'DATA MAESTRO 2'!X$48,'DATA MAESTRO 2'!X$49,'DATA MAESTRO 2'!X$50,'DATA MAESTRO 2'!X$51,'DATA MAESTRO 2'!X$52,'DATA MAESTRO 2'!X$53,'DATA MAESTRO 2'!X$54,'DATA MAESTRO 2'!X$55,'DATA MAESTRO 2'!X$56,'DATA MAESTRO 2'!X$57,'DATA MAESTRO 2'!X$58,'DATA MAESTRO 2'!X$59,'DATA MAESTRO 2'!X$60,'DATA MAESTRO 2'!X$61,'DATA MAESTRO 2'!X$62,'DATA MAESTRO 2'!X$63,'DATA MAESTRO 2'!X$64,'DATA MAESTRO 2'!X$65)","v":0},{"$f":"CHOOSE($B27,'DATA MAESTRO 2'!Y$43,'DATA MAESTRO 2'!Y$44,'DATA MAESTRO 2'!Y$45,'DATA MAESTRO 2'!Y$46,'DATA MAESTRO 2'!Y$47,'DATA MAESTRO 2'!Y$48,'DATA MAESTRO 2'!Y$49,'DATA MAESTRO 2'!Y$50,'DATA MAESTRO 2'!Y$51,'DATA MAESTRO 2'!Y$52,'DATA MAESTRO 2'!Y$53,'DATA MAESTRO 2'!Y$54,'DATA MAESTRO 2'!Y$55,'DATA MAESTRO 2'!Y$56,'DATA MAESTRO 2'!Y$57,'DATA MAESTRO 2'!Y$58,'DATA MAESTRO 2'!Y$59,'DATA MAESTRO 2'!Y$60,'DATA MAESTRO 2'!Y$61,'DATA MAESTRO 2'!Y$62,'DATA MAESTRO 2'!Y$63,'DATA MAESTRO 2'!Y$64,'DATA MAESTRO 2'!Y$65)","v":0},{"$f":"CHOOSE($B27,'DATA MAESTRO 2'!Z$43,'DATA MAESTRO 2'!Z$44,'DATA MAESTRO 2'!Z$45,'DATA MAESTRO 2'!Z$46,'DATA MAESTRO 2'!Z$47,'DATA MAESTRO 2'!Z$48,'DATA MAESTRO 2'!Z$49,'DATA MAESTRO 2'!Z$50,'DATA MAESTRO 2'!Z$51,'DATA MAESTRO 2'!Z$52,'DATA MAESTRO 2'!Z$53,'DATA MAESTRO 2'!Z$54,'DATA MAESTRO 2'!Z$55,'DATA MAESTRO 2'!Z$56,'DATA MAESTRO 2'!Z$57,'DATA MAESTRO 2'!Z$58,'DATA MAESTRO 2'!Z$59,'DATA MAESTRO 2'!Z$60,'DATA MAESTRO 2'!Z$61,'DATA MAESTRO 2'!Z$62,'DATA MAESTRO 2'!Z$63,'DATA MAESTRO 2'!Z$64,'DATA MAESTRO 2'!Z$65)","v":0},{"$f":"CHOOSE($B27,'DATA MAESTRO 2'!AA$43,'DATA MAESTRO 2'!AA$44,'DATA MAESTRO 2'!AA$45,'DATA MAESTRO 2'!AA$46,'DATA MAESTRO 2'!AA$47,'DATA MAESTRO 2'!AA$48,'DATA MAESTRO 2'!AA$49,'DATA MAESTRO 2'!AA$50,'DATA MAESTRO 2'!AA$51,'DATA MAESTRO 2'!AA$52,'DATA MAESTRO 2'!AA$53,'DATA MAESTRO 2'!AA$54,'DATA MAESTRO 2'!AA$55,'DATA MAESTRO 2'!AA$56,'DATA MAESTRO 2'!AA$57,'DATA MAESTRO 2'!AA$58,'DATA MAESTRO 2'!AA$59,'DATA MAESTRO 2'!AA$60,'DATA MAESTRO 2'!AA$61,'DATA MAESTRO 2'!AA$62,'DATA MAESTRO 2'!AA$63,'DATA MAESTRO 2'!AA$64,'DATA MAESTRO 2'!AA$65)","v":0},{"$f":"CHOOSE($B27,'DATA MAESTRO 2'!AB$43,'DATA MAESTRO 2'!AB$44,'DATA MAESTRO 2'!AB$45,'DATA MAESTRO 2'!AB$46,'DATA MAESTRO 2'!AB$47,'DATA MAESTRO 2'!AB$48,'DATA MAESTRO 2'!AB$49,'DATA MAESTRO 2'!AB$50,'DATA MAESTRO 2'!AB$51,'DATA MAESTRO 2'!AB$52,'DATA MAESTRO 2'!AB$53,'DATA MAESTRO 2'!AB$54,'DATA MAESTRO 2'!AB$55,'DATA MAESTRO 2'!AB$56,'DATA MAESTRO 2'!AB$57,'DATA MAESTRO 2'!AB$58,'DATA MAESTRO 2'!AB$59,'DATA MAESTRO 2'!AB$60,'DATA MAESTRO 2'!AB$61,'DATA MAESTRO 2'!AB$62,'DATA MAESTRO 2'!AB$63,'DATA MAESTRO 2'!AB$64,'DATA MAESTRO 2'!AB$65)","v":0},{"$f":"CHOOSE($B27,'DATA MAESTRO 2'!AC$43,'DATA MAESTRO 2'!AC$44,'DATA MAESTRO 2'!AC$45,'DATA MAESTRO 2'!AC$46,'DATA MAESTRO 2'!AC$47,'DATA MAESTRO 2'!AC$48,'DATA MAESTRO 2'!AC$49,'DATA MAESTRO 2'!AC$50,'DATA MAESTRO 2'!AC$51,'DATA MAESTRO 2'!AC$52,'DATA MAESTRO 2'!AC$53,'DATA MAESTRO 2'!AC$54,'DATA MAESTRO 2'!AC$55,'DATA MAESTRO 2'!AC$56,'DATA MAESTRO 2'!AC$57,'DATA MAESTRO 2'!AC$58,'DATA MAESTRO 2'!AC$59,'DATA MAESTRO 2'!AC$60,'DATA MAESTRO 2'!AC$61,'DATA MAESTRO 2'!AC$62,'DATA MAESTRO 2'!AC$63,'DATA MAESTRO 2'!AC$64,'DATA MAESTRO 2'!AC$65)","v":0},{"$f":"CHOOSE($B27,'DATA MAESTRO 2'!AD$43,'DATA MAESTRO 2'!AD$44,'DATA MAESTRO 2'!AD$45,'DATA MAESTRO 2'!AD$46,'DATA MAESTRO 2'!AD$47,'DATA MAESTRO 2'!AD$48,'DATA MAESTRO 2'!AD$49,'DATA MAESTRO 2'!AD$50,'DATA MAESTRO 2'!AD$51,'DATA MAESTRO 2'!AD$52,'DATA MAESTRO 2'!AD$53,'DATA MAESTRO 2'!AD$54,'DATA MAESTRO 2'!AD$55,'DATA MAESTRO 2'!AD$56,'DATA MAESTRO 2'!AD$57,'DATA MAESTRO 2'!AD$58,'DATA MAESTRO 2'!AD$59,'DATA MAESTRO 2'!AD$60,'DATA MAESTRO 2'!AD$61,'DATA MAESTRO 2'!AD$62,'DATA MAESTRO 2'!AD$63,'DATA MAESTRO 2'!AD$64,'DATA MAESTRO 2'!AD$65)","v":0},{"$f":"CHOOSE($B27,'DATA MAESTRO 2'!AE$43,'DATA MAESTRO 2'!AE$44,'DATA MAESTRO 2'!AE$45,'DATA MAESTRO 2'!AE$46,'DATA MAESTRO 2'!AE$47,'DATA MAESTRO 2'!AE$48,'DATA MAESTRO 2'!AE$49,'DATA MAESTRO 2'!AE$50,'DATA MAESTRO 2'!AE$51,'DATA MAESTRO 2'!AE$52,'DATA MAESTRO 2'!AE$53,'DATA MAESTRO 2'!AE$54,'DATA MAESTRO 2'!AE$55,'DATA MAESTRO 2'!AE$56,'DATA MAESTRO 2'!AE$57,'DATA MAESTRO 2'!AE$58,'DATA MAESTRO 2'!AE$59,'DATA MAESTRO 2'!AE$60,'DATA MAESTRO 2'!AE$61,'DATA MAESTRO 2'!AE$62,'DATA MAESTRO 2'!AE$63,'DATA MAESTRO 2'!AE$64,'DATA MAESTRO 2'!AE$65)","v":0},{"$f":"CHOOSE($B27,'DATA MAESTRO 2'!AF$43,'DATA MAESTRO 2'!AF$44,'DATA MAESTRO 2'!AF$45,'DATA MAESTRO 2'!AF$46,'DATA MAESTRO 2'!AF$47,'DATA MAESTRO 2'!AF$48,'DATA MAESTRO 2'!AF$49,'DATA MAESTRO 2'!AF$50,'DATA MAESTRO 2'!AF$51,'DATA MAESTRO 2'!AF$52,'DATA MAESTRO 2'!AF$53,'DATA MAESTRO 2'!AF$54,'DATA MAESTRO 2'!AF$55,'DATA MAESTRO 2'!AF$56,'DATA MAESTRO 2'!AF$57,'DATA MAESTRO 2'!AF$58,'DATA MAESTRO 2'!AF$59,'DATA MAESTRO 2'!AF$60,'DATA MAESTRO 2'!AF$61,'DATA MAESTRO 2'!AF$62,'DATA MAESTRO 2'!AF$63,'DATA MAESTRO 2'!AF$64,'DATA MAESTRO 2'!AF$65)","v":0},{"$f":"CHOOSE($B27,'DATA MAESTRO 2'!AG$43,'DATA MAESTRO 2'!AG$44,'DATA MAESTRO 2'!AG$45,'DATA MAESTRO 2'!AG$46,'DATA MAESTRO 2'!AG$47,'DATA MAESTRO 2'!AG$48,'DATA MAESTRO 2'!AG$49,'DATA MAESTRO 2'!AG$50,'DATA MAESTRO 2'!AG$51,'DATA MAESTRO 2'!AG$52,'DATA MAESTRO 2'!AG$53,'DATA MAESTRO 2'!AG$54,'DATA MAESTRO 2'!AG$55,'DATA MAESTRO 2'!AG$56,'DATA MAESTRO 2'!AG$57,'DATA MAESTRO 2'!AG$58,'DATA MAESTRO 2'!AG$59,'DATA MAESTRO 2'!AG$60,'DATA MAESTRO 2'!AG$61,'DATA MAESTRO 2'!AG$62,'DATA MAESTRO 2'!AG$63,'DATA MAESTRO 2'!AG$64,'DATA MAESTRO 2'!AG$65)","v":0},{"$f":"CHOOSE($B27,'DATA MAESTRO 2'!AH$43,'DATA MAESTRO 2'!AH$44,'DATA MAESTRO 2'!AH$45,'DATA MAESTRO 2'!AH$46,'DATA MAESTRO 2'!AH$47,'DATA MAESTRO 2'!AH$48,'DATA MAESTRO 2'!AH$49,'DATA MAESTRO 2'!AH$50,'DATA MAESTRO 2'!AH$51,'DATA MAESTRO 2'!AH$52,'DATA MAESTRO 2'!AH$53,'DATA MAESTRO 2'!AH$54,'DATA MAESTRO 2'!AH$55,'DATA MAESTRO 2'!AH$56,'DATA MAESTRO 2'!AH$57,'DATA MAESTRO 2'!AH$58,'DATA MAESTRO 2'!AH$59,'DATA MAESTRO 2'!AH$60,'DATA MAESTRO 2'!AH$61,'DATA MAESTRO 2'!AH$62,'DATA MAESTRO 2'!AH$63,'DATA MAESTRO 2'!AH$64,'DATA MAESTRO 2'!AH$65)","v":0},{"$f":"CHOOSE($B27,'DATA MAESTRO 2'!AI$43,'DATA MAESTRO 2'!AI$44,'DATA MAESTRO 2'!AI$45,'DATA MAESTRO 2'!AI$46,'DATA MAESTRO 2'!AI$47,'DATA MAESTRO 2'!AI$48,'DATA MAESTRO 2'!AI$49,'DATA MAESTRO 2'!AI$50,'DATA MAESTRO 2'!AI$51,'DATA MAESTRO 2'!AI$52,'DATA MAESTRO 2'!AI$53,'DATA MAESTRO 2'!AI$54,'DATA MAESTRO 2'!AI$55,'DATA MAESTRO 2'!AI$56,'DATA MAESTRO 2'!AI$57,'DATA MAESTRO 2'!AI$58,'DATA MAESTRO 2'!AI$59,'DATA MAESTRO 2'!AI$60,'DATA MAESTRO 2'!AI$61,'DATA MAESTRO 2'!AI$62,'DATA MAESTRO 2'!AI$63,'DATA MAESTRO 2'!AI$64,'DATA MAESTRO 2'!AI$65)","v":0},{"$f":"CHOOSE($B27,'DATA MAESTRO 2'!AJ$43,'DATA MAESTRO 2'!AJ$44,'DATA MAESTRO 2'!AJ$45,'DATA MAESTRO 2'!AJ$46,'DATA MAESTRO 2'!AJ$47,'DATA MAESTRO 2'!AJ$48,'DATA MAESTRO 2'!AJ$49,'DATA MAESTRO 2'!AJ$50,'DATA MAESTRO 2'!AJ$51,'DATA MAESTRO 2'!AJ$52,'DATA MAESTRO 2'!AJ$53,'DATA MAESTRO 2'!AJ$54,'DATA MAESTRO 2'!AJ$55,'DATA MAESTRO 2'!AJ$56,'DATA MAESTRO 2'!AJ$57,'DATA MAESTRO 2'!AJ$58,'DATA MAESTRO 2'!AJ$59,'DATA MAESTRO 2'!AJ$60,'DATA MAESTRO 2'!AJ$61,'DATA MAESTRO 2'!AJ$62,'DATA MAESTRO 2'!AJ$63,'DATA MAESTRO 2'!AJ$64,'DATA MAESTRO 2'!AJ$65)","v":0}]
[26,23,{"$f":"+IF(AND(B28>=1,B28<=23),VLOOKUP(B28,'DATA MAESTRO 2'!$A$43:$B$65,2),0)","v":"Vacio"},{"$f":"+CHOOSE($B28,'DATA MAESTRO 2'!C$43,'DATA MAESTRO 2'!C$44,'DATA MAESTRO 2'!C$45,'DATA MAESTRO 2'!C$46,'DATA MAESTRO 2'!C$47,'DATA MAESTRO 2'!C$48,'DATA MAESTRO 2'!C$49,'DATA MAESTRO 2'!C$50,'DATA MAESTRO 2'!C$51,'DATA MAESTRO 2'!C$52,'DATA MAESTRO 2'!C$53,'DATA MAESTRO 2'!C$54,'DATA MAESTRO 2'!C$55,'DATA MAESTRO 2'!C$56,'DATA MAESTRO 2'!C$57,'DATA MAESTRO 2'!C$58,'DATA MAESTRO 2'!C$59,'DATA MAESTRO 2'!C$60,'DATA MAESTRO 2'!C$61,'DATA MAESTRO 2'!C$62,'DATA MAESTRO 2'!C$63,'DATA MAESTRO 2'!C$64,'DATA MAESTRO 2'!C$65)","v":0},{"$f":"CHOOSE(B28,'DATA MAESTRO 2'!D$43,'DATA MAESTRO 2'!D$44,'DATA MAESTRO 2'!D$45,'DATA MAESTRO 2'!D$46,'DATA MAESTRO 2'!D$47,'DATA MAESTRO 2'!D$48,'DATA MAESTRO 2'!D$49,'DATA MAESTRO 2'!D$50,'DATA MAESTRO 2'!D$51,'DATA MAESTRO 2'!D$52,'DATA MAESTRO 2'!D$53,'DATA MAESTRO 2'!D$54,'DATA MAESTRO 2'!D$55,'DATA MAESTRO 2'!D$56,'DATA MAESTRO 2'!D$57,'DATA MAESTRO 2'!D$58,'DATA MAESTRO 2'!D$59,'DATA MAESTRO 2'!D$60,'DATA MAESTRO 2'!D$61,'DATA MAESTRO 2'!D$62,'DATA MAESTRO 2'!D$63,'DATA MAESTRO 2'!D$64,'DATA MAESTRO 2'!D$65)","v":0},{"$f":"CHOOSE($B28,'DATA MAESTRO 2'!E$43,'DATA MAESTRO 2'!E$44,'DATA MAESTRO 2'!E$45,'DATA MAESTRO 2'!E$46,'DATA MAESTRO 2'!E$47,'DATA MAESTRO 2'!E$48,'DATA MAESTRO 2'!E$49,'DATA MAESTRO 2'!E$50,'DATA MAESTRO 2'!E$51,'DATA MAESTRO 2'!E$52,'DATA MAESTRO 2'!E$53,'DATA MAESTRO 2'!E$54,'DATA MAESTRO 2'!E$55,'DATA MAESTRO 2'!E$56,'DATA MAESTRO 2'!E$57,'DATA MAESTRO 2'!E$58,'DATA MAESTRO 2'!E$59,'DATA MAESTRO 2'!E$60,'DATA MAESTRO 2'!E$61,'DATA MAESTRO 2'!E$62,'DATA MAESTRO 2'!E$63,'DATA MAESTRO 2'!E$64,'DATA MAESTRO 2'!E$65)","v":0},{"$f":"CHOOSE($B28,'DATA MAESTRO 2'!F$43,'DATA MAESTRO 2'!F$44,'DATA MAESTRO 2'!F$45,'DATA MAESTRO 2'!F$46,'DATA MAESTRO 2'!F$47,'DATA MAESTRO 2'!F$48,'DATA MAESTRO 2'!F$49,'DATA MAESTRO 2'!F$50,'DATA MAESTRO 2'!F$51,'DATA MAESTRO 2'!F$52,'DATA MAESTRO 2'!F$53,'DATA MAESTRO 2'!F$54,'DATA MAESTRO 2'!F$55,'DATA MAESTRO 2'!F$56,'DATA MAESTRO 2'!F$57,'DATA MAESTRO 2'!F$58,'DATA MAESTRO 2'!F$59,'DATA MAESTRO 2'!F$60,'DATA MAESTRO 2'!F$61,'DATA MAESTRO 2'!F$62,'DATA MAESTRO 2'!F$63,'DATA MAESTRO 2'!F$64,'DATA MAESTRO 2'!F$65)","v":0},{"$f":"CHOOSE($B28,'DATA MAESTRO 2'!G$43,'DATA MAESTRO 2'!G$44,'DATA MAESTRO 2'!G$45,'DATA MAESTRO 2'!G$46,'DATA MAESTRO 2'!G$47,'DATA MAESTRO 2'!G$48,'DATA MAESTRO 2'!G$49,'DATA MAESTRO 2'!G$50,'DATA MAESTRO 2'!G$51,'DATA MAESTRO 2'!G$52,'DATA MAESTRO 2'!G$53,'DATA MAESTRO 2'!G$54,'DATA MAESTRO 2'!G$55,'DATA MAESTRO 2'!G$56,'DATA MAESTRO 2'!G$57,'DATA MAESTRO 2'!G$58,'DATA MAESTRO 2'!G$59,'DATA MAESTRO 2'!G$60,'DATA MAESTRO 2'!G$61,'DATA MAESTRO 2'!G$62,'DATA MAESTRO 2'!G$63,'DATA MAESTRO 2'!G$64,'DATA MAESTRO 2'!G$65)","v":0},{"$f":"CHOOSE($B28,'DATA MAESTRO 2'!H$43,'DATA MAESTRO 2'!H$44,'DATA MAESTRO 2'!H$45,'DATA MAESTRO 2'!H$46,'DATA MAESTRO 2'!H$47,'DATA MAESTRO 2'!H$48,'DATA MAESTRO 2'!H$49,'DATA MAESTRO 2'!H$50,'DATA MAESTRO 2'!H$51,'DATA MAESTRO 2'!H$52,'DATA MAESTRO 2'!H$53,'DATA MAESTRO 2'!H$54,'DATA MAESTRO 2'!H$55,'DATA MAESTRO 2'!H$56,'DATA MAESTRO 2'!H$57,'DATA MAESTRO 2'!H$58,'DATA MAESTRO 2'!H$59,'DATA MAESTRO 2'!H$60,'DATA MAESTRO 2'!H$61,'DATA MAESTRO 2'!H$62,'DATA MAESTRO 2'!H$63,'DATA MAESTRO 2'!H$64,'DATA MAESTRO 2'!H$65)","v":0},{"$f":"CHOOSE($B28,'DATA MAESTRO 2'!I$43,'DATA MAESTRO 2'!I$44,'DATA MAESTRO 2'!I$45,'DATA MAESTRO 2'!I$46,'DATA MAESTRO 2'!I$47,'DATA MAESTRO 2'!I$48,'DATA MAESTRO 2'!I$49,'DATA MAESTRO 2'!I$50,'DATA MAESTRO 2'!I$51,'DATA MAESTRO 2'!I$52,'DATA MAESTRO 2'!I$53,'DATA MAESTRO 2'!I$54,'DATA MAESTRO 2'!I$55,'DATA MAESTRO 2'!I$56,'DATA MAESTRO 2'!I$57,'DATA MAESTRO 2'!I$58,'DATA MAESTRO 2'!I$59,'DATA MAESTRO 2'!I$60,'DATA MAESTRO 2'!I$61,'DATA MAESTRO 2'!I$62,'DATA MAESTRO 2'!I$63,'DATA MAESTRO 2'!I$64,'DATA MAESTRO 2'!I$65)","v":0},{"$f":"CHOOSE($B28,'DATA MAESTRO 2'!J$43,'DATA MAESTRO 2'!J$44,'DATA MAESTRO 2'!J$45,'DATA MAESTRO 2'!J$46,'DATA MAESTRO 2'!J$47,'DATA MAESTRO 2'!J$48,'DATA MAESTRO 2'!J$49,'DATA MAESTRO 2'!J$50,'DATA MAESTRO 2'!J$51,'DATA MAESTRO 2'!J$52,'DATA MAESTRO 2'!J$53,'DATA MAESTRO 2'!J$54,'DATA MAESTRO 2'!J$55,'DATA MAESTRO 2'!J$56,'DATA MAESTRO 2'!J$57,'DATA MAESTRO 2'!J$58,'DATA MAESTRO 2'!J$59,'DATA MAESTRO 2'!J$60,'DATA MAESTRO 2'!J$61,'DATA MAESTRO 2'!J$62,'DATA MAESTRO 2'!J$63,'DATA MAESTRO 2'!J$64,'DATA MAESTRO 2'!J$65)","v":0},{"$f":"CHOOSE($B28,'DATA MAESTRO 2'!K$43,'DATA MAESTRO 2'!K$44,'DATA MAESTRO 2'!K$45,'DATA MAESTRO 2'!K$46,'DATA MAESTRO 2'!K$47,'DATA MAESTRO 2'!K$48,'DATA MAESTRO 2'!K$49,'DATA MAESTRO 2'!K$50,'DATA MAESTRO 2'!K$51,'DATA MAESTRO 2'!K$52,'DATA MAESTRO 2'!K$53,'DATA MAESTRO 2'!K$54,'DATA MAESTRO 2'!K$55,'DATA MAESTRO 2'!K$56,'DATA MAESTRO 2'!K$57,'DATA MAESTRO 2'!K$58,'DATA MAESTRO 2'!K$59,'DATA MAESTRO 2'!K$60,'DATA MAESTRO 2'!K$61,'DATA MAESTRO 2'!K$62,'DATA MAESTRO 2'!K$63,'DATA MAESTRO 2'!K$64,'DATA MAESTRO 2'!K$65)","v":0},{"$f":"CHOOSE($B28,'DATA MAESTRO 2'!L$43,'DATA MAESTRO 2'!L$44,'DATA MAESTRO 2'!L$45,'DATA MAESTRO 2'!L$46,'DATA MAESTRO 2'!L$47,'DATA MAESTRO 2'!L$48,'DATA MAESTRO 2'!L$49,'DATA MAESTRO 2'!L$50,'DATA MAESTRO 2'!L$51,'DATA MAESTRO 2'!L$52,'DATA MAESTRO 2'!L$53,'DATA MAESTRO 2'!L$54,'DATA MAESTRO 2'!L$55,'DATA MAESTRO 2'!L$56,'DATA MAESTRO 2'!L$57,'DATA MAESTRO 2'!L$58,'DATA MAESTRO 2'!L$59,'DATA MAESTRO 2'!L$60,'DATA MAESTRO 2'!L$61,'DATA MAESTRO 2'!L$62,'DATA MAESTRO 2'!L$63,'DATA MAESTRO 2'!L$64,'DATA MAESTRO 2'!L$65)","v":0},{"$f":"CHOOSE($B28,'DATA MAESTRO 2'!M$43,'DATA MAESTRO 2'!M$44,'DATA MAESTRO 2'!M$45,'DATA MAESTRO 2'!M$46,'DATA MAESTRO 2'!M$47,'DATA MAESTRO 2'!M$48,'DATA MAESTRO 2'!M$49,'DATA MAESTRO 2'!M$50,'DATA MAESTRO 2'!M$51,'DATA MAESTRO 2'!M$52,'DATA MAESTRO 2'!M$53,'DATA MAESTRO 2'!M$54,'DATA MAESTRO 2'!M$55,'DATA MAESTRO 2'!M$56,'DATA MAESTRO 2'!M$57,'DATA MAESTRO 2'!M$58,'DATA MAESTRO 2'!M$59,'DATA MAESTRO 2'!M$60,'DATA MAESTRO 2'!M$61,'DATA MAESTRO 2'!M$62,'DATA MAESTRO 2'!M$63,'DATA MAESTRO 2'!M$64,'DATA MAESTRO 2'!M$65)","v":0},{"$f":"CHOOSE($B28,'DATA MAESTRO 2'!N$43,'DATA MAESTRO 2'!N$44,'DATA MAESTRO 2'!N$45,'DATA MAESTRO 2'!N$46,'DATA MAESTRO 2'!N$47,'DATA MAESTRO 2'!N$48,'DATA MAESTRO 2'!N$49,'DATA MAESTRO 2'!N$50,'DATA MAESTRO 2'!N$51,'DATA MAESTRO 2'!N$52,'DATA MAESTRO 2'!N$53,'DATA MAESTRO 2'!N$54,'DATA MAESTRO 2'!N$55,'DATA MAESTRO 2'!N$56,'DATA MAESTRO 2'!N$57,'DATA MAESTRO 2'!N$58,'DATA MAESTRO 2'!N$59,'DATA MAESTRO 2'!N$60,'DATA MAESTRO 2'!N$61,'DATA MAESTRO 2'!N$62,'DATA MAESTRO 2'!N$63,'DATA MAESTRO 2'!N$64,'DATA MAESTRO 2'!N$65)","v":0},{"$f":"CHOOSE($B28,'DATA MAESTRO 2'!O$43,'DATA MAESTRO 2'!O$44,'DATA MAESTRO 2'!O$45,'DATA MAESTRO 2'!O$46,'DATA MAESTRO 2'!O$47,'DATA MAESTRO 2'!O$48,'DATA MAESTRO 2'!O$49,'DATA MAESTRO 2'!O$50,'DATA MAESTRO 2'!O$51,'DATA MAESTRO 2'!O$52,'DATA MAESTRO 2'!O$53,'DATA MAESTRO 2'!O$54,'DATA MAESTRO 2'!O$55,'DATA MAESTRO 2'!O$56,'DATA MAESTRO 2'!O$57,'DATA MAESTRO 2'!O$58,'DATA MAESTRO 2'!O$59,'DATA MAESTRO 2'!O$60,'DATA MAESTRO 2'!O$61,'DATA MAESTRO 2'!O$62,'DATA MAESTRO 2'!O$63,'DATA MAESTRO 2'!O$64,'DATA MAESTRO 2'!O$65)","v":0},{"$f":"CHOOSE($B28,'DATA MAESTRO 2'!P$43,'DATA MAESTRO 2'!P$44,'DATA MAESTRO 2'!P$45,'DATA MAESTRO 2'!P$46,'DATA MAESTRO 2'!P$47,'DATA MAESTRO 2'!P$48,'DATA MAESTRO 2'!P$49,'DATA MAESTRO 2'!P$50,'DATA MAESTRO 2'!P$51,'DATA MAESTRO 2'!P$52,'DATA MAESTRO 2'!P$53,'DATA MAESTRO 2'!P$54,'DATA MAESTRO 2'!P$55,'DATA MAESTRO 2'!P$56,'DATA MAESTRO 2'!P$57,'DATA MAESTRO 2'!P$58,'DATA MAESTRO 2'!P$59,'DATA MAESTRO 2'!P$60,'DATA MAESTRO 2'!P$61,'DATA MAESTRO 2'!P$62,'DATA MAESTRO 2'!P$63,'DATA MAESTRO 2'!P$64,'DATA MAESTRO 2'!P$65)","v":0},{"$f":"CHOOSE($B28,'DATA MAESTRO 2'!Q$43,'DATA MAESTRO 2'!Q$44,'DATA MAESTRO 2'!Q$45,'DATA MAESTRO 2'!Q$46,'DATA MAESTRO 2'!Q$47,'DATA MAESTRO 2'!Q$48,'DATA MAESTRO 2'!Q$49,'DATA MAESTRO 2'!Q$50,'DATA MAESTRO 2'!Q$51,'DATA MAESTRO 2'!Q$52,'DATA MAESTRO 2'!Q$53,'DATA MAESTRO 2'!Q$54,'DATA MAESTRO 2'!Q$55,'DATA MAESTRO 2'!Q$56,'DATA MAESTRO 2'!Q$57,'DATA MAESTRO 2'!Q$58,'DATA MAESTRO 2'!Q$59,'DATA MAESTRO 2'!Q$60,'DATA MAESTRO 2'!Q$61,'DATA MAESTRO 2'!Q$62,'DATA MAESTRO 2'!Q$63,'DATA MAESTRO 2'!Q$64,'DATA MAESTRO 2'!Q$65)","v":0},{"$f":"CHOOSE($B28,'DATA MAESTRO 2'!R$43,'DATA MAESTRO 2'!R$44,'DATA MAESTRO 2'!R$45,'DATA MAESTRO 2'!R$46,'DATA MAESTRO 2'!R$47,'DATA MAESTRO 2'!R$48,'DATA MAESTRO 2'!R$49,'DATA MAESTRO 2'!R$50,'DATA MAESTRO 2'!R$51,'DATA MAESTRO 2'!R$52,'DATA MAESTRO 2'!R$53,'DATA MAESTRO 2'!R$54,'DATA MAESTRO 2'!R$55,'DATA MAESTRO 2'!R$56,'DATA MAESTRO 2'!R$57,'DATA MAESTRO 2'!R$58,'DATA MAESTRO 2'!R$59,'DATA MAESTRO 2'!R$60,'DATA MAESTRO 2'!R$61,'DATA MAESTRO 2'!R$62,'DATA MAESTRO 2'!R$63,'DATA MAESTRO 2'!R$64,'DATA MAESTRO 2'!R$65)","v":0},{"$f":"CHOOSE($B28,'DATA MAESTRO 2'!S$43,'DATA MAESTRO 2'!S$44,'DATA MAESTRO 2'!S$45,'DATA MAESTRO 2'!S$46,'DATA MAESTRO 2'!S$47,'DATA MAESTRO 2'!S$48,'DATA MAESTRO 2'!S$49,'DATA MAESTRO 2'!S$50,'DATA MAESTRO 2'!S$51,'DATA MAESTRO 2'!S$52,'DATA MAESTRO 2'!S$53,'DATA MAESTRO 2'!S$54,'DATA MAESTRO 2'!S$55,'DATA MAESTRO 2'!S$56,'DATA MAESTRO 2'!S$57,'DATA MAESTRO 2'!S$58,'DATA MAESTRO 2'!S$59,'DATA MAESTRO 2'!S$60,'DATA MAESTRO 2'!S$61,'DATA MAESTRO 2'!S$62,'DATA MAESTRO 2'!S$63,'DATA MAESTRO 2'!S$64,'DATA MAESTRO 2'!S$65)","v":0},{"$f":"CHOOSE($B28,'DATA MAESTRO 2'!T$43,'DATA MAESTRO 2'!T$44,'DATA MAESTRO 2'!T$45,'DATA MAESTRO 2'!T$46,'DATA MAESTRO 2'!T$47,'DATA MAESTRO 2'!T$48,'DATA MAESTRO 2'!T$49,'DATA MAESTRO 2'!T$50,'DATA MAESTRO 2'!T$51,'DATA MAESTRO 2'!T$52,'DATA MAESTRO 2'!T$53,'DATA MAESTRO 2'!T$54,'DATA MAESTRO 2'!T$55,'DATA MAESTRO 2'!T$56,'DATA MAESTRO 2'!T$57,'DATA MAESTRO 2'!T$58,'DATA MAESTRO 2'!T$59,'DATA MAESTRO 2'!T$60,'DATA MAESTRO 2'!T$61,'DATA MAESTRO 2'!T$62,'DATA MAESTRO 2'!T$63,'DATA MAESTRO 2'!T$64,'DATA MAESTRO 2'!T$65)","v":0},{"$f":"CHOOSE($B28,'DATA MAESTRO 2'!U$43,'DATA MAESTRO 2'!U$44,'DATA MAESTRO 2'!U$45,'DATA MAESTRO 2'!U$46,'DATA MAESTRO 2'!U$47,'DATA MAESTRO 2'!U$48,'DATA MAESTRO 2'!U$49,'DATA MAESTRO 2'!U$50,'DATA MAESTRO 2'!U$51,'DATA MAESTRO 2'!U$52,'DATA MAESTRO 2'!U$53,'DATA MAESTRO 2'!U$54,'DATA MAESTRO 2'!U$55,'DATA MAESTRO 2'!U$56,'DATA MAESTRO 2'!U$57,'DATA MAESTRO 2'!U$58,'DATA MAESTRO 2'!U$59,'DATA MAESTRO 2'!U$60,'DATA MAESTRO 2'!U$61,'DATA MAESTRO 2'!U$62,'DATA MAESTRO 2'!U$63,'DATA MAESTRO 2'!U$64,'DATA MAESTRO 2'!U$65)","v":0},{"$f":"CHOOSE($B28,'DATA MAESTRO 2'!V$43,'DATA MAESTRO 2'!V$44,'DATA MAESTRO 2'!V$45,'DATA MAESTRO 2'!V$46,'DATA MAESTRO 2'!V$47,'DATA MAESTRO 2'!V$48,'DATA MAESTRO 2'!V$49,'DATA MAESTRO 2'!V$50,'DATA MAESTRO 2'!V$51,'DATA MAESTRO 2'!V$52,'DATA MAESTRO 2'!V$53,'DATA MAESTRO 2'!V$54,'DATA MAESTRO 2'!V$55,'DATA MAESTRO 2'!V$56,'DATA MAESTRO 2'!V$57,'DATA MAESTRO 2'!V$58,'DATA MAESTRO 2'!V$59,'DATA MAESTRO 2'!V$60,'DATA MAESTRO 2'!V$61,'DATA MAESTRO 2'!V$62,'DATA MAESTRO 2'!V$63,'DATA MAESTRO 2'!V$64,'DATA MAESTRO 2'!V$65)","v":0},{"$f":"CHOOSE($B28,'DATA MAESTRO 2'!W$43,'DATA MAESTRO 2'!W$44,'DATA MAESTRO 2'!W$45,'DATA MAESTRO 2'!W$46,'DATA MAESTRO 2'!W$47,'DATA MAESTRO 2'!W$48,'DATA MAESTRO 2'!W$49,'DATA MAESTRO 2'!W$50,'DATA MAESTRO 2'!W$51,'DATA MAESTRO 2'!W$52,'DATA MAESTRO 2'!W$53,'DATA MAESTRO 2'!W$54,'DATA MAESTRO 2'!W$55,'DATA MAESTRO 2'!W$56,'DATA MAESTRO 2'!W$57,'DATA MAESTRO 2'!W$58,'DATA MAESTRO 2'!W$59,'DATA MAESTRO 2'!W$60,'DATA MAESTRO 2'!W$61,'DATA MAESTRO 2'!W$62,'DATA MAESTRO 2'!W$63,'DATA MAESTRO 2'!W$64,'DATA MAESTRO 2'!W$65)","v":0},{"$f":"CHOOSE($B28,'DATA MAESTRO 2'!X$43,'DATA MAESTRO 2'!X$44,'DATA MAESTRO 2'!X$45,'DATA MAESTRO 2'!X$46,'DATA MAESTRO 2'!X$47,'DATA MAESTRO 2'!X$48,'DATA MAESTRO 2'!X$49,'DATA MAESTRO 2'!X$50,'DATA MAESTRO 2'!X$51,'DATA MAESTRO 2'!X$52,'DATA MAESTRO 2'!X$53,'DATA MAESTRO 2'!X$54,'DATA MAESTRO 2'!X$55,'DATA MAESTRO 2'!X$56,'DATA MAESTRO 2'!X$57,'DATA MAESTRO 2'!X$58,'DATA MAESTRO 2'!X$59,'DATA MAESTRO 2'!X$60,'DATA MAESTRO 2'!X$61,'DATA MAESTRO 2'!X$62,'DATA MAESTRO 2'!X$63,'DATA MAESTRO 2'!X$64,'DATA MAESTRO 2'!X$65)","v":0},{"$f":"CHOOSE($B28,'DATA MAESTRO 2'!Y$43,'DATA MAESTRO 2'!Y$44,'DATA MAESTRO 2'!Y$45,'DATA MAESTRO 2'!Y$46,'DATA MAESTRO 2'!Y$47,'DATA MAESTRO 2'!Y$48,'DATA MAESTRO 2'!Y$49,'DATA MAESTRO 2'!Y$50,'DATA MAESTRO 2'!Y$51,'DATA MAESTRO 2'!Y$52,'DATA MAESTRO 2'!Y$53,'DATA MAESTRO 2'!Y$54,'DATA MAESTRO 2'!Y$55,'DATA MAESTRO 2'!Y$56,'DATA MAESTRO 2'!Y$57,'DATA MAESTRO 2'!Y$58,'DATA MAESTRO 2'!Y$59,'DATA MAESTRO 2'!Y$60,'DATA MAESTRO 2'!Y$61,'DATA MAESTRO 2'!Y$62,'DATA MAESTRO 2'!Y$63,'DATA MAESTRO 2'!Y$64,'DATA MAESTRO 2'!Y$65)","v":0},{"$f":"CHOOSE($B28,'DATA MAESTRO 2'!Z$43,'DATA MAESTRO 2'!Z$44,'DATA MAESTRO 2'!Z$45,'DATA MAESTRO 2'!Z$46,'DATA MAESTRO 2'!Z$47,'DATA MAESTRO 2'!Z$48,'DATA MAESTRO 2'!Z$49,'DATA MAESTRO 2'!Z$50,'DATA MAESTRO 2'!Z$51,'DATA MAESTRO 2'!Z$52,'DATA MAESTRO 2'!Z$53,'DATA MAESTRO 2'!Z$54,'DATA MAESTRO 2'!Z$55,'DATA MAESTRO 2'!Z$56,'DATA MAESTRO 2'!Z$57,'DATA MAESTRO 2'!Z$58,'DATA MAESTRO 2'!Z$59,'DATA MAESTRO 2'!Z$60,'DATA MAESTRO 2'!Z$61,'DATA MAESTRO 2'!Z$62,'DATA MAESTRO 2'!Z$63,'DATA MAESTRO 2'!Z$64,'DATA MAESTRO 2'!Z$65)","v":0},{"$f":"CHOOSE($B28,'DATA MAESTRO 2'!AA$43,'DATA MAESTRO 2'!AA$44,'DATA MAESTRO 2'!AA$45,'DATA MAESTRO 2'!AA$46,'DATA MAESTRO 2'!AA$47,'DATA MAESTRO 2'!AA$48,'DATA MAESTRO 2'!AA$49,'DATA MAESTRO 2'!AA$50,'DATA MAESTRO 2'!AA$51,'DATA MAESTRO 2'!AA$52,'DATA MAESTRO 2'!AA$53,'DATA MAESTRO 2'!AA$54,'DATA MAESTRO 2'!AA$55,'DATA MAESTRO 2'!AA$56,'DATA MAESTRO 2'!AA$57,'DATA MAESTRO 2'!AA$58,'DATA MAESTRO 2'!AA$59,'DATA MAESTRO 2'!AA$60,'DATA MAESTRO 2'!AA$61,'DATA MAESTRO 2'!AA$62,'DATA MAESTRO 2'!AA$63,'DATA MAESTRO 2'!AA$64,'DATA MAESTRO 2'!AA$65)","v":0},{"$f":"CHOOSE($B28,'DATA MAESTRO 2'!AB$43,'DATA MAESTRO 2'!AB$44,'DATA MAESTRO 2'!AB$45,'DATA MAESTRO 2'!AB$46,'DATA MAESTRO 2'!AB$47,'DATA MAESTRO 2'!AB$48,'DATA MAESTRO 2'!AB$49,'DATA MAESTRO 2'!AB$50,'DATA MAESTRO 2'!AB$51,'DATA MAESTRO 2'!AB$52,'DATA MAESTRO 2'!AB$53,'DATA MAESTRO 2'!AB$54,'DATA MAESTRO 2'!AB$55,'DATA MAESTRO 2'!AB$56,'DATA MAESTRO 2'!AB$57,'DATA MAESTRO 2'!AB$58,'DATA MAESTRO 2'!AB$59,'DATA MAESTRO 2'!AB$60,'DATA MAESTRO 2'!AB$61,'DATA MAESTRO 2'!AB$62,'DATA MAESTRO 2'!AB$63,'DATA MAESTRO 2'!AB$64,'DATA MAESTRO 2'!AB$65)","v":0},{"$f":"CHOOSE($B28,'DATA MAESTRO 2'!AC$43,'DATA MAESTRO 2'!AC$44,'DATA MAESTRO 2'!AC$45,'DATA MAESTRO 2'!AC$46,'DATA MAESTRO 2'!AC$47,'DATA MAESTRO 2'!AC$48,'DATA MAESTRO 2'!AC$49,'DATA MAESTRO 2'!AC$50,'DATA MAESTRO 2'!AC$51,'DATA MAESTRO 2'!AC$52,'DATA MAESTRO 2'!AC$53,'DATA MAESTRO 2'!AC$54,'DATA MAESTRO 2'!AC$55,'DATA MAESTRO 2'!AC$56,'DATA MAESTRO 2'!AC$57,'DATA MAESTRO 2'!AC$58,'DATA MAESTRO 2'!AC$59,'DATA MAESTRO 2'!AC$60,'DATA MAESTRO 2'!AC$61,'DATA MAESTRO 2'!AC$62,'DATA MAESTRO 2'!AC$63,'DATA MAESTRO 2'!AC$64,'DATA MAESTRO 2'!AC$65)","v":0},{"$f":"CHOOSE($B28,'DATA MAESTRO 2'!AD$43,'DATA MAESTRO 2'!AD$44,'DATA MAESTRO 2'!AD$45,'DATA MAESTRO 2'!AD$46,'DATA MAESTRO 2'!AD$47,'DATA MAESTRO 2'!AD$48,'DATA MAESTRO 2'!AD$49,'DATA MAESTRO 2'!AD$50,'DATA MAESTRO 2'!AD$51,'DATA MAESTRO 2'!AD$52,'DATA MAESTRO 2'!AD$53,'DATA MAESTRO 2'!AD$54,'DATA MAESTRO 2'!AD$55,'DATA MAESTRO 2'!AD$56,'DATA MAESTRO 2'!AD$57,'DATA MAESTRO 2'!AD$58,'DATA MAESTRO 2'!AD$59,'DATA MAESTRO 2'!AD$60,'DATA MAESTRO 2'!AD$61,'DATA MAESTRO 2'!AD$62,'DATA MAESTRO 2'!AD$63,'DATA MAESTRO 2'!AD$64,'DATA MAESTRO 2'!AD$65)","v":0},{"$f":"CHOOSE($B28,'DATA MAESTRO 2'!AE$43,'DATA MAESTRO 2'!AE$44,'DATA MAESTRO 2'!AE$45,'DATA MAESTRO 2'!AE$46,'DATA MAESTRO 2'!AE$47,'DATA MAESTRO 2'!AE$48,'DATA MAESTRO 2'!AE$49,'DATA MAESTRO 2'!AE$50,'DATA MAESTRO 2'!AE$51,'DATA MAESTRO 2'!AE$52,'DATA MAESTRO 2'!AE$53,'DATA MAESTRO 2'!AE$54,'DATA MAESTRO 2'!AE$55,'DATA MAESTRO 2'!AE$56,'DATA MAESTRO 2'!AE$57,'DATA MAESTRO 2'!AE$58,'DATA MAESTRO 2'!AE$59,'DATA MAESTRO 2'!AE$60,'DATA MAESTRO 2'!AE$61,'DATA MAESTRO 2'!AE$62,'DATA MAESTRO 2'!AE$63,'DATA MAESTRO 2'!AE$64,'DATA MAESTRO 2'!AE$65)","v":0},{"$f":"CHOOSE($B28,'DATA MAESTRO 2'!AF$43,'DATA MAESTRO 2'!AF$44,'DATA MAESTRO 2'!AF$45,'DATA MAESTRO 2'!AF$46,'DATA MAESTRO 2'!AF$47,'DATA MAESTRO 2'!AF$48,'DATA MAESTRO 2'!AF$49,'DATA MAESTRO 2'!AF$50,'DATA MAESTRO 2'!AF$51,'DATA MAESTRO 2'!AF$52,'DATA MAESTRO 2'!AF$53,'DATA MAESTRO 2'!AF$54,'DATA MAESTRO 2'!AF$55,'DATA MAESTRO 2'!AF$56,'DATA MAESTRO 2'!AF$57,'DATA MAESTRO 2'!AF$58,'DATA MAESTRO 2'!AF$59,'DATA MAESTRO 2'!AF$60,'DATA MAESTRO 2'!AF$61,'DATA MAESTRO 2'!AF$62,'DATA MAESTRO 2'!AF$63,'DATA MAESTRO 2'!AF$64,'DATA MAESTRO 2'!AF$65)","v":0},{"$f":"CHOOSE($B28,'DATA MAESTRO 2'!AG$43,'DATA MAESTRO 2'!AG$44,'DATA MAESTRO 2'!AG$45,'DATA MAESTRO 2'!AG$46,'DATA MAESTRO 2'!AG$47,'DATA MAESTRO 2'!AG$48,'DATA MAESTRO 2'!AG$49,'DATA MAESTRO 2'!AG$50,'DATA MAESTRO 2'!AG$51,'DATA MAESTRO 2'!AG$52,'DATA MAESTRO 2'!AG$53,'DATA MAESTRO 2'!AG$54,'DATA MAESTRO 2'!AG$55,'DATA MAESTRO 2'!AG$56,'DATA MAESTRO 2'!AG$57,'DATA MAESTRO 2'!AG$58,'DATA MAESTRO 2'!AG$59,'DATA MAESTRO 2'!AG$60,'DATA MAESTRO 2'!AG$61,'DATA MAESTRO 2'!AG$62,'DATA MAESTRO 2'!AG$63,'DATA MAESTRO 2'!AG$64,'DATA MAESTRO 2'!AG$65)","v":0},{"$f":"CHOOSE($B28,'DATA MAESTRO 2'!AH$43,'DATA MAESTRO 2'!AH$44,'DATA MAESTRO 2'!AH$45,'DATA MAESTRO 2'!AH$46,'DATA MAESTRO 2'!AH$47,'DATA MAESTRO 2'!AH$48,'DATA MAESTRO 2'!AH$49,'DATA MAESTRO 2'!AH$50,'DATA MAESTRO 2'!AH$51,'DATA MAESTRO 2'!AH$52,'DATA MAESTRO 2'!AH$53,'DATA MAESTRO 2'!AH$54,'DATA MAESTRO 2'!AH$55,'DATA MAESTRO 2'!AH$56,'DATA MAESTRO 2'!AH$57,'DATA MAESTRO 2'!AH$58,'DATA MAESTRO 2'!AH$59,'DATA MAESTRO 2'!AH$60,'DATA MAESTRO 2'!AH$61,'DATA MAESTRO 2'!AH$62,'DATA MAESTRO 2'!AH$63,'DATA MAESTRO 2'!AH$64,'DATA MAESTRO 2'!AH$65)","v":0},{"$f":"CHOOSE($B28,'DATA MAESTRO 2'!AI$43,'DATA MAESTRO 2'!AI$44,'DATA MAESTRO 2'!AI$45,'DATA MAESTRO 2'!AI$46,'DATA MAESTRO 2'!AI$47,'DATA MAESTRO 2'!AI$48,'DATA MAESTRO 2'!AI$49,'DATA MAESTRO 2'!AI$50,'DATA MAESTRO 2'!AI$51,'DATA MAESTRO 2'!AI$52,'DATA MAESTRO 2'!AI$53,'DATA MAESTRO 2'!AI$54,'DATA MAESTRO 2'!AI$55,'DATA MAESTRO 2'!AI$56,'DATA MAESTRO 2'!AI$57,'DATA MAESTRO 2'!AI$58,'DATA MAESTRO 2'!AI$59,'DATA MAESTRO 2'!AI$60,'DATA MAESTRO 2'!AI$61,'DATA MAESTRO 2'!AI$62,'DATA MAESTRO 2'!AI$63,'DATA MAESTRO 2'!AI$64,'DATA MAESTRO 2'!AI$65)","v":0},{"$f":"CHOOSE($B28,'DATA MAESTRO 2'!AJ$43,'DATA MAESTRO 2'!AJ$44,'DATA MAESTRO 2'!AJ$45,'DATA MAESTRO 2'!AJ$46,'DATA MAESTRO 2'!AJ$47,'DATA MAESTRO 2'!AJ$48,'DATA MAESTRO 2'!AJ$49,'DATA MAESTRO 2'!AJ$50,'DATA MAESTRO 2'!AJ$51,'DATA MAESTRO 2'!AJ$52,'DATA MAESTRO 2'!AJ$53,'DATA MAESTRO 2'!AJ$54,'DATA MAESTRO 2'!AJ$55,'DATA MAESTRO 2'!AJ$56,'DATA MAESTRO 2'!AJ$57,'DATA MAESTRO 2'!AJ$58,'DATA MAESTRO 2'!AJ$59,'DATA MAESTRO 2'!AJ$60,'DATA MAESTRO 2'!AJ$61,'DATA MAESTRO 2'!AJ$62,'DATA MAESTRO 2'!AJ$63,'DATA MAESTRO 2'!AJ$64,'DATA MAESTRO 2'!AJ$65)","v":0}]
[27,23,{"$f":"+IF(AND(B29>=1,B29<=23),VLOOKUP(B29,'DATA MAESTRO 2'!$A$43:$B$65,2),0)","v":"Vacio"},{"$f":"+CHOOSE($B29,'DATA MAESTRO 2'!C$43,'DATA MAESTRO 2'!C$44,'DATA MAESTRO 2'!C$45,'DATA MAESTRO 2'!C$46,'DATA MAESTRO 2'!C$47,'DATA MAESTRO 2'!C$48,'DATA MAESTRO 2'!C$49,'DATA MAESTRO 2'!C$50,'DATA MAESTRO 2'!C$51,'DATA MAESTRO 2'!C$52,'DATA MAESTRO 2'!C$53,'DATA MAESTRO 2'!C$54,'DATA MAESTRO 2'!C$55,'DATA MAESTRO 2'!C$56,'DATA MAESTRO 2'!C$57,'DATA MAESTRO 2'!C$58,'DATA MAESTRO 2'!C$59,'DATA MAESTRO 2'!C$60,'DATA MAESTRO 2'!C$61,'DATA MAESTRO 2'!C$62,'DATA MAESTRO 2'!C$63,'DATA MAESTRO 2'!C$64,'DATA MAESTRO 2'!C$65)","v":0},{"$f":"CHOOSE(B29,'DATA MAESTRO 2'!D$43,'DATA MAESTRO 2'!D$44,'DATA MAESTRO 2'!D$45,'DATA MAESTRO 2'!D$46,'DATA MAESTRO 2'!D$47,'DATA MAESTRO 2'!D$48,'DATA MAESTRO 2'!D$49,'DATA MAESTRO 2'!D$50,'DATA MAESTRO 2'!D$51,'DATA MAESTRO 2'!D$52,'DATA MAESTRO 2'!D$53,'DATA MAESTRO 2'!D$54,'DATA MAESTRO 2'!D$55,'DATA MAESTRO 2'!D$56,'DATA MAESTRO 2'!D$57,'DATA MAESTRO 2'!D$58,'DATA MAESTRO 2'!D$59,'DATA MAESTRO 2'!D$60,'DATA MAESTRO 2'!D$61,'DATA MAESTRO 2'!D$62,'DATA MAESTRO 2'!D$63,'DATA MAESTRO 2'!D$64,'DATA MAESTRO 2'!D$65)","v":0},{"$f":"CHOOSE($B29,'DATA MAESTRO 2'!E$43,'DATA MAESTRO 2'!E$44,'DATA MAESTRO 2'!E$45,'DATA MAESTRO 2'!E$46,'DATA MAESTRO 2'!E$47,'DATA MAESTRO 2'!E$48,'DATA MAESTRO 2'!E$49,'DATA MAESTRO 2'!E$50,'DATA MAESTRO 2'!E$51,'DATA MAESTRO 2'!E$52,'DATA MAESTRO 2'!E$53,'DATA MAESTRO 2'!E$54,'DATA MAESTRO 2'!E$55,'DATA MAESTRO 2'!E$56,'DATA MAESTRO 2'!E$57,'DATA MAESTRO 2'!E$58,'DATA MAESTRO 2'!E$59,'DATA MAESTRO 2'!E$60,'DATA MAESTRO 2'!E$61,'DATA MAESTRO 2'!E$62,'DATA MAESTRO 2'!E$63,'DATA MAESTRO 2'!E$64,'DATA MAESTRO 2'!E$65)","v":0},{"$f":"CHOOSE($B29,'DATA MAESTRO 2'!F$43,'DATA MAESTRO 2'!F$44,'DATA MAESTRO 2'!F$45,'DATA MAESTRO 2'!F$46,'DATA MAESTRO 2'!F$47,'DATA MAESTRO 2'!F$48,'DATA MAESTRO 2'!F$49,'DATA MAESTRO 2'!F$50,'DATA MAESTRO 2'!F$51,'DATA MAESTRO 2'!F$52,'DATA MAESTRO 2'!F$53,'DATA MAESTRO 2'!F$54,'DATA MAESTRO 2'!F$55,'DATA MAESTRO 2'!F$56,'DATA MAESTRO 2'!F$57,'DATA MAESTRO 2'!F$58,'DATA MAESTRO 2'!F$59,'DATA MAESTRO 2'!F$60,'DATA MAESTRO 2'!F$61,'DATA MAESTRO 2'!F$62,'DATA MAESTRO 2'!F$63,'DATA MAESTRO 2'!F$64,'DATA MAESTRO 2'!F$65)","v":0},{"$f":"CHOOSE($B29,'DATA MAESTRO 2'!G$43,'DATA MAESTRO 2'!G$44,'DATA MAESTRO 2'!G$45,'DATA MAESTRO 2'!G$46,'DATA MAESTRO 2'!G$47,'DATA MAESTRO 2'!G$48,'DATA MAESTRO 2'!G$49,'DATA MAESTRO 2'!G$50,'DATA MAESTRO 2'!G$51,'DATA MAESTRO 2'!G$52,'DATA MAESTRO 2'!G$53,'DATA MAESTRO 2'!G$54,'DATA MAESTRO 2'!G$55,'DATA MAESTRO 2'!G$56,'DATA MAESTRO 2'!G$57,'DATA MAESTRO 2'!G$58,'DATA MAESTRO 2'!G$59,'DATA MAESTRO 2'!G$60,'DATA MAESTRO 2'!G$61,'DATA MAESTRO 2'!G$62,'DATA MAESTRO 2'!G$63,'DATA MAESTRO 2'!G$64,'DATA MAESTRO 2'!G$65)","v":0},{"$f":"CHOOSE($B29,'DATA MAESTRO 2'!H$43,'DATA MAESTRO 2'!H$44,'DATA MAESTRO 2'!H$45,'DATA MAESTRO 2'!H$46,'DATA MAESTRO 2'!H$47,'DATA MAESTRO 2'!H$48,'DATA MAESTRO 2'!H$49,'DATA MAESTRO 2'!H$50,'DATA MAESTRO 2'!H$51,'DATA MAESTRO 2'!H$52,'DATA MAESTRO 2'!H$53,'DATA MAESTRO 2'!H$54,'DATA MAESTRO 2'!H$55,'DATA MAESTRO 2'!H$56,'DATA MAESTRO 2'!H$57,'DATA MAESTRO 2'!H$58,'DATA MAESTRO 2'!H$59,'DATA MAESTRO 2'!H$60,'DATA MAESTRO 2'!H$61,'DATA MAESTRO 2'!H$62,'DATA MAESTRO 2'!H$63,'DATA MAESTRO 2'!H$64,'DATA MAESTRO 2'!H$65)","v":0},{"$f":"CHOOSE($B29,'DATA MAESTRO 2'!I$43,'DATA MAESTRO 2'!I$44,'DATA MAESTRO 2'!I$45,'DATA MAESTRO 2'!I$46,'DATA MAESTRO 2'!I$47,'DATA MAESTRO 2'!I$48,'DATA MAESTRO 2'!I$49,'DATA MAESTRO 2'!I$50,'DATA MAESTRO 2'!I$51,'DATA MAESTRO 2'!I$52,'DATA MAESTRO 2'!I$53,'DATA MAESTRO 2'!I$54,'DATA MAESTRO 2'!I$55,'DATA MAESTRO 2'!I$56,'DATA MAESTRO 2'!I$57,'DATA MAESTRO 2'!I$58,'DATA MAESTRO 2'!I$59,'DATA MAESTRO 2'!I$60,'DATA MAESTRO 2'!I$61,'DATA MAESTRO 2'!I$62,'DATA MAESTRO 2'!I$63,'DATA MAESTRO 2'!I$64,'DATA MAESTRO 2'!I$65)","v":0},{"$f":"CHOOSE($B29,'DATA MAESTRO 2'!J$43,'DATA MAESTRO 2'!J$44,'DATA MAESTRO 2'!J$45,'DATA MAESTRO 2'!J$46,'DATA MAESTRO 2'!J$47,'DATA MAESTRO 2'!J$48,'DATA MAESTRO 2'!J$49,'DATA MAESTRO 2'!J$50,'DATA MAESTRO 2'!J$51,'DATA MAESTRO 2'!J$52,'DATA MAESTRO 2'!J$53,'DATA MAESTRO 2'!J$54,'DATA MAESTRO 2'!J$55,'DATA MAESTRO 2'!J$56,'DATA MAESTRO 2'!J$57,'DATA MAESTRO 2'!J$58,'DATA MAESTRO 2'!J$59,'DATA MAESTRO 2'!J$60,'DATA MAESTRO 2'!J$61,'DATA MAESTRO 2'!J$62,'DATA MAESTRO 2'!J$63,'DATA MAESTRO 2'!J$64,'DATA MAESTRO 2'!J$65)","v":0},{"$f":"CHOOSE($B29,'DATA MAESTRO 2'!K$43,'DATA MAESTRO 2'!K$44,'DATA MAESTRO 2'!K$45,'DATA MAESTRO 2'!K$46,'DATA MAESTRO 2'!K$47,'DATA MAESTRO 2'!K$48,'DATA MAESTRO 2'!K$49,'DATA MAESTRO 2'!K$50,'DATA MAESTRO 2'!K$51,'DATA MAESTRO 2'!K$52,'DATA MAESTRO 2'!K$53,'DATA MAESTRO 2'!K$54,'DATA MAESTRO 2'!K$55,'DATA MAESTRO 2'!K$56,'DATA MAESTRO 2'!K$57,'DATA MAESTRO 2'!K$58,'DATA MAESTRO 2'!K$59,'DATA MAESTRO 2'!K$60,'DATA MAESTRO 2'!K$61,'DATA MAESTRO 2'!K$62,'DATA MAESTRO 2'!K$63,'DATA MAESTRO 2'!K$64,'DATA MAESTRO 2'!K$65)","v":0},{"$f":"CHOOSE($B29,'DATA MAESTRO 2'!L$43,'DATA MAESTRO 2'!L$44,'DATA MAESTRO 2'!L$45,'DATA MAESTRO 2'!L$46,'DATA MAESTRO 2'!L$47,'DATA MAESTRO 2'!L$48,'DATA MAESTRO 2'!L$49,'DATA MAESTRO 2'!L$50,'DATA MAESTRO 2'!L$51,'DATA MAESTRO 2'!L$52,'DATA MAESTRO 2'!L$53,'DATA MAESTRO 2'!L$54,'DATA MAESTRO 2'!L$55,'DATA MAESTRO 2'!L$56,'DATA MAESTRO 2'!L$57,'DATA MAESTRO 2'!L$58,'DATA MAESTRO 2'!L$59,'DATA MAESTRO 2'!L$60,'DATA MAESTRO 2'!L$61,'DATA MAESTRO 2'!L$62,'DATA MAESTRO 2'!L$63,'DATA MAESTRO 2'!L$64,'DATA MAESTRO 2'!L$65)","v":0},{"$f":"CHOOSE($B29,'DATA MAESTRO 2'!M$43,'DATA MAESTRO 2'!M$44,'DATA MAESTRO 2'!M$45,'DATA MAESTRO 2'!M$46,'DATA MAESTRO 2'!M$47,'DATA MAESTRO 2'!M$48,'DATA MAESTRO 2'!M$49,'DATA MAESTRO 2'!M$50,'DATA MAESTRO 2'!M$51,'DATA MAESTRO 2'!M$52,'DATA MAESTRO 2'!M$53,'DATA MAESTRO 2'!M$54,'DATA MAESTRO 2'!M$55,'DATA MAESTRO 2'!M$56,'DATA MAESTRO 2'!M$57,'DATA MAESTRO 2'!M$58,'DATA MAESTRO 2'!M$59,'DATA MAESTRO 2'!M$60,'DATA MAESTRO 2'!M$61,'DATA MAESTRO 2'!M$62,'DATA MAESTRO 2'!M$63,'DATA MAESTRO 2'!M$64,'DATA MAESTRO 2'!M$65)","v":0},{"$f":"CHOOSE($B29,'DATA MAESTRO 2'!N$43,'DATA MAESTRO 2'!N$44,'DATA MAESTRO 2'!N$45,'DATA MAESTRO 2'!N$46,'DATA MAESTRO 2'!N$47,'DATA MAESTRO 2'!N$48,'DATA MAESTRO 2'!N$49,'DATA MAESTRO 2'!N$50,'DATA MAESTRO 2'!N$51,'DATA MAESTRO 2'!N$52,'DATA MAESTRO 2'!N$53,'DATA MAESTRO 2'!N$54,'DATA MAESTRO 2'!N$55,'DATA MAESTRO 2'!N$56,'DATA MAESTRO 2'!N$57,'DATA MAESTRO 2'!N$58,'DATA MAESTRO 2'!N$59,'DATA MAESTRO 2'!N$60,'DATA MAESTRO 2'!N$61,'DATA MAESTRO 2'!N$62,'DATA MAESTRO 2'!N$63,'DATA MAESTRO 2'!N$64,'DATA MAESTRO 2'!N$65)","v":0},{"$f":"CHOOSE($B29,'DATA MAESTRO 2'!O$43,'DATA MAESTRO 2'!O$44,'DATA MAESTRO 2'!O$45,'DATA MAESTRO 2'!O$46,'DATA MAESTRO 2'!O$47,'DATA MAESTRO 2'!O$48,'DATA MAESTRO 2'!O$49,'DATA MAESTRO 2'!O$50,'DATA MAESTRO 2'!O$51,'DATA MAESTRO 2'!O$52,'DATA MAESTRO 2'!O$53,'DATA MAESTRO 2'!O$54,'DATA MAESTRO 2'!O$55,'DATA MAESTRO 2'!O$56,'DATA MAESTRO 2'!O$57,'DATA MAESTRO 2'!O$58,'DATA MAESTRO 2'!O$59,'DATA MAESTRO 2'!O$60,'DATA MAESTRO 2'!O$61,'DATA MAESTRO 2'!O$62,'DATA MAESTRO 2'!O$63,'DATA MAESTRO 2'!O$64,'DATA MAESTRO 2'!O$65)","v":0},{"$f":"CHOOSE($B29,'DATA MAESTRO 2'!P$43,'DATA MAESTRO 2'!P$44,'DATA MAESTRO 2'!P$45,'DATA MAESTRO 2'!P$46,'DATA MAESTRO 2'!P$47,'DATA MAESTRO 2'!P$48,'DATA MAESTRO 2'!P$49,'DATA MAESTRO 2'!P$50,'DATA MAESTRO 2'!P$51,'DATA MAESTRO 2'!P$52,'DATA MAESTRO 2'!P$53,'DATA MAESTRO 2'!P$54,'DATA MAESTRO 2'!P$55,'DATA MAESTRO 2'!P$56,'DATA MAESTRO 2'!P$57,'DATA MAESTRO 2'!P$58,'DATA MAESTRO 2'!P$59,'DATA MAESTRO 2'!P$60,'DATA MAESTRO 2'!P$61,'DATA MAESTRO 2'!P$62,'DATA MAESTRO 2'!P$63,'DATA MAESTRO 2'!P$64,'DATA MAESTRO 2'!P$65)","v":0},{"$f":"CHOOSE($B29,'DATA MAESTRO 2'!Q$43,'DATA MAESTRO 2'!Q$44,'DATA MAESTRO 2'!Q$45,'DATA MAESTRO 2'!Q$46,'DATA MAESTRO 2'!Q$47,'DATA MAESTRO 2'!Q$48,'DATA MAESTRO 2'!Q$49,'DATA MAESTRO 2'!Q$50,'DATA MAESTRO 2'!Q$51,'DATA MAESTRO 2'!Q$52,'DATA MAESTRO 2'!Q$53,'DATA MAESTRO 2'!Q$54,'DATA MAESTRO 2'!Q$55,'DATA MAESTRO 2'!Q$56,'DATA MAESTRO 2'!Q$57,'DATA MAESTRO 2'!Q$58,'DATA MAESTRO 2'!Q$59,'DATA MAESTRO 2'!Q$60,'DATA MAESTRO 2'!Q$61,'DATA MAESTRO 2'!Q$62,'DATA MAESTRO 2'!Q$63,'DATA MAESTRO 2'!Q$64,'DATA MAESTRO 2'!Q$65)","v":0},{"$f":"CHOOSE($B29,'DATA MAESTRO 2'!R$43,'DATA MAESTRO 2'!R$44,'DATA MAESTRO 2'!R$45,'DATA MAESTRO 2'!R$46,'DATA MAESTRO 2'!R$47,'DATA MAESTRO 2'!R$48,'DATA MAESTRO 2'!R$49,'DATA MAESTRO 2'!R$50,'DATA MAESTRO 2'!R$51,'DATA MAESTRO 2'!R$52,'DATA MAESTRO 2'!R$53,'DATA MAESTRO 2'!R$54,'DATA MAESTRO 2'!R$55,'DATA MAESTRO 2'!R$56,'DATA MAESTRO 2'!R$57,'DATA MAESTRO 2'!R$58,'DATA MAESTRO 2'!R$59,'DATA MAESTRO 2'!R$60,'DATA MAESTRO 2'!R$61,'DATA MAESTRO 2'!R$62,'DATA MAESTRO 2'!R$63,'DATA MAESTRO 2'!R$64,'DATA MAESTRO 2'!R$65)","v":0},{"$f":"CHOOSE($B29,'DATA MAESTRO 2'!S$43,'DATA MAESTRO 2'!S$44,'DATA MAESTRO 2'!S$45,'DATA MAESTRO 2'!S$46,'DATA MAESTRO 2'!S$47,'DATA MAESTRO 2'!S$48,'DATA MAESTRO 2'!S$49,'DATA MAESTRO 2'!S$50,'DATA MAESTRO 2'!S$51,'DATA MAESTRO 2'!S$52,'DATA MAESTRO 2'!S$53,'DATA MAESTRO 2'!S$54,'DATA MAESTRO 2'!S$55,'DATA MAESTRO 2'!S$56,'DATA MAESTRO 2'!S$57,'DATA MAESTRO 2'!S$58,'DATA MAESTRO 2'!S$59,'DATA MAESTRO 2'!S$60,'DATA MAESTRO 2'!S$61,'DATA MAESTRO 2'!S$62,'DATA MAESTRO 2'!S$63,'DATA MAESTRO 2'!S$64,'DATA MAESTRO 2'!S$65)","v":0},{"$f":"CHOOSE($B29,'DATA MAESTRO 2'!T$43,'DATA MAESTRO 2'!T$44,'DATA MAESTRO 2'!T$45,'DATA MAESTRO 2'!T$46,'DATA MAESTRO 2'!T$47,'DATA MAESTRO 2'!T$48,'DATA MAESTRO 2'!T$49,'DATA MAESTRO 2'!T$50,'DATA MAESTRO 2'!T$51,'DATA MAESTRO 2'!T$52,'DATA MAESTRO 2'!T$53,'DATA MAESTRO 2'!T$54,'DATA MAESTRO 2'!T$55,'DATA MAESTRO 2'!T$56,'DATA MAESTRO 2'!T$57,'DATA MAESTRO 2'!T$58,'DATA MAESTRO 2'!T$59,'DATA MAESTRO 2'!T$60,'DATA MAESTRO 2'!T$61,'DATA MAESTRO 2'!T$62,'DATA MAESTRO 2'!T$63,'DATA MAESTRO 2'!T$64,'DATA MAESTRO 2'!T$65)","v":0},{"$f":"CHOOSE($B29,'DATA MAESTRO 2'!U$43,'DATA MAESTRO 2'!U$44,'DATA MAESTRO 2'!U$45,'DATA MAESTRO 2'!U$46,'DATA MAESTRO 2'!U$47,'DATA MAESTRO 2'!U$48,'DATA MAESTRO 2'!U$49,'DATA MAESTRO 2'!U$50,'DATA MAESTRO 2'!U$51,'DATA MAESTRO 2'!U$52,'DATA MAESTRO 2'!U$53,'DATA MAESTRO 2'!U$54,'DATA MAESTRO 2'!U$55,'DATA MAESTRO 2'!U$56,'DATA MAESTRO 2'!U$57,'DATA MAESTRO 2'!U$58,'DATA MAESTRO 2'!U$59,'DATA MAESTRO 2'!U$60,'DATA MAESTRO 2'!U$61,'DATA MAESTRO 2'!U$62,'DATA MAESTRO 2'!U$63,'DATA MAESTRO 2'!U$64,'DATA MAESTRO 2'!U$65)","v":0},{"$f":"CHOOSE($B29,'DATA MAESTRO 2'!V$43,'DATA MAESTRO 2'!V$44,'DATA MAESTRO 2'!V$45,'DATA MAESTRO 2'!V$46,'DATA MAESTRO 2'!V$47,'DATA MAESTRO 2'!V$48,'DATA MAESTRO 2'!V$49,'DATA MAESTRO 2'!V$50,'DATA MAESTRO 2'!V$51,'DATA MAESTRO 2'!V$52,'DATA MAESTRO 2'!V$53,'DATA MAESTRO 2'!V$54,'DATA MAESTRO 2'!V$55,'DATA MAESTRO 2'!V$56,'DATA MAESTRO 2'!V$57,'DATA MAESTRO 2'!V$58,'DATA MAESTRO 2'!V$59,'DATA MAESTRO 2'!V$60,'DATA MAESTRO 2'!V$61,'DATA MAESTRO 2'!V$62,'DATA MAESTRO 2'!V$63,'DATA MAESTRO 2'!V$64,'DATA MAESTRO 2'!V$65)","v":0},{"$f":"CHOOSE($B29,'DATA MAESTRO 2'!W$43,'DATA MAESTRO 2'!W$44,'DATA MAESTRO 2'!W$45,'DATA MAESTRO 2'!W$46,'DATA MAESTRO 2'!W$47,'DATA MAESTRO 2'!W$48,'DATA MAESTRO 2'!W$49,'DATA MAESTRO 2'!W$50,'DATA MAESTRO 2'!W$51,'DATA MAESTRO 2'!W$52,'DATA MAESTRO 2'!W$53,'DATA MAESTRO 2'!W$54,'DATA MAESTRO 2'!W$55,'DATA MAESTRO 2'!W$56,'DATA MAESTRO 2'!W$57,'DATA MAESTRO 2'!W$58,'DATA MAESTRO 2'!W$59,'DATA MAESTRO 2'!W$60,'DATA MAESTRO 2'!W$61,'DATA MAESTRO 2'!W$62,'DATA MAESTRO 2'!W$63,'DATA MAESTRO 2'!W$64,'DATA MAESTRO 2'!W$65)","v":0},{"$f":"CHOOSE($B29,'DATA MAESTRO 2'!X$43,'DATA MAESTRO 2'!X$44,'DATA MAESTRO 2'!X$45,'DATA MAESTRO 2'!X$46,'DATA MAESTRO 2'!X$47,'DATA MAESTRO 2'!X$48,'DATA MAESTRO 2'!X$49,'DATA MAESTRO 2'!X$50,'DATA MAESTRO 2'!X$51,'DATA MAESTRO 2'!X$52,'DATA MAESTRO 2'!X$53,'DATA MAESTRO 2'!X$54,'DATA MAESTRO 2'!X$55,'DATA MAESTRO 2'!X$56,'DATA MAESTRO 2'!X$57,'DATA MAESTRO 2'!X$58,'DATA MAESTRO 2'!X$59,'DATA MAESTRO 2'!X$60,'DATA MAESTRO 2'!X$61,'DATA MAESTRO 2'!X$62,'DATA MAESTRO 2'!X$63,'DATA MAESTRO 2'!X$64,'DATA MAESTRO 2'!X$65)","v":0},{"$f":"CHOOSE($B29,'DATA MAESTRO 2'!Y$43,'DATA MAESTRO 2'!Y$44,'DATA MAESTRO 2'!Y$45,'DATA MAESTRO 2'!Y$46,'DATA MAESTRO 2'!Y$47,'DATA MAESTRO 2'!Y$48,'DATA MAESTRO 2'!Y$49,'DATA MAESTRO 2'!Y$50,'DATA MAESTRO 2'!Y$51,'DATA MAESTRO 2'!Y$52,'DATA MAESTRO 2'!Y$53,'DATA MAESTRO 2'!Y$54,'DATA MAESTRO 2'!Y$55,'DATA MAESTRO 2'!Y$56,'DATA MAESTRO 2'!Y$57,'DATA MAESTRO 2'!Y$58,'DATA MAESTRO 2'!Y$59,'DATA MAESTRO 2'!Y$60,'DATA MAESTRO 2'!Y$61,'DATA MAESTRO 2'!Y$62,'DATA MAESTRO 2'!Y$63,'DATA MAESTRO 2'!Y$64,'DATA MAESTRO 2'!Y$65)","v":0},{"$f":"CHOOSE($B29,'DATA MAESTRO 2'!Z$43,'DATA MAESTRO 2'!Z$44,'DATA MAESTRO 2'!Z$45,'DATA MAESTRO 2'!Z$46,'DATA MAESTRO 2'!Z$47,'DATA MAESTRO 2'!Z$48,'DATA MAESTRO 2'!Z$49,'DATA MAESTRO 2'!Z$50,'DATA MAESTRO 2'!Z$51,'DATA MAESTRO 2'!Z$52,'DATA MAESTRO 2'!Z$53,'DATA MAESTRO 2'!Z$54,'DATA MAESTRO 2'!Z$55,'DATA MAESTRO 2'!Z$56,'DATA MAESTRO 2'!Z$57,'DATA MAESTRO 2'!Z$58,'DATA MAESTRO 2'!Z$59,'DATA MAESTRO 2'!Z$60,'DATA MAESTRO 2'!Z$61,'DATA MAESTRO 2'!Z$62,'DATA MAESTRO 2'!Z$63,'DATA MAESTRO 2'!Z$64,'DATA MAESTRO 2'!Z$65)","v":0},{"$f":"CHOOSE($B29,'DATA MAESTRO 2'!AA$43,'DATA MAESTRO 2'!AA$44,'DATA MAESTRO 2'!AA$45,'DATA MAESTRO 2'!AA$46,'DATA MAESTRO 2'!AA$47,'DATA MAESTRO 2'!AA$48,'DATA MAESTRO 2'!AA$49,'DATA MAESTRO 2'!AA$50,'DATA MAESTRO 2'!AA$51,'DATA MAESTRO 2'!AA$52,'DATA MAESTRO 2'!AA$53,'DATA MAESTRO 2'!AA$54,'DATA MAESTRO 2'!AA$55,'DATA MAESTRO 2'!AA$56,'DATA MAESTRO 2'!AA$57,'DATA MAESTRO 2'!AA$58,'DATA MAESTRO 2'!AA$59,'DATA MAESTRO 2'!AA$60,'DATA MAESTRO 2'!AA$61,'DATA MAESTRO 2'!AA$62,'DATA MAESTRO 2'!AA$63,'DATA MAESTRO 2'!AA$64,'DATA MAESTRO 2'!AA$65)","v":0},{"$f":"CHOOSE($B29,'DATA MAESTRO 2'!AB$43,'DATA MAESTRO 2'!AB$44,'DATA MAESTRO 2'!AB$45,'DATA MAESTRO 2'!AB$46,'DATA MAESTRO 2'!AB$47,'DATA MAESTRO 2'!AB$48,'DATA MAESTRO 2'!AB$49,'DATA MAESTRO 2'!AB$50,'DATA MAESTRO 2'!AB$51,'DATA MAESTRO 2'!AB$52,'DATA MAESTRO 2'!AB$53,'DATA MAESTRO 2'!AB$54,'DATA MAESTRO 2'!AB$55,'DATA MAESTRO 2'!AB$56,'DATA MAESTRO 2'!AB$57,'DATA MAESTRO 2'!AB$58,'DATA MAESTRO 2'!AB$59,'DATA MAESTRO 2'!AB$60,'DATA MAESTRO 2'!AB$61,'DATA MAESTRO 2'!AB$62,'DATA MAESTRO 2'!AB$63,'DATA MAESTRO 2'!AB$64,'DATA MAESTRO 2'!AB$65)","v":0},{"$f":"CHOOSE($B29,'DATA MAESTRO 2'!AC$43,'DATA MAESTRO 2'!AC$44,'DATA MAESTRO 2'!AC$45,'DATA MAESTRO 2'!AC$46,'DATA MAESTRO 2'!AC$47,'DATA MAESTRO 2'!AC$48,'DATA MAESTRO 2'!AC$49,'DATA MAESTRO 2'!AC$50,'DATA MAESTRO 2'!AC$51,'DATA MAESTRO 2'!AC$52,'DATA MAESTRO 2'!AC$53,'DATA MAESTRO 2'!AC$54,'DATA MAESTRO 2'!AC$55,'DATA MAESTRO 2'!AC$56,'DATA MAESTRO 2'!AC$57,'DATA MAESTRO 2'!AC$58,'DATA MAESTRO 2'!AC$59,'DATA MAESTRO 2'!AC$60,'DATA MAESTRO 2'!AC$61,'DATA MAESTRO 2'!AC$62,'DATA MAESTRO 2'!AC$63,'DATA MAESTRO 2'!AC$64,'DATA MAESTRO 2'!AC$65)","v":0},{"$f":"CHOOSE($B29,'DATA MAESTRO 2'!AD$43,'DATA MAESTRO 2'!AD$44,'DATA MAESTRO 2'!AD$45,'DATA MAESTRO 2'!AD$46,'DATA MAESTRO 2'!AD$47,'DATA MAESTRO 2'!AD$48,'DATA MAESTRO 2'!AD$49,'DATA MAESTRO 2'!AD$50,'DATA MAESTRO 2'!AD$51,'DATA MAESTRO 2'!AD$52,'DATA MAESTRO 2'!AD$53,'DATA MAESTRO 2'!AD$54,'DATA MAESTRO 2'!AD$55,'DATA MAESTRO 2'!AD$56,'DATA MAESTRO 2'!AD$57,'DATA MAESTRO 2'!AD$58,'DATA MAESTRO 2'!AD$59,'DATA MAESTRO 2'!AD$60,'DATA MAESTRO 2'!AD$61,'DATA MAESTRO 2'!AD$62,'DATA MAESTRO 2'!AD$63,'DATA MAESTRO 2'!AD$64,'DATA MAESTRO 2'!AD$65)","v":0},{"$f":"CHOOSE($B29,'DATA MAESTRO 2'!AE$43,'DATA MAESTRO 2'!AE$44,'DATA MAESTRO 2'!AE$45,'DATA MAESTRO 2'!AE$46,'DATA MAESTRO 2'!AE$47,'DATA MAESTRO 2'!AE$48,'DATA MAESTRO 2'!AE$49,'DATA MAESTRO 2'!AE$50,'DATA MAESTRO 2'!AE$51,'DATA MAESTRO 2'!AE$52,'DATA MAESTRO 2'!AE$53,'DATA MAESTRO 2'!AE$54,'DATA MAESTRO 2'!AE$55,'DATA MAESTRO 2'!AE$56,'DATA MAESTRO 2'!AE$57,'DATA MAESTRO 2'!AE$58,'DATA MAESTRO 2'!AE$59,'DATA MAESTRO 2'!AE$60,'DATA MAESTRO 2'!AE$61,'DATA MAESTRO 2'!AE$62,'DATA MAESTRO 2'!AE$63,'DATA MAESTRO 2'!AE$64,'DATA MAESTRO 2'!AE$65)","v":0},{"$f":"CHOOSE($B29,'DATA MAESTRO 2'!AF$43,'DATA MAESTRO 2'!AF$44,'DATA MAESTRO 2'!AF$45,'DATA MAESTRO 2'!AF$46,'DATA MAESTRO 2'!AF$47,'DATA MAESTRO 2'!AF$48,'DATA MAESTRO 2'!AF$49,'DATA MAESTRO 2'!AF$50,'DATA MAESTRO 2'!AF$51,'DATA MAESTRO 2'!AF$52,'DATA MAESTRO 2'!AF$53,'DATA MAESTRO 2'!AF$54,'DATA MAESTRO 2'!AF$55,'DATA MAESTRO 2'!AF$56,'DATA MAESTRO 2'!AF$57,'DATA MAESTRO 2'!AF$58,'DATA MAESTRO 2'!AF$59,'DATA MAESTRO 2'!AF$60,'DATA MAESTRO 2'!AF$61,'DATA MAESTRO 2'!AF$62,'DATA MAESTRO 2'!AF$63,'DATA MAESTRO 2'!AF$64,'DATA MAESTRO 2'!AF$65)","v":0},{"$f":"CHOOSE($B29,'DATA MAESTRO 2'!AG$43,'DATA MAESTRO 2'!AG$44,'DATA MAESTRO 2'!AG$45,'DATA MAESTRO 2'!AG$46,'DATA MAESTRO 2'!AG$47,'DATA MAESTRO 2'!AG$48,'DATA MAESTRO 2'!AG$49,'DATA MAESTRO 2'!AG$50,'DATA MAESTRO 2'!AG$51,'DATA MAESTRO 2'!AG$52,'DATA MAESTRO 2'!AG$53,'DATA MAESTRO 2'!AG$54,'DATA MAESTRO 2'!AG$55,'DATA MAESTRO 2'!AG$56,'DATA MAESTRO 2'!AG$57,'DATA MAESTRO 2'!AG$58,'DATA MAESTRO 2'!AG$59,'DATA MAESTRO 2'!AG$60,'DATA MAESTRO 2'!AG$61,'DATA MAESTRO 2'!AG$62,'DATA MAESTRO 2'!AG$63,'DATA MAESTRO 2'!AG$64,'DATA MAESTRO 2'!AG$65)","v":0},{"$f":"CHOOSE($B29,'DATA MAESTRO 2'!AH$43,'DATA MAESTRO 2'!AH$44,'DATA MAESTRO 2'!AH$45,'DATA MAESTRO 2'!AH$46,'DATA MAESTRO 2'!AH$47,'DATA MAESTRO 2'!AH$48,'DATA MAESTRO 2'!AH$49,'DATA MAESTRO 2'!AH$50,'DATA MAESTRO 2'!AH$51,'DATA MAESTRO 2'!AH$52,'DATA MAESTRO 2'!AH$53,'DATA MAESTRO 2'!AH$54,'DATA MAESTRO 2'!AH$55,'DATA MAESTRO 2'!AH$56,'DATA MAESTRO 2'!AH$57,'DATA MAESTRO 2'!AH$58,'DATA MAESTRO 2'!AH$59,'DATA MAESTRO 2'!AH$60,'DATA MAESTRO 2'!AH$61,'DATA MAESTRO 2'!AH$62,'DATA MAESTRO 2'!AH$63,'DATA MAESTRO 2'!AH$64,'DATA MAESTRO 2'!AH$65)","v":0},{"$f":"CHOOSE($B29,'DATA MAESTRO 2'!AI$43,'DATA MAESTRO 2'!AI$44,'DATA MAESTRO 2'!AI$45,'DATA MAESTRO 2'!AI$46,'DATA MAESTRO 2'!AI$47,'DATA MAESTRO 2'!AI$48,'DATA MAESTRO 2'!AI$49,'DATA MAESTRO 2'!AI$50,'DATA MAESTRO 2'!AI$51,'DATA MAESTRO 2'!AI$52,'DATA MAESTRO 2'!AI$53,'DATA MAESTRO 2'!AI$54,'DATA MAESTRO 2'!AI$55,'DATA MAESTRO 2'!AI$56,'DATA MAESTRO 2'!AI$57,'DATA MAESTRO 2'!AI$58,'DATA MAESTRO 2'!AI$59,'DATA MAESTRO 2'!AI$60,'DATA MAESTRO 2'!AI$61,'DATA MAESTRO 2'!AI$62,'DATA MAESTRO 2'!AI$63,'DATA MAESTRO 2'!AI$64,'DATA MAESTRO 2'!AI$65)","v":0},{"$f":"CHOOSE($B29,'DATA MAESTRO 2'!AJ$43,'DATA MAESTRO 2'!AJ$44,'DATA MAESTRO 2'!AJ$45,'DATA MAESTRO 2'!AJ$46,'DATA MAESTRO 2'!AJ$47,'DATA MAESTRO 2'!AJ$48,'DATA MAESTRO 2'!AJ$49,'DATA MAESTRO 2'!AJ$50,'DATA MAESTRO 2'!AJ$51,'DATA MAESTRO 2'!AJ$52,'DATA MAESTRO 2'!AJ$53,'DATA MAESTRO 2'!AJ$54,'DATA MAESTRO 2'!AJ$55,'DATA MAESTRO 2'!AJ$56,'DATA MAESTRO 2'!AJ$57,'DATA MAESTRO 2'!AJ$58,'DATA MAESTRO 2'!AJ$59,'DATA MAESTRO 2'!AJ$60,'DATA MAESTRO 2'!AJ$61,'DATA MAESTRO 2'!AJ$62,'DATA MAESTRO 2'!AJ$63,'DATA MAESTRO 2'!AJ$64,'DATA MAESTRO 2'!AJ$65)","v":0}]
[28,23,{"$f":"+IF(AND(B30>=1,B30<=23),VLOOKUP(B30,'DATA MAESTRO 2'!$A$43:$B$65,2),0)","v":"Vacio"},{"$f":"+CHOOSE($B30,'DATA MAESTRO 2'!C$43,'DATA MAESTRO 2'!C$44,'DATA MAESTRO 2'!C$45,'DATA MAESTRO 2'!C$46,'DATA MAESTRO 2'!C$47,'DATA MAESTRO 2'!C$48,'DATA MAESTRO 2'!C$49,'DATA MAESTRO 2'!C$50,'DATA MAESTRO 2'!C$51,'DATA MAESTRO 2'!C$52,'DATA MAESTRO 2'!C$53,'DATA MAESTRO 2'!C$54,'DATA MAESTRO 2'!C$55,'DATA MAESTRO 2'!C$56,'DATA MAESTRO 2'!C$57,'DATA MAESTRO 2'!C$58,'DATA MAESTRO 2'!C$59,'DATA MAESTRO 2'!C$60,'DATA MAESTRO 2'!C$61,'DATA MAESTRO 2'!C$62,'DATA MAESTRO 2'!C$63,'DATA MAESTRO 2'!C$64,'DATA MAESTRO 2'!C$65)","v":0},{"$f":"CHOOSE(B30,'DATA MAESTRO 2'!D$43,'DATA MAESTRO 2'!D$44,'DATA MAESTRO 2'!D$45,'DATA MAESTRO 2'!D$46,'DATA MAESTRO 2'!D$47,'DATA MAESTRO 2'!D$48,'DATA MAESTRO 2'!D$49,'DATA MAESTRO 2'!D$50,'DATA MAESTRO 2'!D$51,'DATA MAESTRO 2'!D$52,'DATA MAESTRO 2'!D$53,'DATA MAESTRO 2'!D$54,'DATA MAESTRO 2'!D$55,'DATA MAESTRO 2'!D$56,'DATA MAESTRO 2'!D$57,'DATA MAESTRO 2'!D$58,'DATA MAESTRO 2'!D$59,'DATA MAESTRO 2'!D$60,'DATA MAESTRO 2'!D$61,'DATA MAESTRO 2'!D$62,'DATA MAESTRO 2'!D$63,'DATA MAESTRO 2'!D$64,'DATA MAESTRO 2'!D$65)","v":0},{"$f":"CHOOSE($B30,'DATA MAESTRO 2'!E$43,'DATA MAESTRO 2'!E$44,'DATA MAESTRO 2'!E$45,'DATA MAESTRO 2'!E$46,'DATA MAESTRO 2'!E$47,'DATA MAESTRO 2'!E$48,'DATA MAESTRO 2'!E$49,'DATA MAESTRO 2'!E$50,'DATA MAESTRO 2'!E$51,'DATA MAESTRO 2'!E$52,'DATA MAESTRO 2'!E$53,'DATA MAESTRO 2'!E$54,'DATA MAESTRO 2'!E$55,'DATA MAESTRO 2'!E$56,'DATA MAESTRO 2'!E$57,'DATA MAESTRO 2'!E$58,'DATA MAESTRO 2'!E$59,'DATA MAESTRO 2'!E$60,'DATA MAESTRO 2'!E$61,'DATA MAESTRO 2'!E$62,'DATA MAESTRO 2'!E$63,'DATA MAESTRO 2'!E$64,'DATA MAESTRO 2'!E$65)","v":0},{"$f":"CHOOSE($B30,'DATA MAESTRO 2'!F$43,'DATA MAESTRO 2'!F$44,'DATA MAESTRO 2'!F$45,'DATA MAESTRO 2'!F$46,'DATA MAESTRO 2'!F$47,'DATA MAESTRO 2'!F$48,'DATA MAESTRO 2'!F$49,'DATA MAESTRO 2'!F$50,'DATA MAESTRO 2'!F$51,'DATA MAESTRO 2'!F$52,'DATA MAESTRO 2'!F$53,'DATA MAESTRO 2'!F$54,'DATA MAESTRO 2'!F$55,'DATA MAESTRO 2'!F$56,'DATA MAESTRO 2'!F$57,'DATA MAESTRO 2'!F$58,'DATA MAESTRO 2'!F$59,'DATA MAESTRO 2'!F$60,'DATA MAESTRO 2'!F$61,'DATA MAESTRO 2'!F$62,'DATA MAESTRO 2'!F$63,'DATA MAESTRO 2'!F$64,'DATA MAESTRO 2'!F$65)","v":0},{"$f":"CHOOSE($B30,'DATA MAESTRO 2'!G$43,'DATA MAESTRO 2'!G$44,'DATA MAESTRO 2'!G$45,'DATA MAESTRO 2'!G$46,'DATA MAESTRO 2'!G$47,'DATA MAESTRO 2'!G$48,'DATA MAESTRO 2'!G$49,'DATA MAESTRO 2'!G$50,'DATA MAESTRO 2'!G$51,'DATA MAESTRO 2'!G$52,'DATA MAESTRO 2'!G$53,'DATA MAESTRO 2'!G$54,'DATA MAESTRO 2'!G$55,'DATA MAESTRO 2'!G$56,'DATA MAESTRO 2'!G$57,'DATA MAESTRO 2'!G$58,'DATA MAESTRO 2'!G$59,'DATA MAESTRO 2'!G$60,'DATA MAESTRO 2'!G$61,'DATA MAESTRO 2'!G$62,'DATA MAESTRO 2'!G$63,'DATA MAESTRO 2'!G$64,'DATA MAESTRO 2'!G$65)","v":0},{"$f":"CHOOSE($B30,'DATA MAESTRO 2'!H$43,'DATA MAESTRO 2'!H$44,'DATA MAESTRO 2'!H$45,'DATA MAESTRO 2'!H$46,'DATA MAESTRO 2'!H$47,'DATA MAESTRO 2'!H$48,'DATA MAESTRO 2'!H$49,'DATA MAESTRO 2'!H$50,'DATA MAESTRO 2'!H$51,'DATA MAESTRO 2'!H$52,'DATA MAESTRO 2'!H$53,'DATA MAESTRO 2'!H$54,'DATA MAESTRO 2'!H$55,'DATA MAESTRO 2'!H$56,'DATA MAESTRO 2'!H$57,'DATA MAESTRO 2'!H$58,'DATA MAESTRO 2'!H$59,'DATA MAESTRO 2'!H$60,'DATA MAESTRO 2'!H$61,'DATA MAESTRO 2'!H$62,'DATA MAESTRO 2'!H$63,'DATA MAESTRO 2'!H$64,'DATA MAESTRO 2'!H$65)","v":0},{"$f":"CHOOSE($B30,'DATA MAESTRO 2'!I$43,'DATA MAESTRO 2'!I$44,'DATA MAESTRO 2'!I$45,'DATA MAESTRO 2'!I$46,'DATA MAESTRO 2'!I$47,'DATA MAESTRO 2'!I$48,'DATA MAESTRO 2'!I$49,'DATA MAESTRO 2'!I$50,'DATA MAESTRO 2'!I$51,'DATA MAESTRO 2'!I$52,'DATA MAESTRO 2'!I$53,'DATA MAESTRO 2'!I$54,'DATA MAESTRO 2'!I$55,'DATA MAESTRO 2'!I$56,'DATA MAESTRO 2'!I$57,'DATA MAESTRO 2'!I$58,'DATA MAESTRO 2'!I$59,'DATA MAESTRO 2'!I$60,'DATA MAESTRO 2'!I$61,'DATA MAESTRO 2'!I$62,'DATA MAESTRO 2'!I$63,'DATA MAESTRO 2'!I$64,'DATA MAESTRO 2'!I$65)","v":0},{"$f":"CHOOSE($B30,'DATA MAESTRO 2'!J$43,'DATA MAESTRO 2'!J$44,'DATA MAESTRO 2'!J$45,'DATA MAESTRO 2'!J$46,'DATA MAESTRO 2'!J$47,'DATA MAESTRO 2'!J$48,'DATA MAESTRO 2'!J$49,'DATA MAESTRO 2'!J$50,'DATA MAESTRO 2'!J$51,'DATA MAESTRO 2'!J$52,'DATA MAESTRO 2'!J$53,'DATA MAESTRO 2'!J$54,'DATA MAESTRO 2'!J$55,'DATA MAESTRO 2'!J$56,'DATA MAESTRO 2'!J$57,'DATA MAESTRO 2'!J$58,'DATA MAESTRO 2'!J$59,'DATA MAESTRO 2'!J$60,'DATA MAESTRO 2'!J$61,'DATA MAESTRO 2'!J$62,'DATA MAESTRO 2'!J$63,'DATA MAESTRO 2'!J$64,'DATA MAESTRO 2'!J$65)","v":0},{"$f":"CHOOSE($B30,'DATA MAESTRO 2'!K$43,'DATA MAESTRO 2'!K$44,'DATA MAESTRO 2'!K$45,'DATA MAESTRO 2'!K$46,'DATA MAESTRO 2'!K$47,'DATA MAESTRO 2'!K$48,'DATA MAESTRO 2'!K$49,'DATA MAESTRO 2'!K$50,'DATA MAESTRO 2'!K$51,'DATA MAESTRO 2'!K$52,'DATA MAESTRO 2'!K$53,'DATA MAESTRO 2'!K$54,'DATA MAESTRO 2'!K$55,'DATA MAESTRO 2'!K$56,'DATA MAESTRO 2'!K$57,'DATA MAESTRO 2'!K$58,'DATA MAESTRO 2'!K$59,'DATA MAESTRO 2'!K$60,'DATA MAESTRO 2'!K$61,'DATA MAESTRO 2'!K$62,'DATA MAESTRO 2'!K$63,'DATA MAESTRO 2'!K$64,'DATA MAESTRO 2'!K$65)","v":0},{"$f":"CHOOSE($B30,'DATA MAESTRO 2'!L$43,'DATA MAESTRO 2'!L$44,'DATA MAESTRO 2'!L$45,'DATA MAESTRO 2'!L$46,'DATA MAESTRO 2'!L$47,'DATA MAESTRO 2'!L$48,'DATA MAESTRO 2'!L$49,'DATA MAESTRO 2'!L$50,'DATA MAESTRO 2'!L$51,'DATA MAESTRO 2'!L$52,'DATA MAESTRO 2'!L$53,'DATA MAESTRO 2'!L$54,'DATA MAESTRO 2'!L$55,'DATA MAESTRO 2'!L$56,'DATA MAESTRO 2'!L$57,'DATA MAESTRO 2'!L$58,'DATA MAESTRO 2'!L$59,'DATA MAESTRO 2'!L$60,'DATA MAESTRO 2'!L$61,'DATA MAESTRO 2'!L$62,'DATA MAESTRO 2'!L$63,'DATA MAESTRO 2'!L$64,'DATA MAESTRO 2'!L$65)","v":0},{"$f":"CHOOSE($B30,'DATA MAESTRO 2'!M$43,'DATA MAESTRO 2'!M$44,'DATA MAESTRO 2'!M$45,'DATA MAESTRO 2'!M$46,'DATA MAESTRO 2'!M$47,'DATA MAESTRO 2'!M$48,'DATA MAESTRO 2'!M$49,'DATA MAESTRO 2'!M$50,'DATA MAESTRO 2'!M$51,'DATA MAESTRO 2'!M$52,'DATA MAESTRO 2'!M$53,'DATA MAESTRO 2'!M$54,'DATA MAESTRO 2'!M$55,'DATA MAESTRO 2'!M$56,'DATA MAESTRO 2'!M$57,'DATA MAESTRO 2'!M$58,'DATA MAESTRO 2'!M$59,'DATA MAESTRO 2'!M$60,'DATA MAESTRO 2'!M$61,'DATA MAESTRO 2'!M$62,'DATA MAESTRO 2'!M$63,'DATA MAESTRO 2'!M$64,'DATA MAESTRO 2'!M$65)","v":0},{"$f":"CHOOSE($B30,'DATA MAESTRO 2'!N$43,'DATA MAESTRO 2'!N$44,'DATA MAESTRO 2'!N$45,'DATA MAESTRO 2'!N$46,'DATA MAESTRO 2'!N$47,'DATA MAESTRO 2'!N$48,'DATA MAESTRO 2'!N$49,'DATA MAESTRO 2'!N$50,'DATA MAESTRO 2'!N$51,'DATA MAESTRO 2'!N$52,'DATA MAESTRO 2'!N$53,'DATA MAESTRO 2'!N$54,'DATA MAESTRO 2'!N$55,'DATA MAESTRO 2'!N$56,'DATA MAESTRO 2'!N$57,'DATA MAESTRO 2'!N$58,'DATA MAESTRO 2'!N$59,'DATA MAESTRO 2'!N$60,'DATA MAESTRO 2'!N$61,'DATA MAESTRO 2'!N$62,'DATA MAESTRO 2'!N$63,'DATA MAESTRO 2'!N$64,'DATA MAESTRO 2'!N$65)","v":0},{"$f":"CHOOSE($B30,'DATA MAESTRO 2'!O$43,'DATA MAESTRO 2'!O$44,'DATA MAESTRO 2'!O$45,'DATA MAESTRO 2'!O$46,'DATA MAESTRO 2'!O$47,'DATA MAESTRO 2'!O$48,'DATA MAESTRO 2'!O$49,'DATA MAESTRO 2'!O$50,'DATA MAESTRO 2'!O$51,'DATA MAESTRO 2'!O$52,'DATA MAESTRO 2'!O$53,'DATA MAESTRO 2'!O$54,'DATA MAESTRO 2'!O$55,'DATA MAESTRO 2'!O$56,'DATA MAESTRO 2'!O$57,'DATA MAESTRO 2'!O$58,'DATA MAESTRO 2'!O$59,'DATA MAESTRO 2'!O$60,'DATA MAESTRO 2'!O$61,'DATA MAESTRO 2'!O$62,'DATA MAESTRO 2'!O$63,'DATA MAESTRO 2'!O$64,'DATA MAESTRO 2'!O$65)","v":0},{"$f":"CHOOSE($B30,'DATA MAESTRO 2'!P$43,'DATA MAESTRO 2'!P$44,'DATA MAESTRO 2'!P$45,'DATA MAESTRO 2'!P$46,'DATA MAESTRO 2'!P$47,'DATA MAESTRO 2'!P$48,'DATA MAESTRO 2'!P$49,'DATA MAESTRO 2'!P$50,'DATA MAESTRO 2'!P$51,'DATA MAESTRO 2'!P$52,'DATA MAESTRO 2'!P$53,'DATA MAESTRO 2'!P$54,'DATA MAESTRO 2'!P$55,'DATA MAESTRO 2'!P$56,'DATA MAESTRO 2'!P$57,'DATA MAESTRO 2'!P$58,'DATA MAESTRO 2'!P$59,'DATA MAESTRO 2'!P$60,'DATA MAESTRO 2'!P$61,'DATA MAESTRO 2'!P$62,'DATA MAESTRO 2'!P$63,'DATA MAESTRO 2'!P$64,'DATA MAESTRO 2'!P$65)","v":0},{"$f":"CHOOSE($B30,'DATA MAESTRO 2'!Q$43,'DATA MAESTRO 2'!Q$44,'DATA MAESTRO 2'!Q$45,'DATA MAESTRO 2'!Q$46,'DATA MAESTRO 2'!Q$47,'DATA MAESTRO 2'!Q$48,'DATA MAESTRO 2'!Q$49,'DATA MAESTRO 2'!Q$50,'DATA MAESTRO 2'!Q$51,'DATA MAESTRO 2'!Q$52,'DATA MAESTRO 2'!Q$53,'DATA MAESTRO 2'!Q$54,'DATA MAESTRO 2'!Q$55,'DATA MAESTRO 2'!Q$56,'DATA MAESTRO 2'!Q$57,'DATA MAESTRO 2'!Q$58,'DATA MAESTRO 2'!Q$59,'DATA MAESTRO 2'!Q$60,'DATA MAESTRO 2'!Q$61,'DATA MAESTRO 2'!Q$62,'DATA MAESTRO 2'!Q$63,'DATA MAESTRO 2'!Q$64,'DATA MAESTRO 2'!Q$65)","v":0},{"$f":"CHOOSE($B30,'DATA MAESTRO 2'!R$43,'DATA MAESTRO 2'!R$44,'DATA MAESTRO 2'!R$45,'DATA MAESTRO 2'!R$46,'DATA MAESTRO 2'!R$47,'DATA MAESTRO 2'!R$48,'DATA MAESTRO 2'!R$49,'DATA MAESTRO 2'!R$50,'DATA MAESTRO 2'!R$51,'DATA MAESTRO 2'!R$52,'DATA MAESTRO 2'!R$53,'DATA MAESTRO 2'!R$54,'DATA MAESTRO 2'!R$55,'DATA MAESTRO 2'!R$56,'DATA MAESTRO 2'!R$57,'DATA MAESTRO 2'!R$58,'DATA MAESTRO 2'!R$59,'DATA MAESTRO 2'!R$60,'DATA MAESTRO 2'!R$61,'DATA MAESTRO 2'!R$62,'DATA MAESTRO 2'!R$63,'DATA MAESTRO 2'!R$64,'DATA MAESTRO 2'!R$65)","v":0},{"$f":"CHOOSE($B30,'DATA MAESTRO 2'!S$43,'DATA MAESTRO 2'!S$44,'DATA MAESTRO 2'!S$45,'DATA MAESTRO 2'!S$46,'DATA MAESTRO 2'!S$47,'DATA MAESTRO 2'!S$48,'DATA MAESTRO 2'!S$49,'DATA MAESTRO 2'!S$50,'DATA MAESTRO 2'!S$51,'DATA MAESTRO 2'!S$52,'DATA MAESTRO 2'!S$53,'DATA MAESTRO 2'!S$54,'DATA MAESTRO 2'!S$55,'DATA MAESTRO 2'!S$56,'DATA MAESTRO 2'!S$57,'DATA MAESTRO 2'!S$58,'DATA MAESTRO 2'!S$59,'DATA MAESTRO 2'!S$60,'DATA MAESTRO 2'!S$61,'DATA MAESTRO 2'!S$62,'DATA MAESTRO 2'!S$63,'DATA MAESTRO 2'!S$64,'DATA MAESTRO 2'!S$65)","v":0},{"$f":"CHOOSE($B30,'DATA MAESTRO 2'!T$43,'DATA MAESTRO 2'!T$44,'DATA MAESTRO 2'!T$45,'DATA MAESTRO 2'!T$46,'DATA MAESTRO 2'!T$47,'DATA MAESTRO 2'!T$48,'DATA MAESTRO 2'!T$49,'DATA MAESTRO 2'!T$50,'DATA MAESTRO 2'!T$51,'DATA MAESTRO 2'!T$52,'DATA MAESTRO 2'!T$53,'DATA MAESTRO 2'!T$54,'DATA MAESTRO 2'!T$55,'DATA MAESTRO 2'!T$56,'DATA MAESTRO 2'!T$57,'DATA MAESTRO 2'!T$58,'DATA MAESTRO 2'!T$59,'DATA MAESTRO 2'!T$60,'DATA MAESTRO 2'!T$61,'DATA MAESTRO 2'!T$62,'DATA MAESTRO 2'!T$63,'DATA MAESTRO 2'!T$64,'DATA MAESTRO 2'!T$65)","v":0},{"$f":"CHOOSE($B30,'DATA MAESTRO 2'!U$43,'DATA MAESTRO 2'!U$44,'DATA MAESTRO 2'!U$45,'DATA MAESTRO 2'!U$46,'DATA MAESTRO 2'!U$47,'DATA MAESTRO 2'!U$48,'DATA MAESTRO 2'!U$49,'DATA MAESTRO 2'!U$50,'DATA MAESTRO 2'!U$51,'DATA MAESTRO 2'!U$52,'DATA MAESTRO 2'!U$53,'DATA MAESTRO 2'!U$54,'DATA MAESTRO 2'!U$55,'DATA MAESTRO 2'!U$56,'DATA MAESTRO 2'!U$57,'DATA MAESTRO 2'!U$58,'DATA MAESTRO 2'!U$59,'DATA MAESTRO 2'!U$60,'DATA MAESTRO 2'!U$61,'DATA MAESTRO 2'!U$62,'DATA MAESTRO 2'!U$63,'DATA MAESTRO 2'!U$64,'DATA MAESTRO 2'!U$65)","v":0},{"$f":"CHOOSE($B30,'DATA MAESTRO 2'!V$43,'DATA MAESTRO 2'!V$44,'DATA MAESTRO 2'!V$45,'DATA MAESTRO 2'!V$46,'DATA MAESTRO 2'!V$47,'DATA MAESTRO 2'!V$48,'DATA MAESTRO 2'!V$49,'DATA MAESTRO 2'!V$50,'DATA MAESTRO 2'!V$51,'DATA MAESTRO 2'!V$52,'DATA MAESTRO 2'!V$53,'DATA MAESTRO 2'!V$54,'DATA MAESTRO 2'!V$55,'DATA MAESTRO 2'!V$56,'DATA MAESTRO 2'!V$57,'DATA MAESTRO 2'!V$58,'DATA MAESTRO 2'!V$59,'DATA MAESTRO 2'!V$60,'DATA MAESTRO 2'!V$61,'DATA MAESTRO 2'!V$62,'DATA MAESTRO 2'!V$63,'DATA MAESTRO 2'!V$64,'DATA MAESTRO 2'!V$65)","v":0},{"$f":"CHOOSE($B30,'DATA MAESTRO 2'!W$43,'DATA MAESTRO 2'!W$44,'DATA MAESTRO 2'!W$45,'DATA MAESTRO 2'!W$46,'DATA MAESTRO 2'!W$47,'DATA MAESTRO 2'!W$48,'DATA MAESTRO 2'!W$49,'DATA MAESTRO 2'!W$50,'DATA MAESTRO 2'!W$51,'DATA MAESTRO 2'!W$52,'DATA MAESTRO 2'!W$53,'DATA MAESTRO 2'!W$54,'DATA MAESTRO 2'!W$55,'DATA MAESTRO 2'!W$56,'DATA MAESTRO 2'!W$57,'DATA MAESTRO 2'!W$58,'DATA MAESTRO 2'!W$59,'DATA MAESTRO 2'!W$60,'DATA MAESTRO 2'!W$61,'DATA MAESTRO 2'!W$62,'DATA MAESTRO 2'!W$63,'DATA MAESTRO 2'!W$64,'DATA MAESTRO 2'!W$65)","v":0},{"$f":"CHOOSE($B30,'DATA MAESTRO 2'!X$43,'DATA MAESTRO 2'!X$44,'DATA MAESTRO 2'!X$45,'DATA MAESTRO 2'!X$46,'DATA MAESTRO 2'!X$47,'DATA MAESTRO 2'!X$48,'DATA MAESTRO 2'!X$49,'DATA MAESTRO 2'!X$50,'DATA MAESTRO 2'!X$51,'DATA MAESTRO 2'!X$52,'DATA MAESTRO 2'!X$53,'DATA MAESTRO 2'!X$54,'DATA MAESTRO 2'!X$55,'DATA MAESTRO 2'!X$56,'DATA MAESTRO 2'!X$57,'DATA MAESTRO 2'!X$58,'DATA MAESTRO 2'!X$59,'DATA MAESTRO 2'!X$60,'DATA MAESTRO 2'!X$61,'DATA MAESTRO 2'!X$62,'DATA MAESTRO 2'!X$63,'DATA MAESTRO 2'!X$64,'DATA MAESTRO 2'!X$65)","v":0},{"$f":"CHOOSE($B30,'DATA MAESTRO 2'!Y$43,'DATA MAESTRO 2'!Y$44,'DATA MAESTRO 2'!Y$45,'DATA MAESTRO 2'!Y$46,'DATA MAESTRO 2'!Y$47,'DATA MAESTRO 2'!Y$48,'DATA MAESTRO 2'!Y$49,'DATA MAESTRO 2'!Y$50,'DATA MAESTRO 2'!Y$51,'DATA MAESTRO 2'!Y$52,'DATA MAESTRO 2'!Y$53,'DATA MAESTRO 2'!Y$54,'DATA MAESTRO 2'!Y$55,'DATA MAESTRO 2'!Y$56,'DATA MAESTRO 2'!Y$57,'DATA MAESTRO 2'!Y$58,'DATA MAESTRO 2'!Y$59,'DATA MAESTRO 2'!Y$60,'DATA MAESTRO 2'!Y$61,'DATA MAESTRO 2'!Y$62,'DATA MAESTRO 2'!Y$63,'DATA MAESTRO 2'!Y$64,'DATA MAESTRO 2'!Y$65)","v":0},{"$f":"CHOOSE($B30,'DATA MAESTRO 2'!Z$43,'DATA MAESTRO 2'!Z$44,'DATA MAESTRO 2'!Z$45,'DATA MAESTRO 2'!Z$46,'DATA MAESTRO 2'!Z$47,'DATA MAESTRO 2'!Z$48,'DATA MAESTRO 2'!Z$49,'DATA MAESTRO 2'!Z$50,'DATA MAESTRO 2'!Z$51,'DATA MAESTRO 2'!Z$52,'DATA MAESTRO 2'!Z$53,'DATA MAESTRO 2'!Z$54,'DATA MAESTRO 2'!Z$55,'DATA MAESTRO 2'!Z$56,'DATA MAESTRO 2'!Z$57,'DATA MAESTRO 2'!Z$58,'DATA MAESTRO 2'!Z$59,'DATA MAESTRO 2'!Z$60,'DATA MAESTRO 2'!Z$61,'DATA MAESTRO 2'!Z$62,'DATA MAESTRO 2'!Z$63,'DATA MAESTRO 2'!Z$64,'DATA MAESTRO 2'!Z$65)","v":0},{"$f":"CHOOSE($B30,'DATA MAESTRO 2'!AA$43,'DATA MAESTRO 2'!AA$44,'DATA MAESTRO 2'!AA$45,'DATA MAESTRO 2'!AA$46,'DATA MAESTRO 2'!AA$47,'DATA MAESTRO 2'!AA$48,'DATA MAESTRO 2'!AA$49,'DATA MAESTRO 2'!AA$50,'DATA MAESTRO 2'!AA$51,'DATA MAESTRO 2'!AA$52,'DATA MAESTRO 2'!AA$53,'DATA MAESTRO 2'!AA$54,'DATA MAESTRO 2'!AA$55,'DATA MAESTRO 2'!AA$56,'DATA MAESTRO 2'!AA$57,'DATA MAESTRO 2'!AA$58,'DATA MAESTRO 2'!AA$59,'DATA MAESTRO 2'!AA$60,'DATA MAESTRO 2'!AA$61,'DATA MAESTRO 2'!AA$62,'DATA MAESTRO 2'!AA$63,'DATA MAESTRO 2'!AA$64,'DATA MAESTRO 2'!AA$65)","v":0},{"$f":"CHOOSE($B30,'DATA MAESTRO 2'!AB$43,'DATA MAESTRO 2'!AB$44,'DATA MAESTRO 2'!AB$45,'DATA MAESTRO 2'!AB$46,'DATA MAESTRO 2'!AB$47,'DATA MAESTRO 2'!AB$48,'DATA MAESTRO 2'!AB$49,'DATA MAESTRO 2'!AB$50,'DATA MAESTRO 2'!AB$51,'DATA MAESTRO 2'!AB$52,'DATA MAESTRO 2'!AB$53,'DATA MAESTRO 2'!AB$54,'DATA MAESTRO 2'!AB$55,'DATA MAESTRO 2'!AB$56,'DATA MAESTRO 2'!AB$57,'DATA MAESTRO 2'!AB$58,'DATA MAESTRO 2'!AB$59,'DATA MAESTRO 2'!AB$60,'DATA MAESTRO 2'!AB$61,'DATA MAESTRO 2'!AB$62,'DATA MAESTRO 2'!AB$63,'DATA MAESTRO 2'!AB$64,'DATA MAESTRO 2'!AB$65)","v":0},{"$f":"CHOOSE($B30,'DATA MAESTRO 2'!AC$43,'DATA MAESTRO 2'!AC$44,'DATA MAESTRO 2'!AC$45,'DATA MAESTRO 2'!AC$46,'DATA MAESTRO 2'!AC$47,'DATA MAESTRO 2'!AC$48,'DATA MAESTRO 2'!AC$49,'DATA MAESTRO 2'!AC$50,'DATA MAESTRO 2'!AC$51,'DATA MAESTRO 2'!AC$52,'DATA MAESTRO 2'!AC$53,'DATA MAESTRO 2'!AC$54,'DATA MAESTRO 2'!AC$55,'DATA MAESTRO 2'!AC$56,'DATA MAESTRO 2'!AC$57,'DATA MAESTRO 2'!AC$58,'DATA MAESTRO 2'!AC$59,'DATA MAESTRO 2'!AC$60,'DATA MAESTRO 2'!AC$61,'DATA MAESTRO 2'!AC$62,'DATA MAESTRO 2'!AC$63,'DATA MAESTRO 2'!AC$64,'DATA MAESTRO 2'!AC$65)","v":0},{"$f":"CHOOSE($B30,'DATA MAESTRO 2'!AD$43,'DATA MAESTRO 2'!AD$44,'DATA MAESTRO 2'!AD$45,'DATA MAESTRO 2'!AD$46,'DATA MAESTRO 2'!AD$47,'DATA MAESTRO 2'!AD$48,'DATA MAESTRO 2'!AD$49,'DATA MAESTRO 2'!AD$50,'DATA MAESTRO 2'!AD$51,'DATA MAESTRO 2'!AD$52,'DATA MAESTRO 2'!AD$53,'DATA MAESTRO 2'!AD$54,'DATA MAESTRO 2'!AD$55,'DATA MAESTRO 2'!AD$56,'DATA MAESTRO 2'!AD$57,'DATA MAESTRO 2'!AD$58,'DATA MAESTRO 2'!AD$59,'DATA MAESTRO 2'!AD$60,'DATA MAESTRO 2'!AD$61,'DATA MAESTRO 2'!AD$62,'DATA MAESTRO 2'!AD$63,'DATA MAESTRO 2'!AD$64,'DATA MAESTRO 2'!AD$65)","v":0},{"$f":"CHOOSE($B30,'DATA MAESTRO 2'!AE$43,'DATA MAESTRO 2'!AE$44,'DATA MAESTRO 2'!AE$45,'DATA MAESTRO 2'!AE$46,'DATA MAESTRO 2'!AE$47,'DATA MAESTRO 2'!AE$48,'DATA MAESTRO 2'!AE$49,'DATA MAESTRO 2'!AE$50,'DATA MAESTRO 2'!AE$51,'DATA MAESTRO 2'!AE$52,'DATA MAESTRO 2'!AE$53,'DATA MAESTRO 2'!AE$54,'DATA MAESTRO 2'!AE$55,'DATA MAESTRO 2'!AE$56,'DATA MAESTRO 2'!AE$57,'DATA MAESTRO 2'!AE$58,'DATA MAESTRO 2'!AE$59,'DATA MAESTRO 2'!AE$60,'DATA MAESTRO 2'!AE$61,'DATA MAESTRO 2'!AE$62,'DATA MAESTRO 2'!AE$63,'DATA MAESTRO 2'!AE$64,'DATA MAESTRO 2'!AE$65)","v":0},{"$f":"CHOOSE($B30,'DATA MAESTRO 2'!AF$43,'DATA MAESTRO 2'!AF$44,'DATA MAESTRO 2'!AF$45,'DATA MAESTRO 2'!AF$46,'DATA MAESTRO 2'!AF$47,'DATA MAESTRO 2'!AF$48,'DATA MAESTRO 2'!AF$49,'DATA MAESTRO 2'!AF$50,'DATA MAESTRO 2'!AF$51,'DATA MAESTRO 2'!AF$52,'DATA MAESTRO 2'!AF$53,'DATA MAESTRO 2'!AF$54,'DATA MAESTRO 2'!AF$55,'DATA MAESTRO 2'!AF$56,'DATA MAESTRO 2'!AF$57,'DATA MAESTRO 2'!AF$58,'DATA MAESTRO 2'!AF$59,'DATA MAESTRO 2'!AF$60,'DATA MAESTRO 2'!AF$61,'DATA MAESTRO 2'!AF$62,'DATA MAESTRO 2'!AF$63,'DATA MAESTRO 2'!AF$64,'DATA MAESTRO 2'!AF$65)","v":0},{"$f":"CHOOSE($B30,'DATA MAESTRO 2'!AG$43,'DATA MAESTRO 2'!AG$44,'DATA MAESTRO 2'!AG$45,'DATA MAESTRO 2'!AG$46,'DATA MAESTRO 2'!AG$47,'DATA MAESTRO 2'!AG$48,'DATA MAESTRO 2'!AG$49,'DATA MAESTRO 2'!AG$50,'DATA MAESTRO 2'!AG$51,'DATA MAESTRO 2'!AG$52,'DATA MAESTRO 2'!AG$53,'DATA MAESTRO 2'!AG$54,'DATA MAESTRO 2'!AG$55,'DATA MAESTRO 2'!AG$56,'DATA MAESTRO 2'!AG$57,'DATA MAESTRO 2'!AG$58,'DATA MAESTRO 2'!AG$59,'DATA MAESTRO 2'!AG$60,'DATA MAESTRO 2'!AG$61,'DATA MAESTRO 2'!AG$62,'DATA MAESTRO 2'!AG$63,'DATA MAESTRO 2'!AG$64,'DATA MAESTRO 2'!AG$65)","v":0},{"$f":"CHOOSE($B30,'DATA MAESTRO 2'!AH$43,'DATA MAESTRO 2'!AH$44,'DATA MAESTRO 2'!AH$45,'DATA MAESTRO 2'!AH$46,'DATA MAESTRO 2'!AH$47,'DATA MAESTRO 2'!AH$48,'DATA MAESTRO 2'!AH$49,'DATA MAESTRO 2'!AH$50,'DATA MAESTRO 2'!AH$51,'DATA MAESTRO 2'!AH$52,'DATA MAESTRO 2'!AH$53,'DATA MAESTRO 2'!AH$54,'DATA MAESTRO 2'!AH$55,'DATA MAESTRO 2'!AH$56,'DATA MAESTRO 2'!AH$57,'DATA MAESTRO 2'!AH$58,'DATA MAESTRO 2'!AH$59,'DATA MAESTRO 2'!AH$60,'DATA MAESTRO 2'!AH$61,'DATA MAESTRO 2'!AH$62,'DATA MAESTRO 2'!AH$63,'DATA MAESTRO 2'!AH$64,'DATA MAESTRO 2'!AH$65)","v":0},{"$f":"CHOOSE($B30,'DATA MAESTRO 2'!AI$43,'DATA MAESTRO 2'!AI$44,'DATA MAESTRO 2'!AI$45,'DATA MAESTRO 2'!AI$46,'DATA MAESTRO 2'!AI$47,'DATA MAESTRO 2'!AI$48,'DATA MAESTRO 2'!AI$49,'DATA MAESTRO 2'!AI$50,'DATA MAESTRO 2'!AI$51,'DATA MAESTRO 2'!AI$52,'DATA MAESTRO 2'!AI$53,'DATA MAESTRO 2'!AI$54,'DATA MAESTRO 2'!AI$55,'DATA MAESTRO 2'!AI$56,'DATA MAESTRO 2'!AI$57,'DATA MAESTRO 2'!AI$58,'DATA MAESTRO 2'!AI$59,'DATA MAESTRO 2'!AI$60,'DATA MAESTRO 2'!AI$61,'DATA MAESTRO 2'!AI$62,'DATA MAESTRO 2'!AI$63,'DATA MAESTRO 2'!AI$64,'DATA MAESTRO 2'!AI$65)","v":0},{"$f":"CHOOSE($B30,'DATA MAESTRO 2'!AJ$43,'DATA MAESTRO 2'!AJ$44,'DATA MAESTRO 2'!AJ$45,'DATA MAESTRO 2'!AJ$46,'DATA MAESTRO 2'!AJ$47,'DATA MAESTRO 2'!AJ$48,'DATA MAESTRO 2'!AJ$49,'DATA MAESTRO 2'!AJ$50,'DATA MAESTRO 2'!AJ$51,'DATA MAESTRO 2'!AJ$52,'DATA MAESTRO 2'!AJ$53,'DATA MAESTRO 2'!AJ$54,'DATA MAESTRO 2'!AJ$55,'DATA MAESTRO 2'!AJ$56,'DATA MAESTRO 2'!AJ$57,'DATA MAESTRO 2'!AJ$58,'DATA MAESTRO 2'!AJ$59,'DATA MAESTRO 2'!AJ$60,'DATA MAESTRO 2'!AJ$61,'DATA MAESTRO 2'!AJ$62,'DATA MAESTRO 2'!AJ$63,'DATA MAESTRO 2'!AJ$64,'DATA MAESTRO 2'!AJ$65)","v":0}]

{"sheet":"Data Maestro Nutrientes ","index":4,"n_rows":54,"n_cols":30,"rows_kept":54,"cut":false,"hidden":true,"merged":[]}
[]
[null,null,{"$f":"TRANSPOSE('Selec. Maestro Ingredientes'!B3:B30)","v":7},5,6,2,13,14,11,23,4,3,12,8,24,36,36,36,36,36,36,36,3,23,23,23,23,23,23,23]
[null,null,{"$f":"TRANSPOSE('Selec. Maestro Ingredientes'!C3:C30)","v":"AFRECHO"},"TORTA DE SOYA","MAIZ MOLIDO","SOYA INTEGRAL","CARBONATO DE CALCIO","SAL","BICARBONATO","SUPLAMIN DIFOS","MELAZA","UREA","GRASA PROTEGIDA","PEPA ALGODÓN ","MONTAFOS","","","","","","","","Chala con choclo","Vacio","Vacio","Vacio","Vacio","Vacio","Vacio","Vacio"]
[{"$f":"+TRANSPOSE('Selec. Maestro Ingredientes'!D1:L1)","v":1},{"$f":"+TRANSPOSE('Selec. Maestro Ingredientes'!D2:L2)","v":"VACIO"},{"$f":"+TRANSPOSE('Selec. Maestro Ingredientes'!D3:L30)","v":0},0,0,0,0,0,0,0,0,0,0,0,0,0,0,0,0,0,0,0,0,0,0,0,0,0,0,0]
[2,"MS",0.89,0.91,0.89,0.9,0.98,0.99,0.99,0.98,0.75,0.99,0.95,0.9,0.99,0,0,0,0,0,0,0,0.26,0,0,0,0,0,0,0]
[3,"NDT",0.73,0.81,0.91,0.95,0,0,0,0,0.76,0,1.84,0.77200000000000002,0,0,0,0,0,0,0,0,0.65,0,0,0,0,0,0,0]
[4,"Prot.",0.17,0.48,9.5000000000000001E-2,0.35,0,0,0,0,0.05,2.8,0,0.22,0,0,0,0,0,0,0,0,9.7000000000000017E-2,0,0,0,0,0,0,0]
[5,"FC",0.12,0.05,0.05,0.06,0,0,0,0,0,0,0,0.26,0,0,0,0,0,0,0,0,0.3,0,0,0,0,0,0,0]
[6,"FDN",0.37,0.1,9.5000000000000001E-2,0.2,0,0,0,0,0,0,0,0.5,0,0,0,0,0,0,0,0,0.52,0,0,0,0,0,0,0]
[7,"FDA",0.155,6.2E-2,0.03,0.1,0,0,0,0,0,0,0,0.42,0,0,0,0,0,0,0,0,0.32,0,0,0,0,0,0,0]
[8,"Ca",1.1999999999999999E-3,3.0000000000000001E-3,2.0000000000000001E-4,3.0000000000000001E-3,0.38,0,0,0.185,1.0999999999999999E-2,0,0.09,2E-3,0.18,0,0,0,0,0,0,0,2.5000000000000001E-3,0,0,0,0,0,0,0]
[9,"P",1.0999999999999999E-2,7.000000000000001E-3,3.0000000000000001E-3,6.3E-3,0,0,0,0.15060000000000001,1.5E-3,0,0,6.0000000000000001E-3,0.21,0,0,0,0,0,0,0,2.3E-3,0,0,0,0,0,0,0]
[{"$f":"+TRANSPOSE('Selec. Maestro Ingredientes'!Q1:AK1)","v":10},{"$f":"+TRANSPOSE('Selec. Maestro Ingredientes'!Q2:AK2)","v":"E.E"},{"$f":"+TRANSPOSE('Selec. Maestro Ingredientes'!Q3:AK30)","v":0.04},0.02,0.04,0.22,0,0,0,0,0,0,0.84,0.19,0,0,0,0,0,0,0,0,0.02,0,0,0,0,0,0,0]
[11,"CNF",0.42,0.3,0.75,0.18,0,0,0,0,0.83,0,0,0.09,0,0,0,0,0,0,0,0,0.36,0,0,0,0,0,0,0]
[12,"PDR",0.7,0.66,0.5,0.5,0,0,0,0,0.2,0,0,0.61,0,0,0,0,0,0,0,0,0.7,0,0,0,0,0,0,0]
[13,"Prot. By pass",0.3,0.34,0.5,0.5,0,0,0,0,0.8,0,0,0.39,0,0,0,0,0,0,0,0,0.3,0,0,0,0,0,0,0]
[14,"Sodio",2.0000000000000001E-4,2.9999999999999997E-4,2.0000000000000001E-4,2.0000000000000001E-4,0,0.39,0,2.35E-2,2.2000000000000001E-3,0,0,2.0000000000000001E-4,0,0,0,0,0,0,0,0,1E-4,0,0,0,0,0,0,0]
[15,"Magnesio",4.0000000000000001E-3,2.8999999999999998E-3,1.1999999999999999E-3,3.2000000000000002E-3,0,0,0,4.8640000000000003E-3,4.1999999999999997E-3,0,0,3.7000000000000002E-3,0,0,0,0,0,0,0,0,1.9E-3,0,0,0,0,0,0,0]
[16,"Potasio",1.1299999999999999E-2,2.4E-2,4.0000000000000001E-3,1.67E-2,0,0,0,6.9999999999999999E-6,0.04,0,0,1.1000000000000001E-2,0,0,0,0,0,0,0,0,1.6E-2,0,0,0,0,0,0,0]
[17,"Cloro",5.9999999999999995E-4,7.000000000000001E-4,5.0000000000000001E-4,2.0000000000000001E-4,0,0.6,0,0,3.1E-2,0,0,2.0000000000000001E-4,0,0,0,0,0,0,0,0,3.0000000000000001E-3,0,0,0,0,0,0,0]
[18,"Azufre",2.0999999999999999E-3,4.5999999999999999E-3,1.1999999999999999E-3,4.0000000000000001E-3,0,0,0,9.3999999999999997E-4,4.5999999999999999E-3,0,0,8.9999999999999998E-4,0,0,0,0,0,0,0,0,1.1000000000000001E-3,0,0,0,0,0,0,0]
[19,"Gosipol",0,0,0,0,0,0,0,0,0,0,0,0,0,0,0,0,0,0,0,0,0,0,0,0,0,0,0,0]
[20,"Almidon",0.31,0,0.63,6.7000000000000004E-2,0,0,0,0,7.0000000000000007E-2,0,0,0,0,0,0,0,0,0,0,0,0.6,0,0,0,0,0,0,0]
[21,"Cobalto",0,0,0,0,0,0,0,0,0,0,0,0,0,0,0,0,0,0,0,0,0,0,0,0,0,0,0,0]
[22,"Cobre",0,0,0,0,0,0,0,0,0,0,0,0,0,0,0,0,0,0,0,0,0,0,0,0,0,0,0,0]
[23,"Yodo",0,0,0,0,0,0,0,0,0,0,0,0,0,0,0,0,0,0,0,0,0,0,0,0,0,0,0,0]
[24,"Hierro",0,0,0,0,0,0,0,0,0,0,0,0,0,0,0,0,0,0,0,0,0,0,0,0,0,0,0,0]
[25,"Manganeso",0,0,0,0,0,0,0,1209,0,0,0,0,0,0,0,0,0,0,0,0,0,0,0,0,0,0,0,0]
[26,"Selenio",0,0,0,0,0,0,0,10,0,0,0,0,0,0,0,0,0,0,0,0,0,0,0,0,0,0,0,0]
[27,"Zinc",0,0,0,0,0,0,0,2500,0,0,0,0,0,0,0,0,0,0,0,0,0,0,0,0,0,0,0,0]
[28,"Vit. A",0,0,0,0,0,0,0,515,0,0,0,0,0,0,0,0,0,0,0,0,0,0,0,0,0,0,0,0]
[29,"Vit. D",0,0,0,0,0,0,0,650,0,0,0,0,0,0,0,0,0,0,0,0,0,0,0,0,0,0,0,0]
[30,"Vit. E",0,0,0,0,0,0,0,100,0,0,0,0,0,0,0,0,0,0,0,0,0,0,0,0,0,0,0,0]
[]
[]
[]
[{"$f":"+TRANSPOSE('Selec. Maestro Ingredientes'!M1:P1)","v":1},{"$f":"+TRANSPOSE('Selec. Maestro Ingredientes'!M2:P2)","v":"Eng. Met"},{"$f":"+TRANSPOSE('Selec. Maestro Ingredientes'!M3:P30)","v":2.6392273999999998},2.9284577999999999,3.2899957999999998,3.4346109999999994,0,0,0,0,2.7476887999999997,0,6.652299199999999,2.7910733599999999,0,0,0,0,0,0,0,0,2.3499969999999997,0,0,0,0,0,0,0]
[2,"EN(gan)",1.6062787661199995,1.9631312336400002,2.4091968180399999,2.5876230517999987,0,0,0,0,1.7400984414399994,0,6.5576067529599982,1.7936263115679996,0,0,0,0,0,0,0,0,1.2494262985999995,0,0,0,0,0,0,0]
[3,"EN(lact)",1.6684999999999999,1.8645000000000005,2.1095000000000002,2.2075,0,0,0,0,1.742,0,4.3880000000000008,1.7714000000000003,0,0,0,0,0,0,0,0,1.4725000000000001,0,0,0,0,0,0,0]
[4,"EN(mant)",2.1038162690999997,2.4571112026999997,2.8987298696999999,3.075377336499999,0,0,0,0,2.2363018691999996,0,7.0057834727999992,2.2892961092400004,0,0,0,0,0,0,0,0,1.7505213354999996,0,0,0,0,0,0,0]
[]
[]
[1,{"$f":"+B24","v":"Cobalto"},{"$f":"+C24","v":0},0,0,0,0,0,0,0,0,0,0,0,0,0,0,0,0,0,0,0,0,0,0,0,0,0,0,0]
[2,{"$f":"+B25","v":"Cobre"},0,0,0,0,0,0,0,0,0,0,0,0,0,0,0,0,0,0,0,0,0,0,0,0,0,0,0,0]
[3,"Yodo",0,0,0,0,0,0,0,0,0,0,0,0,0,0,0,0,0,0,0,0,0,0,0,0,0,0,0,0]
[4,"Hierro",0,0,0,0,0,0,0,0,0,0,0,0,0,0,0,0,0,0,0,0,0,0,0,0,0,0,0,0]
[5,"Manganeso",0,0,0,0,0,0,0,1209,0,0,0,0,0,0,0,0,0,0,0,0,0,0,0,0,0,0,0,0]
[6,"Selenio",0,0,0,0,0,0,0,10,0,0,0,0,0,0,0,0,0,0,0,0,0,0,0,0,0,0,0,0]
[7,"Zinc",0,0,0,0,0,0,0,2500,0,0,0,0,0,0,0,0,0,0,0,0,0,0,0,0,0,0,0,0]
[]
[]
[1,{"$f":"+B31","v":"Vit. A"},{"$f":"+C31","v":0},0,0,0,0,0,0,515,0,0,0,0,0,0,0,0,0,0,0,0,0,0,0,0,0,0,0,0]
[2,{"$f":"+B32","v":"Vit. D"},0,0,0,0,0,0,0,650,0,0,0,0,0,0,0,0,0,0,0,0,0,0,0,0,0,0,0,0]
[3,"Vit. E",0,0,0,0,0,0,0,100,0,0,0,0,0,0,0,0,0,0,0,0,0,0,0,0,0,0,0,0]

{"sheet":"Selec.Maestro Nutrientes","index":5,"n_rows":20,"n_cols":30,"rows_kept":20,"cut":false,"hidden":true,"merged":[]}
[]
[]
[]
[null,null,{"$f":"+'Data Maestro Nutrientes '!C2","v":7},{"$f":"+'Data Maestro Nutrientes '!D2","v":5},{"$f":"+'Data Maestro Nutrientes '!E2","v":6},{"$f":"+'Data Maestro Nutrientes '!F2","v":2},{"$f":"+'Data Maestro Nutrientes '!G2","v":13},{"$f":"+'Data Maestro Nutrientes '!H2","v":14},{"$f":"+'Data Maestro Nutrientes '!I2","v":11},{"$f":"+'Data Maestro Nutrientes '!J2","v":23},{"$f":"+'Data Maestro Nutrientes '!K2","v":4},{"$f":"+'Data Maestro Nutrientes '!L2","v":3},{"$f":"+'Data Maestro Nutrientes '!M2","v":12},{"$f":"+'Data Maestro Nutrientes '!N2","v":8},{"$f":"+'Data Maestro Nutrientes '!O2","v":24},{"$f":"+'Data Maestro Nutrientes '!P2","v":36},{"$f":"+'Data Maestro Nutrientes '!Q2","v":36},{"$f":"+'Data Maestro Nutrientes '!R2","v":36},{"$f":"+'Data Maestro Nutrientes '!S2","v":36},{"$f":"+'Data Maestro Nutrientes '!T2","v":36},{"$f":"+'Data Maestro Nutrientes '!U2","v":36},{"$f":"+'Data Maestro Nutrientes '!V2","v":36},{"$f":"+'Data Maestro Nutrientes '!W2","v":3},{"$f":"+'Data Maestro Nutrientes '!X2","v":23},{"$f":"+'Data Maestro Nutrientes '!Y2","v":23},{"$f":"+'Data Maestro Nutrientes '!Z2","v":23},{"$f":"+'Data Maestro Nutrientes '!AA2","v":23},{"$f":"+'Data Maestro Nutrientes '!AB2","v":23},{"$f":"+'Data Maestro Nutrientes '!AC2","v":23},{"$f":"+'Data Maestro Nutrientes '!AD2","v":23}]
[null,null,{"$f":"+'Data Maestro Nutrientes '!C3","v":"AFRECHO"},{"$f":"+'Data Maestro Nutrientes '!D3","v":"TORTA DE SOYA"},{"$f":"+'Data Maestro Nutrientes '!E3","v":"MAIZ MOLIDO"},{"$f":"+'Data Maestro Nutrientes '!F3","v":"SOYA INTEGRAL"},{"$f":"+'Data Maestro Nutrientes '!G3","v":"CARBONATO DE CALCIO"},{"$f":"+'Data Maestro Nutrientes '!H3","v":"SAL"},{"$f":"+'Data Maestro Nutrientes '!I3","v":"BICARBONATO"},{"$f":"+'Data Maestro Nutrientes '!J3","v":"SUPLAMIN DIFOS"},{"$f":"+'Data Maestro Nutrientes '!K3","v":"MELAZA"},{"$f":"+'Data Maestro Nutrientes '!L3","v":"UREA"},{"$f":"+'Data Maestro Nutrientes '!M3","v":"GRASA PROTEGIDA"},{"$f":"+'Data Maestro Nutrientes '!N3","v":"PEPA ALGODÓN "},{"$f":"+'Data Maestro Nutrientes '!O3","v":"MONTAFOS"},{"$f":"+'Data Maestro Nutrientes '!P3","v":""},{"$f":"+'Data Maestro Nutrientes '!Q3","v":""},{"$f":"+'Data Maestro Nutrientes '!R3","v":""},{"$f":"+'Data Maestro Nutrientes '!S3","v":""},{"$f":"+'Data Maestro Nutrientes '!T3","v":""},{"$f":"+'Data Maestro Nutrientes '!U3","v":""},{"$f":"+'Data Maestro Nutrientes '!V3","v":""},{"$f":"+'Data Maestro Nutrientes '!W3","v":"Chala con choclo"},{"$f":"+'Data Maestro Nutrientes '!X3","v":"Vacio"},{"$f":"+'Data Maestro Nutrientes '!Y3","v":"Vacio"},{"$f":"+'Data Maestro Nutrientes '!Z3","v":"Vacio"},{"$f":"+'Data Maestro Nutrientes '!AA3","v":"Vacio"},{"$f":"+'Data Maestro Nutrientes '!AB3","v":"Vacio"},{"$f":"+'Data Maestro Nutrientes '!AC3","v":"Vacio"},{"$f":"+'Data Maestro Nutrientes '!AD3","v":"Vacio"}]
[2,{"$f":"+IF(AND(A6>=1,A6<=34),VLOOKUP(A6,'Data Maestro Nutrientes '!$A$2:$AD$37,2),0)","v":"MS"},{"$f":"+CHOOSE($A6,'Data Maestro Nutrientes '!C$4,'Data Maestro Nutrientes '!C$5,'Data Maestro Nutrientes '!C$6,'Data Maestro Nutrientes '!C$7,'Data Maestro Nutrientes '!C$8,'Data Maestro Nutrientes '!C$9,'Data Maestro Nutrientes '!C$10,'Data Maestro Nutrientes '!C$11,'Data Maestro Nutrientes '!C$12,'Data Maestro Nutrientes '!C$13,'Data Maestro Nutrientes '!C$14,'Data Maestro Nutrientes '!C$15,'Data Maestro Nutrientes '!C$16,'Data Maestro Nutrientes '!C$17,'Data Maestro Nutrientes '!C$18,'Data Maestro Nutrientes '!C$19,'Data Maestro Nutrientes '!C$20,'Data Maestro Nutrientes '!C$21,'Data Maestro Nutrientes '!C$22,'Data Maestro Nutrientes '!C$23,'Data Maestro Nutrientes '!C$24,'Data Maestro Nutrientes '!C$25,'Data Maestro Nutrientes '!C$26,'Data Maestro Nutrientes '!C$27,'Data Maestro Nutrientes '!C$28,'Data Maestro Nutrientes '!C$29,'Data Maestro Nutrientes '!C$30,'Data Maestro Nutrientes '!C$31,'Data Maestro Nutrientes '!C$32,'Data Maestro Nutrientes '!C$33)","v":0.89},{"$f":"+CHOOSE($A6,'Data Maestro Nutrientes '!D$4,'Data Maestro Nutrientes '!D$5,'Data Maestro Nutrientes '!D$6,'Data Maestro Nutrientes '!D$7,'Data Maestro Nutrientes '!D$8,'Data Maestro Nutrientes '!D$9,'Data Maestro Nutrientes '!D$10,'Data Maestro Nutrientes '!D$11,'Data Maestro Nutrientes '!D$12,'Data Maestro Nutrientes '!D$13,'Data Maestro Nutrientes '!D$14,'Data Maestro Nutrientes '!D$15,'Data Maestro Nutrientes '!D$16,'Data Maestro Nutrientes '!D$17,'Data Maestro Nutrientes '!D$18,'Data Maestro Nutrientes '!D$19,'Data Maestro Nutrientes '!D$20,'Data Maestro Nutrientes '!D$21,'Data Maestro Nutrientes '!D$22,'Data Maestro Nutrientes '!D$23,'Data Maestro Nutrientes '!D$24,'Data Maestro Nutrientes '!D$25,'Data Maestro Nutrientes '!D$26,'Data Maestro Nutrientes '!D$27,'Data Maestro Nutrientes '!D$28,'Data Maestro Nutrientes '!D$29,'Data Maestro Nutrientes '!D$30,'Data Maestro Nutrientes '!D$31,'Data Maestro Nutrientes '!D$32,'Data Maestro Nutrientes '!D$33)","v":0.91},{"$f":"+CHOOSE($A6,'Data Maestro Nutrientes '!E$4,'Data Maestro Nutrientes '!E$5,'Data Maestro Nutrientes '!E$6,'Data Maestro Nutrientes '!E$7,'Data Maestro Nutrientes '!E$8,'Data Maestro Nutrientes '!E$9,'Data Maestro Nutrientes '!E$10,'Data Maestro Nutrientes '!E$11,'Data Maestro Nutrientes '!E$12,'Data Maestro Nutrientes '!E$13,'Data Maestro Nutrientes '!E$14,'Data Maestro Nutrientes '!E$15,'Data Maestro Nutrientes '!E$16,'Data Maestro Nutrientes '!E$17,'Data Maestro Nutrientes '!E$18,'Data Maestro Nutrientes '!E$19,'Data Maestro Nutrientes '!E$20,'Data Maestro Nutrientes '!E$21,'Data Maestro Nutrientes '!E$22,'Data Maestro Nutrientes '!E$23,'Data Maestro Nutrientes '!E$24,'Data Maestro Nutrientes '!E$25,'Data Maestro Nutrientes '!E$26,'Data Maestro Nutrientes '!E$27,'Data Maestro Nutrientes '!E$28,'Data Maestro Nutrientes '!E$29,'Data Maestro Nutrientes '!E$30,'Data Maestro Nutrientes '!E$31,'Data Maestro Nutrientes '!E$32,'Data Maestro Nutrientes '!E$33)","v":0.89},{"$f":"+CHOOSE($A6,'Data Maestro Nutrientes '!F$4,'Data Maestro Nutrientes '!F$5,'Data Maestro Nutrientes '!F$6,'Data Maestro Nutrientes '!F$7,'Data Maestro Nutrientes '!F$8,'Data Maestro Nutrientes '!F$9,'Data Maestro Nutrientes '!F$10,'Data Maestro Nutrientes '!F$11,'Data Maestro Nutrientes '!F$12,'Data Maestro Nutrientes '!F$13,'Data Maestro Nutrientes '!F$14,'Data Maestro Nutrientes '!F$15,'Data Maestro Nutrientes '!F$16,'Data Maestro Nutrientes '!F$17,'Data Maestro Nutrientes '!F$18,'Data Maestro Nutrientes '!F$19,'Data Maestro Nutrientes '!F$20,'Data Maestro Nutrientes '!F$21,'Data Maestro Nutrientes '!F$22,'Data Maestro Nutrientes '!F$23,'Data Maestro Nutrientes '!F$24,'Data Maestro Nutrientes '!F$25,'Data Maestro Nutrientes '!F$26,'Data Maestro Nutrientes '!F$27,'Data Maestro Nutrientes '!F$28,'Data Maestro Nutrientes '!F$29,'Data Maestro Nutrientes '!F$30,'Data Maestro Nutrientes '!F$31,'Data Maestro Nutrientes '!F$32,'Data Maestro Nutrientes '!F$33)","v":0.9},{"$f":"+CHOOSE($A6,'Data Maestro Nutrientes '!G$4,'Data Maestro Nutrientes '!G$5,'Data Maestro Nutrientes '!G$6,'Data Maestro Nutrientes '!G$7,'Data Maestro Nutrientes '!G$8,'Data Maestro Nutrientes '!G$9,'Data Maestro Nutrientes '!G$10,'Data Maestro Nutrientes '!G$11,'Data Maestro Nutrientes '!G$12,'Data Maestro Nutrientes '!G$13,'Data Maestro Nutrientes '!G$14,'Data Maestro Nutrientes '!G$15,'Data Maestro Nutrientes '!G$16,'Data Maestro Nutrientes '!G$17,'Data Maestro Nutrientes '!G$18,'Data Maestro Nutrientes '!G$19,'Data Maestro Nutrientes '!G$20,'Data Maestro Nutrientes '!G$21,'Data Maestro Nutrientes '!G$22,'Data Maestro Nutrientes '!G$23,'Data Maestro Nutrientes '!G$24,'Data Maestro Nutrientes '!G$25,'Data Maestro Nutrientes '!G$26,'Data Maestro Nutrientes '!G$27,'Data Maestro Nutrientes '!G$28,'Data Maestro Nutrientes '!G$29,'Data Maestro Nutrientes '!G$30,'Data Maestro Nutrientes '!G$31,'Data Maestro Nutrientes '!G$32,'Data Maestro Nutrientes '!G$33)","v":0.98},{"$f":"+CHOOSE($A6,'Data Maestro Nutrientes '!H$4,'Data Maestro Nutrientes '!H$5,'Data Maestro Nutrientes '!H$6,'Data Maestro Nutrientes '!H$7,'Data Maestro Nutrientes '!H$8,'Data Maestro Nutrientes '!H$9,'Data Maestro Nutrientes '!H$10,'Data Maestro Nutrientes '!H$11,'Data Maestro Nutrientes '!H$12,'Data Maestro Nutrientes '!H$13,'Data Maestro Nutrientes '!H$14,'Data Maestro Nutrientes '!H$15,'Data Maestro Nutrientes '!H$16,'Data Maestro Nutrientes '!H$17,'Data Maestro Nutrientes '!H$18,'Data Maestro Nutrientes '!H$19,'Data Maestro Nutrientes '!H$20,'Data Maestro Nutrientes '!H$21,'Data Maestro Nutrientes '!H$22,'Data Maestro Nutrientes '!H$23,'Data Maestro Nutrientes '!H$24,'Data Maestro Nutrientes '!H$25,'Data Maestro Nutrientes '!H$26,'Data Maestro Nutrientes '!H$27,'Data Maestro Nutrientes '!H$28,'Data Maestro Nutrientes '!H$29,'Data Maestro Nutrientes '!H$30,'Data Maestro Nutrientes '!H$31,'Data Maestro Nutrientes '!H$32,'Data Maestro Nutrientes '!H$33)","v":0.99},{"$f":"+CHOOSE($A6,'Data Maestro Nutrientes '!I$4,'Data Maestro Nutrientes '!I$5,'Data Maestro Nutrientes '!I$6,'Data Maestro Nutrientes '!I$7,'Data Maestro Nutrientes '!I$8,'Data Maestro Nutrientes '!I$9,'Data Maestro Nutrientes '!I$10,'Data Maestro Nutrientes '!I$11,'Data Maestro Nutrientes '!I$12,'Data Maestro Nutrientes '!I$13,'Data Maestro Nutrientes '!I$14,'Data Maestro Nutrientes '!I$15,'Data Maestro Nutrientes '!I$16,'Data Maestro Nutrientes '!I$17,'Data Maestro Nutrientes '!I$18,'Data Maestro Nutrientes '!I$19,'Data Maestro Nutrientes '!I$20,'Data Maestro Nutrientes '!I$21,'Data Maestro Nutrientes '!I$22,'Data Maestro Nutrientes '!I$23,'Data Maestro Nutrientes '!I$24,'Data Maestro Nutrientes '!I$25,'Data Maestro Nutrientes '!I$26,'Data Maestro Nutrientes '!I$27,'Data Maestro Nutrientes '!I$28,'Data Maestro Nutrientes '!I$29,'Data Maestro Nutrientes '!I$30,'Data Maestro Nutrientes '!I$31,'Data Maestro Nutrientes '!I$32,'Data Maestro Nutrientes '!I$33)","v":0.99},{"$f":"+CHOOSE($A6,'Data Maestro Nutrientes '!J$4,'Data Maestro Nutrientes '!J$5,'Data Maestro Nutrientes '!J$6,'Data Maestro Nutrientes '!J$7,'Data Maestro Nutrientes '!J$8,'Data Maestro Nutrientes '!J$9,'Data Maestro Nutrientes '!J$10,'Data Maestro Nutrientes '!J$11,'Data Maestro Nutrientes '!J$12,'Data Maestro Nutrientes '!J$13,'Data Maestro Nutrientes '!J$14,'Data Maestro Nutrientes '!J$15,'Data Maestro Nutrientes '!J$16,'Data Maestro Nutrientes '!J$17,'Data Maestro Nutrientes '!J$18,'Data Maestro Nutrientes '!J$19,'Data Maestro Nutrientes '!J$20,'Data Maestro Nutrientes '!J$21,'Data Maestro Nutrientes '!J$22,'Data Maestro Nutrientes '!J$23,'Data Maestro Nutrientes '!J$24,'Data Maestro Nutrientes '!J$25,'Data Maestro Nutrientes '!J$26,'Data Maestro Nutrientes '!J$27,'Data Maestro Nutrientes '!J$28,'Data Maestro Nutrientes '!J$29,'Data Maestro Nutrientes '!J$30,'Data Maestro Nutrientes '!J$31,'Data Maestro Nutrientes '!J$32,'Data Maestro Nutrientes '!J$33)","v":0.98},{"$f":"+CHOOSE($A6,'Data Maestro Nutrientes '!K$4,'Data Maestro Nutrientes '!K$5,'Data Maestro Nutrientes '!K$6,'Data Maestro Nutrientes '!K$7,'Data Maestro Nutrientes '!K$8,'Data Maestro Nutrientes '!K$9,'Data Maestro Nutrientes '!K$10,'Data Maestro Nutrientes '!K$11,'Data Maestro Nutrientes '!K$12,'Data Maestro Nutrientes '!K$13,'Data Maestro Nutrientes '!K$14,'Data Maestro Nutrientes '!K$15,'Data Maestro Nutrientes '!K$16,'Data Maestro Nutrientes '!K$17,'Data Maestro Nutrientes '!K$18,'Data Maestro Nutrientes '!K$19,'Data Maestro Nutrientes '!K$20,'Data Maestro Nutrientes '!K$21,'Data Maestro Nutrientes '!K$22,'Data Maestro Nutrientes '!K$23,'Data Maestro Nutrientes '!K$24,'Data Maestro Nutrientes '!K$25,'Data Maestro Nutrientes '!K$26,'Data Maestro Nutrientes '!K$27,'Data Maestro Nutrientes '!K$28,'Data Maestro Nutrientes '!K$29,'Data Maestro Nutrientes '!K$30,'Data Maestro Nutrientes '!K$31,'Data Maestro Nutrientes '!K$32,'Data Maestro Nutrientes '!K$33)","v":0.75},{"$f":"+CHOOSE($A6,'Data Maestro Nutrientes '!L$4,'Data Maestro Nutrientes '!L$5,'Data Maestro Nutrientes '!L$6,'Data Maestro Nutrientes '!L$7,'Data Maestro Nutrientes '!L$8,'Data Maestro Nutrientes '!L$9,'Data Maestro Nutrientes '!L$10,'Data Maestro Nutrientes '!L$11,'Data Maestro Nutrientes '!L$12,'Data Maestro Nutrientes '!L$13,'Data Maestro Nutrientes '!L$14,'Data Maestro Nutrientes '!L$15,'Data Maestro Nutrientes '!L$16,'Data Maestro Nutrientes '!L$17,'Data Maestro Nutrientes '!L$18,'Data Maestro Nutrientes '!L$19,'Data Maestro Nutrientes '!L$20,'Data Maestro Nutrientes '!L$21,'Data Maestro Nutrientes '!L$22,'Data Maestro Nutrientes '!L$23,'Data Maestro Nutrientes '!L$24,'Data Maestro Nutrientes '!L$25,'Data Maestro Nutrientes '!L$26,'Data Maestro Nutrientes '!L$27,'Data Maestro Nutrientes '!L$28,'Data Maestro Nutrientes '!L$29,'Data Maestro Nutrientes '!L$30,'Data Maestro Nutrientes '!L$31,'Data Maestro Nutrientes '!L$32,'Data Maestro Nutrientes '!L$33)","v":0.99},{"$f":"+CHOOSE($A6,'Data Maestro Nutrientes '!M$4,'Data Maestro Nutrientes '!M$5,'Data Maestro Nutrientes '!M$6,'Data Maestro Nutrientes '!M$7,'Data Maestro Nutrientes '!M$8,'Data Maestro Nutrientes '!M$9,'Data Maestro Nutrientes '!M$10,'Data Maestro Nutrientes '!M$11,'Data Maestro Nutrientes '!M$12,'Data Maestro Nutrientes '!M$13,'Data Maestro Nutrientes '!M$14,'Data Maestro Nutrientes '!M$15,'Data Maestro Nutrientes '!M$16,'Data Maestro Nutrientes '!M$17,'Data Maestro Nutrientes '!M$18,'Data Maestro Nutrientes '!M$19,'Data Maestro Nutrientes '!M$20,'Data Maestro Nutrientes '!M$21,'Data Maestro Nutrientes '!M$22,'Data Maestro Nutrientes '!M$23,'Data Maestro Nutrientes '!M$24,'Data Maestro Nutrientes '!M$25,'Data Maestro Nutrientes '!M$26,'Data Maestro Nutrientes '!M$27,'Data Maestro Nutrientes '!M$28,'Data Maestro Nutrientes '!M$29,'Data Maestro Nutrientes '!M$30,'Data Maestro Nutrientes '!M$31,'Data Maestro Nutrientes '!M$32,'Data Maestro Nutrientes '!M$33)","v":0.95},{"$f":"+CHOOSE($A6,'Data Maestro Nutrientes '!N$4,'Data Maestro Nutrientes '!N$5,'Data Maestro Nutrientes '!N$6,'Data Maestro Nutrientes '!N$7,'Data Maestro Nutrientes '!N$8,'Data Maestro Nutrientes '!N$9,'Data Maestro Nutrientes '!N$10,'Data Maestro Nutrientes '!N$11,'Data Maestro Nutrientes '!N$12,'Data Maestro Nutrientes '!N$13,'Data Maestro Nutrientes '!N$14,'Data Maestro Nutrientes '!N$15,'Data Maestro Nutrientes '!N$16,'Data Maestro Nutrientes '!N$17,'Data Maestro Nutrientes '!N$18,'Data Maestro Nutrientes '!N$19,'Data Maestro Nutrientes '!N$20,'Data Maestro Nutrientes '!N$21,'Data Maestro Nutrientes '!N$22,'Data Maestro Nutrientes '!N$23,'Data Maestro Nutrientes '!N$24,'Data Maestro Nutrientes '!N$25,'Data Maestro Nutrientes '!N$26,'Data Maestro Nutrientes '!N$27,'Data Maestro Nutrientes '!N$28,'Data Maestro Nutrientes '!N$29,'Data Maestro Nutrientes '!N$30,'Data Maestro Nutrientes '!N$31,'Data Maestro Nutrientes '!N$32,'Data Maestro Nutrientes '!N$33)","v":0.9},{"$f":"+CHOOSE($A6,'Data Maestro Nutrientes '!O$4,'Data Maestro Nutrientes '!O$5,'Data Maestro Nutrientes '!O$6,'Data Maestro Nutrientes '!O$7,'Data Maestro Nutrientes '!O$8,'Data Maestro Nutrientes '!O$9,'Data Maestro Nutrientes '!O$10,'Data Maestro Nutrientes '!O$11,'Data Maestro Nutrientes '!O$12,'Data Maestro Nutrientes '!O$13,'Data Maestro Nutrientes '!O$14,'Data Maestro Nutrientes '!O$15,'Data Maestro Nutrientes '!O$16,'Data Maestro Nutrientes '!O$17,'Data Maestro Nutrientes '!O$18,'Data Maestro Nutrientes '!O$19,'Data Maestro Nutrientes '!O$20,'Data Maestro Nutrientes '!O$21,'Data Maestro Nutrientes '!O$22,'Data Maestro Nutrientes '!O$23,'Data Maestro Nutrientes '!O$24,'Data Maestro Nutrientes '!O$25,'Data Maestro Nutrientes '!O$26,'Data Maestro Nutrientes '!O$27,'Data Maestro Nutrientes '!O$28,'Data Maestro Nutrientes '!O$29,'Data Maestro Nutrientes '!O$30,'Data Maestro Nutrientes '!O$31,'Data Maestro Nutrientes '!O$32,'Data Maestro Nutrientes '!O$33)","v":0.99},{"$f":"+CHOOSE($A6,'Data Maestro Nutrientes '!P$4,'Data Maestro Nutrientes '!P$5,'Data Maestro Nutrientes '!P$6,'Data Maestro Nutrientes '!P$7,'Data Maestro Nutrientes '!P$8,'Data Maestro Nutrientes '!P$9,'Data Maestro Nutrientes '!P$10,'Data Maestro Nutrientes '!P$11,'Data Maestro Nutrientes '!P$12,'Data Maestro Nutrientes '!P$13,'Data Maestro Nutrientes '!P$14,'Data Maestro Nutrientes '!P$15,'Data Maestro Nutrientes '!P$16,'Data Maestro Nutrientes '!P$17,'Data Maestro Nutrientes '!P$18,'Data Maestro Nutrientes '!P$19,'Data Maestro Nutrientes '!P$20,'Data Maestro Nutrientes '!P$21,'Data Maestro Nutrientes '!P$22,'Data Maestro Nutrientes '!P$23,'Data Maestro Nutrientes '!P$24,'Data Maestro Nutrientes '!P$25,'Data Maestro Nutrientes '!P$26,'Data Maestro Nutrientes '!P$27,'Data Maestro Nutrientes '!P$28,'Data Maestro Nutrientes '!P$29,'Data Maestro Nutrientes '!P$30,'Data Maestro Nutrientes '!P$31,'Data Maestro Nutrientes '!P$32,'Data Maestro Nutrientes '!P$33)","v":0},{"$f":"+CHOOSE($A6,'Data Maestro Nutrientes '!Q$4,'Data Maestro Nutrientes '!Q$5,'Data Maestro Nutrientes '!Q$6,'Data Maestro Nutrientes '!Q$7,'Data Maestro Nutrientes '!Q$8,'Data Maestro Nutrientes '!Q$9,'Data Maestro Nutrientes '!Q$10,'Data Maestro Nutrientes '!Q$11,'Data Maestro Nutrientes '!Q$12,'Data Maestro Nutrientes '!Q$13,'Data Maestro Nutrientes '!Q$14,'Data Maestro Nutrientes '!Q$15,'Data Maestro Nutrientes '!Q$16,'Data Maestro Nutrientes '!Q$17,'Data Maestro Nutrientes '!Q$18,'Data Maestro Nutrientes '!Q$19,'Data Maestro Nutrientes '!Q$20,'Data Maestro Nutrientes '!Q$21,'Data Maestro Nutrientes '!Q$22,'Data Maestro Nutrientes '!Q$23,'Data Maestro Nutrientes '!Q$24,'Data Maestro Nutrientes '!Q$25,'Data Maestro Nutrientes '!Q$26,'Data Maestro Nutrientes '!Q$27,'Data Maestro Nutrientes '!Q$28,'Data Maestro Nutrientes '!Q$29,'Data Maestro Nutrientes '!Q$30,'Data Maestro Nutrientes '!Q$31,'Data Maestro Nutrientes '!Q$32,'Data Maestro Nutrientes '!Q$33)","v":0},{"$f":"+CHOOSE($A6,'Data Maestro Nutrientes '!R$4,'Data Maestro Nutrientes '!R$5,'Data Maestro Nutrientes '!R$6,'Data Maestro Nutrientes '!R$7,'Data Maestro Nutrientes '!R$8,'Data Maestro Nutrientes '!R$9,'Data Maestro Nutrientes '!R$10,'Data Maestro Nutrientes '!R$11,'Data Maestro Nutrientes '!R$12,'Data Maestro Nutrientes '!R$13,'Data Maestro Nutrientes '!R$14,'Data Maestro Nutrientes '!R$15,'Data Maestro Nutrientes '!R$16,'Data Maestro Nutrientes '!R$17,'Data Maestro Nutrientes '!R$18,'Data Maestro Nutrientes '!R$19,'Data Maestro Nutrientes '!R$20,'Data Maestro Nutrientes '!R$21,'Data Maestro Nutrientes '!R$22,'Data Maestro Nutrientes '!R$23,'Data Maestro Nutrientes '!R$24,'Data Maestro Nutrientes '!R$25,'Data Maestro Nutrientes '!R$26,'Data Maestro Nutrientes '!R$27,'Data Maestro Nutrientes '!R$28,'Data Maestro Nutrientes '!R$29,'Data Maestro Nutrientes '!R$30,'Data Maestro Nutrientes '!R$31,'Data Maestro Nutrientes '!R$32,'Data Maestro Nutrientes '!R$33)","v":0},{"$f":"+CHOOSE($A6,'Data Maestro Nutrientes '!S$4,'Data Maestro Nutrientes '!S$5,'Data Maestro Nutrientes '!S$6,'Data Maestro Nutrientes '!S$7,'Data Maestro Nutrientes '!S$8,'Data Maestro Nutrientes '!S$9,'Data Maestro Nutrientes '!S$10,'Data Maestro Nutrientes '!S$11,'Data Maestro Nutrientes '!S$12,'Data Maestro Nutrientes '!S$13,'Data Maestro Nutrientes '!S$14,'Data Maestro Nutrientes '!S$15,'Data Maestro Nutrientes '!S$16,'Data Maestro Nutrientes '!S$17,'Data Maestro Nutrientes '!S$18,'Data Maestro Nutrientes '!S$19,'Data Maestro Nutrientes '!S$20,'Data Maestro Nutrientes '!S$21,'Data Maestro Nutrientes '!S$22,'Data Maestro Nutrientes '!S$23,'Data Maestro Nutrientes '!S$24,'Data Maestro Nutrientes '!S$25,'Data Maestro Nutrientes '!S$26,'Data Maestro Nutrientes '!S$27,'Data Maestro Nutrientes '!S$28,'Data Maestro Nutrientes '!S$29,'Data Maestro Nutrientes '!S$30,'Data Maestro Nutrientes '!S$31,'Data Maestro Nutrientes '!S$32,'Data Maestro Nutrientes '!S$33)","v":0},{"$f":"+CHOOSE($A6,'Data Maestro Nutrientes '!T$4,'Data Maestro Nutrientes '!T$5,'Data Maestro Nutrientes '!T$6,'Data Maestro Nutrientes '!T$7,'Data Maestro Nutrientes '!T$8,'Data Maestro Nutrientes '!T$9,'Data Maestro Nutrientes '!T$10,'Data Maestro Nutrientes '!T$11,'Data Maestro Nutrientes '!T$12,'Data Maestro Nutrientes '!T$13,'Data Maestro Nutrientes '!T$14,'Data Maestro Nutrientes '!T$15,'Data Maestro Nutrientes '!T$16,'Data Maestro Nutrientes '!T$17,'Data Maestro Nutrientes '!T$18,'Data Maestro Nutrientes '!T$19,'Data Maestro Nutrientes '!T$20,'Data Maestro Nutrientes '!T$21,'Data Maestro Nutrientes '!T$22,'Data Maestro Nutrientes '!T$23,'Data Maestro Nutrientes '!T$24,'Data Maestro Nutrientes '!T$25,'Data Maestro Nutrientes '!T$26,'Data Maestro Nutrientes '!T$27,'Data Maestro Nutrientes '!T$28,'Data Maestro Nutrientes '!T$29,'Data Maestro Nutrientes '!T$30,'Data Maestro Nutrientes '!T$31,'Data Maestro Nutrientes '!T$32,'Data Maestro Nutrientes '!T$33)","v":0},{"$f":"+CHOOSE($A6,'Data Maestro Nutrientes '!U$4,'Data Maestro Nutrientes '!U$5,'Data Maestro Nutrientes '!U$6,'Data Maestro Nutrientes '!U$7,'Data Maestro Nutrientes '!U$8,'Data Maestro Nutrientes '!U$9,'Data Maestro Nutrientes '!U$10,'Data Maestro Nutrientes '!U$11,'Data Maestro Nutrientes '!U$12,'Data Maestro Nutrientes '!U$13,'Data Maestro Nutrientes '!U$14,'Data Maestro Nutrientes '!U$15,'Data Maestro Nutrientes '!U$16,'Data Maestro Nutrientes '!U$17,'Data Maestro Nutrientes '!U$18,'Data Maestro Nutrientes '!U$19,'Data Maestro Nutrientes '!U$20,'Data Maestro Nutrientes '!U$21,'Data Maestro Nutrientes '!U$22,'Data Maestro Nutrientes '!U$23,'Data Maestro Nutrientes '!U$24,'Data Maestro Nutrientes '!U$25,'Data Maestro Nutrientes '!U$26,'Data Maestro Nutrientes '!U$27,'Data Maestro Nutrientes '!U$28,'Data Maestro Nutrientes '!U$29,'Data Maestro Nutrientes '!U$30,'Data Maestro Nutrientes '!U$31,'Data Maestro Nutrientes '!U$32,'Data Maestro Nutrientes '!U$33)","v":0},{"$f":"+CHOOSE($A6,'Data Maestro Nutrientes '!V$4,'Data Maestro Nutrientes '!V$5,'Data Maestro Nutrientes '!V$6,'Data Maestro Nutrientes '!V$7,'Data Maestro Nutrientes '!V$8,'Data Maestro Nutrientes '!V$9,'Data Maestro Nutrientes '!V$10,'Data Maestro Nutrientes '!V$11,'Data Maestro Nutrientes '!V$12,'Data Maestro Nutrientes '!V$13,'Data Maestro Nutrientes '!V$14,'Data Maestro Nutrientes '!V$15,'Data Maestro Nutrientes '!V$16,'Data Maestro Nutrientes '!V$17,'Data Maestro Nutrientes '!V$18,'Data Maestro Nutrientes '!V$19,'Data Maestro Nutrientes '!V$20,'Data Maestro Nutrientes '!V$21,'Data Maestro Nutrientes '!V$22,'Data Maestro Nutrientes '!V$23,'Data Maestro Nutrientes '!V$24,'Data Maestro Nutrientes '!V$25,'Data Maestro Nutrientes '!V$26,'Data Maestro Nutrientes '!V$27,'Data Maestro Nutrientes '!V$28,'Data Maestro Nutrientes '!V$29,'Data Maestro Nutrientes '!V$30,'Data Maestro Nutrientes '!V$31,'Data Maestro Nutrientes '!V$32,'Data Maestro Nutrientes '!V$33)","v":0},{"$f":"+CHOOSE($A6,'Data Maestro Nutrientes '!W$4,'Data Maestro Nutrientes '!W$5,'Data Maestro Nutrientes '!W$6,'Data Maestro Nutrientes '!W$7,'Data Maestro Nutrientes '!W$8,'Data Maestro Nutrientes '!W$9,'Data Maestro Nutrientes '!W$10,'Data Maestro Nutrientes '!W$11,'Data Maestro Nutrientes '!W$12,'Data Maestro Nutrientes '!W$13,'Data Maestro Nutrientes '!W$14,'Data Maestro Nutrientes '!W$15,'Data Maestro Nutrientes '!W$16,'Data Maestro Nutrientes '!W$17,'Data Maestro Nutrientes '!W$18,'Data Maestro Nutrientes '!W$19,'Data Maestro Nutrientes '!W$20,'Data Maestro Nutrientes '!W$21,'Data Maestro Nutrientes '!W$22,'Data Maestro Nutrientes '!W$23,'Data Maestro Nutrientes '!W$24,'Data Maestro Nutrientes '!W$25,'Data Maestro Nutrientes '!W$26,'Data Maestro Nutrientes '!W$27,'Data Maestro Nutrientes '!W$28,'Data Maestro Nutrientes '!W$29,'Data Maestro Nutrientes '!W$30,'Data Maestro Nutrientes '!W$31,'Data Maestro Nutrientes '!W$32,'Data Maestro Nutrientes '!W$33)","v":0.26},{"$f":"+CHOOSE($A6,'Data Maestro Nutrientes '!X$4,'Data Maestro Nutrientes '!X$5,'Data Maestro Nutrientes '!X$6,'Data Maestro Nutrientes '!X$7,'Data Maestro Nutrientes '!X$8,'Data Maestro Nutrientes '!X$9,'Data Maestro Nutrientes '!X$10,'Data Maestro Nutrientes '!X$11,'Data Maestro Nutrientes '!X$12,'Data Maestro Nutrientes '!X$13,'Data Maestro Nutrientes '!X$14,'Data Maestro Nutrientes '!X$15,'Data Maestro Nutrientes '!X$16,'Data Maestro Nutrientes '!X$17,'Data Maestro Nutrientes '!X$18,'Data Maestro Nutrientes '!X$19,'Data Maestro Nutrientes '!X$20,'Data Maestro Nutrientes '!X$21,'Data Maestro Nutrientes '!X$22,'Data Maestro Nutrientes '!X$23,'Data Maestro Nutrientes '!X$24,'Data Maestro Nutrientes '!X$25,'Data Maestro Nutrientes '!X$26,'Data Maestro Nutrientes '!X$27,'Data Maestro Nutrientes '!X$28,'Data Maestro Nutrientes '!X$29,'Data Maestro Nutrientes '!X$30,'Data Maestro Nutrientes '!X$31,'Data Maestro Nutrientes '!X$32,'Data Maestro Nutrientes '!X$33)","v":0},{"$f":"+CHOOSE($A6,'Data Maestro Nutrientes '!Y$4,'Data Maestro Nutrientes '!Y$5,'Data Maestro Nutrientes '!Y$6,'Data Maestro Nutrientes '!Y$7,'Data Maestro Nutrientes '!Y$8,'Data Maestro Nutrientes '!Y$9,'Data Maestro Nutrientes '!Y$10,'Data Maestro Nutrientes '!Y$11,'Data Maestro Nutrientes '!Y$12,'Data Maestro Nutrientes '!Y$13,'Data Maestro Nutrientes '!Y$14,'Data Maestro Nutrientes '!Y$15,'Data Maestro Nutrientes '!Y$16,'Data Maestro Nutrientes '!Y$17,'Data Maestro Nutrientes '!Y$18,'Data Maestro Nutrientes '!Y$19,'Data Maestro Nutrientes '!Y$20,'Data Maestro Nutrientes '!Y$21,'Data Maestro Nutrientes '!Y$22,'Data Maestro Nutrientes '!Y$23,'Data Maestro Nutrientes '!Y$24,'Data Maestro Nutrientes '!Y$25,'Data Maestro Nutrientes '!Y$26,'Data Maestro Nutrientes '!Y$27,'Data Maestro Nutrientes '!Y$28,'Data Maestro Nutrientes '!Y$29,'Data Maestro Nutrientes '!Y$30,'Data Maestro Nutrientes '!Y$31,'Data Maestro Nutrientes '!Y$32,'Data Maestro Nutrientes '!Y$33)","v":0},{"$f":"+CHOOSE($A6,'Data Maestro Nutrientes '!Z$4,'Data Maestro Nutrientes '!Z$5,'Data Maestro Nutrientes '!Z$6,'Data Maestro Nutrientes '!Z$7,'Data Maestro Nutrientes '!Z$8,'Data Maestro Nutrientes '!Z$9,'Data Maestro Nutrientes '!Z$10,'Data Maestro Nutrientes '!Z$11,'Data Maestro Nutrientes '!Z$12,'Data Maestro Nutrientes '!Z$13,'Data Maestro Nutrientes '!Z$14,'Data Maestro Nutrientes '!Z$15,'Data Maestro Nutrientes '!Z$16,'Data Maestro Nutrientes '!Z$17,'Data Maestro Nutrientes '!Z$18,'Data Maestro Nutrientes '!Z$19,'Data Maestro Nutrientes '!Z$20,'Data Maestro Nutrientes '!Z$21,'Data Maestro Nutrientes '!Z$22,'Data Maestro Nutrientes '!Z$23,'Data Maestro Nutrientes '!Z$24,'Data Maestro Nutrientes '!Z$25,'Data Maestro Nutrientes '!Z$26,'Data Maestro Nutrientes '!Z$27,'Data Maestro Nutrientes '!Z$28,'Data Maestro Nutrientes '!Z$29,'Data Maestro Nutrientes '!Z$30,'Data Maestro Nutrientes '!Z$31,'Data Maestro Nutrientes '!Z$32,'Data Maestro Nutrientes '!Z$33)","v":0},{"$f":"+CHOOSE($A6,'Data Maestro Nutrientes '!AA$4,'Data Maestro Nutrientes '!AA$5,'Data Maestro Nutrientes '!AA$6,'Data Maestro Nutrientes '!AA$7,'Data Maestro Nutrientes '!AA$8,'Data Maestro Nutrientes '!AA$9,'Data Maestro Nutrientes '!AA$10,'Data Maestro Nutrientes '!AA$11,'Data Maestro Nutrientes '!AA$12,'Data Maestro Nutrientes '!AA$13,'Data Maestro Nutrientes '!AA$14,'Data Maestro Nutrientes '!AA$15,'Data Maestro Nutrientes '!AA$16,'Data Maestro Nutrientes '!AA$17,'Data Maestro Nutrientes '!AA$18,'Data Maestro Nutrientes '!AA$19,'Data Maestro Nutrientes '!AA$20,'Data Maestro Nutrientes '!AA$21,'Data Maestro Nutrientes '!AA$22,'Data Maestro Nutrientes '!AA$23,'Data Maestro Nutrientes '!AA$24,'Data Maestro Nutrientes '!AA$25,'Data Maestro Nutrientes '!AA$26,'Data Maestro Nutrientes '!AA$27,'Data Maestro Nutrientes '!AA$28,'Data Maestro Nutrientes '!AA$29,'Data Maestro Nutrientes '!AA$30,'Data Maestro Nutrientes '!AA$31,'Data Maestro Nutrientes '!AA$32,'Data Maestro Nutrientes '!AA$33)","v":0},{"$f":"+CHOOSE($A6,'Data Maestro Nutrientes '!AB$4,'Data Maestro Nutrientes '!AB$5,'Data Maestro Nutrientes '!AB$6,'Data Maestro Nutrientes '!AB$7,'Data Maestro Nutrientes '!AB$8,'Data Maestro Nutrientes '!AB$9,'Data Maestro Nutrientes '!AB$10,'Data Maestro Nutrientes '!AB$11,'Data Maestro Nutrientes '!AB$12,'Data Maestro Nutrientes '!AB$13,'Data Maestro Nutrientes '!AB$14,'Data Maestro Nutrientes '!AB$15,'Data Maestro Nutrientes '!AB$16,'Data Maestro Nutrientes '!AB$17,'Data Maestro Nutrientes '!AB$18,'Data Maestro Nutrientes '!AB$19,'Data Maestro Nutrientes '!AB$20,'Data Maestro Nutrientes '!AB$21,'Data Maestro Nutrientes '!AB$22,'Data Maestro Nutrientes '!AB$23,'Data Maestro Nutrientes '!AB$24,'Data Maestro Nutrientes '!AB$25,'Data Maestro Nutrientes '!AB$26,'Data Maestro Nutrientes '!AB$27,'Data Maestro Nutrientes '!AB$28,'Data Maestro Nutrientes '!AB$29,'Data Maestro Nutrientes '!AB$30,'Data Maestro Nutrientes '!AB$31,'Data Maestro Nutrientes '!AB$32,'Data Maestro Nutrientes '!AB$33)","v":0},{"$f":"+CHOOSE($A6,'Data Maestro Nutrientes '!AC$4,'Data Maestro Nutrientes '!AC$5,'Data Maestro Nutrientes '!AC$6,'Data Maestro Nutrientes '!AC$7,'Data Maestro Nutrientes '!AC$8,'Data Maestro Nutrientes '!AC$9,'Data Maestro Nutrientes '!AC$10,'Data Maestro Nutrientes '!AC$11,'Data Maestro Nutrientes '!AC$12,'Data Maestro Nutrientes '!AC$13,'Data Maestro Nutrientes '!AC$14,'Data Maestro Nutrientes '!AC$15,'Data Maestro Nutrientes '!AC$16,'Data Maestro Nutrientes '!AC$17,'Data Maestro Nutrientes '!AC$18,'Data Maestro Nutrientes '!AC$19,'Data Maestro Nutrientes '!AC$20,'Data Maestro Nutrientes '!AC$21,'Data Maestro Nutrientes '!AC$22,'Data Maestro Nutrientes '!AC$23,'Data Maestro Nutrientes '!AC$24,'Data Maestro Nutrientes '!AC$25,'Data Maestro Nutrientes '!AC$26,'Data Maestro Nutrientes '!AC$27,'Data Maestro Nutrientes '!AC$28,'Data Maestro Nutrientes '!AC$29,'Data Maestro Nutrientes '!AC$30,'Data Maestro Nutrientes '!AC$31,'Data Maestro Nutrientes '!AC$32,'Data Maestro Nutrientes '!AC$33)","v":0},{"$f":"+CHOOSE($A6,'Data Maestro Nutrientes '!AD$4,'Data Maestro Nutrientes '!AD$5,'Data Maestro Nutrientes '!AD$6,'Data Maestro Nutrientes '!AD$7,'Data Maestro Nutrientes '!AD$8,'Data Maestro Nutrientes '!AD$9,'Data Maestro Nutrientes '!AD$10,'Data Maestro Nutrientes '!AD$11,'Data Maestro Nutrientes '!AD$12,'Data Maestro Nutrientes '!AD$13,'Data Maestro Nutrientes '!AD$14,'Data Maestro Nutrientes '!AD$15,'Data Maestro Nutrientes '!AD$16,'Data Maestro Nutrientes '!AD$17,'Data Maestro Nutrientes '!AD$18,'Data Maestro Nutrientes '!AD$19,'Data Maestro Nutrientes '!AD$20,'Data Maestro Nutrientes '!AD$21,'Data Maestro Nutrientes '!AD$22,'Data Maestro Nutrientes '!AD$23,'Data Maestro Nutrientes '!AD$24,'Data Maestro Nutrientes '!AD$25,'Data Maestro Nutrientes '!AD$26,'Data Maestro Nutrientes '!AD$27,'Data Maestro Nutrientes '!AD$28,'Data Maestro Nutrientes '!AD$29,'Data Maestro Nutrientes '!AD$30,'Data Maestro Nutrientes '!AD$31,'Data Maestro Nutrientes '!AD$32,'Data Maestro Nutrientes '!AD$33)","v":0}]
[4,{"$f":"+IF(AND(A7>=1,A7<=20),VLOOKUP(A7,'Data Maestro Nutrientes '!$A$2:$AD$23,2),0)","v":"Prot."},{"$f":"+CHOOSE($A7,'Data Maestro Nutrientes '!C$4,'Data Maestro Nutrientes '!C$5,'Data Maestro Nutrientes '!C$6,'Data Maestro Nutrientes '!C$7,'Data Maestro Nutrientes '!C$8,'Data Maestro Nutrientes '!C$9,'Data Maestro Nutrientes '!C$10,'Data Maestro Nutrientes '!C$11,'Data Maestro Nutrientes '!C$12,'Data Maestro Nutrientes '!C$13,'Data Maestro Nutrientes '!C$14,'Data Maestro Nutrientes '!C$15,'Data Maestro Nutrientes '!C$16,'Data Maestro Nutrientes '!C$17,'Data Maestro Nutrientes '!C$18,'Data Maestro Nutrientes '!C$19,'Data Maestro Nutrientes '!C$20,'Data Maestro Nutrientes '!C$21,'Data Maestro Nutrientes '!C$22,'Data Maestro Nutrientes '!C$23)","v":0.17},{"$f":"+CHOOSE($A7,'Data Maestro Nutrientes '!D$4,'Data Maestro Nutrientes '!D$5,'Data Maestro Nutrientes '!D$6,'Data Maestro Nutrientes '!D$7,'Data Maestro Nutrientes '!D$8,'Data Maestro Nutrientes '!D$9,'Data Maestro Nutrientes '!D$10,'Data Maestro Nutrientes '!D$11,'Data Maestro Nutrientes '!D$12,'Data Maestro Nutrientes '!D$13,'Data Maestro Nutrientes '!D$14,'Data Maestro Nutrientes '!D$15,'Data Maestro Nutrientes '!D$16,'Data Maestro Nutrientes '!D$17,'Data Maestro Nutrientes '!D$18,'Data Maestro Nutrientes '!D$19,'Data Maestro Nutrientes '!D$20,'Data Maestro Nutrientes '!D$21,'Data Maestro Nutrientes '!D$22,'Data Maestro Nutrientes '!D$23)","v":0.48},{"$f":"+CHOOSE($A7,'Data Maestro Nutrientes '!E$4,'Data Maestro Nutrientes '!E$5,'Data Maestro Nutrientes '!E$6,'Data Maestro Nutrientes '!E$7,'Data Maestro Nutrientes '!E$8,'Data Maestro Nutrientes '!E$9,'Data Maestro Nutrientes '!E$10,'Data Maestro Nutrientes '!E$11,'Data Maestro Nutrientes '!E$12,'Data Maestro Nutrientes '!E$13,'Data Maestro Nutrientes '!E$14,'Data Maestro Nutrientes '!E$15,'Data Maestro Nutrientes '!E$16,'Data Maestro Nutrientes '!E$17,'Data Maestro Nutrientes '!E$18,'Data Maestro Nutrientes '!E$19,'Data Maestro Nutrientes '!E$20,'Data Maestro Nutrientes '!E$21,'Data Maestro Nutrientes '!E$22,'Data Maestro Nutrientes '!E$23)","v":9.5000000000000001E-2},{"$f":"+CHOOSE($A7,'Data Maestro Nutrientes '!F$4,'Data Maestro Nutrientes '!F$5,'Data Maestro Nutrientes '!F$6,'Data Maestro Nutrientes '!F$7,'Data Maestro Nutrientes '!F$8,'Data Maestro Nutrientes '!F$9,'Data Maestro Nutrientes '!F$10,'Data Maestro Nutrientes '!F$11,'Data Maestro Nutrientes '!F$12,'Data Maestro Nutrientes '!F$13,'Data Maestro Nutrientes '!F$14,'Data Maestro Nutrientes '!F$15,'Data Maestro Nutrientes '!F$16,'Data Maestro Nutrientes '!F$17,'Data Maestro Nutrientes '!F$18,'Data Maestro Nutrientes '!F$19,'Data Maestro Nutrientes '!F$20,'Data Maestro Nutrientes '!F$21,'Data Maestro Nutrientes '!F$22,'Data Maestro Nutrientes '!F$23)","v":0.35},{"$f":"+CHOOSE($A7,'Data Maestro Nutrientes '!G$4,'Data Maestro Nutrientes '!G$5,'Data Maestro Nutrientes '!G$6,'Data Maestro Nutrientes '!G$7,'Data Maestro Nutrientes '!G$8,'Data Maestro Nutrientes '!G$9,'Data Maestro Nutrientes '!G$10,'Data Maestro Nutrientes '!G$11,'Data Maestro Nutrientes '!G$12,'Data Maestro Nutrientes '!G$13,'Data Maestro Nutrientes '!G$14,'Data Maestro Nutrientes '!G$15,'Data Maestro Nutrientes '!G$16,'Data Maestro Nutrientes '!G$17,'Data Maestro Nutrientes '!G$18,'Data Maestro Nutrientes '!G$19,'Data Maestro Nutrientes '!G$20,'Data Maestro Nutrientes '!G$21,'Data Maestro Nutrientes '!G$22,'Data Maestro Nutrientes '!G$23)","v":0},{"$f":"+CHOOSE($A7,'Data Maestro Nutrientes '!H$4,'Data Maestro Nutrientes '!H$5,'Data Maestro Nutrientes '!H$6,'Data Maestro Nutrientes '!H$7,'Data Maestro Nutrientes '!H$8,'Data Maestro Nutrientes '!H$9,'Data Maestro Nutrientes '!H$10,'Data Maestro Nutrientes '!H$11,'Data Maestro Nutrientes '!H$12,'Data Maestro Nutrientes '!H$13,'Data Maestro Nutrientes '!H$14,'Data Maestro Nutrientes '!H$15,'Data Maestro Nutrientes '!H$16,'Data Maestro Nutrientes '!H$17,'Data Maestro Nutrientes '!H$18,'Data Maestro Nutrientes '!H$19,'Data Maestro Nutrientes '!H$20,'Data Maestro Nutrientes '!H$21,'Data Maestro Nutrientes '!H$22,'Data Maestro Nutrientes '!H$23)","v":0},{"$f":"+CHOOSE($A7,'Data Maestro Nutrientes '!I$4,'Data Maestro Nutrientes '!I$5,'Data Maestro Nutrientes '!I$6,'Data Maestro Nutrientes '!I$7,'Data Maestro Nutrientes '!I$8,'Data Maestro Nutrientes '!I$9,'Data Maestro Nutrientes '!I$10,'Data Maestro Nutrientes '!I$11,'Data Maestro Nutrientes '!I$12,'Data Maestro Nutrientes '!I$13,'Data Maestro Nutrientes '!I$14,'Data Maestro Nutrientes '!I$15,'Data Maestro Nutrientes '!I$16,'Data Maestro Nutrientes '!I$17,'Data Maestro Nutrientes '!I$18,'Data Maestro Nutrientes '!I$19,'Data Maestro Nutrientes '!I$20,'Data Maestro Nutrientes '!I$21,'Data Maestro Nutrientes '!I$22,'Data Maestro Nutrientes '!I$23)","v":0},{"$f":"+CHOOSE($A7,'Data Maestro Nutrientes '!J$4,'Data Maestro Nutrientes '!J$5,'Data Maestro Nutrientes '!J$6,'Data Maestro Nutrientes '!J$7,'Data Maestro Nutrientes '!J$8,'Data Maestro Nutrientes '!J$9,'Data Maestro Nutrientes '!J$10,'Data Maestro Nutrientes '!J$11,'Data Maestro Nutrientes '!J$12,'Data Maestro Nutrientes '!J$13,'Data Maestro Nutrientes '!J$14,'Data Maestro Nutrientes '!J$15,'Data Maestro Nutrientes '!J$16,'Data Maestro Nutrientes '!J$17,'Data Maestro Nutrientes '!J$18,'Data Maestro Nutrientes '!J$19,'Data Maestro Nutrientes '!J$20,'Data Maestro Nutrientes '!J$21,'Data Maestro Nutrientes '!J$22,'Data Maestro Nutrientes '!J$23)","v":0},{"$f":"+CHOOSE($A7,'Data Maestro Nutrientes '!K$4,'Data Maestro Nutrientes '!K$5,'Data Maestro Nutrientes '!K$6,'Data Maestro Nutrientes '!K$7,'Data Maestro Nutrientes '!K$8,'Data Maestro Nutrientes '!K$9,'Data Maestro Nutrientes '!K$10,'Data Maestro Nutrientes '!K$11,'Data Maestro Nutrientes '!K$12,'Data Maestro Nutrientes '!K$13,'Data Maestro Nutrientes '!K$14,'Data Maestro Nutrientes '!K$15,'Data Maestro Nutrientes '!K$16,'Data Maestro Nutrientes '!K$17,'Data Maestro Nutrientes '!K$18,'Data Maestro Nutrientes '!K$19,'Data Maestro Nutrientes '!K$20,'Data Maestro Nutrientes '!K$21,'Data Maestro Nutrientes '!K$22,'Data Maestro Nutrientes '!K$23)","v":0.05},{"$f":"+CHOOSE($A7,'Data Maestro Nutrientes '!L$4,'Data Maestro Nutrientes '!L$5,'Data Maestro Nutrientes '!L$6,'Data Maestro Nutrientes '!L$7,'Data Maestro Nutrientes '!L$8,'Data Maestro Nutrientes '!L$9,'Data Maestro Nutrientes '!L$10,'Data Maestro Nutrientes '!L$11,'Data Maestro Nutrientes '!L$12,'Data Maestro Nutrientes '!L$13,'Data Maestro Nutrientes '!L$14,'Data Maestro Nutrientes '!L$15,'Data Maestro Nutrientes '!L$16,'Data Maestro Nutrientes '!L$17,'Data Maestro Nutrientes '!L$18,'Data Maestro Nutrientes '!L$19,'Data Maestro Nutrientes '!L$20,'Data Maestro Nutrientes '!L$21,'Data Maestro Nutrientes '!L$22,'Data Maestro Nutrientes '!L$23)","v":2.8},{"$f":"+CHOOSE($A7,'Data Maestro Nutrientes '!M$4,'Data Maestro Nutrientes '!M$5,'Data Maestro Nutrientes '!M$6,'Data Maestro Nutrientes '!M$7,'Data Maestro Nutrientes '!M$8,'Data Maestro Nutrientes '!M$9,'Data Maestro Nutrientes '!M$10,'Data Maestro Nutrientes '!M$11,'Data Maestro Nutrientes '!M$12,'Data Maestro Nutrientes '!M$13,'Data Maestro Nutrientes '!M$14,'Data Maestro Nutrientes '!M$15,'Data Maestro Nutrientes '!M$16,'Data Maestro Nutrientes '!M$17,'Data Maestro Nutrientes '!M$18,'Data Maestro Nutrientes '!M$19,'Data Maestro Nutrientes '!M$20,'Data Maestro Nutrientes '!M$21,'Data Maestro Nutrientes '!M$22,'Data Maestro Nutrientes '!M$23)","v":0},{"$f":"+CHOOSE($A7,'Data Maestro Nutrientes '!N$4,'Data Maestro Nutrientes '!N$5,'Data Maestro Nutrientes '!N$6,'Data Maestro Nutrientes '!N$7,'Data Maestro Nutrientes '!N$8,'Data Maestro Nutrientes '!N$9,'Data Maestro Nutrientes '!N$10,'Data Maestro Nutrientes '!N$11,'Data Maestro Nutrientes '!N$12,'Data Maestro Nutrientes '!N$13,'Data Maestro Nutrientes '!N$14,'Data Maestro Nutrientes '!N$15,'Data Maestro Nutrientes '!N$16,'Data Maestro Nutrientes '!N$17,'Data Maestro Nutrientes '!N$18,'Data Maestro Nutrientes '!N$19,'Data Maestro Nutrientes '!N$20,'Data Maestro Nutrientes '!N$21,'Data Maestro Nutrientes '!N$22,'Data Maestro Nutrientes '!N$23)","v":0.22},{"$f":"+CHOOSE($A7,'Data Maestro Nutrientes '!O$4,'Data Maestro Nutrientes '!O$5,'Data Maestro Nutrientes '!O$6,'Data Maestro Nutrientes '!O$7,'Data Maestro Nutrientes '!O$8,'Data Maestro Nutrientes '!O$9,'Data Maestro Nutrientes '!O$10,'Data Maestro Nutrientes '!O$11,'Data Maestro Nutrientes '!O$12,'Data Maestro Nutrientes '!O$13,'Data Maestro Nutrientes '!O$14,'Data Maestro Nutrientes '!O$15,'Data Maestro Nutrientes '!O$16,'Data Maestro Nutrientes '!O$17,'Data Maestro Nutrientes '!O$18,'Data Maestro Nutrientes '!O$19,'Data Maestro Nutrientes '!O$20,'Data Maestro Nutrientes '!O$21,'Data Maestro Nutrientes '!O$22,'Data Maestro Nutrientes '!O$23)","v":0},{"$f":"+CHOOSE($A7,'Data Maestro Nutrientes '!P$4,'Data Maestro Nutrientes '!P$5,'Data Maestro Nutrientes '!P$6,'Data Maestro Nutrientes '!P$7,'Data Maestro Nutrientes '!P$8,'Data Maestro Nutrientes '!P$9,'Data Maestro Nutrientes '!P$10,'Data Maestro Nutrientes '!P$11,'Data Maestro Nutrientes '!P$12,'Data Maestro Nutrientes '!P$13,'Data Maestro Nutrientes '!P$14,'Data Maestro Nutrientes '!P$15,'Data Maestro Nutrientes '!P$16,'Data Maestro Nutrientes '!P$17,'Data Maestro Nutrientes '!P$18,'Data Maestro Nutrientes '!P$19,'Data Maestro Nutrientes '!P$20,'Data Maestro Nutrientes '!P$21,'Data Maestro Nutrientes '!P$22,'Data Maestro Nutrientes '!P$23)","v":0},{"$f":"+CHOOSE($A7,'Data Maestro Nutrientes '!Q$4,'Data Maestro Nutrientes '!Q$5,'Data Maestro Nutrientes '!Q$6,'Data Maestro Nutrientes '!Q$7,'Data Maestro Nutrientes '!Q$8,'Data Maestro Nutrientes '!Q$9,'Data Maestro Nutrientes '!Q$10,'Data Maestro Nutrientes '!Q$11,'Data Maestro Nutrientes '!Q$12,'Data Maestro Nutrientes '!Q$13,'Data Maestro Nutrientes '!Q$14,'Data Maestro Nutrientes '!Q$15,'Data Maestro Nutrientes '!Q$16,'Data Maestro Nutrientes '!Q$17,'Data Maestro Nutrientes '!Q$18,'Data Maestro Nutrientes '!Q$19,'Data Maestro Nutrientes '!Q$20,'Data Maestro Nutrientes '!Q$21,'Data Maestro Nutrientes '!Q$22,'Data Maestro Nutrientes '!Q$23)","v":0},{"$f":"+CHOOSE($A7,'Data Maestro Nutrientes '!R$4,'Data Maestro Nutrientes '!R$5,'Data Maestro Nutrientes '!R$6,'Data Maestro Nutrientes '!R$7,'Data Maestro Nutrientes '!R$8,'Data Maestro Nutrientes '!R$9,'Data Maestro Nutrientes '!R$10,'Data Maestro Nutrientes '!R$11,'Data Maestro Nutrientes '!R$12,'Data Maestro Nutrientes '!R$13,'Data Maestro Nutrientes '!R$14,'Data Maestro Nutrientes '!R$15,'Data Maestro Nutrientes '!R$16,'Data Maestro Nutrientes '!R$17,'Data Maestro Nutrientes '!R$18,'Data Maestro Nutrientes '!R$19,'Data Maestro Nutrientes '!R$20,'Data Maestro Nutrientes '!R$21,'Data Maestro Nutrientes '!R$22,'Data Maestro Nutrientes '!R$23)","v":0},{"$f":"+CHOOSE($A7,'Data Maestro Nutrientes '!S$4,'Data Maestro Nutrientes '!S$5,'Data Maestro Nutrientes '!S$6,'Data Maestro Nutrientes '!S$7,'Data Maestro Nutrientes '!S$8,'Data Maestro Nutrientes '!S$9,'Data Maestro Nutrientes '!S$10,'Data Maestro Nutrientes '!S$11,'Data Maestro Nutrientes '!S$12,'Data Maestro Nutrientes '!S$13,'Data Maestro Nutrientes '!S$14,'Data Maestro Nutrientes '!S$15,'Data Maestro Nutrientes '!S$16,'Data Maestro Nutrientes '!S$17,'Data Maestro Nutrientes '!S$18,'Data Maestro Nutrientes '!S$19,'Data Maestro Nutrientes '!S$20,'Data Maestro Nutrientes '!S$21,'Data Maestro Nutrientes '!S$22,'Data Maestro Nutrientes '!S$23)","v":0},{"$f":"+CHOOSE($A7,'Data Maestro Nutrientes '!T$4,'Data Maestro Nutrientes '!T$5,'Data Maestro Nutrientes '!T$6,'Data Maestro Nutrientes '!T$7,'Data Maestro Nutrientes '!T$8,'Data Maestro Nutrientes '!T$9,'Data Maestro Nutrientes '!T$10,'Data Maestro Nutrientes '!T$11,'Data Maestro Nutrientes '!T$12,'Data Maestro Nutrientes '!T$13,'Data Maestro Nutrientes '!T$14,'Data Maestro Nutrientes '!T$15,'Data Maestro Nutrientes '!T$16,'Data Maestro Nutrientes '!T$17,'Data Maestro Nutrientes '!T$18,'Data Maestro Nutrientes '!T$19,'Data Maestro Nutrientes '!T$20,'Data Maestro Nutrientes '!T$21,'Data Maestro Nutrientes '!T$22,'Data Maestro Nutrientes '!T$23)","v":0},{"$f":"+CHOOSE($A7,'Data Maestro Nutrientes '!U$4,'Data Maestro Nutrientes '!U$5,'Data Maestro Nutrientes '!U$6,'Data Maestro Nutrientes '!U$7,'Data Maestro Nutrientes '!U$8,'Data Maestro Nutrientes '!U$9,'Data Maestro Nutrientes '!U$10,'Data Maestro Nutrientes '!U$11,'Data Maestro Nutrientes '!U$12,'Data Maestro Nutrientes '!U$13,'Data Maestro Nutrientes '!U$14,'Data Maestro Nutrientes '!U$15,'Data Maestro Nutrientes '!U$16,'Data Maestro Nutrientes '!U$17,'Data Maestro Nutrientes '!U$18,'Data Maestro Nutrientes '!U$19,'Data Maestro Nutrientes '!U$20,'Data Maestro Nutrientes '!U$21,'Data Maestro Nutrientes '!U$22,'Data Maestro Nutrientes '!U$23)","v":0},{"$f":"+CHOOSE($A7,'Data Maestro Nutrientes '!V$4,'Data Maestro Nutrientes '!V$5,'Data Maestro Nutrientes '!V$6,'Data Maestro Nutrientes '!V$7,'Data Maestro Nutrientes '!V$8,'Data Maestro Nutrientes '!V$9,'Data Maestro Nutrientes '!V$10,'Data Maestro Nutrientes '!V$11,'Data Maestro Nutrientes '!V$12,'Data Maestro Nutrientes '!V$13,'Data Maestro Nutrientes '!V$14,'Data Maestro Nutrientes '!V$15,'Data Maestro Nutrientes '!V$16,'Data Maestro Nutrientes '!V$17,'Data Maestro Nutrientes '!V$18,'Data Maestro Nutrientes '!V$19,'Data Maestro Nutrientes '!V$20,'Data Maestro Nutrientes '!V$21,'Data Maestro Nutrientes '!V$22,'Data Maestro Nutrientes '!V$23)","v":0},{"$f":"+CHOOSE($A7,'Data Maestro Nutrientes '!W$4,'Data Maestro Nutrientes '!W$5,'Data Maestro Nutrientes '!W$6,'Data Maestro Nutrientes '!W$7,'Data Maestro Nutrientes '!W$8,'Data Maestro Nutrientes '!W$9,'Data Maestro Nutrientes '!W$10,'Data Maestro Nutrientes '!W$11,'Data Maestro Nutrientes '!W$12,'Data Maestro Nutrientes '!W$13,'Data Maestro Nutrientes '!W$14,'Data Maestro Nutrientes '!W$15,'Data Maestro Nutrientes '!W$16,'Data Maestro Nutrientes '!W$17,'Data Maestro Nutrientes '!W$18,'Data Maestro Nutrientes '!W$19,'Data Maestro Nutrientes '!W$20,'Data Maestro Nutrientes '!W$21,'Data Maestro Nutrientes '!W$22,'Data Maestro Nutrientes '!W$23)","v":9.7000000000000017E-2},{"$f":"+CHOOSE($A7,'Data Maestro Nutrientes '!X$4,'Data Maestro Nutrientes '!X$5,'Data Maestro Nutrientes '!X$6,'Data Maestro Nutrientes '!X$7,'Data Maestro Nutrientes '!X$8,'Data Maestro Nutrientes '!X$9,'Data Maestro Nutrientes '!X$10,'Data Maestro Nutrientes '!X$11,'Data Maestro Nutrientes '!X$12,'Data Maestro Nutrientes '!X$13,'Data Maestro Nutrientes '!X$14,'Data Maestro Nutrientes '!X$15,'Data Maestro Nutrientes '!X$16,'Data Maestro Nutrientes '!X$17,'Data Maestro Nutrientes '!X$18,'Data Maestro Nutrientes '!X$19,'Data Maestro Nutrientes '!X$20,'Data Maestro Nutrientes '!X$21,'Data Maestro Nutrientes '!X$22,'Data Maestro Nutrientes '!X$23)","v":0},{"$f":"+CHOOSE($A7,'Data Maestro Nutrientes '!Y$4,'Data Maestro Nutrientes '!Y$5,'Data Maestro Nutrientes '!Y$6,'Data Maestro Nutrientes '!Y$7,'Data Maestro Nutrientes '!Y$8,'Data Maestro Nutrientes '!Y$9,'Data Maestro Nutrientes '!Y$10,'Data Maestro Nutrientes '!Y$11,'Data Maestro Nutrientes '!Y$12,'Data Maestro Nutrientes '!Y$13,'Data Maestro Nutrientes '!Y$14,'Data Maestro Nutrientes '!Y$15,'Data Maestro Nutrientes '!Y$16,'Data Maestro Nutrientes '!Y$17,'Data Maestro Nutrientes '!Y$18,'Data Maestro Nutrientes '!Y$19,'Data Maestro Nutrientes '!Y$20,'Data Maestro Nutrientes '!Y$21,'Data Maestro Nutrientes '!Y$22,'Data Maestro Nutrientes '!Y$23)","v":0},{"$f":"+CHOOSE($A7,'Data Maestro Nutrientes '!Z$4,'Data Maestro Nutrientes '!Z$5,'Data Maestro Nutrientes '!Z$6,'Data Maestro Nutrientes '!Z$7,'Data Maestro Nutrientes '!Z$8,'Data Maestro Nutrientes '!Z$9,'Data Maestro Nutrientes '!Z$10,'Data Maestro Nutrientes '!Z$11,'Data Maestro Nutrientes '!Z$12,'Data Maestro Nutrientes '!Z$13,'Data Maestro Nutrientes '!Z$14,'Data Maestro Nutrientes '!Z$15,'Data Maestro Nutrientes '!Z$16,'Data Maestro Nutrientes '!Z$17,'Data Maestro Nutrientes '!Z$18,'Data Maestro Nutrientes '!Z$19,'Data Maestro Nutrientes '!Z$20,'Data Maestro Nutrientes '!Z$21,'Data Maestro Nutrientes '!Z$22,'Data Maestro Nutrientes '!Z$23)","v":0},{"$f":"+CHOOSE($A7,'Data Maestro Nutrientes '!AA$4,'Data Maestro Nutrientes '!AA$5,'Data Maestro Nutrientes '!AA$6,'Data Maestro Nutrientes '!AA$7,'Data Maestro Nutrientes '!AA$8,'Data Maestro Nutrientes '!AA$9,'Data Maestro Nutrientes '!AA$10,'Data Maestro Nutrientes '!AA$11,'Data Maestro Nutrientes '!AA$12,'Data Maestro Nutrientes '!AA$13,'Data Maestro Nutrientes '!AA$14,'Data Maestro Nutrientes '!AA$15,'Data Maestro Nutrientes '!AA$16,'Data Maestro Nutrientes '!AA$17,'Data Maestro Nutrientes '!AA$18,'Data Maestro Nutrientes '!AA$19,'Data Maestro Nutrientes '!AA$20,'Data Maestro Nutrientes '!AA$21,'Data Maestro Nutrientes '!AA$22,'Data Maestro Nutrientes '!AA$23)","v":0},{"$f":"+CHOOSE($A7,'Data Maestro Nutrientes '!AB$4,'Data Maestro Nutrientes '!AB$5,'Data Maestro Nutrientes '!AB$6,'Data Maestro Nutrientes '!AB$7,'Data Maestro Nutrientes '!AB$8,'Data Maestro Nutrientes '!AB$9,'Data Maestro Nutrientes '!AB$10,'Data Maestro Nutrientes '!AB$11,'Data Maestro Nutrientes '!AB$12,'Data Maestro Nutrientes '!AB$13,'Data Maestro Nutrientes '!AB$14,'Data Maestro Nutrientes '!AB$15,'Data Maestro Nutrientes '!AB$16,'Data Maestro Nutrientes '!AB$17,'Data Maestro Nutrientes '!AB$18,'Data Maestro Nutrientes '!AB$19,'Data Maestro Nutrientes '!AB$20,'Data Maestro Nutrientes '!AB$21,'Data Maestro Nutrientes '!AB$22,'Data Maestro Nutrientes '!AB$23)","v":0},{"$f":"+CHOOSE($A7,'Data Maestro Nutrientes '!AC$4,'Data Maestro Nutrientes '!AC$5,'Data Maestro Nutrientes '!AC$6,'Data Maestro Nutrientes '!AC$7,'Data Maestro Nutrientes '!AC$8,'Data Maestro Nutrientes '!AC$9,'Data Maestro Nutrientes '!AC$10,'Data Maestro Nutrientes '!AC$11,'Data Maestro Nutrientes '!AC$12,'Data Maestro Nutrientes '!AC$13,'Data Maestro Nutrientes '!AC$14,'Data Maestro Nutrientes '!AC$15,'Data Maestro Nutrientes '!AC$16,'Data Maestro Nutrientes '!AC$17,'Data Maestro Nutrientes '!AC$18,'Data Maestro Nutrientes '!AC$19,'Data Maestro Nutrientes '!AC$20,'Data Maestro Nutrientes '!AC$21,'Data Maestro Nutrientes '!AC$22,'Data Maestro Nutrientes '!AC$23)","v":0},{"$f":"+CHOOSE($A7,'Data Maestro Nutrientes '!AD$4,'Data Maestro Nutrientes '!AD$5,'Data Maestro Nutrientes '!AD$6,'Data Maestro Nutrientes '!AD$7,'Data Maestro Nutrientes '!AD$8,'Data Maestro Nutrientes '!AD$9,'Data Maestro Nutrientes '!AD$10,'Data Maestro Nutrientes '!AD$11,'Data Maestro Nutrientes '!AD$12,'Data Maestro Nutrientes '!AD$13,'Data Maestro Nutrientes '!AD$14,'Data Maestro Nutrientes '!AD$15,'Data Maestro Nutrientes '!AD$16,'Data Maestro Nutrientes '!AD$17,'Data Maestro Nutrientes '!AD$18,'Data Maestro Nutrientes '!AD$19,'Data Maestro Nutrientes '!AD$20,'Data Maestro Nutrientes '!AD$21,'Data Maestro Nutrientes '!AD$22,'Data Maestro Nutrientes '!AD$23)","v":0}]
[3,{"$f":"+IF(AND(A8>=1,A8<=4),VLOOKUP(A8,'Data Maestro Nutrientes '!$A$37:$AD$40,2),0)","v":"EN(lact)"},{"$f":"+CHOOSE($A8,'Data Maestro Nutrientes '!C$37,'Data Maestro Nutrientes '!C$38,'Data Maestro Nutrientes '!C$39,'Data Maestro Nutrientes '!C$40)","v":1.6684999999999999},{"$f":"+CHOOSE($A8,'Data Maestro Nutrientes '!D$37,'Data Maestro Nutrientes '!D$38,'Data Maestro Nutrientes '!D$39,'Data Maestro Nutrientes '!D$40)","v":1.8645000000000005},{"$f":"+CHOOSE($A8,'Data Maestro Nutrientes '!E$37,'Data Maestro Nutrientes '!E$38,'Data Maestro Nutrientes '!E$39,'Data Maestro Nutrientes '!E$40)","v":2.1095000000000002},{"$f":"+CHOOSE($A8,'Data Maestro Nutrientes '!F$37,'Data Maestro Nutrientes '!F$38,'Data Maestro Nutrientes '!F$39,'Data Maestro Nutrientes '!F$40)","v":2.2075},{"$f":"+CHOOSE($A8,'Data Maestro Nutrientes '!G$37,'Data Maestro Nutrientes '!G$38,'Data Maestro Nutrientes '!G$39,'Data Maestro Nutrientes '!G$40)","v":0},{"$f":"+CHOOSE($A8,'Data Maestro Nutrientes '!H$37,'Data Maestro Nutrientes '!H$38,'Data Maestro Nutrientes '!H$39,'Data Maestro Nutrientes '!H$40)","v":0},{"$f":"+CHOOSE($A8,'Data Maestro Nutrientes '!I$37,'Data Maestro Nutrientes '!I$38,'Data Maestro Nutrientes '!I$39,'Data Maestro Nutrientes '!I$40)","v":0},{"$f":"+CHOOSE($A8,'Data Maestro Nutrientes '!J$37,'Data Maestro Nutrientes '!J$38,'Data Maestro Nutrientes '!J$39,'Data Maestro Nutrientes '!J$40)","v":0},{"$f":"+CHOOSE($A8,'Data Maestro Nutrientes '!K$37,'Data Maestro Nutrientes '!K$38,'Data Maestro Nutrientes '!K$39,'Data Maestro Nutrientes '!K$40)","v":1.742},{"$f":"+CHOOSE($A8,'Data Maestro Nutrientes '!L$37,'Data Maestro Nutrientes '!L$38,'Data Maestro Nutrientes '!L$39,'Data Maestro Nutrientes '!L$40)","v":0},{"$f":"+CHOOSE($A8,'Data Maestro Nutrientes '!M$37,'Data Maestro Nutrientes '!M$38,'Data Maestro Nutrientes '!M$39,'Data Maestro Nutrientes '!M$40)","v":4.3880000000000008},{"$f":"+CHOOSE($A8,'Data Maestro Nutrientes '!N$37,'Data Maestro Nutrientes '!N$38,'Data Maestro Nutrientes '!N$39,'Data Maestro Nutrientes '!N$40)","v":1.7714000000000003},{"$f":"+CHOOSE($A8,'Data Maestro Nutrientes '!O$37,'Data Maestro Nutrientes '!O$38,'Data Maestro Nutrientes '!O$39,'Data Maestro Nutrientes '!O$40)","v":0},{"$f":"+CHOOSE($A8,'Data Maestro Nutrientes '!P$37,'Data Maestro Nutrientes '!P$38,'Data Maestro Nutrientes '!P$39,'Data Maestro Nutrientes '!P$40)","v":0},{"$f":"+CHOOSE($A8,'Data Maestro Nutrientes '!Q$37,'Data Maestro Nutrientes '!Q$38,'Data Maestro Nutrientes '!Q$39,'Data Maestro Nutrientes '!Q$40)","v":0},{"$f":"+CHOOSE($A8,'Data Maestro Nutrientes '!R$37,'Data Maestro Nutrientes '!R$38,'Data Maestro Nutrientes '!R$39,'Data Maestro Nutrientes '!R$40)","v":0},{"$f":"+CHOOSE($A8,'Data Maestro Nutrientes '!S$37,'Data Maestro Nutrientes '!S$38,'Data Maestro Nutrientes '!S$39,'Data Maestro Nutrientes '!S$40)","v":0},{"$f":"+CHOOSE($A8,'Data Maestro Nutrientes '!T$37,'Data Maestro Nutrientes '!T$38,'Data Maestro Nutrientes '!T$39,'Data Maestro Nutrientes '!T$40)","v":0},{"$f":"+CHOOSE($A8,'Data Maestro Nutrientes '!U$37,'Data Maestro Nutrientes '!U$38,'Data Maestro Nutrientes '!U$39,'Data Maestro Nutrientes '!U$40)","v":0},{"$f":"+CHOOSE($A8,'Data Maestro Nutrientes '!V$37,'Data Maestro Nutrientes '!V$38,'Data Maestro Nutrientes '!V$39,'Data Maestro Nutrientes '!V$40)","v":0},{"$f":"+CHOOSE($A8,'Data Maestro Nutrientes '!W$37,'Data Maestro Nutrientes '!W$38,'Data Maestro Nutrientes '!W$39,'Data Maestro Nutrientes '!W$40)","v":1.4725000000000001},{"$f":"+CHOOSE($A8,'Data Maestro Nutrientes '!X$37,'Data Maestro Nutrientes '!X$38,'Data Maestro Nutrientes '!X$39,'Data Maestro Nutrientes '!X$40)","v":0},{"$f":"+CHOOSE($A8,'Data Maestro Nutrientes '!Y$37,'Data Maestro Nutrientes '!Y$38,'Data Maestro Nutrientes '!Y$39,'Data Maestro Nutrientes '!Y$40)","v":0},{"$f":"+CHOOSE($A8,'Data Maestro Nutrientes '!Z$37,'Data Maestro Nutrientes '!Z$38,'Data Maestro Nutrientes '!Z$39,'Data Maestro Nutrientes '!Z$40)","v":0},{"$f":"+CHOOSE($A8,'Data Maestro Nutrientes '!AA$37,'Data Maestro Nutrientes '!AA$38,'Data Maestro Nutrientes '!AA$39,'Data Maestro Nutrientes '!AA$40)","v":0},{"$f":"+CHOOSE($A8,'Data Maestro Nutrientes '!AB$37,'Data Maestro Nutrientes '!AB$38,'Data Maestro Nutrientes '!AB$39,'Data Maestro Nutrientes '!AB$40)","v":0},{"$f":"+CHOOSE($A8,'Data Maestro Nutrientes '!AC$37,'Data Maestro Nutrientes '!AC$38,'Data Maestro Nutrientes '!AC$39,'Data Maestro Nutrientes '!AC$40)","v":0},{"$f":"+CHOOSE($A8,'Data Maestro Nutrientes '!AD$37,'Data Maestro Nutrientes '!AD$38,'Data Maestro Nutrientes '!AD$39,'Data Maestro Nutrientes '!AD$40)","v":0}]
[5,{"$f":"+IF(AND(A9>=1,A9<=20),VLOOKUP(A9,'Data Maestro Nutrientes '!$A$2:$AD$23,2),0)","v":"FC"},{"$f":"+CHOOSE($A9,'Data Maestro Nutrientes '!C$4,'Data Maestro Nutrientes '!C$5,'Data Maestro Nutrientes '!C$6,'Data Maestro Nutrientes '!C$7,'Data Maestro Nutrientes '!C$8,'Data Maestro Nutrientes '!C$9,'Data Maestro Nutrientes '!C$10,'Data Maestro Nutrientes '!C$11,'Data Maestro Nutrientes '!C$12,'Data Maestro Nutrientes '!C$13,'Data Maestro Nutrientes '!C$14,'Data Maestro Nutrientes '!C$15,'Data Maestro Nutrientes '!C$16,'Data Maestro Nutrientes '!C$17,'Data Maestro Nutrientes '!C$18,'Data Maestro Nutrientes '!C$19,'Data Maestro Nutrientes '!C$20,'Data Maestro Nutrientes '!C$21,'Data Maestro Nutrientes '!C$22,'Data Maestro Nutrientes '!C$23)","v":0.12},{"$f":"+CHOOSE($A9,'Data Maestro Nutrientes '!D$4,'Data Maestro Nutrientes '!D$5,'Data Maestro Nutrientes '!D$6,'Data Maestro Nutrientes '!D$7,'Data Maestro Nutrientes '!D$8,'Data Maestro Nutrientes '!D$9,'Data Maestro Nutrientes '!D$10,'Data Maestro Nutrientes '!D$11,'Data Maestro Nutrientes '!D$12,'Data Maestro Nutrientes '!D$13,'Data Maestro Nutrientes '!D$14,'Data Maestro Nutrientes '!D$15,'Data Maestro Nutrientes '!D$16,'Data Maestro Nutrientes '!D$17,'Data Maestro Nutrientes '!D$18,'Data Maestro Nutrientes '!D$19,'Data Maestro Nutrientes '!D$20,'Data Maestro Nutrientes '!D$21,'Data Maestro Nutrientes '!D$22,'Data Maestro Nutrientes '!D$23)","v":0.05},{"$f":"+CHOOSE($A9,'Data Maestro Nutrientes '!E$4,'Data Maestro Nutrientes '!E$5,'Data Maestro Nutrientes '!E$6,'Data Maestro Nutrientes '!E$7,'Data Maestro Nutrientes '!E$8,'Data Maestro Nutrientes '!E$9,'Data Maestro Nutrientes '!E$10,'Data Maestro Nutrientes '!E$11,'Data Maestro Nutrientes '!E$12,'Data Maestro Nutrientes '!E$13,'Data Maestro Nutrientes '!E$14,'Data Maestro Nutrientes '!E$15,'Data Maestro Nutrientes '!E$16,'Data Maestro Nutrientes '!E$17,'Data Maestro Nutrientes '!E$18,'Data Maestro Nutrientes '!E$19,'Data Maestro Nutrientes '!E$20,'Data Maestro Nutrientes '!E$21,'Data Maestro Nutrientes '!E$22,'Data Maestro Nutrientes '!E$23)","v":0.05},{"$f":"+CHOOSE($A9,'Data Maestro Nutrientes '!F$4,'Data Maestro Nutrientes '!F$5,'Data Maestro Nutrientes '!F$6,'Data Maestro Nutrientes '!F$7,'Data Maestro Nutrientes '!F$8,'Data Maestro Nutrientes '!F$9,'Data Maestro Nutrientes '!F$10,'Data Maestro Nutrientes '!F$11,'Data Maestro Nutrientes '!F$12,'Data Maestro Nutrientes '!F$13,'Data Maestro Nutrientes '!F$14,'Data Maestro Nutrientes '!F$15,'Data Maestro Nutrientes '!F$16,'Data Maestro Nutrientes '!F$17,'Data Maestro Nutrientes '!F$18,'Data Maestro Nutrientes '!F$19,'Data Maestro Nutrientes '!F$20,'Data Maestro Nutrientes '!F$21,'Data Maestro Nutrientes '!F$22,'Data Maestro Nutrientes '!F$23)","v":0.06},{"$f":"+CHOOSE($A9,'Data Maestro Nutrientes '!G$4,'Data Maestro Nutrientes '!G$5,'Data Maestro Nutrientes '!G$6,'Data Maestro Nutrientes '!G$7,'Data Maestro Nutrientes '!G$8,'Data Maestro Nutrientes '!G$9,'Data Maestro Nutrientes '!G$10,'Data Maestro Nutrientes '!G$11,'Data Maestro Nutrientes '!G$12,'Data Maestro Nutrientes '!G$13,'Data Maestro Nutrientes '!G$14,'Data Maestro Nutrientes '!G$15,'Data Maestro Nutrientes '!G$16,'Data Maestro Nutrientes '!G$17,'Data Maestro Nutrientes '!G$18,'Data Maestro Nutrientes '!G$19,'Data Maestro Nutrientes '!G$20,'Data Maestro Nutrientes '!G$21,'Data Maestro Nutrientes '!G$22,'Data Maestro Nutrientes '!G$23)","v":0},{"$f":"+CHOOSE($A9,'Data Maestro Nutrientes '!H$4,'Data Maestro Nutrientes '!H$5,'Data Maestro Nutrientes '!H$6,'Data Maestro Nutrientes '!H$7,'Data Maestro Nutrientes '!H$8,'Data Maestro Nutrientes '!H$9,'Data Maestro Nutrientes '!H$10,'Data Maestro Nutrientes '!H$11,'Data Maestro Nutrientes '!H$12,'Data Maestro Nutrientes '!H$13,'Data Maestro Nutrientes '!H$14,'Data Maestro Nutrientes '!H$15,'Data Maestro Nutrientes '!H$16,'Data Maestro Nutrientes '!H$17,'Data Maestro Nutrientes '!H$18,'Data Maestro Nutrientes '!H$19,'Data Maestro Nutrientes '!H$20,'Data Maestro Nutrientes '!H$21,'Data Maestro Nutrientes '!H$22,'Data Maestro Nutrientes '!H$23)","v":0},{"$f":"+CHOOSE($A9,'Data Maestro Nutrientes '!I$4,'Data Maestro Nutrientes '!I$5,'Data Maestro Nutrientes '!I$6,'Data Maestro Nutrientes '!I$7,'Data Maestro Nutrientes '!I$8,'Data Maestro Nutrientes '!I$9,'Data Maestro Nutrientes '!I$10,'Data Maestro Nutrientes '!I$11,'Data Maestro Nutrientes '!I$12,'Data Maestro Nutrientes '!I$13,'Data Maestro Nutrientes '!I$14,'Data Maestro Nutrientes '!I$15,'Data Maestro Nutrientes '!I$16,'Data Maestro Nutrientes '!I$17,'Data Maestro Nutrientes '!I$18,'Data Maestro Nutrientes '!I$19,'Data Maestro Nutrientes '!I$20,'Data Maestro Nutrientes '!I$21,'Data Maestro Nutrientes '!I$22,'Data Maestro Nutrientes '!I$23)","v":0},{"$f":"+CHOOSE($A9,'Data Maestro Nutrientes '!J$4,'Data Maestro Nutrientes '!J$5,'Data Maestro Nutrientes '!J$6,'Data Maestro Nutrientes '!J$7,'Data Maestro Nutrientes '!J$8,'Data Maestro Nutrientes '!J$9,'Data Maestro Nutrientes '!J$10,'Data Maestro Nutrientes '!J$11,'Data Maestro Nutrientes '!J$12,'Data Maestro Nutrientes '!J$13,'Data Maestro Nutrientes '!J$14,'Data Maestro Nutrientes '!J$15,'Data Maestro Nutrientes '!J$16,'Data Maestro Nutrientes '!J$17,'Data Maestro Nutrientes '!J$18,'Data Maestro Nutrientes '!J$19,'Data Maestro Nutrientes '!J$20,'Data Maestro Nutrientes '!J$21,'Data Maestro Nutrientes '!J$22,'Data Maestro Nutrientes '!J$23)","v":0},{"$f":"+CHOOSE($A9,'Data Maestro Nutrientes '!K$4,'Data Maestro Nutrientes '!K$5,'Data Maestro Nutrientes '!K$6,'Data Maestro Nutrientes '!K$7,'Data Maestro Nutrientes '!K$8,'Data Maestro Nutrientes '!K$9,'Data Maestro Nutrientes '!K$10,'Data Maestro Nutrientes '!K$11,'Data Maestro Nutrientes '!K$12,'Data Maestro Nutrientes '!K$13,'Data Maestro Nutrientes '!K$14,'Data Maestro Nutrientes '!K$15,'Data Maestro Nutrientes '!K$16,'Data Maestro Nutrientes '!K$17,'Data Maestro Nutrientes '!K$18,'Data Maestro Nutrientes '!K$19,'Data Maestro Nutrientes '!K$20,'Data Maestro Nutrientes '!K$21,'Data Maestro Nutrientes '!K$22,'Data Maestro Nutrientes '!K$23)","v":0},{"$f":"+CHOOSE($A9,'Data Maestro Nutrientes '!L$4,'Data Maestro Nutrientes '!L$5,'Data Maestro Nutrientes '!L$6,'Data Maestro Nutrientes '!L$7,'Data Maestro Nutrientes '!L$8,'Data Maestro Nutrientes '!L$9,'Data Maestro Nutrientes '!L$10,'Data Maestro Nutrientes '!L$11,'Data Maestro Nutrientes '!L$12,'Data Maestro Nutrientes '!L$13,'Data Maestro Nutrientes '!L$14,'Data Maestro Nutrientes '!L$15,'Data Maestro Nutrientes '!L$16,'Data Maestro Nutrientes '!L$17,'Data Maestro Nutrientes '!L$18,'Data Maestro Nutrientes '!L$19,'Data Maestro Nutrientes '!L$20,'Data Maestro Nutrientes '!L$21,'Data Maestro Nutrientes '!L$22,'Data Maestro Nutrientes '!L$23)","v":0},{"$f":"+CHOOSE($A9,'Data Maestro Nutrientes '!M$4,'Data Maestro Nutrientes '!M$5,'Data Maestro Nutrientes '!M$6,'Data Maestro Nutrientes '!M$7,'Data Maestro Nutrientes '!M$8,'Data Maestro Nutrientes '!M$9,'Data Maestro Nutrientes '!M$10,'Data Maestro Nutrientes '!M$11,'Data Maestro Nutrientes '!M$12,'Data Maestro Nutrientes '!M$13,'Data Maestro Nutrientes '!M$14,'Data Maestro Nutrientes '!M$15,'Data Maestro Nutrientes '!M$16,'Data Maestro Nutrientes '!M$17,'Data Maestro Nutrientes '!M$18,'Data Maestro Nutrientes '!M$19,'Data Maestro Nutrientes '!M$20,'Data Maestro Nutrientes '!M$21,'Data Maestro Nutrientes '!M$22,'Data Maestro Nutrientes '!M$23)","v":0},{"$f":"+CHOOSE($A9,'Data Maestro Nutrientes '!N$4,'Data Maestro Nutrientes '!N$5,'Data Maestro Nutrientes '!N$6,'Data Maestro Nutrientes '!N$7,'Data Maestro Nutrientes '!N$8,'Data Maestro Nutrientes '!N$9,'Data Maestro Nutrientes '!N$10,'Data Maestro Nutrientes '!N$11,'Data Maestro Nutrientes '!N$12,'Data Maestro Nutrientes '!N$13,'Data Maestro Nutrientes '!N$14,'Data Maestro Nutrientes '!N$15,'Data Maestro Nutrientes '!N$16,'Data Maestro Nutrientes '!N$17,'Data Maestro Nutrientes '!N$18,'Data Maestro Nutrientes '!N$19,'Data Maestro Nutrientes '!N$20,'Data Maestro Nutrientes '!N$21,'Data Maestro Nutrientes '!N$22,'Data Maestro Nutrientes '!N$23)","v":0.26},{"$f":"+CHOOSE($A9,'Data Maestro Nutrientes '!O$4,'Data Maestro Nutrientes '!O$5,'Data Maestro Nutrientes '!O$6,'Data Maestro Nutrientes '!O$7,'Data Maestro Nutrientes '!O$8,'Data Maestro Nutrientes '!O$9,'Data Maestro Nutrientes '!O$10,'Data Maestro Nutrientes '!O$11,'Data Maestro Nutrientes '!O$12,'Data Maestro Nutrientes '!O$13,'Data Maestro Nutrientes '!O$14,'Data Maestro Nutrientes '!O$15,'Data Maestro Nutrientes '!O$16,'Data Maestro Nutrientes '!O$17,'Data Maestro Nutrientes '!O$18,'Data Maestro Nutrientes '!O$19,'Data Maestro Nutrientes '!O$20,'Data Maestro Nutrientes '!O$21,'Data Maestro Nutrientes '!O$22,'Data Maestro Nutrientes '!O$23)","v":0},{"$f":"+CHOOSE($A9,'Data Maestro Nutrientes '!P$4,'Data Maestro Nutrientes '!P$5,'Data Maestro Nutrientes '!P$6,'Data Maestro Nutrientes '!P$7,'Data Maestro Nutrientes '!P$8,'Data Maestro Nutrientes '!P$9,'Data Maestro Nutrientes '!P$10,'Data Maestro Nutrientes '!P$11,'Data Maestro Nutrientes '!P$12,'Data Maestro Nutrientes '!P$13,'Data Maestro Nutrientes '!P$14,'Data Maestro Nutrientes '!P$15,'Data Maestro Nutrientes '!P$16,'Data Maestro Nutrientes '!P$17,'Data Maestro Nutrientes '!P$18,'Data Maestro Nutrientes '!P$19,'Data Maestro Nutrientes '!P$20,'Data Maestro Nutrientes '!P$21,'Data Maestro Nutrientes '!P$22,'Data Maestro Nutrientes '!P$23)","v":0},{"$f":"+CHOOSE($A9,'Data Maestro Nutrientes '!Q$4,'Data Maestro Nutrientes '!Q$5,'Data Maestro Nutrientes '!Q$6,'Data Maestro Nutrientes '!Q$7,'Data Maestro Nutrientes '!Q$8,'Data Maestro Nutrientes '!Q$9,'Data Maestro Nutrientes '!Q$10,'Data Maestro Nutrientes '!Q$11,'Data Maestro Nutrientes '!Q$12,'Data Maestro Nutrientes '!Q$13,'Data Maestro Nutrientes '!Q$14,'Data Maestro Nutrientes '!Q$15,'Data Maestro Nutrientes '!Q$16,'Data Maestro Nutrientes '!Q$17,'Data Maestro Nutrientes '!Q$18,'Data Maestro Nutrientes '!Q$19,'Data Maestro Nutrientes '!Q$20,'Data Maestro Nutrientes '!Q$21,'Data Maestro Nutrientes '!Q$22,'Data Maestro Nutrientes '!Q$23)","v":0},{"$f":"+CHOOSE($A9,'Data Maestro Nutrientes '!R$4,'Data Maestro Nutrientes '!R$5,'Data Maestro Nutrientes '!R$6,'Data Maestro Nutrientes '!R$7,'Data Maestro Nutrientes '!R$8,'Data Maestro Nutrientes '!R$9,'Data Maestro Nutrientes '!R$10,'Data Maestro Nutrientes '!R$11,'Data Maestro Nutrientes '!R$12,'Data Maestro Nutrientes '!R$13,'Data Maestro Nutrientes '!R$14,'Data Maestro Nutrientes '!R$15,'Data Maestro Nutrientes '!R$16,'Data Maestro Nutrientes '!R$17,'Data Maestro Nutrientes '!R$18,'Data Maestro Nutrientes '!R$19,'Data Maestro Nutrientes '!R$20,'Data Maestro Nutrientes '!R$21,'Data Maestro Nutrientes '!R$22,'Data Maestro Nutrientes '!R$23)","v":0},{"$f":"+CHOOSE($A9,'Data Maestro Nutrientes '!S$4,'Data Maestro Nutrientes '!S$5,'Data Maestro Nutrientes '!S$6,'Data Maestro Nutrientes '!S$7,'Data Maestro Nutrientes '!S$8,'Data Maestro Nutrientes '!S$9,'Data Maestro Nutrientes '!S$10,'Data Maestro Nutrientes '!S$11,'Data Maestro Nutrientes '!S$12,'Data Maestro Nutrientes '!S$13,'Data Maestro Nutrientes '!S$14,'Data Maestro Nutrientes '!S$15,'Data Maestro Nutrientes '!S$16,'Data Maestro Nutrientes '!S$17,'Data Maestro Nutrientes '!S$18,'Data Maestro Nutrientes '!S$19,'Data Maestro Nutrientes '!S$20,'Data Maestro Nutrientes '!S$21,'Data Maestro Nutrientes '!S$22,'Data Maestro Nutrientes '!S$23)","v":0},{"$f":"+CHOOSE($A9,'Data Maestro Nutrientes '!T$4,'Data Maestro Nutrientes '!T$5,'Data Maestro Nutrientes '!T$6,'Data Maestro Nutrientes '!T$7,'Data Maestro Nutrientes '!T$8,'Data Maestro Nutrientes '!T$9,'Data Maestro Nutrientes '!T$10,'Data Maestro Nutrientes '!T$11,'Data Maestro Nutrientes '!T$12,'Data Maestro Nutrientes '!T$13,'Data Maestro Nutrientes '!T$14,'Data Maestro Nutrientes '!T$15,'Data Maestro Nutrientes '!T$16,'Data Maestro Nutrientes '!T$17,'Data Maestro Nutrientes '!T$18,'Data Maestro Nutrientes '!T$19,'Data Maestro Nutrientes '!T$20,'Data Maestro Nutrientes '!T$21,'Data Maestro Nutrientes '!T$22,'Data Maestro Nutrientes '!T$23)","v":0},{"$f":"+CHOOSE($A9,'Data Maestro Nutrientes '!U$4,'Data Maestro Nutrientes '!U$5,'Data Maestro Nutrientes '!U$6,'Data Maestro Nutrientes '!U$7,'Data Maestro Nutrientes '!U$8,'Data Maestro Nutrientes '!U$9,'Data Maestro Nutrientes '!U$10,'Data Maestro Nutrientes '!U$11,'Data Maestro Nutrientes '!U$12,'Data Maestro Nutrientes '!U$13,'Data Maestro Nutrientes '!U$14,'Data Maestro Nutrientes '!U$15,'Data Maestro Nutrientes '!U$16,'Data Maestro Nutrientes '!U$17,'Data Maestro Nutrientes '!U$18,'Data Maestro Nutrientes '!U$19,'Data Maestro Nutrientes '!U$20,'Data Maestro Nutrientes '!U$21,'Data Maestro Nutrientes '!U$22,'Data Maestro Nutrientes '!U$23)","v":0},{"$f":"+CHOOSE($A9,'Data Maestro Nutrientes '!V$4,'Data Maestro Nutrientes '!V$5,'Data Maestro Nutrientes '!V$6,'Data Maestro Nutrientes '!V$7,'Data Maestro Nutrientes '!V$8,'Data Maestro Nutrientes '!V$9,'Data Maestro Nutrientes '!V$10,'Data Maestro Nutrientes '!V$11,'Data Maestro Nutrientes '!V$12,'Data Maestro Nutrientes '!V$13,'Data Maestro Nutrientes '!V$14,'Data Maestro Nutrientes '!V$15,'Data Maestro Nutrientes '!V$16,'Data Maestro Nutrientes '!V$17,'Data Maestro Nutrientes '!V$18,'Data Maestro Nutrientes '!V$19,'Data Maestro Nutrientes '!V$20,'Data Maestro Nutrientes '!V$21,'Data Maestro Nutrientes '!V$22,'Data Maestro Nutrientes '!V$23)","v":0},{"$f":"+CHOOSE($A9,'Data Maestro Nutrientes '!W$4,'Data Maestro Nutrientes '!W$5,'Data Maestro Nutrientes '!W$6,'Data Maestro Nutrientes '!W$7,'Data Maestro Nutrientes '!W$8,'Data Maestro Nutrientes '!W$9,'Data Maestro Nutrientes '!W$10,'Data Maestro Nutrientes '!W$11,'Data Maestro Nutrientes '!W$12,'Data Maestro Nutrientes '!W$13,'Data Maestro Nutrientes '!W$14,'Data Maestro Nutrientes '!W$15,'Data Maestro Nutrientes '!W$16,'Data Maestro Nutrientes '!W$17,'Data Maestro Nutrientes '!W$18,'Data Maestro Nutrientes '!W$19,'Data Maestro Nutrientes '!W$20,'Data Maestro Nutrientes '!W$21,'Data Maestro Nutrientes '!W$22,'Data Maestro Nutrientes '!W$23)","v":0.3},{"$f":"+CHOOSE($A9,'Data Maestro Nutrientes '!X$4,'Data Maestro Nutrientes '!X$5,'Data Maestro Nutrientes '!X$6,'Data Maestro Nutrientes '!X$7,'Data Maestro Nutrientes '!X$8,'Data Maestro Nutrientes '!X$9,'Data Maestro Nutrientes '!X$10,'Data Maestro Nutrientes '!X$11,'Data Maestro Nutrientes '!X$12,'Data Maestro Nutrientes '!X$13,'Data Maestro Nutrientes '!X$14,'Data Maestro Nutrientes '!X$15,'Data Maestro Nutrientes '!X$16,'Data Maestro Nutrientes '!X$17,'Data Maestro Nutrientes '!X$18,'Data Maestro Nutrientes '!X$19,'Data Maestro Nutrientes '!X$20,'Data Maestro Nutrientes '!X$21,'Data Maestro Nutrientes '!X$22,'Data Maestro Nutrientes '!X$23)","v":0},{"$f":"+CHOOSE($A9,'Data Maestro Nutrientes '!Y$4,'Data Maestro Nutrientes '!Y$5,'Data Maestro Nutrientes '!Y$6,'Data Maestro Nutrientes '!Y$7,'Data Maestro Nutrientes '!Y$8,'Data Maestro Nutrientes '!Y$9,'Data Maestro Nutrientes '!Y$10,'Data Maestro Nutrientes '!Y$11,'Data Maestro Nutrientes '!Y$12,'Data Maestro Nutrientes '!Y$13,'Data Maestro Nutrientes '!Y$14,'Data Maestro Nutrientes '!Y$15,'Data Maestro Nutrientes '!Y$16,'Data Maestro Nutrientes '!Y$17,'Data Maestro Nutrientes '!Y$18,'Data Maestro Nutrientes '!Y$19,'Data Maestro Nutrientes '!Y$20,'Data Maestro Nutrientes '!Y$21,'Data Maestro Nutrientes '!Y$22,'Data Maestro Nutrientes '!Y$23)","v":0},{"$f":"+CHOOSE($A9,'Data Maestro Nutrientes '!Z$4,'Data Maestro Nutrientes '!Z$5,'Data Maestro Nutrientes '!Z$6,'Data Maestro Nutrientes '!Z$7,'Data Maestro Nutrientes '!Z$8,'Data Maestro Nutrientes '!Z$9,'Data Maestro Nutrientes '!Z$10,'Data Maestro Nutrientes '!Z$11,'Data Maestro Nutrientes '!Z$12,'Data Maestro Nutrientes '!Z$13,'Data Maestro Nutrientes '!Z$14,'Data Maestro Nutrientes '!Z$15,'Data Maestro Nutrientes '!Z$16,'Data Maestro Nutrientes '!Z$17,'Data Maestro Nutrientes '!Z$18,'Data Maestro Nutrientes '!Z$19,'Data Maestro Nutrientes '!Z$20,'Data Maestro Nutrientes '!Z$21,'Data Maestro Nutrientes '!Z$22,'Data Maestro Nutrientes '!Z$23)","v":0},{"$f":"+CHOOSE($A9,'Data Maestro Nutrientes '!AA$4,'Data Maestro Nutrientes '!AA$5,'Data Maestro Nutrientes '!AA$6,'Data Maestro Nutrientes '!AA$7,'Data Maestro Nutrientes '!AA$8,'Data Maestro Nutrientes '!AA$9,'Data Maestro Nutrientes '!AA$10,'Data Maestro Nutrientes '!AA$11,'Data Maestro Nutrientes '!AA$12,'Data Maestro Nutrientes '!AA$13,'Data Maestro Nutrientes '!AA$14,'Data Maestro Nutrientes '!AA$15,'Data Maestro Nutrientes '!AA$16,'Data Maestro Nutrientes '!AA$17,'Data Maestro Nutrientes '!AA$18,'Data Maestro Nutrientes '!AA$19,'Data Maestro Nutrientes '!AA$20,'Data Maestro Nutrientes '!AA$21,'Data Maestro Nutrientes '!AA$22,'Data Maestro Nutrientes '!AA$23)","v":0},{"$f":"+CHOOSE($A9,'Data Maestro Nutrientes '!AB$4,'Data Maestro Nutrientes '!AB$5,'Data Maestro Nutrientes '!AB$6,'Data Maestro Nutrientes '!AB$7,'Data Maestro Nutrientes '!AB$8,'Data Maestro Nutrientes '!AB$9,'Data Maestro Nutrientes '!AB$10,'Data Maestro Nutrientes '!AB$11,'Data Maestro Nutrientes '!AB$12,'Data Maestro Nutrientes '!AB$13,'Data Maestro Nutrientes '!AB$14,'Data Maestro Nutrientes '!AB$15,'Data Maestro Nutrientes '!AB$16,'Data Maestro Nutrientes '!AB$17,'Data Maestro Nutrientes '!AB$18,'Data Maestro Nutrientes '!AB$19,'Data Maestro Nutrientes '!AB$20,'Data Maestro Nutrientes '!AB$21,'Data Maestro Nutrientes '!AB$22,'Data Maestro Nutrientes '!AB$23)","v":0},{"$f":"+CHOOSE($A9,'Data Maestro Nutrientes '!AC$4,'Data Maestro Nutrientes '!AC$5,'Data Maestro Nutrientes '!AC$6,'Data Maestro Nutrientes '!AC$7,'Data Maestro Nutrientes '!AC$8,'Data Maestro Nutrientes '!AC$9,'Data Maestro Nutrientes '!AC$10,'Data Maestro Nutrientes '!AC$11,'Data Maestro Nutrientes '!AC$12,'Data Maestro Nutrientes '!AC$13,'Data Maestro Nutrientes '!AC$14,'Data Maestro Nutrientes '!AC$15,'Data Maestro Nutrientes '!AC$16,'Data Maestro Nutrientes '!AC$17,'Data Maestro Nutrientes '!AC$18,'Data Maestro Nutrientes '!AC$19,'Data Maestro Nutrientes '!AC$20,'Data Maestro Nutrientes '!AC$21,'Data Maestro Nutrientes '!AC$22,'Data Maestro Nutrientes '!AC$23)","v":0},{"$f":"+CHOOSE($A9,'Data Maestro Nutrientes '!AD$4,'Data Maestro Nutrientes '!AD$5,'Data Maestro Nutrientes '!AD$6,'Data Maestro Nutrientes '!AD$7,'Data Maestro Nutrientes '!AD$8,'Data Maestro Nutrientes '!AD$9,'Data Maestro Nutrientes '!AD$10,'Data Maestro Nutrientes '!AD$11,'Data Maestro Nutrientes '!AD$12,'Data Maestro Nutrientes '!AD$13,'Data Maestro Nutrientes '!AD$14,'Data Maestro Nutrientes '!AD$15,'Data Maestro Nutrientes '!AD$16,'Data Maestro Nutrientes '!AD$17,'Data Maestro Nutrientes '!AD$18,'Data Maestro Nutrientes '!AD$19,'Data Maestro Nutrientes '!AD$20,'Data Maestro Nutrientes '!AD$21,'Data Maestro Nutrientes '!AD$22,'Data Maestro Nutrientes '!AD$23)","v":0}]
[6,{"$f":"+IF(AND(A10>=1,A10<=20),VLOOKUP(A10,'Data Maestro Nutrientes '!$A$2:$AD$23,2),0)","v":"FDN"},{"$f":"+CHOOSE($A10,'Data Maestro Nutrientes '!C$4,'Data Maestro Nutrientes '!C$5,'Data Maestro Nutrientes '!C$6,'Data Maestro Nutrientes '!C$7,'Data Maestro Nutrientes '!C$8,'Data Maestro Nutrientes '!C$9,'Data Maestro Nutrientes '!C$10,'Data Maestro Nutrientes '!C$11,'Data Maestro Nutrientes '!C$12,'Data Maestro Nutrientes '!C$13,'Data Maestro Nutrientes '!C$14,'Data Maestro Nutrientes '!C$15,'Data Maestro Nutrientes '!C$16,'Data Maestro Nutrientes '!C$17,'Data Maestro Nutrientes '!C$18,'Data Maestro Nutrientes '!C$19,'Data Maestro Nutrientes '!C$20,'Data Maestro Nutrientes '!C$21,'Data Maestro Nutrientes '!C$22,'Data Maestro Nutrientes '!C$23)","v":0.37},{"$f":"+CHOOSE($A10,'Data Maestro Nutrientes '!D$4,'Data Maestro Nutrientes '!D$5,'Data Maestro Nutrientes '!D$6,'Data Maestro Nutrientes '!D$7,'Data Maestro Nutrientes '!D$8,'Data Maestro Nutrientes '!D$9,'Data Maestro Nutrientes '!D$10,'Data Maestro Nutrientes '!D$11,'Data Maestro Nutrientes '!D$12,'Data Maestro Nutrientes '!D$13,'Data Maestro Nutrientes '!D$14,'Data Maestro Nutrientes '!D$15,'Data Maestro Nutrientes '!D$16,'Data Maestro Nutrientes '!D$17,'Data Maestro Nutrientes '!D$18,'Data Maestro Nutrientes '!D$19,'Data Maestro Nutrientes '!D$20,'Data Maestro Nutrientes '!D$21,'Data Maestro Nutrientes '!D$22,'Data Maestro Nutrientes '!D$23)","v":0.1},{"$f":"+CHOOSE($A10,'Data Maestro Nutrientes '!E$4,'Data Maestro Nutrientes '!E$5,'Data Maestro Nutrientes '!E$6,'Data Maestro Nutrientes '!E$7,'Data Maestro Nutrientes '!E$8,'Data Maestro Nutrientes '!E$9,'Data Maestro Nutrientes '!E$10,'Data Maestro Nutrientes '!E$11,'Data Maestro Nutrientes '!E$12,'Data Maestro Nutrientes '!E$13,'Data Maestro Nutrientes '!E$14,'Data Maestro Nutrientes '!E$15,'Data Maestro Nutrientes '!E$16,'Data Maestro Nutrientes '!E$17,'Data Maestro Nutrientes '!E$18,'Data Maestro Nutrientes '!E$19,'Data Maestro Nutrientes '!E$20,'Data Maestro Nutrientes '!E$21,'Data Maestro Nutrientes '!E$22,'Data Maestro Nutrientes '!E$23)","v":9.5000000000000001E-2},{"$f":"+CHOOSE($A10,'Data Maestro Nutrientes '!F$4,'Data Maestro Nutrientes '!F$5,'Data Maestro Nutrientes '!F$6,'Data Maestro Nutrientes '!F$7,'Data Maestro Nutrientes '!F$8,'Data Maestro Nutrientes '!F$9,'Data Maestro Nutrientes '!F$10,'Data Maestro Nutrientes '!F$11,'Data Maestro Nutrientes '!F$12,'Data Maestro Nutrientes '!F$13,'Data Maestro Nutrientes '!F$14,'Data Maestro Nutrientes '!F$15,'Data Maestro Nutrientes '!F$16,'Data Maestro Nutrientes '!F$17,'Data Maestro Nutrientes '!F$18,'Data Maestro Nutrientes '!F$19,'Data Maestro Nutrientes '!F$20,'Data Maestro Nutrientes '!F$21,'Data Maestro Nutrientes '!F$22,'Data Maestro Nutrientes '!F$23)","v":0.2},{"$f":"+CHOOSE($A10,'Data Maestro Nutrientes '!G$4,'Data Maestro Nutrientes '!G$5,'Data Maestro Nutrientes '!G$6,'Data Maestro Nutrientes '!G$7,'Data Maestro Nutrientes '!G$8,'Data Maestro Nutrientes '!G$9,'Data Maestro Nutrientes '!G$10,'Data Maestro Nutrientes '!G$11,'Data Maestro Nutrientes '!G$12,'Data Maestro Nutrientes '!G$13,'Data Maestro Nutrientes '!G$14,'Data Maestro Nutrientes '!G$15,'Data Maestro Nutrientes '!G$16,'Data Maestro Nutrientes '!G$17,'Data Maestro Nutrientes '!G$18,'Data Maestro Nutrientes '!G$19,'Data Maestro Nutrientes '!G$20,'Data Maestro Nutrientes '!G$21,'Data Maestro Nutrientes '!G$22,'Data Maestro Nutrientes '!G$23)","v":0},{"$f":"+CHOOSE($A10,'Data Maestro Nutrientes '!H$4,'Data Maestro Nutrientes '!H$5,'Data Maestro Nutrientes '!H$6,'Data Maestro Nutrientes '!H$7,'Data Maestro Nutrientes '!H$8,'Data Maestro Nutrientes '!H$9,'Data Maestro Nutrientes '!H$10,'Data Maestro Nutrientes '!H$11,'Data Maestro Nutrientes '!H$12,'Data Maestro Nutrientes '!H$13,'Data Maestro Nutrientes '!H$14,'Data Maestro Nutrientes '!H$15,'Data Maestro Nutrientes '!H$16,'Data Maestro Nutrientes '!H$17,'Data Maestro Nutrientes '!H$18,'Data Maestro Nutrientes '!H$19,'Data Maestro Nutrientes '!H$20,'Data Maestro Nutrientes '!H$21,'Data Maestro Nutrientes '!H$22,'Data Maestro Nutrientes '!H$23)","v":0},{"$f":"+CHOOSE($A10,'Data Maestro Nutrientes '!I$4,'Data Maestro Nutrientes '!I$5,'Data Maestro Nutrientes '!I$6,'Data Maestro Nutrientes '!I$7,'Data Maestro Nutrientes '!I$8,'Data Maestro Nutrientes '!I$9,'Data Maestro Nutrientes '!I$10,'Data Maestro Nutrientes '!I$11,'Data Maestro Nutrientes '!I$12,'Data Maestro Nutrientes '!I$13,'Data Maestro Nutrientes '!I$14,'Data Maestro Nutrientes '!I$15,'Data Maestro Nutrientes '!I$16,'Data Maestro Nutrientes '!I$17,'Data Maestro Nutrientes '!I$18,'Data Maestro Nutrientes '!I$19,'Data Maestro Nutrientes '!I$20,'Data Maestro Nutrientes '!I$21,'Data Maestro Nutrientes '!I$22,'Data Maestro Nutrientes '!I$23)","v":0},{"$f":"+CHOOSE($A10,'Data Maestro Nutrientes '!J$4,'Data Maestro Nutrientes '!J$5,'Data Maestro Nutrientes '!J$6,'Data Maestro Nutrientes '!J$7,'Data Maestro Nutrientes '!J$8,'Data Maestro Nutrientes '!J$9,'Data Maestro Nutrientes '!J$10,'Data Maestro Nutrientes '!J$11,'Data Maestro Nutrientes '!J$12,'Data Maestro Nutrientes '!J$13,'Data Maestro Nutrientes '!J$14,'Data Maestro Nutrientes '!J$15,'Data Maestro Nutrientes '!J$16,'Data Maestro Nutrientes '!J$17,'Data Maestro Nutrientes '!J$18,'Data Maestro Nutrientes '!J$19,'Data Maestro Nutrientes '!J$20,'Data Maestro Nutrientes '!J$21,'Data Maestro Nutrientes '!J$22,'Data Maestro Nutrientes '!J$23)","v":0},{"$f":"+CHOOSE($A10,'Data Maestro Nutrientes '!K$4,'Data Maestro Nutrientes '!K$5,'Data Maestro Nutrientes '!K$6,'Data Maestro Nutrientes '!K$7,'Data Maestro Nutrientes '!K$8,'Data Maestro Nutrientes '!K$9,'Data Maestro Nutrientes '!K$10,'Data Maestro Nutrientes '!K$11,'Data Maestro Nutrientes '!K$12,'Data Maestro Nutrientes '!K$13,'Data Maestro Nutrientes '!K$14,'Data Maestro Nutrientes '!K$15,'Data Maestro Nutrientes '!K$16,'Data Maestro Nutrientes '!K$17,'Data Maestro Nutrientes '!K$18,'Data Maestro Nutrientes '!K$19,'Data Maestro Nutrientes '!K$20,'Data Maestro Nutrientes '!K$21,'Data Maestro Nutrientes '!K$22,'Data Maestro Nutrientes '!K$23)","v":0},{"$f":"+CHOOSE($A10,'Data Maestro Nutrientes '!L$4,'Data Maestro Nutrientes '!L$5,'Data Maestro Nutrientes '!L$6,'Data Maestro Nutrientes '!L$7,'Data Maestro Nutrientes '!L$8,'Data Maestro Nutrientes '!L$9,'Data Maestro Nutrientes '!L$10,'Data Maestro Nutrientes '!L$11,'Data Maestro Nutrientes '!L$12,'Data Maestro Nutrientes '!L$13,'Data Maestro Nutrientes '!L$14,'Data Maestro Nutrientes '!L$15,'Data Maestro Nutrientes '!L$16,'Data Maestro Nutrientes '!L$17,'Data Maestro Nutrientes '!L$18,'Data Maestro Nutrientes '!L$19,'Data Maestro Nutrientes '!L$20,'Data Maestro Nutrientes '!L$21,'Data Maestro Nutrientes '!L$22,'Data Maestro Nutrientes '!L$23)","v":0},{"$f":"+CHOOSE($A10,'Data Maestro Nutrientes '!M$4,'Data Maestro Nutrientes '!M$5,'Data Maestro Nutrientes '!M$6,'Data Maestro Nutrientes '!M$7,'Data Maestro Nutrientes '!M$8,'Data Maestro Nutrientes '!M$9,'Data Maestro Nutrientes '!M$10,'Data Maestro Nutrientes '!M$11,'Data Maestro Nutrientes '!M$12,'Data Maestro Nutrientes '!M$13,'Data Maestro Nutrientes '!M$14,'Data Maestro Nutrientes '!M$15,'Data Maestro Nutrientes '!M$16,'Data Maestro Nutrientes '!M$17,'Data Maestro Nutrientes '!M$18,'Data Maestro Nutrientes '!M$19,'Data Maestro Nutrientes '!M$20,'Data Maestro Nutrientes '!M$21,'Data Maestro Nutrientes '!M$22,'Data Maestro Nutrientes '!M$23)","v":0},{"$f":"+CHOOSE($A10,'Data Maestro Nutrientes '!N$4,'Data Maestro Nutrientes '!N$5,'Data Maestro Nutrientes '!N$6,'Data Maestro Nutrientes '!N$7,'Data Maestro Nutrientes '!N$8,'Data Maestro Nutrientes '!N$9,'Data Maestro Nutrientes '!N$10,'Data Maestro Nutrientes '!N$11,'Data Maestro Nutrientes '!N$12,'Data Maestro Nutrientes '!N$13,'Data Maestro Nutrientes '!N$14,'Data Maestro Nutrientes '!N$15,'Data Maestro Nutrientes '!N$16,'Data Maestro Nutrientes '!N$17,'Data Maestro Nutrientes '!N$18,'Data Maestro Nutrientes '!N$19,'Data Maestro Nutrientes '!N$20,'Data Maestro Nutrientes '!N$21,'Data Maestro Nutrientes '!N$22,'Data Maestro Nutrientes '!N$23)","v":0.5},{"$f":"+CHOOSE($A10,'Data Maestro Nutrientes '!O$4,'Data Maestro Nutrientes '!O$5,'Data Maestro Nutrientes '!O$6,'Data Maestro Nutrientes '!O$7,'Data Maestro Nutrientes '!O$8,'Data Maestro Nutrientes '!O$9,'Data Maestro Nutrientes '!O$10,'Data Maestro Nutrientes '!O$11,'Data Maestro Nutrientes '!O$12,'Data Maestro Nutrientes '!O$13,'Data Maestro Nutrientes '!O$14,'Data Maestro Nutrientes '!O$15,'Data Maestro Nutrientes '!O$16,'Data Maestro Nutrientes '!O$17,'Data Maestro Nutrientes '!O$18,'Data Maestro Nutrientes '!O$19,'Data Maestro Nutrientes '!O$20,'Data Maestro Nutrientes '!O$21,'Data Maestro Nutrientes '!O$22,'Data Maestro Nutrientes '!O$23)","v":0},{"$f":"+CHOOSE($A10,'Data Maestro Nutrientes '!P$4,'Data Maestro Nutrientes '!P$5,'Data Maestro Nutrientes '!P$6,'Data Maestro Nutrientes '!P$7,'Data Maestro Nutrientes '!P$8,'Data Maestro Nutrientes '!P$9,'Data Maestro Nutrientes '!P$10,'Data Maestro Nutrientes '!P$11,'Data Maestro Nutrientes '!P$12,'Data Maestro Nutrientes '!P$13,'Data Maestro Nutrientes '!P$14,'Data Maestro Nutrientes '!P$15,'Data Maestro Nutrientes '!P$16,'Data Maestro Nutrientes '!P$17,'Data Maestro Nutrientes '!P$18,'Data Maestro Nutrientes '!P$19,'Data Maestro Nutrientes '!P$20,'Data Maestro Nutrientes '!P$21,'Data Maestro Nutrientes '!P$22,'Data Maestro Nutrientes '!P$23)","v":0},{"$f":"+CHOOSE($A10,'Data Maestro Nutrientes '!Q$4,'Data Maestro Nutrientes '!Q$5,'Data Maestro Nutrientes '!Q$6,'Data Maestro Nutrientes '!Q$7,'Data Maestro Nutrientes '!Q$8,'Data Maestro Nutrientes '!Q$9,'Data Maestro Nutrientes '!Q$10,'Data Maestro Nutrientes '!Q$11,'Data Maestro Nutrientes '!Q$12,'Data Maestro Nutrientes '!Q$13,'Data Maestro Nutrientes '!Q$14,'Data Maestro Nutrientes '!Q$15,'Data Maestro Nutrientes '!Q$16,'Data Maestro Nutrientes '!Q$17,'Data Maestro Nutrientes '!Q$18,'Data Maestro Nutrientes '!Q$19,'Data Maestro Nutrientes '!Q$20,'Data Maestro Nutrientes '!Q$21,'Data Maestro Nutrientes '!Q$22,'Data Maestro Nutrientes '!Q$23)","v":0},{"$f":"+CHOOSE($A10,'Data Maestro Nutrientes '!R$4,'Data Maestro Nutrientes '!R$5,'Data Maestro Nutrientes '!R$6,'Data Maestro Nutrientes '!R$7,'Data Maestro Nutrientes '!R$8,'Data Maestro Nutrientes '!R$9,'Data Maestro Nutrientes '!R$10,'Data Maestro Nutrientes '!R$11,'Data Maestro Nutrientes '!R$12,'Data Maestro Nutrientes '!R$13,'Data Maestro Nutrientes '!R$14,'Data Maestro Nutrientes '!R$15,'Data Maestro Nutrientes '!R$16,'Data Maestro Nutrientes '!R$17,'Data Maestro Nutrientes '!R$18,'Data Maestro Nutrientes '!R$19,'Data Maestro Nutrientes '!R$20,'Data Maestro Nutrientes '!R$21,'Data Maestro Nutrientes '!R$22,'Data Maestro Nutrientes '!R$23)","v":0},{"$f":"+CHOOSE($A10,'Data Maestro Nutrientes '!S$4,'Data Maestro Nutrientes '!S$5,'Data Maestro Nutrientes '!S$6,'Data Maestro Nutrientes '!S$7,'Data Maestro Nutrientes '!S$8,'Data Maestro Nutrientes '!S$9,'Data Maestro Nutrientes '!S$10,'Data Maestro Nutrientes '!S$11,'Data Maestro Nutrientes '!S$12,'Data Maestro Nutrientes '!S$13,'Data Maestro Nutrientes '!S$14,'Data Maestro Nutrientes '!S$15,'Data Maestro Nutrientes '!S$16,'Data Maestro Nutrientes '!S$17,'Data Maestro Nutrientes '!S$18,'Data Maestro Nutrientes '!S$19,'Data Maestro Nutrientes '!S$20,'Data Maestro Nutrientes '!S$21,'Data Maestro Nutrientes '!S$22,'Data Maestro Nutrientes '!S$23)","v":0},{"$f":"+CHOOSE($A10,'Data Maestro Nutrientes '!T$4,'Data Maestro Nutrientes '!T$5,'Data Maestro Nutrientes '!T$6,'Data Maestro Nutrientes '!T$7,'Data Maestro Nutrientes '!T$8,'Data Maestro Nutrientes '!T$9,'Data Maestro Nutrientes '!T$10,'Data Maestro Nutrientes '!T$11,'Data Maestro Nutrientes '!T$12,'Data Maestro Nutrientes '!T$13,'Data Maestro Nutrientes '!T$14,'Data Maestro Nutrientes '!T$15,'Data Maestro Nutrientes '!T$16,'Data Maestro Nutrientes '!T$17,'Data Maestro Nutrientes '!T$18,'Data Maestro Nutrientes '!T$19,'Data Maestro Nutrientes '!T$20,'Data Maestro Nutrientes '!T$21,'Data Maestro Nutrientes '!T$22,'Data Maestro Nutrientes '!T$23)","v":0},{"$f":"+CHOOSE($A10,'Data Maestro Nutrientes '!U$4,'Data Maestro Nutrientes '!U$5,'Data Maestro Nutrientes '!U$6,'Data Maestro Nutrientes '!U$7,'Data Maestro Nutrientes '!U$8,'Data Maestro Nutrientes '!U$9,'Data Maestro Nutrientes '!U$10,'Data Maestro Nutrientes '!U$11,'Data Maestro Nutrientes '!U$12,'Data Maestro Nutrientes '!U$13,'Data Maestro Nutrientes '!U$14,'Data Maestro Nutrientes '!U$15,'Data Maestro Nutrientes '!U$16,'Data Maestro Nutrientes '!U$17,'Data Maestro Nutrientes '!U$18,'Data Maestro Nutrientes '!U$19,'Data Maestro Nutrientes '!U$20,'Data Maestro Nutrientes '!U$21,'Data Maestro Nutrientes '!U$22,'Data Maestro Nutrientes '!U$23)","v":0},{"$f":"+CHOOSE($A10,'Data Maestro Nutrientes '!V$4,'Data Maestro Nutrientes '!V$5,'Data Maestro Nutrientes '!V$6,'Data Maestro Nutrientes '!V$7,'Data Maestro Nutrientes '!V$8,'Data Maestro Nutrientes '!V$9,'Data Maestro Nutrientes '!V$10,'Data Maestro Nutrientes '!V$11,'Data Maestro Nutrientes '!V$12,'Data Maestro Nutrientes '!V$13,'Data Maestro Nutrientes '!V$14,'Data Maestro Nutrientes '!V$15,'Data Maestro Nutrientes '!V$16,'Data Maestro Nutrientes '!V$17,'Data Maestro Nutrientes '!V$18,'Data Maestro Nutrientes '!V$19,'Data Maestro Nutrientes '!V$20,'Data Maestro Nutrientes '!V$21,'Data Maestro Nutrientes '!V$22,'Data Maestro Nutrientes '!V$23)","v":0},{"$f":"+CHOOSE($A10,'Data Maestro Nutrientes '!W$4,'Data Maestro Nutrientes '!W$5,'Data Maestro Nutrientes '!W$6,'Data Maestro Nutrientes '!W$7,'Data Maestro Nutrientes '!W$8,'Data Maestro Nutrientes '!W$9,'Data Maestro Nutrientes '!W$10,'Data Maestro Nutrientes '!W$11,'Data Maestro Nutrientes '!W$12,'Data Maestro Nutrientes '!W$13,'Data Maestro Nutrientes '!W$14,'Data Maestro Nutrientes '!W$15,'Data Maestro Nutrientes '!W$16,'Data Maestro Nutrientes '!W$17,'Data Maestro Nutrientes '!W$18,'Data Maestro Nutrientes '!W$19,'Data Maestro Nutrientes '!W$20,'Data Maestro Nutrientes '!W$21,'Data Maestro Nutrientes '!W$22,'Data Maestro Nutrientes '!W$23)","v":0.52},{"$f":"+CHOOSE($A10,'Data Maestro Nutrientes '!X$4,'Data Maestro Nutrientes '!X$5,'Data Maestro Nutrientes '!X$6,'Data Maestro Nutrientes '!X$7,'Data Maestro Nutrientes '!X$8,'Data Maestro Nutrientes '!X$9,'Data Maestro Nutrientes '!X$10,'Data Maestro Nutrientes '!X$11,'Data Maestro Nutrientes '!X$12,'Data Maestro Nutrientes '!X$13,'Data Maestro Nutrientes '!X$14,'Data Maestro Nutrientes '!X$15,'Data Maestro Nutrientes '!X$16,'Data Maestro Nutrientes '!X$17,'Data Maestro Nutrientes '!X$18,'Data Maestro Nutrientes '!X$19,'Data Maestro Nutrientes '!X$20,'Data Maestro Nutrientes '!X$21,'Data Maestro Nutrientes '!X$22,'Data Maestro Nutrientes '!X$23)","v":0},{"$f":"+CHOOSE($A10,'Data Maestro Nutrientes '!Y$4,'Data Maestro Nutrientes '!Y$5,'Data Maestro Nutrientes '!Y$6,'Data Maestro Nutrientes '!Y$7,'Data Maestro Nutrientes '!Y$8,'Data Maestro Nutrientes '!Y$9,'Data Maestro Nutrientes '!Y$10,'Data Maestro Nutrientes '!Y$11,'Data Maestro Nutrientes '!Y$12,'Data Maestro Nutrientes '!Y$13,'Data Maestro Nutrientes '!Y$14,'Data Maestro Nutrientes '!Y$15,'Data Maestro Nutrientes '!Y$16,'Data Maestro Nutrientes '!Y$17,'Data Maestro Nutrientes '!Y$18,'Data Maestro Nutrientes '!Y$19,'Data Maestro Nutrientes '!Y$20,'Data Maestro Nutrientes '!Y$21,'Data Maestro Nutrientes '!Y$22,'Data Maestro Nutrientes '!Y$23)","v":0},{"$f":"+CHOOSE($A10,'Data Maestro Nutrientes '!Z$4,'Data Maestro Nutrientes '!Z$5,'Data Maestro Nutrientes '!Z$6,'Data Maestro Nutrientes '!Z$7,'Data Maestro Nutrientes '!Z$8,'Data Maestro Nutrientes '!Z$9,'Data Maestro Nutrientes '!Z$10,'Data Maestro Nutrientes '!Z$11,'Data Maestro Nutrientes '!Z$12,'Data Maestro Nutrientes '!Z$13,'Data Maestro Nutrientes '!Z$14,'Data Maestro Nutrientes '!Z$15,'Data Maestro Nutrientes '!Z$16,'Data Maestro Nutrientes '!Z$17,'Data Maestro Nutrientes '!Z$18,'Data Maestro Nutrientes '!Z$19,'Data Maestro Nutrientes '!Z$20,'Data Maestro Nutrientes '!Z$21,'Data Maestro Nutrientes '!Z$22,'Data Maestro Nutrientes '!Z$23)","v":0},{"$f":"+CHOOSE($A10,'Data Maestro Nutrientes '!AA$4,'Data Maestro Nutrientes '!AA$5,'Data Maestro Nutrientes '!AA$6,'Data Maestro Nutrientes '!AA$7,'Data Maestro Nutrientes '!AA$8,'Data Maestro Nutrientes '!AA$9,'Data Maestro Nutrientes '!AA$10,'Data Maestro Nutrientes '!AA$11,'Data Maestro Nutrientes '!AA$12,'Data Maestro Nutrientes '!AA$13,'Data Maestro Nutrientes '!AA$14,'Data Maestro Nutrientes '!AA$15,'Data Maestro Nutrientes '!AA$16,'Data Maestro Nutrientes '!AA$17,'Data Maestro Nutrientes '!AA$18,'Data Maestro Nutrientes '!AA$19,'Data Maestro Nutrientes '!AA$20,'Data Maestro Nutrientes '!AA$21,'Data Maestro Nutrientes '!AA$22,'Data Maestro Nutrientes '!AA$23)","v":0},{"$f":"+CHOOSE($A10,'Data Maestro Nutrientes '!AB$4,'Data Maestro Nutrientes '!AB$5,'Data Maestro Nutrientes '!AB$6,'Data Maestro Nutrientes '!AB$7,'Data Maestro Nutrientes '!AB$8,'Data Maestro Nutrientes '!AB$9,'Data Maestro Nutrientes '!AB$10,'Data Maestro Nutrientes '!AB$11,'Data Maestro Nutrientes '!AB$12,'Data Maestro Nutrientes '!AB$13,'Data Maestro Nutrientes '!AB$14,'Data Maestro Nutrientes '!AB$15,'Data Maestro Nutrientes '!AB$16,'Data Maestro Nutrientes '!AB$17,'Data Maestro Nutrientes '!AB$18,'Data Maestro Nutrientes '!AB$19,'Data Maestro Nutrientes '!AB$20,'Data Maestro Nutrientes '!AB$21,'Data Maestro Nutrientes '!AB$22,'Data Maestro Nutrientes '!AB$23)","v":0},{"$f":"+CHOOSE($A10,'Data Maestro Nutrientes '!AC$4,'Data Maestro Nutrientes '!AC$5,'Data Maestro Nutrientes '!AC$6,'Data Maestro Nutrientes '!AC$7,'Data Maestro Nutrientes '!AC$8,'Data Maestro Nutrientes '!AC$9,'Data Maestro Nutrientes '!AC$10,'Data Maestro Nutrientes '!AC$11,'Data Maestro Nutrientes '!AC$12,'Data Maestro Nutrientes '!AC$13,'Data Maestro Nutrientes '!AC$14,'Data Maestro Nutrientes '!AC$15,'Data Maestro Nutrientes '!AC$16,'Data Maestro Nutrientes '!AC$17,'Data Maestro Nutrientes '!AC$18,'Data Maestro Nutrientes '!AC$19,'Data Maestro Nutrientes '!AC$20,'Data Maestro Nutrientes '!AC$21,'Data Maestro Nutrientes '!AC$22,'Data Maestro Nutrientes '!AC$23)","v":0},{"$f":"+CHOOSE($A10,'Data Maestro Nutrientes '!AD$4,'Data Maestro Nutrientes '!AD$5,'Data Maestro Nutrientes '!AD$6,'Data Maestro Nutrientes '!AD$7,'Data Maestro Nutrientes '!AD$8,'Data Maestro Nutrientes '!AD$9,'Data Maestro Nutrientes '!AD$10,'Data Maestro Nutrientes '!AD$11,'Data Maestro Nutrientes '!AD$12,'Data Maestro Nutrientes '!AD$13,'Data Maestro Nutrientes '!AD$14,'Data Maestro Nutrientes '!AD$15,'Data Maestro Nutrientes '!AD$16,'Data Maestro Nutrientes '!AD$17,'Data Maestro Nutrientes '!AD$18,'Data Maestro Nutrientes '!AD$19,'Data Maestro Nutrientes '!AD$20,'Data Maestro Nutrientes '!AD$21,'Data Maestro Nutrientes '!AD$22,'Data Maestro Nutrientes '!AD$23)","v":0}]
[10,{"$f":"+IF(AND(A11>=1,A11<=20),VLOOKUP(A11,'Data Maestro Nutrientes '!$A$2:$AD$23,2),0)","v":"E.E"},{"$f":"+CHOOSE($A11,'Data Maestro Nutrientes '!C$4,'Data Maestro Nutrientes '!C$5,'Data Maestro Nutrientes '!C$6,'Data Maestro Nutrientes '!C$7,'Data Maestro Nutrientes '!C$8,'Data Maestro Nutrientes '!C$9,'Data Maestro Nutrientes '!C$10,'Data Maestro Nutrientes '!C$11,'Data Maestro Nutrientes '!C$12,'Data Maestro Nutrientes '!C$13,'Data Maestro Nutrientes '!C$14,'Data Maestro Nutrientes '!C$15,'Data Maestro Nutrientes '!C$16,'Data Maestro Nutrientes '!C$17,'Data Maestro Nutrientes '!C$18,'Data Maestro Nutrientes '!C$19,'Data Maestro Nutrientes '!C$20,'Data Maestro Nutrientes '!C$21,'Data Maestro Nutrientes '!C$22,'Data Maestro Nutrientes '!C$23)","v":0.04},{"$f":"+CHOOSE($A11,'Data Maestro Nutrientes '!D$4,'Data Maestro Nutrientes '!D$5,'Data Maestro Nutrientes '!D$6,'Data Maestro Nutrientes '!D$7,'Data Maestro Nutrientes '!D$8,'Data Maestro Nutrientes '!D$9,'Data Maestro Nutrientes '!D$10,'Data Maestro Nutrientes '!D$11,'Data Maestro Nutrientes '!D$12,'Data Maestro Nutrientes '!D$13,'Data Maestro Nutrientes '!D$14,'Data Maestro Nutrientes '!D$15,'Data Maestro Nutrientes '!D$16,'Data Maestro Nutrientes '!D$17,'Data Maestro Nutrientes '!D$18,'Data Maestro Nutrientes '!D$19,'Data Maestro Nutrientes '!D$20,'Data Maestro Nutrientes '!D$21,'Data Maestro Nutrientes '!D$22,'Data Maestro Nutrientes '!D$23)","v":0.02},{"$f":"+CHOOSE($A11,'Data Maestro Nutrientes '!E$4,'Data Maestro Nutrientes '!E$5,'Data Maestro Nutrientes '!E$6,'Data Maestro Nutrientes '!E$7,'Data Maestro Nutrientes '!E$8,'Data Maestro Nutrientes '!E$9,'Data Maestro Nutrientes '!E$10,'Data Maestro Nutrientes '!E$11,'Data Maestro Nutrientes '!E$12,'Data Maestro Nutrientes '!E$13,'Data Maestro Nutrientes '!E$14,'Data Maestro Nutrientes '!E$15,'Data Maestro Nutrientes '!E$16,'Data Maestro Nutrientes '!E$17,'Data Maestro Nutrientes '!E$18,'Data Maestro Nutrientes '!E$19,'Data Maestro Nutrientes '!E$20,'Data Maestro Nutrientes '!E$21,'Data Maestro Nutrientes '!E$22,'Data Maestro Nutrientes '!E$23)","v":0.04},{"$f":"+CHOOSE($A11,'Data Maestro Nutrientes '!F$4,'Data Maestro Nutrientes '!F$5,'Data Maestro Nutrientes '!F$6,'Data Maestro Nutrientes '!F$7,'Data Maestro Nutrientes '!F$8,'Data Maestro Nutrientes '!F$9,'Data Maestro Nutrientes '!F$10,'Data Maestro Nutrientes '!F$11,'Data Maestro Nutrientes '!F$12,'Data Maestro Nutrientes '!F$13,'Data Maestro Nutrientes '!F$14,'Data Maestro Nutrientes '!F$15,'Data Maestro Nutrientes '!F$16,'Data Maestro Nutrientes '!F$17,'Data Maestro Nutrientes '!F$18,'Data Maestro Nutrientes '!F$19,'Data Maestro Nutrientes '!F$20,'Data Maestro Nutrientes '!F$21,'Data Maestro Nutrientes '!F$22,'Data Maestro Nutrientes '!F$23)","v":0.22},{"$f":"+CHOOSE($A11,'Data Maestro Nutrientes '!G$4,'Data Maestro Nutrientes '!G$5,'Data Maestro Nutrientes '!G$6,'Data Maestro Nutrientes '!G$7,'Data Maestro Nutrientes '!G$8,'Data Maestro Nutrientes '!G$9,'Data Maestro Nutrientes '!G$10,'Data Maestro Nutrientes '!G$11,'Data Maestro Nutrientes '!G$12,'Data Maestro Nutrientes '!G$13,'Data Maestro Nutrientes '!G$14,'Data Maestro Nutrientes '!G$15,'Data Maestro Nutrientes '!G$16,'Data Maestro Nutrientes '!G$17,'Data Maestro Nutrientes '!G$18,'Data Maestro Nutrientes '!G$19,'Data Maestro Nutrientes '!G$20,'Data Maestro Nutrientes '!G$21,'Data Maestro Nutrientes '!G$22,'Data Maestro Nutrientes '!G$23)","v":0},{"$f":"+CHOOSE($A11,'Data Maestro Nutrientes '!H$4,'Data Maestro Nutrientes '!H$5,'Data Maestro Nutrientes '!H$6,'Data Maestro Nutrientes '!H$7,'Data Maestro Nutrientes '!H$8,'Data Maestro Nutrientes '!H$9,'Data Maestro Nutrientes '!H$10,'Data Maestro Nutrientes '!H$11,'Data Maestro Nutrientes '!H$12,'Data Maestro Nutrientes '!H$13,'Data Maestro Nutrientes '!H$14,'Data Maestro Nutrientes '!H$15,'Data Maestro Nutrientes '!H$16,'Data Maestro Nutrientes '!H$17,'Data Maestro Nutrientes '!H$18,'Data Maestro Nutrientes '!H$19,'Data Maestro Nutrientes '!H$20,'Data Maestro Nutrientes '!H$21,'Data Maestro Nutrientes '!H$22,'Data Maestro Nutrientes '!H$23)","v":0},{"$f":"+CHOOSE($A11,'Data Maestro Nutrientes '!I$4,'Data Maestro Nutrientes '!I$5,'Data Maestro Nutrientes '!I$6,'Data Maestro Nutrientes '!I$7,'Data Maestro Nutrientes '!I$8,'Data Maestro Nutrientes '!I$9,'Data Maestro Nutrientes '!I$10,'Data Maestro Nutrientes '!I$11,'Data Maestro Nutrientes '!I$12,'Data Maestro Nutrientes '!I$13,'Data Maestro Nutrientes '!I$14,'Data Maestro Nutrientes '!I$15,'Data Maestro Nutrientes '!I$16,'Data Maestro Nutrientes '!I$17,'Data Maestro Nutrientes '!I$18,'Data Maestro Nutrientes '!I$19,'Data Maestro Nutrientes '!I$20,'Data Maestro Nutrientes '!I$21,'Data Maestro Nutrientes '!I$22,'Data Maestro Nutrientes '!I$23)","v":0},{"$f":"+CHOOSE($A11,'Data Maestro Nutrientes '!J$4,'Data Maestro Nutrientes '!J$5,'Data Maestro Nutrientes '!J$6,'Data Maestro Nutrientes '!J$7,'Data Maestro Nutrientes '!J$8,'Data Maestro Nutrientes '!J$9,'Data Maestro Nutrientes '!J$10,'Data Maestro Nutrientes '!J$11,'Data Maestro Nutrientes '!J$12,'Data Maestro Nutrientes '!J$13,'Data Maestro Nutrientes '!J$14,'Data Maestro Nutrientes '!J$15,'Data Maestro Nutrientes '!J$16,'Data Maestro Nutrientes '!J$17,'Data Maestro Nutrientes '!J$18,'Data Maestro Nutrientes '!J$19,'Data Maestro Nutrientes '!J$20,'Data Maestro Nutrientes '!J$21,'Data Maestro Nutrientes '!J$22,'Data Maestro Nutrientes '!J$23)","v":0},{"$f":"+CHOOSE($A11,'Data Maestro Nutrientes '!K$4,'Data Maestro Nutrientes '!K$5,'Data Maestro Nutrientes '!K$6,'Data Maestro Nutrientes '!K$7,'Data Maestro Nutrientes '!K$8,'Data Maestro Nutrientes '!K$9,'Data Maestro Nutrientes '!K$10,'Data Maestro Nutrientes '!K$11,'Data Maestro Nutrientes '!K$12,'Data Maestro Nutrientes '!K$13,'Data Maestro Nutrientes '!K$14,'Data Maestro Nutrientes '!K$15,'Data Maestro Nutrientes '!K$16,'Data Maestro Nutrientes '!K$17,'Data Maestro Nutrientes '!K$18,'Data Maestro Nutrientes '!K$19,'Data Maestro Nutrientes '!K$20,'Data Maestro Nutrientes '!K$21,'Data Maestro Nutrientes '!K$22,'Data Maestro Nutrientes '!K$23)","v":0},{"$f":"+CHOOSE($A11,'Data Maestro Nutrientes '!L$4,'Data Maestro Nutrientes '!L$5,'Data Maestro Nutrientes '!L$6,'Data Maestro Nutrientes '!L$7,'Data Maestro Nutrientes '!L$8,'Data Maestro Nutrientes '!L$9,'Data Maestro Nutrientes '!L$10,'Data Maestro Nutrientes '!L$11,'Data Maestro Nutrientes '!L$12,'Data Maestro Nutrientes '!L$13,'Data Maestro Nutrientes '!L$14,'Data Maestro Nutrientes '!L$15,'Data Maestro Nutrientes '!L$16,'Data Maestro Nutrientes '!L$17,'Data Maestro Nutrientes '!L$18,'Data Maestro Nutrientes '!L$19,'Data Maestro Nutrientes '!L$20,'Data Maestro Nutrientes '!L$21,'Data Maestro Nutrientes '!L$22,'Data Maestro Nutrientes '!L$23)","v":0},{"$f":"+CHOOSE($A11,'Data Maestro Nutrientes '!M$4,'Data Maestro Nutrientes '!M$5,'Data Maestro Nutrientes '!M$6,'Data Maestro Nutrientes '!M$7,'Data Maestro Nutrientes '!M$8,'Data Maestro Nutrientes '!M$9,'Data Maestro Nutrientes '!M$10,'Data Maestro Nutrientes '!M$11,'Data Maestro Nutrientes '!M$12,'Data Maestro Nutrientes '!M$13,'Data Maestro Nutrientes '!M$14,'Data Maestro Nutrientes '!M$15,'Data Maestro Nutrientes '!M$16,'Data Maestro Nutrientes '!M$17,'Data Maestro Nutrientes '!M$18,'Data Maestro Nutrientes '!M$19,'Data Maestro Nutrientes '!M$20,'Data Maestro Nutrientes '!M$21,'Data Maestro Nutrientes '!M$22,'Data Maestro Nutrientes '!M$23)","v":0.84},{"$f":"+CHOOSE($A11,'Data Maestro Nutrientes '!N$4,'Data Maestro Nutrientes '!N$5,'Data Maestro Nutrientes '!N$6,'Data Maestro Nutrientes '!N$7,'Data Maestro Nutrientes '!N$8,'Data Maestro Nutrientes '!N$9,'Data Maestro Nutrientes '!N$10,'Data Maestro Nutrientes '!N$11,'Data Maestro Nutrientes '!N$12,'Data Maestro Nutrientes '!N$13,'Data Maestro Nutrientes '!N$14,'Data Maestro Nutrientes '!N$15,'Data Maestro Nutrientes '!N$16,'Data Maestro Nutrientes '!N$17,'Data Maestro Nutrientes '!N$18,'Data Maestro Nutrientes '!N$19,'Data Maestro Nutrientes '!N$20,'Data Maestro Nutrientes '!N$21,'Data Maestro Nutrientes '!N$22,'Data Maestro Nutrientes '!N$23)","v":0.19},{"$f":"+CHOOSE($A11,'Data Maestro Nutrientes '!O$4,'Data Maestro Nutrientes '!O$5,'Data Maestro Nutrientes '!O$6,'Data Maestro Nutrientes '!O$7,'Data Maestro Nutrientes '!O$8,'Data Maestro Nutrientes '!O$9,'Data Maestro Nutrientes '!O$10,'Data Maestro Nutrientes '!O$11,'Data Maestro Nutrientes '!O$12,'Data Maestro Nutrientes '!O$13,'Data Maestro Nutrientes '!O$14,'Data Maestro Nutrientes '!O$15,'Data Maestro Nutrientes '!O$16,'Data Maestro Nutrientes '!O$17,'Data Maestro Nutrientes '!O$18,'Data Maestro Nutrientes '!O$19,'Data Maestro Nutrientes '!O$20,'Data Maestro Nutrientes '!O$21,'Data Maestro Nutrientes '!O$22,'Data Maestro Nutrientes '!O$23)","v":0},{"$f":"+CHOOSE($A11,'Data Maestro Nutrientes '!P$4,'Data Maestro Nutrientes '!P$5,'Data Maestro Nutrientes '!P$6,'Data Maestro Nutrientes '!P$7,'Data Maestro Nutrientes '!P$8,'Data Maestro Nutrientes '!P$9,'Data Maestro Nutrientes '!P$10,'Data Maestro Nutrientes '!P$11,'Data Maestro Nutrientes '!P$12,'Data Maestro Nutrientes '!P$13,'Data Maestro Nutrientes '!P$14,'Data Maestro Nutrientes '!P$15,'Data Maestro Nutrientes '!P$16,'Data Maestro Nutrientes '!P$17,'Data Maestro Nutrientes '!P$18,'Data Maestro Nutrientes '!P$19,'Data Maestro Nutrientes '!P$20,'Data Maestro Nutrientes '!P$21,'Data Maestro Nutrientes '!P$22,'Data Maestro Nutrientes '!P$23)","v":0},{"$f":"+CHOOSE($A11,'Data Maestro Nutrientes '!Q$4,'Data Maestro Nutrientes '!Q$5,'Data Maestro Nutrientes '!Q$6,'Data Maestro Nutrientes '!Q$7,'Data Maestro Nutrientes '!Q$8,'Data Maestro Nutrientes '!Q$9,'Data Maestro Nutrientes '!Q$10,'Data Maestro Nutrientes '!Q$11,'Data Maestro Nutrientes '!Q$12,'Data Maestro Nutrientes '!Q$13,'Data Maestro Nutrientes '!Q$14,'Data Maestro Nutrientes '!Q$15,'Data Maestro Nutrientes '!Q$16,'Data Maestro Nutrientes '!Q$17,'Data Maestro Nutrientes '!Q$18,'Data Maestro Nutrientes '!Q$19,'Data Maestro Nutrientes '!Q$20,'Data Maestro Nutrientes '!Q$21,'Data Maestro Nutrientes '!Q$22,'Data Maestro Nutrientes '!Q$23)","v":0},{"$f":"+CHOOSE($A11,'Data Maestro Nutrientes '!R$4,'Data Maestro Nutrientes '!R$5,'Data Maestro Nutrientes '!R$6,'Data Maestro Nutrientes '!R$7,'Data Maestro Nutrientes '!R$8,'Data Maestro Nutrientes '!R$9,'Data Maestro Nutrientes '!R$10,'Data Maestro Nutrientes '!R$11,'Data Maestro Nutrientes '!R$12,'Data Maestro Nutrientes '!R$13,'Data Maestro Nutrientes '!R$14,'Data Maestro Nutrientes '!R$15,'Data Maestro Nutrientes '!R$16,'Data Maestro Nutrientes '!R$17,'Data Maestro Nutrientes '!R$18,'Data Maestro Nutrientes '!R$19,'Data Maestro Nutrientes '!R$20,'Data Maestro Nutrientes '!R$21,'Data Maestro Nutrientes '!R$22,'Data Maestro Nutrientes '!R$23)","v":0},{"$f":"+CHOOSE($A11,'Data Maestro Nutrientes '!S$4,'Data Maestro Nutrientes '!S$5,'Data Maestro Nutrientes '!S$6,'Data Maestro Nutrientes '!S$7,'Data Maestro Nutrientes '!S$8,'Data Maestro Nutrientes '!S$9,'Data Maestro Nutrientes '!S$10,'Data Maestro Nutrientes '!S$11,'Data Maestro Nutrientes '!S$12,'Data Maestro Nutrientes '!S$13,'Data Maestro Nutrientes '!S$14,'Data Maestro Nutrientes '!S$15,'Data Maestro Nutrientes '!S$16,'Data Maestro Nutrientes '!S$17,'Data Maestro Nutrientes '!S$18,'Data Maestro Nutrientes '!S$19,'Data Maestro Nutrientes '!S$20,'Data Maestro Nutrientes '!S$21,'Data Maestro Nutrientes '!S$22,'Data Maestro Nutrientes '!S$23)","v":0},{"$f":"+CHOOSE($A11,'Data Maestro Nutrientes '!T$4,'Data Maestro Nutrientes '!T$5,'Data Maestro Nutrientes '!T$6,'Data Maestro Nutrientes '!T$7,'Data Maestro Nutrientes '!T$8,'Data Maestro Nutrientes '!T$9,'Data Maestro Nutrientes '!T$10,'Data Maestro Nutrientes '!T$11,'Data Maestro Nutrientes '!T$12,'Data Maestro Nutrientes '!T$13,'Data Maestro Nutrientes '!T$14,'Data Maestro Nutrientes '!T$15,'Data Maestro Nutrientes '!T$16,'Data Maestro Nutrientes '!T$17,'Data Maestro Nutrientes '!T$18,'Data Maestro Nutrientes '!T$19,'Data Maestro Nutrientes '!T$20,'Data Maestro Nutrientes '!T$21,'Data Maestro Nutrientes '!T$22,'Data Maestro Nutrientes '!T$23)","v":0},{"$f":"+CHOOSE($A11,'Data Maestro Nutrientes '!U$4,'Data Maestro Nutrientes '!U$5,'Data Maestro Nutrientes '!U$6,'Data Maestro Nutrientes '!U$7,'Data Maestro Nutrientes '!U$8,'Data Maestro Nutrientes '!U$9,'Data Maestro Nutrientes '!U$10,'Data Maestro Nutrientes '!U$11,'Data Maestro Nutrientes '!U$12,'Data Maestro Nutrientes '!U$13,'Data Maestro Nutrientes '!U$14,'Data Maestro Nutrientes '!U$15,'Data Maestro Nutrientes '!U$16,'Data Maestro Nutrientes '!U$17,'Data Maestro Nutrientes '!U$18,'Data Maestro Nutrientes '!U$19,'Data Maestro Nutrientes '!U$20,'Data Maestro Nutrientes '!U$21,'Data Maestro Nutrientes '!U$22,'Data Maestro Nutrientes '!U$23)","v":0},{"$f":"+CHOOSE($A11,'Data Maestro Nutrientes '!V$4,'Data Maestro Nutrientes '!V$5,'Data Maestro Nutrientes '!V$6,'Data Maestro Nutrientes '!V$7,'Data Maestro Nutrientes '!V$8,'Data Maestro Nutrientes '!V$9,'Data Maestro Nutrientes '!V$10,'Data Maestro Nutrientes '!V$11,'Data Maestro Nutrientes '!V$12,'Data Maestro Nutrientes '!V$13,'Data Maestro Nutrientes '!V$14,'Data Maestro Nutrientes '!V$15,'Data Maestro Nutrientes '!V$16,'Data Maestro Nutrientes '!V$17,'Data Maestro Nutrientes '!V$18,'Data Maestro Nutrientes '!V$19,'Data Maestro Nutrientes '!V$20,'Data Maestro Nutrientes '!V$21,'Data Maestro Nutrientes '!V$22,'Data Maestro Nutrientes '!V$23)","v":0},{"$f":"+CHOOSE($A11,'Data Maestro Nutrientes '!W$4,'Data Maestro Nutrientes '!W$5,'Data Maestro Nutrientes '!W$6,'Data Maestro Nutrientes '!W$7,'Data Maestro Nutrientes '!W$8,'Data Maestro Nutrientes '!W$9,'Data Maestro Nutrientes '!W$10,'Data Maestro Nutrientes '!W$11,'Data Maestro Nutrientes '!W$12,'Data Maestro Nutrientes '!W$13,'Data Maestro Nutrientes '!W$14,'Data Maestro Nutrientes '!W$15,'Data Maestro Nutrientes '!W$16,'Data Maestro Nutrientes '!W$17,'Data Maestro Nutrientes '!W$18,'Data Maestro Nutrientes '!W$19,'Data Maestro Nutrientes '!W$20,'Data Maestro Nutrientes '!W$21,'Data Maestro Nutrientes '!W$22,'Data Maestro Nutrientes '!W$23)","v":0.02},{"$f":"+CHOOSE($A11,'Data Maestro Nutrientes '!X$4,'Data Maestro Nutrientes '!X$5,'Data Maestro Nutrientes '!X$6,'Data Maestro Nutrientes '!X$7,'Data Maestro Nutrientes '!X$8,'Data Maestro Nutrientes '!X$9,'Data Maestro Nutrientes '!X$10,'Data Maestro Nutrientes '!X$11,'Data Maestro Nutrientes '!X$12,'Data Maestro Nutrientes '!X$13,'Data Maestro Nutrientes '!X$14,'Data Maestro Nutrientes '!X$15,'Data Maestro Nutrientes '!X$16,'Data Maestro Nutrientes '!X$17,'Data Maestro Nutrientes '!X$18,'Data Maestro Nutrientes '!X$19,'Data Maestro Nutrientes '!X$20,'Data Maestro Nutrientes '!X$21,'Data Maestro Nutrientes '!X$22,'Data Maestro Nutrientes '!X$23)","v":0},{"$f":"+CHOOSE($A11,'Data Maestro Nutrientes '!Y$4,'Data Maestro Nutrientes '!Y$5,'Data Maestro Nutrientes '!Y$6,'Data Maestro Nutrientes '!Y$7,'Data Maestro Nutrientes '!Y$8,'Data Maestro Nutrientes '!Y$9,'Data Maestro Nutrientes '!Y$10,'Data Maestro Nutrientes '!Y$11,'Data Maestro Nutrientes '!Y$12,'Data Maestro Nutrientes '!Y$13,'Data Maestro Nutrientes '!Y$14,'Data Maestro Nutrientes '!Y$15,'Data Maestro Nutrientes '!Y$16,'Data Maestro Nutrientes '!Y$17,'Data Maestro Nutrientes '!Y$18,'Data Maestro Nutrientes '!Y$19,'Data Maestro Nutrientes '!Y$20,'Data Maestro Nutrientes '!Y$21,'Data Maestro Nutrientes '!Y$22,'Data Maestro Nutrientes '!Y$23)","v":0},{"$f":"+CHOOSE($A11,'Data Maestro Nutrientes '!Z$4,'Data Maestro Nutrientes '!Z$5,'Data Maestro Nutrientes '!Z$6,'Data Maestro Nutrientes '!Z$7,'Data Maestro Nutrientes '!Z$8,'Data Maestro Nutrientes '!Z$9,'Data Maestro Nutrientes '!Z$10,'Data Maestro Nutrientes '!Z$11,'Data Maestro Nutrientes '!Z$12,'Data Maestro Nutrientes '!Z$13,'Data Maestro Nutrientes '!Z$14,'Data Maestro Nutrientes '!Z$15,'Data Maestro Nutrientes '!Z$16,'Data Maestro Nutrientes '!Z$17,'Data Maestro Nutrientes '!Z$18,'Data Maestro Nutrientes '!Z$19,'Data Maestro Nutrientes '!Z$20,'Data Maestro Nutrientes '!Z$21,'Data Maestro Nutrientes '!Z$22,'Data Maestro Nutrientes '!Z$23)","v":0},{"$f":"+CHOOSE($A11,'Data Maestro Nutrientes '!AA$4,'Data Maestro Nutrientes '!AA$5,'Data Maestro Nutrientes '!AA$6,'Data Maestro Nutrientes '!AA$7,'Data Maestro Nutrientes '!AA$8,'Data Maestro Nutrientes '!AA$9,'Data Maestro Nutrientes '!AA$10,'Data Maestro Nutrientes '!AA$11,'Data Maestro Nutrientes '!AA$12,'Data Maestro Nutrientes '!AA$13,'Data Maestro Nutrientes '!AA$14,'Data Maestro Nutrientes '!AA$15,'Data Maestro Nutrientes '!AA$16,'Data Maestro Nutrientes '!AA$17,'Data Maestro Nutrientes '!AA$18,'Data Maestro Nutrientes '!AA$19,'Data Maestro Nutrientes '!AA$20,'Data Maestro Nutrientes '!AA$21,'Data Maestro Nutrientes '!AA$22,'Data Maestro Nutrientes '!AA$23)","v":0},{"$f":"+CHOOSE($A11,'Data Maestro Nutrientes '!AB$4,'Data Maestro Nutrientes '!AB$5,'Data Maestro Nutrientes '!AB$6,'Data Maestro Nutrientes '!AB$7,'Data Maestro Nutrientes '!AB$8,'Data Maestro Nutrientes '!AB$9,'Data Maestro Nutrientes '!AB$10,'Data Maestro Nutrientes '!AB$11,'Data Maestro Nutrientes '!AB$12,'Data Maestro Nutrientes '!AB$13,'Data Maestro Nutrientes '!AB$14,'Data Maestro Nutrientes '!AB$15,'Data Maestro Nutrientes '!AB$16,'Data Maestro Nutrientes '!AB$17,'Data Maestro Nutrientes '!AB$18,'Data Maestro Nutrientes '!AB$19,'Data Maestro Nutrientes '!AB$20,'Data Maestro Nutrientes '!AB$21,'Data Maestro Nutrientes '!AB$22,'Data Maestro Nutrientes '!AB$23)","v":0},{"$f":"+CHOOSE($A11,'Data Maestro Nutrientes '!AC$4,'Data Maestro Nutrientes '!AC$5,'Data Maestro Nutrientes '!AC$6,'Data Maestro Nutrientes '!AC$7,'Data Maestro Nutrientes '!AC$8,'Data Maestro Nutrientes '!AC$9,'Data Maestro Nutrientes '!AC$10,'Data Maestro Nutrientes '!AC$11,'Data Maestro Nutrientes '!AC$12,'Data Maestro Nutrientes '!AC$13,'Data Maestro Nutrientes '!AC$14,'Data Maestro Nutrientes '!AC$15,'Data Maestro Nutrientes '!AC$16,'Data Maestro Nutrientes '!AC$17,'Data Maestro Nutrientes '!AC$18,'Data Maestro Nutrientes '!AC$19,'Data Maestro Nutrientes '!AC$20,'Data Maestro Nutrientes '!AC$21,'Data Maestro Nutrientes '!AC$22,'Data Maestro Nutrientes '!AC$23)","v":0},{"$f":"+CHOOSE($A11,'Data Maestro Nutrientes '!AD$4,'Data Maestro Nutrientes '!AD$5,'Data Maestro Nutrientes '!AD$6,'Data Maestro Nutrientes '!AD$7,'Data Maestro Nutrientes '!AD$8,'Data Maestro Nutrientes '!AD$9,'Data Maestro Nutrientes '!AD$10,'Data Maestro Nutrientes '!AD$11,'Data Maestro Nutrientes '!AD$12,'Data Maestro Nutrientes '!AD$13,'Data Maestro Nutrientes '!AD$14,'Data Maestro Nutrientes '!AD$15,'Data Maestro Nutrientes '!AD$16,'Data Maestro Nutrientes '!AD$17,'Data Maestro Nutrientes '!AD$18,'Data Maestro Nutrientes '!AD$19,'Data Maestro Nutrientes '!AD$20,'Data Maestro Nutrientes '!AD$21,'Data Maestro Nutrientes '!AD$22,'Data Maestro Nutrientes '!AD$23)","v":0}]
[9,{"$f":"+IF(AND(A12>=1,A12<=20),VLOOKUP(A12,'Data Maestro Nutrientes '!$A$2:$AD$23,2),0)","v":"P"},{"$f":"+CHOOSE($A12,'Data Maestro Nutrientes '!C$4,'Data Maestro Nutrientes '!C$5,'Data Maestro Nutrientes '!C$6,'Data Maestro Nutrientes '!C$7,'Data Maestro Nutrientes '!C$8,'Data Maestro Nutrientes '!C$9,'Data Maestro Nutrientes '!C$10,'Data Maestro Nutrientes '!C$11,'Data Maestro Nutrientes '!C$12,'Data Maestro Nutrientes '!C$13,'Data Maestro Nutrientes '!C$14,'Data Maestro Nutrientes '!C$15,'Data Maestro Nutrientes '!C$16,'Data Maestro Nutrientes '!C$17,'Data Maestro Nutrientes '!C$18,'Data Maestro Nutrientes '!C$19,'Data Maestro Nutrientes '!C$20,'Data Maestro Nutrientes '!C$21,'Data Maestro Nutrientes '!C$22,'Data Maestro Nutrientes '!C$23)","v":1.0999999999999999E-2},{"$f":"+CHOOSE($A12,'Data Maestro Nutrientes '!D$4,'Data Maestro Nutrientes '!D$5,'Data Maestro Nutrientes '!D$6,'Data Maestro Nutrientes '!D$7,'Data Maestro Nutrientes '!D$8,'Data Maestro Nutrientes '!D$9,'Data Maestro Nutrientes '!D$10,'Data Maestro Nutrientes '!D$11,'Data Maestro Nutrientes '!D$12,'Data Maestro Nutrientes '!D$13,'Data Maestro Nutrientes '!D$14,'Data Maestro Nutrientes '!D$15,'Data Maestro Nutrientes '!D$16,'Data Maestro Nutrientes '!D$17,'Data Maestro Nutrientes '!D$18,'Data Maestro Nutrientes '!D$19,'Data Maestro Nutrientes '!D$20,'Data Maestro Nutrientes '!D$21,'Data Maestro Nutrientes '!D$22,'Data Maestro Nutrientes '!D$23)","v":7.000000000000001E-3},{"$f":"+CHOOSE($A12,'Data Maestro Nutrientes '!E$4,'Data Maestro Nutrientes '!E$5,'Data Maestro Nutrientes '!E$6,'Data Maestro Nutrientes '!E$7,'Data Maestro Nutrientes '!E$8,'Data Maestro Nutrientes '!E$9,'Data Maestro Nutrientes '!E$10,'Data Maestro Nutrientes '!E$11,'Data Maestro Nutrientes '!E$12,'Data Maestro Nutrientes '!E$13,'Data Maestro Nutrientes '!E$14,'Data Maestro Nutrientes '!E$15,'Data Maestro Nutrientes '!E$16,'Data Maestro Nutrientes '!E$17,'Data Maestro Nutrientes '!E$18,'Data Maestro Nutrientes '!E$19,'Data Maestro Nutrientes '!E$20,'Data Maestro Nutrientes '!E$21,'Data Maestro Nutrientes '!E$22,'Data Maestro Nutrientes '!E$23)","v":3.0000000000000001E-3},{"$f":"+CHOOSE($A12,'Data Maestro Nutrientes '!F$4,'Data Maestro Nutrientes '!F$5,'Data Maestro Nutrientes '!F$6,'Data Maestro Nutrientes '!F$7,'Data Maestro Nutrientes '!F$8,'Data Maestro Nutrientes '!F$9,'Data Maestro Nutrientes '!F$10,'Data Maestro Nutrientes '!F$11,'Data Maestro Nutrientes '!F$12,'Data Maestro Nutrientes '!F$13,'Data Maestro Nutrientes '!F$14,'Data Maestro Nutrientes '!F$15,'Data Maestro Nutrientes '!F$16,'Data Maestro Nutrientes '!F$17,'Data Maestro Nutrientes '!F$18,'Data Maestro Nutrientes '!F$19,'Data Maestro Nutrientes '!F$20,'Data Maestro Nutrientes '!F$21,'Data Maestro Nutrientes '!F$22,'Data Maestro Nutrientes '!F$23)","v":6.3E-3},{"$f":"+CHOOSE($A12,'Data Maestro Nutrientes '!G$4,'Data Maestro Nutrientes '!G$5,'Data Maestro Nutrientes '!G$6,'Data Maestro Nutrientes '!G$7,'Data Maestro Nutrientes '!G$8,'Data Maestro Nutrientes '!G$9,'Data Maestro Nutrientes '!G$10,'Data Maestro Nutrientes '!G$11,'Data Maestro Nutrientes '!G$12,'Data Maestro Nutrientes '!G$13,'Data Maestro Nutrientes '!G$14,'Data Maestro Nutrientes '!G$15,'Data Maestro Nutrientes '!G$16,'Data Maestro Nutrientes '!G$17,'Data Maestro Nutrientes '!G$18,'Data Maestro Nutrientes '!G$19,'Data Maestro Nutrientes '!G$20,'Data Maestro Nutrientes '!G$21,'Data Maestro Nutrientes '!G$22,'Data Maestro Nutrientes '!G$23)","v":0},{"$f":"+CHOOSE($A12,'Data Maestro Nutrientes '!H$4,'Data Maestro Nutrientes '!H$5,'Data Maestro Nutrientes '!H$6,'Data Maestro Nutrientes '!H$7,'Data Maestro Nutrientes '!H$8,'Data Maestro Nutrientes '!H$9,'Data Maestro Nutrientes '!H$10,'Data Maestro Nutrientes '!H$11,'Data Maestro Nutrientes '!H$12,'Data Maestro Nutrientes '!H$13,'Data Maestro Nutrientes '!H$14,'Data Maestro Nutrientes '!H$15,'Data Maestro Nutrientes '!H$16,'Data Maestro Nutrientes '!H$17,'Data Maestro Nutrientes '!H$18,'Data Maestro Nutrientes '!H$19,'Data Maestro Nutrientes '!H$20,'Data Maestro Nutrientes '!H$21,'Data Maestro Nutrientes '!H$22,'Data Maestro Nutrientes '!H$23)","v":0},{"$f":"+CHOOSE($A12,'Data Maestro Nutrientes '!I$4,'Data Maestro Nutrientes '!I$5,'Data Maestro Nutrientes '!I$6,'Data Maestro Nutrientes '!I$7,'Data Maestro Nutrientes '!I$8,'Data Maestro Nutrientes '!I$9,'Data Maestro Nutrientes '!I$10,'Data Maestro Nutrientes '!I$11,'Data Maestro Nutrientes '!I$12,'Data Maestro Nutrientes '!I$13,'Data Maestro Nutrientes '!I$14,'Data Maestro Nutrientes '!I$15,'Data Maestro Nutrientes '!I$16,'Data Maestro Nutrientes '!I$17,'Data Maestro Nutrientes '!I$18,'Data Maestro Nutrientes '!I$19,'Data Maestro Nutrientes '!I$20,'Data Maestro Nutrientes '!I$21,'Data Maestro Nutrientes '!I$22,'Data Maestro Nutrientes '!I$23)","v":0},{"$f":"+CHOOSE($A12,'Data Maestro Nutrientes '!J$4,'Data Maestro Nutrientes '!J$5,'Data Maestro Nutrientes '!J$6,'Data Maestro Nutrientes '!J$7,'Data Maestro Nutrientes '!J$8,'Data Maestro Nutrientes '!J$9,'Data Maestro Nutrientes '!J$10,'Data Maestro Nutrientes '!J$11,'Data Maestro Nutrientes '!J$12,'Data Maestro Nutrientes '!J$13,'Data Maestro Nutrientes '!J$14,'Data Maestro Nutrientes '!J$15,'Data Maestro Nutrientes '!J$16,'Data Maestro Nutrientes '!J$17,'Data Maestro Nutrientes '!J$18,'Data Maestro Nutrientes '!J$19,'Data Maestro Nutrientes '!J$20,'Data Maestro Nutrientes '!J$21,'Data Maestro Nutrientes '!J$22,'Data Maestro Nutrientes '!J$23)","v":0.15060000000000001},{"$f":"+CHOOSE($A12,'Data Maestro Nutrientes '!K$4,'Data Maestro Nutrientes '!K$5,'Data Maestro Nutrientes '!K$6,'Data Maestro Nutrientes '!K$7,'Data Maestro Nutrientes '!K$8,'Data Maestro Nutrientes '!K$9,'Data Maestro Nutrientes '!K$10,'Data Maestro Nutrientes '!K$11,'Data Maestro Nutrientes '!K$12,'Data Maestro Nutrientes '!K$13,'Data Maestro Nutrientes '!K$14,'Data Maestro Nutrientes '!K$15,'Data Maestro Nutrientes '!K$16,'Data Maestro Nutrientes '!K$17,'Data Maestro Nutrientes '!K$18,'Data Maestro Nutrientes '!K$19,'Data Maestro Nutrientes '!K$20,'Data Maestro Nutrientes '!K$21,'Data Maestro Nutrientes '!K$22,'Data Maestro Nutrientes '!K$23)","v":1.5E-3},{"$f":"+CHOOSE($A12,'Data Maestro Nutrientes '!L$4,'Data Maestro Nutrientes '!L$5,'Data Maestro Nutrientes '!L$6,'Data Maestro Nutrientes '!L$7,'Data Maestro Nutrientes '!L$8,'Data Maestro Nutrientes '!L$9,'Data Maestro Nutrientes '!L$10,'Data Maestro Nutrientes '!L$11,'Data Maestro Nutrientes '!L$12,'Data Maestro Nutrientes '!L$13,'Data Maestro Nutrientes '!L$14,'Data Maestro Nutrientes '!L$15,'Data Maestro Nutrientes '!L$16,'Data Maestro Nutrientes '!L$17,'Data Maestro Nutrientes '!L$18,'Data Maestro Nutrientes '!L$19,'Data Maestro Nutrientes '!L$20,'Data Maestro Nutrientes '!L$21,'Data Maestro Nutrientes '!L$22,'Data Maestro Nutrientes '!L$23)","v":0},{"$f":"+CHOOSE($A12,'Data Maestro Nutrientes '!M$4,'Data Maestro Nutrientes '!M$5,'Data Maestro Nutrientes '!M$6,'Data Maestro Nutrientes '!M$7,'Data Maestro Nutrientes '!M$8,'Data Maestro Nutrientes '!M$9,'Data Maestro Nutrientes '!M$10,'Data Maestro Nutrientes '!M$11,'Data Maestro Nutrientes '!M$12,'Data Maestro Nutrientes '!M$13,'Data Maestro Nutrientes '!M$14,'Data Maestro Nutrientes '!M$15,'Data Maestro Nutrientes '!M$16,'Data Maestro Nutrientes '!M$17,'Data Maestro Nutrientes '!M$18,'Data Maestro Nutrientes '!M$19,'Data Maestro Nutrientes '!M$20,'Data Maestro Nutrientes '!M$21,'Data Maestro Nutrientes '!M$22,'Data Maestro Nutrientes '!M$23)","v":0},{"$f":"+CHOOSE($A12,'Data Maestro Nutrientes '!N$4,'Data Maestro Nutrientes '!N$5,'Data Maestro Nutrientes '!N$6,'Data Maestro Nutrientes '!N$7,'Data Maestro Nutrientes '!N$8,'Data Maestro Nutrientes '!N$9,'Data Maestro Nutrientes '!N$10,'Data Maestro Nutrientes '!N$11,'Data Maestro Nutrientes '!N$12,'Data Maestro Nutrientes '!N$13,'Data Maestro Nutrientes '!N$14,'Data Maestro Nutrientes '!N$15,'Data Maestro Nutrientes '!N$16,'Data Maestro Nutrientes '!N$17,'Data Maestro Nutrientes '!N$18,'Data Maestro Nutrientes '!N$19,'Data Maestro Nutrientes '!N$20,'Data Maestro Nutrientes '!N$21,'Data Maestro Nutrientes '!N$22,'Data Maestro Nutrientes '!N$23)","v":6.0000000000000001E-3},{"$f":"+CHOOSE($A12,'Data Maestro Nutrientes '!O$4,'Data Maestro Nutrientes '!O$5,'Data Maestro Nutrientes '!O$6,'Data Maestro Nutrientes '!O$7,'Data Maestro Nutrientes '!O$8,'Data Maestro Nutrientes '!O$9,'Data Maestro Nutrientes '!O$10,'Data Maestro Nutrientes '!O$11,'Data Maestro Nutrientes '!O$12,'Data Maestro Nutrientes '!O$13,'Data Maestro Nutrientes '!O$14,'Data Maestro Nutrientes '!O$15,'Data Maestro Nutrientes '!O$16,'Data Maestro Nutrientes '!O$17,'Data Maestro Nutrientes '!O$18,'Data Maestro Nutrientes '!O$19,'Data Maestro Nutrientes '!O$20,'Data Maestro Nutrientes '!O$21,'Data Maestro Nutrientes '!O$22,'Data Maestro Nutrientes '!O$23)","v":0.21},{"$f":"+CHOOSE($A12,'Data Maestro Nutrientes '!P$4,'Data Maestro Nutrientes '!P$5,'Data Maestro Nutrientes '!P$6,'Data Maestro Nutrientes '!P$7,'Data Maestro Nutrientes '!P$8,'Data Maestro Nutrientes '!P$9,'Data Maestro Nutrientes '!P$10,'Data Maestro Nutrientes '!P$11,'Data Maestro Nutrientes '!P$12,'Data Maestro Nutrientes '!P$13,'Data Maestro Nutrientes '!P$14,'Data Maestro Nutrientes '!P$15,'Data Maestro Nutrientes '!P$16,'Data Maestro Nutrientes '!P$17,'Data Maestro Nutrientes '!P$18,'Data Maestro Nutrientes '!P$19,'Data Maestro Nutrientes '!P$20,'Data Maestro Nutrientes '!P$21,'Data Maestro Nutrientes '!P$22,'Data Maestro Nutrientes '!P$23)","v":0},{"$f":"+CHOOSE($A12,'Data Maestro Nutrientes '!Q$4,'Data Maestro Nutrientes '!Q$5,'Data Maestro Nutrientes '!Q$6,'Data Maestro Nutrientes '!Q$7,'Data Maestro Nutrientes '!Q$8,'Data Maestro Nutrientes '!Q$9,'Data Maestro Nutrientes '!Q$10,'Data Maestro Nutrientes '!Q$11,'Data Maestro Nutrientes '!Q$12,'Data Maestro Nutrientes '!Q$13,'Data Maestro Nutrientes '!Q$14,'Data Maestro Nutrientes '!Q$15,'Data Maestro Nutrientes '!Q$16,'Data Maestro Nutrientes '!Q$17,'Data Maestro Nutrientes '!Q$18,'Data Maestro Nutrientes '!Q$19,'Data Maestro Nutrientes '!Q$20,'Data Maestro Nutrientes '!Q$21,'Data Maestro Nutrientes '!Q$22,'Data Maestro Nutrientes '!Q$23)","v":0},{"$f":"+CHOOSE($A12,'Data Maestro Nutrientes '!R$4,'Data Maestro Nutrientes '!R$5,'Data Maestro Nutrientes '!R$6,'Data Maestro Nutrientes '!R$7,'Data Maestro Nutrientes '!R$8,'Data Maestro Nutrientes '!R$9,'Data Maestro Nutrientes '!R$10,'Data Maestro Nutrientes '!R$11,'Data Maestro Nutrientes '!R$12,'Data Maestro Nutrientes '!R$13,'Data Maestro Nutrientes '!R$14,'Data Maestro Nutrientes '!R$15,'Data Maestro Nutrientes '!R$16,'Data Maestro Nutrientes '!R$17,'Data Maestro Nutrientes '!R$18,'Data Maestro Nutrientes '!R$19,'Data Maestro Nutrientes '!R$20,'Data Maestro Nutrientes '!R$21,'Data Maestro Nutrientes '!R$22,'Data Maestro Nutrientes '!R$23)","v":0},{"$f":"+CHOOSE($A12,'Data Maestro Nutrientes '!S$4,'Data Maestro Nutrientes '!S$5,'Data Maestro Nutrientes '!S$6,'Data Maestro Nutrientes '!S$7,'Data Maestro Nutrientes '!S$8,'Data Maestro Nutrientes '!S$9,'Data Maestro Nutrientes '!S$10,'Data Maestro Nutrientes '!S$11,'Data Maestro Nutrientes '!S$12,'Data Maestro Nutrientes '!S$13,'Data Maestro Nutrientes '!S$14,'Data Maestro Nutrientes '!S$15,'Data Maestro Nutrientes '!S$16,'Data Maestro Nutrientes '!S$17,'Data Maestro Nutrientes '!S$18,'Data Maestro Nutrientes '!S$19,'Data Maestro Nutrientes '!S$20,'Data Maestro Nutrientes '!S$21,'Data Maestro Nutrientes '!S$22,'Data Maestro Nutrientes '!S$23)","v":0},{"$f":"+CHOOSE($A12,'Data Maestro Nutrientes '!T$4,'Data Maestro Nutrientes '!T$5,'Data Maestro Nutrientes '!T$6,'Data Maestro Nutrientes '!T$7,'Data Maestro Nutrientes '!T$8,'Data Maestro Nutrientes '!T$9,'Data Maestro Nutrientes '!T$10,'Data Maestro Nutrientes '!T$11,'Data Maestro Nutrientes '!T$12,'Data Maestro Nutrientes '!T$13,'Data Maestro Nutrientes '!T$14,'Data Maestro Nutrientes '!T$15,'Data Maestro Nutrientes '!T$16,'Data Maestro Nutrientes '!T$17,'Data Maestro Nutrientes '!T$18,'Data Maestro Nutrientes '!T$19,'Data Maestro Nutrientes '!T$20,'Data Maestro Nutrientes '!T$21,'Data Maestro Nutrientes '!T$22,'Data Maestro Nutrientes '!T$23)","v":0},{"$f":"+CHOOSE($A12,'Data Maestro Nutrientes '!U$4,'Data Maestro Nutrientes '!U$5,'Data Maestro Nutrientes '!U$6,'Data Maestro Nutrientes '!U$7,'Data Maestro Nutrientes '!U$8,'Data Maestro Nutrientes '!U$9,'Data Maestro Nutrientes '!U$10,'Data Maestro Nutrientes '!U$11,'Data Maestro Nutrientes '!U$12,'Data Maestro Nutrientes '!U$13,'Data Maestro Nutrientes '!U$14,'Data Maestro Nutrientes '!U$15,'Data Maestro Nutrientes '!U$16,'Data Maestro Nutrientes '!U$17,'Data Maestro Nutrientes '!U$18,'Data Maestro Nutrientes '!U$19,'Data Maestro Nutrientes '!U$20,'Data Maestro Nutrientes '!U$21,'Data Maestro Nutrientes '!U$22,'Data Maestro Nutrientes '!U$23)","v":0},{"$f":"+CHOOSE($A12,'Data Maestro Nutrientes '!V$4,'Data Maestro Nutrientes '!V$5,'Data Maestro Nutrientes '!V$6,'Data Maestro Nutrientes '!V$7,'Data Maestro Nutrientes '!V$8,'Data Maestro Nutrientes '!V$9,'Data Maestro Nutrientes '!V$10,'Data Maestro Nutrientes '!V$11,'Data Maestro Nutrientes '!V$12,'Data Maestro Nutrientes '!V$13,'Data Maestro Nutrientes '!V$14,'Data Maestro Nutrientes '!V$15,'Data Maestro Nutrientes '!V$16,'Data Maestro Nutrientes '!V$17,'Data Maestro Nutrientes '!V$18,'Data Maestro Nutrientes '!V$19,'Data Maestro Nutrientes '!V$20,'Data Maestro Nutrientes '!V$21,'Data Maestro Nutrientes '!V$22,'Data Maestro Nutrientes '!V$23)","v":0},{"$f":"+CHOOSE($A12,'Data Maestro Nutrientes '!W$4,'Data Maestro Nutrientes '!W$5,'Data Maestro Nutrientes '!W$6,'Data Maestro Nutrientes '!W$7,'Data Maestro Nutrientes '!W$8,'Data Maestro Nutrientes '!W$9,'Data Maestro Nutrientes '!W$10,'Data Maestro Nutrientes '!W$11,'Data Maestro Nutrientes '!W$12,'Data Maestro Nutrientes '!W$13,'Data Maestro Nutrientes '!W$14,'Data Maestro Nutrientes '!W$15,'Data Maestro Nutrientes '!W$16,'Data Maestro Nutrientes '!W$17,'Data Maestro Nutrientes '!W$18,'Data Maestro Nutrientes '!W$19,'Data Maestro Nutrientes '!W$20,'Data Maestro Nutrientes '!W$21,'Data Maestro Nutrientes '!W$22,'Data Maestro Nutrientes '!W$23)","v":2.3E-3},{"$f":"+CHOOSE($A12,'Data Maestro Nutrientes '!X$4,'Data Maestro Nutrientes '!X$5,'Data Maestro Nutrientes '!X$6,'Data Maestro Nutrientes '!X$7,'Data Maestro Nutrientes '!X$8,'Data Maestro Nutrientes '!X$9,'Data Maestro Nutrientes '!X$10,'Data Maestro Nutrientes '!X$11,'Data Maestro Nutrientes '!X$12,'Data Maestro Nutrientes '!X$13,'Data Maestro Nutrientes '!X$14,'Data Maestro Nutrientes '!X$15,'Data Maestro Nutrientes '!X$16,'Data Maestro Nutrientes '!X$17,'Data Maestro Nutrientes '!X$18,'Data Maestro Nutrientes '!X$19,'Data Maestro Nutrientes '!X$20,'Data Maestro Nutrientes '!X$21,'Data Maestro Nutrientes '!X$22,'Data Maestro Nutrientes '!X$23)","v":0},{"$f":"+CHOOSE($A12,'Data Maestro Nutrientes '!Y$4,'Data Maestro Nutrientes '!Y$5,'Data Maestro Nutrientes '!Y$6,'Data Maestro Nutrientes '!Y$7,'Data Maestro Nutrientes '!Y$8,'Data Maestro Nutrientes '!Y$9,'Data Maestro Nutrientes '!Y$10,'Data Maestro Nutrientes '!Y$11,'Data Maestro Nutrientes '!Y$12,'Data Maestro Nutrientes '!Y$13,'Data Maestro Nutrientes '!Y$14,'Data Maestro Nutrientes '!Y$15,'Data Maestro Nutrientes '!Y$16,'Data Maestro Nutrientes '!Y$17,'Data Maestro Nutrientes '!Y$18,'Data Maestro Nutrientes '!Y$19,'Data Maestro Nutrientes '!Y$20,'Data Maestro Nutrientes '!Y$21,'Data Maestro Nutrientes '!Y$22,'Data Maestro Nutrientes '!Y$23)","v":0},{"$f":"+CHOOSE($A12,'Data Maestro Nutrientes '!Z$4,'Data Maestro Nutrientes '!Z$5,'Data Maestro Nutrientes '!Z$6,'Data Maestro Nutrientes '!Z$7,'Data Maestro Nutrientes '!Z$8,'Data Maestro Nutrientes '!Z$9,'Data Maestro Nutrientes '!Z$10,'Data Maestro Nutrientes '!Z$11,'Data Maestro Nutrientes '!Z$12,'Data Maestro Nutrientes '!Z$13,'Data Maestro Nutrientes '!Z$14,'Data Maestro Nutrientes '!Z$15,'Data Maestro Nutrientes '!Z$16,'Data Maestro Nutrientes '!Z$17,'Data Maestro Nutrientes '!Z$18,'Data Maestro Nutrientes '!Z$19,'Data Maestro Nutrientes '!Z$20,'Data Maestro Nutrientes '!Z$21,'Data Maestro Nutrientes '!Z$22,'Data Maestro Nutrientes '!Z$23)","v":0},{"$f":"+CHOOSE($A12,'Data Maestro Nutrientes '!AA$4,'Data Maestro Nutrientes '!AA$5,'Data Maestro Nutrientes '!AA$6,'Data Maestro Nutrientes '!AA$7,'Data Maestro Nutrientes '!AA$8,'Data Maestro Nutrientes '!AA$9,'Data Maestro Nutrientes '!AA$10,'Data Maestro Nutrientes '!AA$11,'Data Maestro Nutrientes '!AA$12,'Data Maestro Nutrientes '!AA$13,'Data Maestro Nutrientes '!AA$14,'Data Maestro Nutrientes '!AA$15,'Data Maestro Nutrientes '!AA$16,'Data Maestro Nutrientes '!AA$17,'Data Maestro Nutrientes '!AA$18,'Data Maestro Nutrientes '!AA$19,'Data Maestro Nutrientes '!AA$20,'Data Maestro Nutrientes '!AA$21,'Data Maestro Nutrientes '!AA$22,'Data Maestro Nutrientes '!AA$23)","v":0},{"$f":"+CHOOSE($A12,'Data Maestro Nutrientes '!AB$4,'Data Maestro Nutrientes '!AB$5,'Data Maestro Nutrientes '!AB$6,'Data Maestro Nutrientes '!AB$7,'Data Maestro Nutrientes '!AB$8,'Data Maestro Nutrientes '!AB$9,'Data Maestro Nutrientes '!AB$10,'Data Maestro Nutrientes '!AB$11,'Data Maestro Nutrientes '!AB$12,'Data Maestro Nutrientes '!AB$13,'Data Maestro Nutrientes '!AB$14,'Data Maestro Nutrientes '!AB$15,'Data Maestro Nutrientes '!AB$16,'Data Maestro Nutrientes '!AB$17,'Data Maestro Nutrientes '!AB$18,'Data Maestro Nutrientes '!AB$19,'Data Maestro Nutrientes '!AB$20,'Data Maestro Nutrientes '!AB$21,'Data Maestro Nutrientes '!AB$22,'Data Maestro Nutrientes '!AB$23)","v":0},{"$f":"+CHOOSE($A12,'Data Maestro Nutrientes '!AC$4,'Data Maestro Nutrientes '!AC$5,'Data Maestro Nutrientes '!AC$6,'Data Maestro Nutrientes '!AC$7,'Data Maestro Nutrientes '!AC$8,'Data Maestro Nutrientes '!AC$9,'Data Maestro Nutrientes '!AC$10,'Data Maestro Nutrientes '!AC$11,'Data Maestro Nutrientes '!AC$12,'Data Maestro Nutrientes '!AC$13,'Data Maestro Nutrientes '!AC$14,'Data Maestro Nutrientes '!AC$15,'Data Maestro Nutrientes '!AC$16,'Data Maestro Nutrientes '!AC$17,'Data Maestro Nutrientes '!AC$18,'Data Maestro Nutrientes '!AC$19,'Data Maestro Nutrientes '!AC$20,'Data Maestro Nutrientes '!AC$21,'Data Maestro Nutrientes '!AC$22,'Data Maestro Nutrientes '!AC$23)","v":0},{"$f":"+CHOOSE($A12,'Data Maestro Nutrientes '!AD$4,'Data Maestro Nutrientes '!AD$5,'Data Maestro Nutrientes '!AD$6,'Data Maestro Nutrientes '!AD$7,'Data Maestro Nutrientes '!AD$8,'Data Maestro Nutrientes '!AD$9,'Data Maestro Nutrientes '!AD$10,'Data Maestro Nutrientes '!AD$11,'Data Maestro Nutrientes '!AD$12,'Data Maestro Nutrientes '!AD$13,'Data Maestro Nutrientes '!AD$14,'Data Maestro Nutrientes '!AD$15,'Data Maestro Nutrientes '!AD$16,'Data Maestro Nutrientes '!AD$17,'Data Maestro Nutrientes '!AD$18,'Data Maestro Nutrientes '!AD$19,'Data Maestro Nutrientes '!AD$20,'Data Maestro Nutrientes '!AD$21,'Data Maestro Nutrientes '!AD$22,'Data Maestro Nutrientes '!AD$23)","v":0}]
[8,{"$f":"+IF(AND(A13>=1,A13<=20),VLOOKUP(A13,'Data Maestro Nutrientes '!$A$2:$AD$23,2),0)","v":"Ca"},{"$f":"+CHOOSE($A13,'Data Maestro Nutrientes '!C$4,'Data Maestro Nutrientes '!C$5,'Data Maestro Nutrientes '!C$6,'Data Maestro Nutrientes '!C$7,'Data Maestro Nutrientes '!C$8,'Data Maestro Nutrientes '!C$9,'Data Maestro Nutrientes '!C$10,'Data Maestro Nutrientes '!C$11,'Data Maestro Nutrientes '!C$12,'Data Maestro Nutrientes '!C$13,'Data Maestro Nutrientes '!C$14,'Data Maestro Nutrientes '!C$15,'Data Maestro Nutrientes '!C$16,'Data Maestro Nutrientes '!C$17,'Data Maestro Nutrientes '!C$18,'Data Maestro Nutrientes '!C$19,'Data Maestro Nutrientes '!C$20,'Data Maestro Nutrientes '!C$21,'Data Maestro Nutrientes '!C$22,'Data Maestro Nutrientes '!C$23)","v":1.1999999999999999E-3},{"$f":"+CHOOSE($A13,'Data Maestro Nutrientes '!D$4,'Data Maestro Nutrientes '!D$5,'Data Maestro Nutrientes '!D$6,'Data Maestro Nutrientes '!D$7,'Data Maestro Nutrientes '!D$8,'Data Maestro Nutrientes '!D$9,'Data Maestro Nutrientes '!D$10,'Data Maestro Nutrientes '!D$11,'Data Maestro Nutrientes '!D$12,'Data Maestro Nutrientes '!D$13,'Data Maestro Nutrientes '!D$14,'Data Maestro Nutrientes '!D$15,'Data Maestro Nutrientes '!D$16,'Data Maestro Nutrientes '!D$17,'Data Maestro Nutrientes '!D$18,'Data Maestro Nutrientes '!D$19,'Data Maestro Nutrientes '!D$20,'Data Maestro Nutrientes '!D$21,'Data Maestro Nutrientes '!D$22,'Data Maestro Nutrientes '!D$23)","v":3.0000000000000001E-3},{"$f":"+CHOOSE($A13,'Data Maestro Nutrientes '!E$4,'Data Maestro Nutrientes '!E$5,'Data Maestro Nutrientes '!E$6,'Data Maestro Nutrientes '!E$7,'Data Maestro Nutrientes '!E$8,'Data Maestro Nutrientes '!E$9,'Data Maestro Nutrientes '!E$10,'Data Maestro Nutrientes '!E$11,'Data Maestro Nutrientes '!E$12,'Data Maestro Nutrientes '!E$13,'Data Maestro Nutrientes '!E$14,'Data Maestro Nutrientes '!E$15,'Data Maestro Nutrientes '!E$16,'Data Maestro Nutrientes '!E$17,'Data Maestro Nutrientes '!E$18,'Data Maestro Nutrientes '!E$19,'Data Maestro Nutrientes '!E$20,'Data Maestro Nutrientes '!E$21,'Data Maestro Nutrientes '!E$22,'Data Maestro Nutrientes '!E$23)","v":2.0000000000000001E-4},{"$f":"+CHOOSE($A13,'Data Maestro Nutrientes '!F$4,'Data Maestro Nutrientes '!F$5,'Data Maestro Nutrientes '!F$6,'Data Maestro Nutrientes '!F$7,'Data Maestro Nutrientes '!F$8,'Data Maestro Nutrientes '!F$9,'Data Maestro Nutrientes '!F$10,'Data Maestro Nutrientes '!F$11,'Data Maestro Nutrientes '!F$12,'Data Maestro Nutrientes '!F$13,'Data Maestro Nutrientes '!F$14,'Data Maestro Nutrientes '!F$15,'Data Maestro Nutrientes '!F$16,'Data Maestro Nutrientes '!F$17,'Data Maestro Nutrientes '!F$18,'Data Maestro Nutrientes '!F$19,'Data Maestro Nutrientes '!F$20,'Data Maestro Nutrientes '!F$21,'Data Maestro Nutrientes '!F$22,'Data Maestro Nutrientes '!F$23)","v":3.0000000000000001E-3},{"$f":"+CHOOSE($A13,'Data Maestro Nutrientes '!G$4,'Data Maestro Nutrientes '!G$5,'Data Maestro Nutrientes '!G$6,'Data Maestro Nutrientes '!G$7,'Data Maestro Nutrientes '!G$8,'Data Maestro Nutrientes '!G$9,'Data Maestro Nutrientes '!G$10,'Data Maestro Nutrientes '!G$11,'Data Maestro Nutrientes '!G$12,'Data Maestro Nutrientes '!G$13,'Data Maestro Nutrientes '!G$14,'Data Maestro Nutrientes '!G$15,'Data Maestro Nutrientes '!G$16,'Data Maestro Nutrientes '!G$17,'Data Maestro Nutrientes '!G$18,'Data Maestro Nutrientes '!G$19,'Data Maestro Nutrientes '!G$20,'Data Maestro Nutrientes '!G$21,'Data Maestro Nutrientes '!G$22,'Data Maestro Nutrientes '!G$23)","v":0.38},{"$f":"+CHOOSE($A13,'Data Maestro Nutrientes '!H$4,'Data Maestro Nutrientes '!H$5,'Data Maestro Nutrientes '!H$6,'Data Maestro Nutrientes '!H$7,'Data Maestro Nutrientes '!H$8,'Data Maestro Nutrientes '!H$9,'Data Maestro Nutrientes '!H$10,'Data Maestro Nutrientes '!H$11,'Data Maestro Nutrientes '!H$12,'Data Maestro Nutrientes '!H$13,'Data Maestro Nutrientes '!H$14,'Data Maestro Nutrientes '!H$15,'Data Maestro Nutrientes '!H$16,'Data Maestro Nutrientes '!H$17,'Data Maestro Nutrientes '!H$18,'Data Maestro Nutrientes '!H$19,'Data Maestro Nutrientes '!H$20,'Data Maestro Nutrientes '!H$21,'Data Maestro Nutrientes '!H$22,'Data Maestro Nutrientes '!H$23)","v":0},{"$f":"+CHOOSE($A13,'Data Maestro Nutrientes '!I$4,'Data Maestro Nutrientes '!I$5,'Data Maestro Nutrientes '!I$6,'Data Maestro Nutrientes '!I$7,'Data Maestro Nutrientes '!I$8,'Data Maestro Nutrientes '!I$9,'Data Maestro Nutrientes '!I$10,'Data Maestro Nutrientes '!I$11,'Data Maestro Nutrientes '!I$12,'Data Maestro Nutrientes '!I$13,'Data Maestro Nutrientes '!I$14,'Data Maestro Nutrientes '!I$15,'Data Maestro Nutrientes '!I$16,'Data Maestro Nutrientes '!I$17,'Data Maestro Nutrientes '!I$18,'Data Maestro Nutrientes '!I$19,'Data Maestro Nutrientes '!I$20,'Data Maestro Nutrientes '!I$21,'Data Maestro Nutrientes '!I$22,'Data Maestro Nutrientes '!I$23)","v":0},{"$f":"+CHOOSE($A13,'Data Maestro Nutrientes '!J$4,'Data Maestro Nutrientes '!J$5,'Data Maestro Nutrientes '!J$6,'Data Maestro Nutrientes '!J$7,'Data Maestro Nutrientes '!J$8,'Data Maestro Nutrientes '!J$9,'Data Maestro Nutrientes '!J$10,'Data Maestro Nutrientes '!J$11,'Data Maestro Nutrientes '!J$12,'Data Maestro Nutrientes '!J$13,'Data Maestro Nutrientes '!J$14,'Data Maestro Nutrientes '!J$15,'Data Maestro Nutrientes '!J$16,'Data Maestro Nutrientes '!J$17,'Data Maestro Nutrientes '!J$18,'Data Maestro Nutrientes '!J$19,'Data Maestro Nutrientes '!J$20,'Data Maestro Nutrientes '!J$21,'Data Maestro Nutrientes '!J$22,'Data Maestro Nutrientes '!J$23)","v":0.185},{"$f":"+CHOOSE($A13,'Data Maestro Nutrientes '!K$4,'Data Maestro Nutrientes '!K$5,'Data Maestro Nutrientes '!K$6,'Data Maestro Nutrientes '!K$7,'Data Maestro Nutrientes '!K$8,'Data Maestro Nutrientes '!K$9,'Data Maestro Nutrientes '!K$10,'Data Maestro Nutrientes '!K$11,'Data Maestro Nutrientes '!K$12,'Data Maestro Nutrientes '!K$13,'Data Maestro Nutrientes '!K$14,'Data Maestro Nutrientes '!K$15,'Data Maestro Nutrientes '!K$16,'Data Maestro Nutrientes '!K$17,'Data Maestro Nutrientes '!K$18,'Data Maestro Nutrientes '!K$19,'Data Maestro Nutrientes '!K$20,'Data Maestro Nutrientes '!K$21,'Data Maestro Nutrientes '!K$22,'Data Maestro Nutrientes '!K$23)","v":1.0999999999999999E-2},{"$f":"+CHOOSE($A13,'Data Maestro Nutrientes '!L$4,'Data Maestro Nutrientes '!L$5,'Data Maestro Nutrientes '!L$6,'Data Maestro Nutrientes '!L$7,'Data Maestro Nutrientes '!L$8,'Data Maestro Nutrientes '!L$9,'Data Maestro Nutrientes '!L$10,'Data Maestro Nutrientes '!L$11,'Data Maestro Nutrientes '!L$12,'Data Maestro Nutrientes '!L$13,'Data Maestro Nutrientes '!L$14,'Data Maestro Nutrientes '!L$15,'Data Maestro Nutrientes '!L$16,'Data Maestro Nutrientes '!L$17,'Data Maestro Nutrientes '!L$18,'Data Maestro Nutrientes '!L$19,'Data Maestro Nutrientes '!L$20,'Data Maestro Nutrientes '!L$21,'Data Maestro Nutrientes '!L$22,'Data Maestro Nutrientes '!L$23)","v":0},{"$f":"+CHOOSE($A13,'Data Maestro Nutrientes '!M$4,'Data Maestro Nutrientes '!M$5,'Data Maestro Nutrientes '!M$6,'Data Maestro Nutrientes '!M$7,'Data Maestro Nutrientes '!M$8,'Data Maestro Nutrientes '!M$9,'Data Maestro Nutrientes '!M$10,'Data Maestro Nutrientes '!M$11,'Data Maestro Nutrientes '!M$12,'Data Maestro Nutrientes '!M$13,'Data Maestro Nutrientes '!M$14,'Data Maestro Nutrientes '!M$15,'Data Maestro Nutrientes '!M$16,'Data Maestro Nutrientes '!M$17,'Data Maestro Nutrientes '!M$18,'Data Maestro Nutrientes '!M$19,'Data Maestro Nutrientes '!M$20,'Data Maestro Nutrientes '!M$21,'Data Maestro Nutrientes '!M$22,'Data Maestro Nutrientes '!M$23)","v":0.09},{"$f":"+CHOOSE($A13,'Data Maestro Nutrientes '!N$4,'Data Maestro Nutrientes '!N$5,'Data Maestro Nutrientes '!N$6,'Data Maestro Nutrientes '!N$7,'Data Maestro Nutrientes '!N$8,'Data Maestro Nutrientes '!N$9,'Data Maestro Nutrientes '!N$10,'Data Maestro Nutrientes '!N$11,'Data Maestro Nutrientes '!N$12,'Data Maestro Nutrientes '!N$13,'Data Maestro Nutrientes '!N$14,'Data Maestro Nutrientes '!N$15,'Data Maestro Nutrientes '!N$16,'Data Maestro Nutrientes '!N$17,'Data Maestro Nutrientes '!N$18,'Data Maestro Nutrientes '!N$19,'Data Maestro Nutrientes '!N$20,'Data Maestro Nutrientes '!N$21,'Data Maestro Nutrientes '!N$22,'Data Maestro Nutrientes '!N$23)","v":2E-3},{"$f":"+CHOOSE($A13,'Data Maestro Nutrientes '!O$4,'Data Maestro Nutrientes '!O$5,'Data Maestro Nutrientes '!O$6,'Data Maestro Nutrientes '!O$7,'Data Maestro Nutrientes '!O$8,'Data Maestro Nutrientes '!O$9,'Data Maestro Nutrientes '!O$10,'Data Maestro Nutrientes '!O$11,'Data Maestro Nutrientes '!O$12,'Data Maestro Nutrientes '!O$13,'Data Maestro Nutrientes '!O$14,'Data Maestro Nutrientes '!O$15,'Data Maestro Nutrientes '!O$16,'Data Maestro Nutrientes '!O$17,'Data Maestro Nutrientes '!O$18,'Data Maestro Nutrientes '!O$19,'Data Maestro Nutrientes '!O$20,'Data Maestro Nutrientes '!O$21,'Data Maestro Nutrientes '!O$22,'Data Maestro Nutrientes '!O$23)","v":0.18},{"$f":"+CHOOSE($A13,'Data Maestro Nutrientes '!P$4,'Data Maestro Nutrientes '!P$5,'Data Maestro Nutrientes '!P$6,'Data Maestro Nutrientes '!P$7,'Data Maestro Nutrientes '!P$8,'Data Maestro Nutrientes '!P$9,'Data Maestro Nutrientes '!P$10,'Data Maestro Nutrientes '!P$11,'Data Maestro Nutrientes '!P$12,'Data Maestro Nutrientes '!P$13,'Data Maestro Nutrientes '!P$14,'Data Maestro Nutrientes '!P$15,'Data Maestro Nutrientes '!P$16,'Data Maestro Nutrientes '!P$17,'Data Maestro Nutrientes '!P$18,'Data Maestro Nutrientes '!P$19,'Data Maestro Nutrientes '!P$20,'Data Maestro Nutrientes '!P$21,'Data Maestro Nutrientes '!P$22,'Data Maestro Nutrientes '!P$23)","v":0},{"$f":"+CHOOSE($A13,'Data Maestro Nutrientes '!Q$4,'Data Maestro Nutrientes '!Q$5,'Data Maestro Nutrientes '!Q$6,'Data Maestro Nutrientes '!Q$7,'Data Maestro Nutrientes '!Q$8,'Data Maestro Nutrientes '!Q$9,'Data Maestro Nutrientes '!Q$10,'Data Maestro Nutrientes '!Q$11,'Data Maestro Nutrientes '!Q$12,'Data Maestro Nutrientes '!Q$13,'Data Maestro Nutrientes '!Q$14,'Data Maestro Nutrientes '!Q$15,'Data Maestro Nutrientes '!Q$16,'Data Maestro Nutrientes '!Q$17,'Data Maestro Nutrientes '!Q$18,'Data Maestro Nutrientes '!Q$19,'Data Maestro Nutrientes '!Q$20,'Data Maestro Nutrientes '!Q$21,'Data Maestro Nutrientes '!Q$22,'Data Maestro Nutrientes '!Q$23)","v":0},{"$f":"+CHOOSE($A13,'Data Maestro Nutrientes '!R$4,'Data Maestro Nutrientes '!R$5,'Data Maestro Nutrientes '!R$6,'Data Maestro Nutrientes '!R$7,'Data Maestro Nutrientes '!R$8,'Data Maestro Nutrientes '!R$9,'Data Maestro Nutrientes '!R$10,'Data Maestro Nutrientes '!R$11,'Data Maestro Nutrientes '!R$12,'Data Maestro Nutrientes '!R$13,'Data Maestro Nutrientes '!R$14,'Data Maestro Nutrientes '!R$15,'Data Maestro Nutrientes '!R$16,'Data Maestro Nutrientes '!R$17,'Data Maestro Nutrientes '!R$18,'Data Maestro Nutrientes '!R$19,'Data Maestro Nutrientes '!R$20,'Data Maestro Nutrientes '!R$21,'Data Maestro Nutrientes '!R$22,'Data Maestro Nutrientes '!R$23)","v":0},{"$f":"+CHOOSE($A13,'Data Maestro Nutrientes '!S$4,'Data Maestro Nutrientes '!S$5,'Data Maestro Nutrientes '!S$6,'Data Maestro Nutrientes '!S$7,'Data Maestro Nutrientes '!S$8,'Data Maestro Nutrientes '!S$9,'Data Maestro Nutrientes '!S$10,'Data Maestro Nutrientes '!S$11,'Data Maestro Nutrientes '!S$12,'Data Maestro Nutrientes '!S$13,'Data Maestro Nutrientes '!S$14,'Data Maestro Nutrientes '!S$15,'Data Maestro Nutrientes '!S$16,'Data Maestro Nutrientes '!S$17,'Data Maestro Nutrientes '!S$18,'Data Maestro Nutrientes '!S$19,'Data Maestro Nutrientes '!S$20,'Data Maestro Nutrientes '!S$21,'Data Maestro Nutrientes '!S$22,'Data Maestro Nutrientes '!S$23)","v":0},{"$f":"+CHOOSE($A13,'Data Maestro Nutrientes '!T$4,'Data Maestro Nutrientes '!T$5,'Data Maestro Nutrientes '!T$6,'Data Maestro Nutrientes '!T$7,'Data Maestro Nutrientes '!T$8,'Data Maestro Nutrientes '!T$9,'Data Maestro Nutrientes '!T$10,'Data Maestro Nutrientes '!T$11,'Data Maestro Nutrientes '!T$12,'Data Maestro Nutrientes '!T$13,'Data Maestro Nutrientes '!T$14,'Data Maestro Nutrientes '!T$15,'Data Maestro Nutrientes '!T$16,'Data Maestro Nutrientes '!T$17,'Data Maestro Nutrientes '!T$18,'Data Maestro Nutrientes '!T$19,'Data Maestro Nutrientes '!T$20,'Data Maestro Nutrientes '!T$21,'Data Maestro Nutrientes '!T$22,'Data Maestro Nutrientes '!T$23)","v":0},{"$f":"+CHOOSE($A13,'Data Maestro Nutrientes '!U$4,'Data Maestro Nutrientes '!U$5,'Data Maestro Nutrientes '!U$6,'Data Maestro Nutrientes '!U$7,'Data Maestro Nutrientes '!U$8,'Data Maestro Nutrientes '!U$9,'Data Maestro Nutrientes '!U$10,'Data Maestro Nutrientes '!U$11,'Data Maestro Nutrientes '!U$12,'Data Maestro Nutrientes '!U$13,'Data Maestro Nutrientes '!U$14,'Data Maestro Nutrientes '!U$15,'Data Maestro Nutrientes '!U$16,'Data Maestro Nutrientes '!U$17,'Data Maestro Nutrientes '!U$18,'Data Maestro Nutrientes '!U$19,'Data Maestro Nutrientes '!U$20,'Data Maestro Nutrientes '!U$21,'Data Maestro Nutrientes '!U$22,'Data Maestro Nutrientes '!U$23)","v":0},{"$f":"+CHOOSE($A13,'Data Maestro Nutrientes '!V$4,'Data Maestro Nutrientes '!V$5,'Data Maestro Nutrientes '!V$6,'Data Maestro Nutrientes '!V$7,'Data Maestro Nutrientes '!V$8,'Data Maestro Nutrientes '!V$9,'Data Maestro Nutrientes '!V$10,'Data Maestro Nutrientes '!V$11,'Data Maestro Nutrientes '!V$12,'Data Maestro Nutrientes '!V$13,'Data Maestro Nutrientes '!V$14,'Data Maestro Nutrientes '!V$15,'Data Maestro Nutrientes '!V$16,'Data Maestro Nutrientes '!V$17,'Data Maestro Nutrientes '!V$18,'Data Maestro Nutrientes '!V$19,'Data Maestro Nutrientes '!V$20,'Data Maestro Nutrientes '!V$21,'Data Maestro Nutrientes '!V$22,'Data Maestro Nutrientes '!V$23)","v":0},{"$f":"+CHOOSE($A13,'Data Maestro Nutrientes '!W$4,'Data Maestro Nutrientes '!W$5,'Data Maestro Nutrientes '!W$6,'Data Maestro Nutrientes '!W$7,'Data Maestro Nutrientes '!W$8,'Data Maestro Nutrientes '!W$9,'Data Maestro Nutrientes '!W$10,'Data Maestro Nutrientes '!W$11,'Data Maestro Nutrientes '!W$12,'Data Maestro Nutrientes '!W$13,'Data Maestro Nutrientes '!W$14,'Data Maestro Nutrientes '!W$15,'Data Maestro Nutrientes '!W$16,'Data Maestro Nutrientes '!W$17,'Data Maestro Nutrientes '!W$18,'Data Maestro Nutrientes '!W$19,'Data Maestro Nutrientes '!W$20,'Data Maestro Nutrientes '!W$21,'Data Maestro Nutrientes '!W$22,'Data Maestro Nutrientes '!W$23)","v":2.5000000000000001E-3},{"$f":"+CHOOSE($A13,'Data Maestro Nutrientes '!X$4,'Data Maestro Nutrientes '!X$5,'Data Maestro Nutrientes '!X$6,'Data Maestro Nutrientes '!X$7,'Data Maestro Nutrientes '!X$8,'Data Maestro Nutrientes '!X$9,'Data Maestro Nutrientes '!X$10,'Data Maestro Nutrientes '!X$11,'Data Maestro Nutrientes '!X$12,'Data Maestro Nutrientes '!X$13,'Data Maestro Nutrientes '!X$14,'Data Maestro Nutrientes '!X$15,'Data Maestro Nutrientes '!X$16,'Data Maestro Nutrientes '!X$17,'Data Maestro Nutrientes '!X$18,'Data Maestro Nutrientes '!X$19,'Data Maestro Nutrientes '!X$20,'Data Maestro Nutrientes '!X$21,'Data Maestro Nutrientes '!X$22,'Data Maestro Nutrientes '!X$23)","v":0},{"$f":"+CHOOSE($A13,'Data Maestro Nutrientes '!Y$4,'Data Maestro Nutrientes '!Y$5,'Data Maestro Nutrientes '!Y$6,'Data Maestro Nutrientes '!Y$7,'Data Maestro Nutrientes '!Y$8,'Data Maestro Nutrientes '!Y$9,'Data Maestro Nutrientes '!Y$10,'Data Maestro Nutrientes '!Y$11,'Data Maestro Nutrientes '!Y$12,'Data Maestro Nutrientes '!Y$13,'Data Maestro Nutrientes '!Y$14,'Data Maestro Nutrientes '!Y$15,'Data Maestro Nutrientes '!Y$16,'Data Maestro Nutrientes '!Y$17,'Data Maestro Nutrientes '!Y$18,'Data Maestro Nutrientes '!Y$19,'Data Maestro Nutrientes '!Y$20,'Data Maestro Nutrientes '!Y$21,'Data Maestro Nutrientes '!Y$22,'Data Maestro Nutrientes '!Y$23)","v":0},{"$f":"+CHOOSE($A13,'Data Maestro Nutrientes '!Z$4,'Data Maestro Nutrientes '!Z$5,'Data Maestro Nutrientes '!Z$6,'Data Maestro Nutrientes '!Z$7,'Data Maestro Nutrientes '!Z$8,'Data Maestro Nutrientes '!Z$9,'Data Maestro Nutrientes '!Z$10,'Data Maestro Nutrientes '!Z$11,'Data Maestro Nutrientes '!Z$12,'Data Maestro Nutrientes '!Z$13,'Data Maestro Nutrientes '!Z$14,'Data Maestro Nutrientes '!Z$15,'Data Maestro Nutrientes '!Z$16,'Data Maestro Nutrientes '!Z$17,'Data Maestro Nutrientes '!Z$18,'Data Maestro Nutrientes '!Z$19,'Data Maestro Nutrientes '!Z$20,'Data Maestro Nutrientes '!Z$21,'Data Maestro Nutrientes '!Z$22,'Data Maestro Nutrientes '!Z$23)","v":0},{"$f":"+CHOOSE($A13,'Data Maestro Nutrientes '!AA$4,'Data Maestro Nutrientes '!AA$5,'Data Maestro Nutrientes '!AA$6,'Data Maestro Nutrientes '!AA$7,'Data Maestro Nutrientes '!AA$8,'Data Maestro Nutrientes '!AA$9,'Data Maestro Nutrientes '!AA$10,'Data Maestro Nutrientes '!AA$11,'Data Maestro Nutrientes '!AA$12,'Data Maestro Nutrientes '!AA$13,'Data Maestro Nutrientes '!AA$14,'Data Maestro Nutrientes '!AA$15,'Data Maestro Nutrientes '!AA$16,'Data Maestro Nutrientes '!AA$17,'Data Maestro Nutrientes '!AA$18,'Data Maestro Nutrientes '!AA$19,'Data Maestro Nutrientes '!AA$20,'Data Maestro Nutrientes '!AA$21,'Data Maestro Nutrientes '!AA$22,'Data Maestro Nutrientes '!AA$23)","v":0},{"$f":"+CHOOSE($A13,'Data Maestro Nutrientes '!AB$4,'Data Maestro Nutrientes '!AB$5,'Data Maestro Nutrientes '!AB$6,'Data Maestro Nutrientes '!AB$7,'Data Maestro Nutrientes '!AB$8,'Data Maestro Nutrientes '!AB$9,'Data Maestro Nutrientes '!AB$10,'Data Maestro Nutrientes '!AB$11,'Data Maestro Nutrientes '!AB$12,'Data Maestro Nutrientes '!AB$13,'Data Maestro Nutrientes '!AB$14,'Data Maestro Nutrientes '!AB$15,'Data Maestro Nutrientes '!AB$16,'Data Maestro Nutrientes '!AB$17,'Data Maestro Nutrientes '!AB$18,'Data Maestro Nutrientes '!AB$19,'Data Maestro Nutrientes '!AB$20,'Data Maestro Nutrientes '!AB$21,'Data Maestro Nutrientes '!AB$22,'Data Maestro Nutrientes '!AB$23)","v":0},{"$f":"+CHOOSE($A13,'Data Maestro Nutrientes '!AC$4,'Data Maestro Nutrientes '!AC$5,'Data Maestro Nutrientes '!AC$6,'Data Maestro Nutrientes '!AC$7,'Data Maestro Nutrientes '!AC$8,'Data Maestro Nutrientes '!AC$9,'Data Maestro Nutrientes '!AC$10,'Data Maestro Nutrientes '!AC$11,'Data Maestro Nutrientes '!AC$12,'Data Maestro Nutrientes '!AC$13,'Data Maestro Nutrientes '!AC$14,'Data Maestro Nutrientes '!AC$15,'Data Maestro Nutrientes '!AC$16,'Data Maestro Nutrientes '!AC$17,'Data Maestro Nutrientes '!AC$18,'Data Maestro Nutrientes '!AC$19,'Data Maestro Nutrientes '!AC$20,'Data Maestro Nutrientes '!AC$21,'Data Maestro Nutrientes '!AC$22,'Data Maestro Nutrientes '!AC$23)","v":0},{"$f":"+CHOOSE($A13,'Data Maestro Nutrientes '!AD$4,'Data Maestro Nutrientes '!AD$5,'Data Maestro Nutrientes '!AD$6,'Data Maestro Nutrientes '!AD$7,'Data Maestro Nutrientes '!AD$8,'Data Maestro Nutrientes '!AD$9,'Data Maestro Nutrientes '!AD$10,'Data Maestro Nutrientes '!AD$11,'Data Maestro Nutrientes '!AD$12,'Data Maestro Nutrientes '!AD$13,'Data Maestro Nutrientes '!AD$14,'Data Maestro Nutrientes '!AD$15,'Data Maestro Nutrientes '!AD$16,'Data Maestro Nutrientes '!AD$17,'Data Maestro Nutrientes '!AD$18,'Data Maestro Nutrientes '!AD$19,'Data Maestro Nutrientes '!AD$20,'Data Maestro Nutrientes '!AD$21,'Data Maestro Nutrientes '!AD$22,'Data Maestro Nutrientes '!AD$23)","v":0}]
[11,{"$f":"+IF(AND(A14>=1,A14<=20),VLOOKUP(A14,'Data Maestro Nutrientes '!$A$2:$AD$23,2),0)","v":"CNF"},{"$f":"+CHOOSE($A14,'Data Maestro Nutrientes '!C$4,'Data Maestro Nutrientes '!C$5,'Data Maestro Nutrientes '!C$6,'Data Maestro Nutrientes '!C$7,'Data Maestro Nutrientes '!C$8,'Data Maestro Nutrientes '!C$9,'Data Maestro Nutrientes '!C$10,'Data Maestro Nutrientes '!C$11,'Data Maestro Nutrientes '!C$12,'Data Maestro Nutrientes '!C$13,'Data Maestro Nutrientes '!C$14,'Data Maestro Nutrientes '!C$15,'Data Maestro Nutrientes '!C$16,'Data Maestro Nutrientes '!C$17,'Data Maestro Nutrientes '!C$18,'Data Maestro Nutrientes '!C$19,'Data Maestro Nutrientes '!C$20,'Data Maestro Nutrientes '!C$21,'Data Maestro Nutrientes '!C$22,'Data Maestro Nutrientes '!C$23)","v":0.42},{"$f":"+CHOOSE($A14,'Data Maestro Nutrientes '!D$4,'Data Maestro Nutrientes '!D$5,'Data Maestro Nutrientes '!D$6,'Data Maestro Nutrientes '!D$7,'Data Maestro Nutrientes '!D$8,'Data Maestro Nutrientes '!D$9,'Data Maestro Nutrientes '!D$10,'Data Maestro Nutrientes '!D$11,'Data Maestro Nutrientes '!D$12,'Data Maestro Nutrientes '!D$13,'Data Maestro Nutrientes '!D$14,'Data Maestro Nutrientes '!D$15,'Data Maestro Nutrientes '!D$16,'Data Maestro Nutrientes '!D$17,'Data Maestro Nutrientes '!D$18,'Data Maestro Nutrientes '!D$19,'Data Maestro Nutrientes '!D$20,'Data Maestro Nutrientes '!D$21,'Data Maestro Nutrientes '!D$22,'Data Maestro Nutrientes '!D$23)","v":0.3},{"$f":"+CHOOSE($A14,'Data Maestro Nutrientes '!E$4,'Data Maestro Nutrientes '!E$5,'Data Maestro Nutrientes '!E$6,'Data Maestro Nutrientes '!E$7,'Data Maestro Nutrientes '!E$8,'Data Maestro Nutrientes '!E$9,'Data Maestro Nutrientes '!E$10,'Data Maestro Nutrientes '!E$11,'Data Maestro Nutrientes '!E$12,'Data Maestro Nutrientes '!E$13,'Data Maestro Nutrientes '!E$14,'Data Maestro Nutrientes '!E$15,'Data Maestro Nutrientes '!E$16,'Data Maestro Nutrientes '!E$17,'Data Maestro Nutrientes '!E$18,'Data Maestro Nutrientes '!E$19,'Data Maestro Nutrientes '!E$20,'Data Maestro Nutrientes '!E$21,'Data Maestro Nutrientes '!E$22,'Data Maestro Nutrientes '!E$23)","v":0.75},{"$f":"+CHOOSE($A14,'Data Maestro Nutrientes '!F$4,'Data Maestro Nutrientes '!F$5,'Data Maestro Nutrientes '!F$6,'Data Maestro Nutrientes '!F$7,'Data Maestro Nutrientes '!F$8,'Data Maestro Nutrientes '!F$9,'Data Maestro Nutrientes '!F$10,'Data Maestro Nutrientes '!F$11,'Data Maestro Nutrientes '!F$12,'Data Maestro Nutrientes '!F$13,'Data Maestro Nutrientes '!F$14,'Data Maestro Nutrientes '!F$15,'Data Maestro Nutrientes '!F$16,'Data Maestro Nutrientes '!F$17,'Data Maestro Nutrientes '!F$18,'Data Maestro Nutrientes '!F$19,'Data Maestro Nutrientes '!F$20,'Data Maestro Nutrientes '!F$21,'Data Maestro Nutrientes '!F$22,'Data Maestro Nutrientes '!F$23)","v":0.18},{"$f":"+CHOOSE($A14,'Data Maestro Nutrientes '!G$4,'Data Maestro Nutrientes '!G$5,'Data Maestro Nutrientes '!G$6,'Data Maestro Nutrientes '!G$7,'Data Maestro Nutrientes '!G$8,'Data Maestro Nutrientes '!G$9,'Data Maestro Nutrientes '!G$10,'Data Maestro Nutrientes '!G$11,'Data Maestro Nutrientes '!G$12,'Data Maestro Nutrientes '!G$13,'Data Maestro Nutrientes '!G$14,'Data Maestro Nutrientes '!G$15,'Data Maestro Nutrientes '!G$16,'Data Maestro Nutrientes '!G$17,'Data Maestro Nutrientes '!G$18,'Data Maestro Nutrientes '!G$19,'Data Maestro Nutrientes '!G$20,'Data Maestro Nutrientes '!G$21,'Data Maestro Nutrientes '!G$22,'Data Maestro Nutrientes '!G$23)","v":0},{"$f":"+CHOOSE($A14,'Data Maestro Nutrientes '!H$4,'Data Maestro Nutrientes '!H$5,'Data Maestro Nutrientes '!H$6,'Data Maestro Nutrientes '!H$7,'Data Maestro Nutrientes '!H$8,'Data Maestro Nutrientes '!H$9,'Data Maestro Nutrientes '!H$10,'Data Maestro Nutrientes '!H$11,'Data Maestro Nutrientes '!H$12,'Data Maestro Nutrientes '!H$13,'Data Maestro Nutrientes '!H$14,'Data Maestro Nutrientes '!H$15,'Data Maestro Nutrientes '!H$16,'Data Maestro Nutrientes '!H$17,'Data Maestro Nutrientes '!H$18,'Data Maestro Nutrientes '!H$19,'Data Maestro Nutrientes '!H$20,'Data Maestro Nutrientes '!H$21,'Data Maestro Nutrientes '!H$22,'Data Maestro Nutrientes '!H$23)","v":0},{"$f":"+CHOOSE($A14,'Data Maestro Nutrientes '!I$4,'Data Maestro Nutrientes '!I$5,'Data Maestro Nutrientes '!I$6,'Data Maestro Nutrientes '!I$7,'Data Maestro Nutrientes '!I$8,'Data Maestro Nutrientes '!I$9,'Data Maestro Nutrientes '!I$10,'Data Maestro Nutrientes '!I$11,'Data Maestro Nutrientes '!I$12,'Data Maestro Nutrientes '!I$13,'Data Maestro Nutrientes '!I$14,'Data Maestro Nutrientes '!I$15,'Data Maestro Nutrientes '!I$16,'Data Maestro Nutrientes '!I$17,'Data Maestro Nutrientes '!I$18,'Data Maestro Nutrientes '!I$19,'Data Maestro Nutrientes '!I$20,'Data Maestro Nutrientes '!I$21,'Data Maestro Nutrientes '!I$22,'Data Maestro Nutrientes '!I$23)","v":0},{"$f":"+CHOOSE($A14,'Data Maestro Nutrientes '!J$4,'Data Maestro Nutrientes '!J$5,'Data Maestro Nutrientes '!J$6,'Data Maestro Nutrientes '!J$7,'Data Maestro Nutrientes '!J$8,'Data Maestro Nutrientes '!J$9,'Data Maestro Nutrientes '!J$10,'Data Maestro Nutrientes '!J$11,'Data Maestro Nutrientes '!J$12,'Data Maestro Nutrientes '!J$13,'Data Maestro Nutrientes '!J$14,'Data Maestro Nutrientes '!J$15,'Data Maestro Nutrientes '!J$16,'Data Maestro Nutrientes '!J$17,'Data Maestro Nutrientes '!J$18,'Data Maestro Nutrientes '!J$19,'Data Maestro Nutrientes '!J$20,'Data Maestro Nutrientes '!J$21,'Data Maestro Nutrientes '!J$22,'Data Maestro Nutrientes '!J$23)","v":0},{"$f":"+CHOOSE($A14,'Data Maestro Nutrientes '!K$4,'Data Maestro Nutrientes '!K$5,'Data Maestro Nutrientes '!K$6,'Data Maestro Nutrientes '!K$7,'Data Maestro Nutrientes '!K$8,'Data Maestro Nutrientes '!K$9,'Data Maestro Nutrientes '!K$10,'Data Maestro Nutrientes '!K$11,'Data Maestro Nutrientes '!K$12,'Data Maestro Nutrientes '!K$13,'Data Maestro Nutrientes '!K$14,'Data Maestro Nutrientes '!K$15,'Data Maestro Nutrientes '!K$16,'Data Maestro Nutrientes '!K$17,'Data Maestro Nutrientes '!K$18,'Data Maestro Nutrientes '!K$19,'Data Maestro Nutrientes '!K$20,'Data Maestro Nutrientes '!K$21,'Data Maestro Nutrientes '!K$22,'Data Maestro Nutrientes '!K$23)","v":0.83},{"$f":"+CHOOSE($A14,'Data Maestro Nutrientes '!L$4,'Data Maestro Nutrientes '!L$5,'Data Maestro Nutrientes '!L$6,'Data Maestro Nutrientes '!L$7,'Data Maestro Nutrientes '!L$8,'Data Maestro Nutrientes '!L$9,'Data Maestro Nutrientes '!L$10,'Data Maestro Nutrientes '!L$11,'Data Maestro Nutrientes '!L$12,'Data Maestro Nutrientes '!L$13,'Data Maestro Nutrientes '!L$14,'Data Maestro Nutrientes '!L$15,'Data Maestro Nutrientes '!L$16,'Data Maestro Nutrientes '!L$17,'Data Maestro Nutrientes '!L$18,'Data Maestro Nutrientes '!L$19,'Data Maestro Nutrientes '!L$20,'Data Maestro Nutrientes '!L$21,'Data Maestro Nutrientes '!L$22,'Data Maestro Nutrientes '!L$23)","v":0},{"$f":"+CHOOSE($A14,'Data Maestro Nutrientes '!M$4,'Data Maestro Nutrientes '!M$5,'Data Maestro Nutrientes '!M$6,'Data Maestro Nutrientes '!M$7,'Data Maestro Nutrientes '!M$8,'Data Maestro Nutrientes '!M$9,'Data Maestro Nutrientes '!M$10,'Data Maestro Nutrientes '!M$11,'Data Maestro Nutrientes '!M$12,'Data Maestro Nutrientes '!M$13,'Data Maestro Nutrientes '!M$14,'Data Maestro Nutrientes '!M$15,'Data Maestro Nutrientes '!M$16,'Data Maestro Nutrientes '!M$17,'Data Maestro Nutrientes '!M$18,'Data Maestro Nutrientes '!M$19,'Data Maestro Nutrientes '!M$20,'Data Maestro Nutrientes '!M$21,'Data Maestro Nutrientes '!M$22,'Data Maestro Nutrientes '!M$23)","v":0},{"$f":"+CHOOSE($A14,'Data Maestro Nutrientes '!N$4,'Data Maestro Nutrientes '!N$5,'Data Maestro Nutrientes '!N$6,'Data Maestro Nutrientes '!N$7,'Data Maestro Nutrientes '!N$8,'Data Maestro Nutrientes '!N$9,'Data Maestro Nutrientes '!N$10,'Data Maestro Nutrientes '!N$11,'Data Maestro Nutrientes '!N$12,'Data Maestro Nutrientes '!N$13,'Data Maestro Nutrientes '!N$14,'Data Maestro Nutrientes '!N$15,'Data Maestro Nutrientes '!N$16,'Data Maestro Nutrientes '!N$17,'Data Maestro Nutrientes '!N$18,'Data Maestro Nutrientes '!N$19,'Data Maestro Nutrientes '!N$20,'Data Maestro Nutrientes '!N$21,'Data Maestro Nutrientes '!N$22,'Data Maestro Nutrientes '!N$23)","v":0.09},{"$f":"+CHOOSE($A14,'Data Maestro Nutrientes '!O$4,'Data Maestro Nutrientes '!O$5,'Data Maestro Nutrientes '!O$6,'Data Maestro Nutrientes '!O$7,'Data Maestro Nutrientes '!O$8,'Data Maestro Nutrientes '!O$9,'Data Maestro Nutrientes '!O$10,'Data Maestro Nutrientes '!O$11,'Data Maestro Nutrientes '!O$12,'Data Maestro Nutrientes '!O$13,'Data Maestro Nutrientes '!O$14,'Data Maestro Nutrientes '!O$15,'Data Maestro Nutrientes '!O$16,'Data Maestro Nutrientes '!O$17,'Data Maestro Nutrientes '!O$18,'Data Maestro Nutrientes '!O$19,'Data Maestro Nutrientes '!O$20,'Data Maestro Nutrientes '!O$21,'Data Maestro Nutrientes '!O$22,'Data Maestro Nutrientes '!O$23)","v":0},{"$f":"+CHOOSE($A14,'Data Maestro Nutrientes '!P$4,'Data Maestro Nutrientes '!P$5,'Data Maestro Nutrientes '!P$6,'Data Maestro Nutrientes '!P$7,'Data Maestro Nutrientes '!P$8,'Data Maestro Nutrientes '!P$9,'Data Maestro Nutrientes '!P$10,'Data Maestro Nutrientes '!P$11,'Data Maestro Nutrientes '!P$12,'Data Maestro Nutrientes '!P$13,'Data Maestro Nutrientes '!P$14,'Data Maestro Nutrientes '!P$15,'Data Maestro Nutrientes '!P$16,'Data Maestro Nutrientes '!P$17,'Data Maestro Nutrientes '!P$18,'Data Maestro Nutrientes '!P$19,'Data Maestro Nutrientes '!P$20,'Data Maestro Nutrientes '!P$21,'Data Maestro Nutrientes '!P$22,'Data Maestro Nutrientes '!P$23)","v":0},{"$f":"+CHOOSE($A14,'Data Maestro Nutrientes '!Q$4,'Data Maestro Nutrientes '!Q$5,'Data Maestro Nutrientes '!Q$6,'Data Maestro Nutrientes '!Q$7,'Data Maestro Nutrientes '!Q$8,'Data Maestro Nutrientes '!Q$9,'Data Maestro Nutrientes '!Q$10,'Data Maestro Nutrientes '!Q$11,'Data Maestro Nutrientes '!Q$12,'Data Maestro Nutrientes '!Q$13,'Data Maestro Nutrientes '!Q$14,'Data Maestro Nutrientes '!Q$15,'Data Maestro Nutrientes '!Q$16,'Data Maestro Nutrientes '!Q$17,'Data Maestro Nutrientes '!Q$18,'Data Maestro Nutrientes '!Q$19,'Data Maestro Nutrientes '!Q$20,'Data Maestro Nutrientes '!Q$21,'Data Maestro Nutrientes '!Q$22,'Data Maestro Nutrientes '!Q$23)","v":0},{"$f":"+CHOOSE($A14,'Data Maestro Nutrientes '!R$4,'Data Maestro Nutrientes '!R$5,'Data Maestro Nutrientes '!R$6,'Data Maestro Nutrientes '!R$7,'Data Maestro Nutrientes '!R$8,'Data Maestro Nutrientes '!R$9,'Data Maestro Nutrientes '!R$10,'Data Maestro Nutrientes '!R$11,'Data Maestro Nutrientes '!R$12,'Data Maestro Nutrientes '!R$13,'Data Maestro Nutrientes '!R$14,'Data Maestro Nutrientes '!R$15,'Data Maestro Nutrientes '!R$16,'Data Maestro Nutrientes '!R$17,'Data Maestro Nutrientes '!R$18,'Data Maestro Nutrientes '!R$19,'Data Maestro Nutrientes '!R$20,'Data Maestro Nutrientes '!R$21,'Data Maestro Nutrientes '!R$22,'Data Maestro Nutrientes '!R$23)","v":0},{"$f":"+CHOOSE($A14,'Data Maestro Nutrientes '!S$4,'Data Maestro Nutrientes '!S$5,'Data Maestro Nutrientes '!S$6,'Data Maestro Nutrientes '!S$7,'Data Maestro Nutrientes '!S$8,'Data Maestro Nutrientes '!S$9,'Data Maestro Nutrientes '!S$10,'Data Maestro Nutrientes '!S$11,'Data Maestro Nutrientes '!S$12,'Data Maestro Nutrientes '!S$13,'Data Maestro Nutrientes '!S$14,'Data Maestro Nutrientes '!S$15,'Data Maestro Nutrientes '!S$16,'Data Maestro Nutrientes '!S$17,'Data Maestro Nutrientes '!S$18,'Data Maestro Nutrientes '!S$19,'Data Maestro Nutrientes '!S$20,'Data Maestro Nutrientes '!S$21,'Data Maestro Nutrientes '!S$22,'Data Maestro Nutrientes '!S$23)","v":0},{"$f":"+CHOOSE($A14,'Data Maestro Nutrientes '!T$4,'Data Maestro Nutrientes '!T$5,'Data Maestro Nutrientes '!T$6,'Data Maestro Nutrientes '!T$7,'Data Maestro Nutrientes '!T$8,'Data Maestro Nutrientes '!T$9,'Data Maestro Nutrientes '!T$10,'Data Maestro Nutrientes '!T$11,'Data Maestro Nutrientes '!T$12,'Data Maestro Nutrientes '!T$13,'Data Maestro Nutrientes '!T$14,'Data Maestro Nutrientes '!T$15,'Data Maestro Nutrientes '!T$16,'Data Maestro Nutrientes '!T$17,'Data Maestro Nutrientes '!T$18,'Data Maestro Nutrientes '!T$19,'Data Maestro Nutrientes '!T$20,'Data Maestro Nutrientes '!T$21,'Data Maestro Nutrientes '!T$22,'Data Maestro Nutrientes '!T$23)","v":0},{"$f":"+CHOOSE($A14,'Data Maestro Nutrientes '!U$4,'Data Maestro Nutrientes '!U$5,'Data Maestro Nutrientes '!U$6,'Data Maestro Nutrientes '!U$7,'Data Maestro Nutrientes '!U$8,'Data Maestro Nutrientes '!U$9,'Data Maestro Nutrientes '!U$10,'Data Maestro Nutrientes '!U$11,'Data Maestro Nutrientes '!U$12,'Data Maestro Nutrientes '!U$13,'Data Maestro Nutrientes '!U$14,'Data Maestro Nutrientes '!U$15,'Data Maestro Nutrientes '!U$16,'Data Maestro Nutrientes '!U$17,'Data Maestro Nutrientes '!U$18,'Data Maestro Nutrientes '!U$19,'Data Maestro Nutrientes '!U$20,'Data Maestro Nutrientes '!U$21,'Data Maestro Nutrientes '!U$22,'Data Maestro Nutrientes '!U$23)","v":0},{"$f":"+CHOOSE($A14,'Data Maestro Nutrientes '!V$4,'Data Maestro Nutrientes '!V$5,'Data Maestro Nutrientes '!V$6,'Data Maestro Nutrientes '!V$7,'Data Maestro Nutrientes '!V$8,'Data Maestro Nutrientes '!V$9,'Data Maestro Nutrientes '!V$10,'Data Maestro Nutrientes '!V$11,'Data Maestro Nutrientes '!V$12,'Data Maestro Nutrientes '!V$13,'Data Maestro Nutrientes '!V$14,'Data Maestro Nutrientes '!V$15,'Data Maestro Nutrientes '!V$16,'Data Maestro Nutrientes '!V$17,'Data Maestro Nutrientes '!V$18,'Data Maestro Nutrientes '!V$19,'Data Maestro Nutrientes '!V$20,'Data Maestro Nutrientes '!V$21,'Data Maestro Nutrientes '!V$22,'Data Maestro Nutrientes '!V$23)","v":0},{"$f":"+CHOOSE($A14,'Data Maestro Nutrientes '!W$4,'Data Maestro Nutrientes '!W$5,'Data Maestro Nutrientes '!W$6,'Data Maestro Nutrientes '!W$7,'Data Maestro Nutrientes '!W$8,'Data Maestro Nutrientes '!W$9,'Data Maestro Nutrientes '!W$10,'Data Maestro Nutrientes '!W$11,'Data Maestro Nutrientes '!W$12,'Data Maestro Nutrientes '!W$13,'Data Maestro Nutrientes '!W$14,'Data Maestro Nutrientes '!W$15,'Data Maestro Nutrientes '!W$16,'Data Maestro Nutrientes '!W$17,'Data Maestro Nutrientes '!W$18,'Data Maestro Nutrientes '!W$19,'Data Maestro Nutrientes '!W$20,'Data Maestro Nutrientes '!W$21,'Data Maestro Nutrientes '!W$22,'Data Maestro Nutrientes '!W$23)","v":0.36},{"$f":"+CHOOSE($A14,'Data Maestro Nutrientes '!X$4,'Data Maestro Nutrientes '!X$5,'Data Maestro Nutrientes '!X$6,'Data Maestro Nutrientes '!X$7,'Data Maestro Nutrientes '!X$8,'Data Maestro Nutrientes '!X$9,'Data Maestro Nutrientes '!X$10,'Data Maestro Nutrientes '!X$11,'Data Maestro Nutrientes '!X$12,'Data Maestro Nutrientes '!X$13,'Data Maestro Nutrientes '!X$14,'Data Maestro Nutrientes '!X$15,'Data Maestro Nutrientes '!X$16,'Data Maestro Nutrientes '!X$17,'Data Maestro Nutrientes '!X$18,'Data Maestro Nutrientes '!X$19,'Data Maestro Nutrientes '!X$20,'Data Maestro Nutrientes '!X$21,'Data Maestro Nutrientes '!X$22,'Data Maestro Nutrientes '!X$23)","v":0},{"$f":"+CHOOSE($A14,'Data Maestro Nutrientes '!Y$4,'Data Maestro Nutrientes '!Y$5,'Data Maestro Nutrientes '!Y$6,'Data Maestro Nutrientes '!Y$7,'Data Maestro Nutrientes '!Y$8,'Data Maestro Nutrientes '!Y$9,'Data Maestro Nutrientes '!Y$10,'Data Maestro Nutrientes '!Y$11,'Data Maestro Nutrientes '!Y$12,'Data Maestro Nutrientes '!Y$13,'Data Maestro Nutrientes '!Y$14,'Data Maestro Nutrientes '!Y$15,'Data Maestro Nutrientes '!Y$16,'Data Maestro Nutrientes '!Y$17,'Data Maestro Nutrientes '!Y$18,'Data Maestro Nutrientes '!Y$19,'Data Maestro Nutrientes '!Y$20,'Data Maestro Nutrientes '!Y$21,'Data Maestro Nutrientes '!Y$22,'Data Maestro Nutrientes '!Y$23)","v":0},{"$f":"+CHOOSE($A14,'Data Maestro Nutrientes '!Z$4,'Data Maestro Nutrientes '!Z$5,'Data Maestro Nutrientes '!Z$6,'Data Maestro Nutrientes '!Z$7,'Data Maestro Nutrientes '!Z$8,'Data Maestro Nutrientes '!Z$9,'Data Maestro Nutrientes '!Z$10,'Data Maestro Nutrientes '!Z$11,'Data Maestro Nutrientes '!Z$12,'Data Maestro Nutrientes '!Z$13,'Data Maestro Nutrientes '!Z$14,'Data Maestro Nutrientes '!Z$15,'Data Maestro Nutrientes '!Z$16,'Data Maestro Nutrientes '!Z$17,'Data Maestro Nutrientes '!Z$18,'Data Maestro Nutrientes '!Z$19,'Data Maestro Nutrientes '!Z$20,'Data Maestro Nutrientes '!Z$21,'Data Maestro Nutrientes '!Z$22,'Data Maestro Nutrientes '!Z$23)","v":0},{"$f":"+CHOOSE($A14,'Data Maestro Nutrientes '!AA$4,'Data Maestro Nutrientes '!AA$5,'Data Maestro Nutrientes '!AA$6,'Data Maestro Nutrientes '!AA$7,'Data Maestro Nutrientes '!AA$8,'Data Maestro Nutrientes '!AA$9,'Data Maestro Nutrientes '!AA$10,'Data Maestro Nutrientes '!AA$11,'Data Maestro Nutrientes '!AA$12,'Data Maestro Nutrientes '!AA$13,'Data Maestro Nutrientes '!AA$14,'Data Maestro Nutrientes '!AA$15,'Data Maestro Nutrientes '!AA$16,'Data Maestro Nutrientes '!AA$17,'Data Maestro Nutrientes '!AA$18,'Data Maestro Nutrientes '!AA$19,'Data Maestro Nutrientes '!AA$20,'Data Maestro Nutrientes '!AA$21,'Data Maestro Nutrientes '!AA$22,'Data Maestro Nutrientes '!AA$23)","v":0},{"$f":"+CHOOSE($A14,'Data Maestro Nutrientes '!AB$4,'Data Maestro Nutrientes '!AB$5,'Data Maestro Nutrientes '!AB$6,'Data Maestro Nutrientes '!AB$7,'Data Maestro Nutrientes '!AB$8,'Data Maestro Nutrientes '!AB$9,'Data Maestro Nutrientes '!AB$10,'Data Maestro Nutrientes '!AB$11,'Data Maestro Nutrientes '!AB$12,'Data Maestro Nutrientes '!AB$13,'Data Maestro Nutrientes '!AB$14,'Data Maestro Nutrientes '!AB$15,'Data Maestro Nutrientes '!AB$16,'Data Maestro Nutrientes '!AB$17,'Data Maestro Nutrientes '!AB$18,'Data Maestro Nutrientes '!AB$19,'Data Maestro Nutrientes '!AB$20,'Data Maestro Nutrientes '!AB$21,'Data Maestro Nutrientes '!AB$22,'Data Maestro Nutrientes '!AB$23)","v":0},{"$f":"+CHOOSE($A14,'Data Maestro Nutrientes '!AC$4,'Data Maestro Nutrientes '!AC$5,'Data Maestro Nutrientes '!AC$6,'Data Maestro Nutrientes '!AC$7,'Data Maestro Nutrientes '!AC$8,'Data Maestro Nutrientes '!AC$9,'Data Maestro Nutrientes '!AC$10,'Data Maestro Nutrientes '!AC$11,'Data Maestro Nutrientes '!AC$12,'Data Maestro Nutrientes '!AC$13,'Data Maestro Nutrientes '!AC$14,'Data Maestro Nutrientes '!AC$15,'Data Maestro Nutrientes '!AC$16,'Data Maestro Nutrientes '!AC$17,'Data Maestro Nutrientes '!AC$18,'Data Maestro Nutrientes '!AC$19,'Data Maestro Nutrientes '!AC$20,'Data Maestro Nutrientes '!AC$21,'Data Maestro Nutrientes '!AC$22,'Data Maestro Nutrientes '!AC$23)","v":0},{"$f":"+CHOOSE($A14,'Data Maestro Nutrientes '!AD$4,'Data Maestro Nutrientes '!AD$5,'Data Maestro Nutrientes '!AD$6,'Data Maestro Nutrientes '!AD$7,'Data Maestro Nutrientes '!AD$8,'Data Maestro Nutrientes '!AD$9,'Data Maestro Nutrientes '!AD$10,'Data Maestro Nutrientes '!AD$11,'Data Maestro Nutrientes '!AD$12,'Data Maestro Nutrientes '!AD$13,'Data Maestro Nutrientes '!AD$14,'Data Maestro Nutrientes '!AD$15,'Data Maestro Nutrientes '!AD$16,'Data Maestro Nutrientes '!AD$17,'Data Maestro Nutrientes '!AD$18,'Data Maestro Nutrientes '!AD$19,'Data Maestro Nutrientes '!AD$20,'Data Maestro Nutrientes '!AD$21,'Data Maestro Nutrientes '!AD$22,'Data Maestro Nutrientes '!AD$23)","v":0}]
[14,{"$f":"+IF(AND(A15>=1,A15<=20),VLOOKUP(A15,'Data Maestro Nutrientes '!$A$2:$AD$23,2),0)","v":"Sodio"},{"$f":"+CHOOSE($A15,'Data Maestro Nutrientes '!C$4,'Data Maestro Nutrientes '!C$5,'Data Maestro Nutrientes '!C$6,'Data Maestro Nutrientes '!C$7,'Data Maestro Nutrientes '!C$8,'Data Maestro Nutrientes '!C$9,'Data Maestro Nutrientes '!C$10,'Data Maestro Nutrientes '!C$11,'Data Maestro Nutrientes '!C$12,'Data Maestro Nutrientes '!C$13,'Data Maestro Nutrientes '!C$14,'Data Maestro Nutrientes '!C$15,'Data Maestro Nutrientes '!C$16,'Data Maestro Nutrientes '!C$17,'Data Maestro Nutrientes '!C$18,'Data Maestro Nutrientes '!C$19,'Data Maestro Nutrientes '!C$20,'Data Maestro Nutrientes '!C$21,'Data Maestro Nutrientes '!C$22,'Data Maestro Nutrientes '!C$23)","v":2.0000000000000001E-4},{"$f":"+CHOOSE($A15,'Data Maestro Nutrientes '!D$4,'Data Maestro Nutrientes '!D$5,'Data Maestro Nutrientes '!D$6,'Data Maestro Nutrientes '!D$7,'Data Maestro Nutrientes '!D$8,'Data Maestro Nutrientes '!D$9,'Data Maestro Nutrientes '!D$10,'Data Maestro Nutrientes '!D$11,'Data Maestro Nutrientes '!D$12,'Data Maestro Nutrientes '!D$13,'Data Maestro Nutrientes '!D$14,'Data Maestro Nutrientes '!D$15,'Data Maestro Nutrientes '!D$16,'Data Maestro Nutrientes '!D$17,'Data Maestro Nutrientes '!D$18,'Data Maestro Nutrientes '!D$19,'Data Maestro Nutrientes '!D$20,'Data Maestro Nutrientes '!D$21,'Data Maestro Nutrientes '!D$22,'Data Maestro Nutrientes '!D$23)","v":2.9999999999999997E-4},{"$f":"+CHOOSE($A15,'Data Maestro Nutrientes '!E$4,'Data Maestro Nutrientes '!E$5,'Data Maestro Nutrientes '!E$6,'Data Maestro Nutrientes '!E$7,'Data Maestro Nutrientes '!E$8,'Data Maestro Nutrientes '!E$9,'Data Maestro Nutrientes '!E$10,'Data Maestro Nutrientes '!E$11,'Data Maestro Nutrientes '!E$12,'Data Maestro Nutrientes '!E$13,'Data Maestro Nutrientes '!E$14,'Data Maestro Nutrientes '!E$15,'Data Maestro Nutrientes '!E$16,'Data Maestro Nutrientes '!E$17,'Data Maestro Nutrientes '!E$18,'Data Maestro Nutrientes '!E$19,'Data Maestro Nutrientes '!E$20,'Data Maestro Nutrientes '!E$21,'Data Maestro Nutrientes '!E$22,'Data Maestro Nutrientes '!E$23)","v":2.0000000000000001E-4},{"$f":"+CHOOSE($A15,'Data Maestro Nutrientes '!F$4,'Data Maestro Nutrientes '!F$5,'Data Maestro Nutrientes '!F$6,'Data Maestro Nutrientes '!F$7,'Data Maestro Nutrientes '!F$8,'Data Maestro Nutrientes '!F$9,'Data Maestro Nutrientes '!F$10,'Data Maestro Nutrientes '!F$11,'Data Maestro Nutrientes '!F$12,'Data Maestro Nutrientes '!F$13,'Data Maestro Nutrientes '!F$14,'Data Maestro Nutrientes '!F$15,'Data Maestro Nutrientes '!F$16,'Data Maestro Nutrientes '!F$17,'Data Maestro Nutrientes '!F$18,'Data Maestro Nutrientes '!F$19,'Data Maestro Nutrientes '!F$20,'Data Maestro Nutrientes '!F$21,'Data Maestro Nutrientes '!F$22,'Data Maestro Nutrientes '!F$23)","v":2.0000000000000001E-4},{"$f":"+CHOOSE($A15,'Data Maestro Nutrientes '!G$4,'Data Maestro Nutrientes '!G$5,'Data Maestro Nutrientes '!G$6,'Data Maestro Nutrientes '!G$7,'Data Maestro Nutrientes '!G$8,'Data Maestro Nutrientes '!G$9,'Data Maestro Nutrientes '!G$10,'Data Maestro Nutrientes '!G$11,'Data Maestro Nutrientes '!G$12,'Data Maestro Nutrientes '!G$13,'Data Maestro Nutrientes '!G$14,'Data Maestro Nutrientes '!G$15,'Data Maestro Nutrientes '!G$16,'Data Maestro Nutrientes '!G$17,'Data Maestro Nutrientes '!G$18,'Data Maestro Nutrientes '!G$19,'Data Maestro Nutrientes '!G$20,'Data Maestro Nutrientes '!G$21,'Data Maestro Nutrientes '!G$22,'Data Maestro Nutrientes '!G$23)","v":0},{"$f":"+CHOOSE($A15,'Data Maestro Nutrientes '!H$4,'Data Maestro Nutrientes '!H$5,'Data Maestro Nutrientes '!H$6,'Data Maestro Nutrientes '!H$7,'Data Maestro Nutrientes '!H$8,'Data Maestro Nutrientes '!H$9,'Data Maestro Nutrientes '!H$10,'Data Maestro Nutrientes '!H$11,'Data Maestro Nutrientes '!H$12,'Data Maestro Nutrientes '!H$13,'Data Maestro Nutrientes '!H$14,'Data Maestro Nutrientes '!H$15,'Data Maestro Nutrientes '!H$16,'Data Maestro Nutrientes '!H$17,'Data Maestro Nutrientes '!H$18,'Data Maestro Nutrientes '!H$19,'Data Maestro Nutrientes '!H$20,'Data Maestro Nutrientes '!H$21,'Data Maestro Nutrientes '!H$22,'Data Maestro Nutrientes '!H$23)","v":0.39},{"$f":"+CHOOSE($A15,'Data Maestro Nutrientes '!I$4,'Data Maestro Nutrientes '!I$5,'Data Maestro Nutrientes '!I$6,'Data Maestro Nutrientes '!I$7,'Data Maestro Nutrientes '!I$8,'Data Maestro Nutrientes '!I$9,'Data Maestro Nutrientes '!I$10,'Data Maestro Nutrientes '!I$11,'Data Maestro Nutrientes '!I$12,'Data Maestro Nutrientes '!I$13,'Data Maestro Nutrientes '!I$14,'Data Maestro Nutrientes '!I$15,'Data Maestro Nutrientes '!I$16,'Data Maestro Nutrientes '!I$17,'Data Maestro Nutrientes '!I$18,'Data Maestro Nutrientes '!I$19,'Data Maestro Nutrientes '!I$20,'Data Maestro Nutrientes '!I$21,'Data Maestro Nutrientes '!I$22,'Data Maestro Nutrientes '!I$23)","v":0},{"$f":"+CHOOSE($A15,'Data Maestro Nutrientes '!J$4,'Data Maestro Nutrientes '!J$5,'Data Maestro Nutrientes '!J$6,'Data Maestro Nutrientes '!J$7,'Data Maestro Nutrientes '!J$8,'Data Maestro Nutrientes '!J$9,'Data Maestro Nutrientes '!J$10,'Data Maestro Nutrientes '!J$11,'Data Maestro Nutrientes '!J$12,'Data Maestro Nutrientes '!J$13,'Data Maestro Nutrientes '!J$14,'Data Maestro Nutrientes '!J$15,'Data Maestro Nutrientes '!J$16,'Data Maestro Nutrientes '!J$17,'Data Maestro Nutrientes '!J$18,'Data Maestro Nutrientes '!J$19,'Data Maestro Nutrientes '!J$20,'Data Maestro Nutrientes '!J$21,'Data Maestro Nutrientes '!J$22,'Data Maestro Nutrientes '!J$23)","v":2.35E-2},{"$f":"+CHOOSE($A15,'Data Maestro Nutrientes '!K$4,'Data Maestro Nutrientes '!K$5,'Data Maestro Nutrientes '!K$6,'Data Maestro Nutrientes '!K$7,'Data Maestro Nutrientes '!K$8,'Data Maestro Nutrientes '!K$9,'Data Maestro Nutrientes '!K$10,'Data Maestro Nutrientes '!K$11,'Data Maestro Nutrientes '!K$12,'Data Maestro Nutrientes '!K$13,'Data Maestro Nutrientes '!K$14,'Data Maestro Nutrientes '!K$15,'Data Maestro Nutrientes '!K$16,'Data Maestro Nutrientes '!K$17,'Data Maestro Nutrientes '!K$18,'Data Maestro Nutrientes '!K$19,'Data Maestro Nutrientes '!K$20,'Data Maestro Nutrientes '!K$21,'Data Maestro Nutrientes '!K$22,'Data Maestro Nutrientes '!K$23)","v":2.2000000000000001E-3},{"$f":"+CHOOSE($A15,'Data Maestro Nutrientes '!L$4,'Data Maestro Nutrientes '!L$5,'Data Maestro Nutrientes '!L$6,'Data Maestro Nutrientes '!L$7,'Data Maestro Nutrientes '!L$8,'Data Maestro Nutrientes '!L$9,'Data Maestro Nutrientes '!L$10,'Data Maestro Nutrientes '!L$11,'Data Maestro Nutrientes '!L$12,'Data Maestro Nutrientes '!L$13,'Data Maestro Nutrientes '!L$14,'Data Maestro Nutrientes '!L$15,'Data Maestro Nutrientes '!L$16,'Data Maestro Nutrientes '!L$17,'Data Maestro Nutrientes '!L$18,'Data Maestro Nutrientes '!L$19,'Data Maestro Nutrientes '!L$20,'Data Maestro Nutrientes '!L$21,'Data Maestro Nutrientes '!L$22,'Data Maestro Nutrientes '!L$23)","v":0},{"$f":"+CHOOSE($A15,'Data Maestro Nutrientes '!M$4,'Data Maestro Nutrientes '!M$5,'Data Maestro Nutrientes '!M$6,'Data Maestro Nutrientes '!M$7,'Data Maestro Nutrientes '!M$8,'Data Maestro Nutrientes '!M$9,'Data Maestro Nutrientes '!M$10,'Data Maestro Nutrientes '!M$11,'Data Maestro Nutrientes '!M$12,'Data Maestro Nutrientes '!M$13,'Data Maestro Nutrientes '!M$14,'Data Maestro Nutrientes '!M$15,'Data Maestro Nutrientes '!M$16,'Data Maestro Nutrientes '!M$17,'Data Maestro Nutrientes '!M$18,'Data Maestro Nutrientes '!M$19,'Data Maestro Nutrientes '!M$20,'Data Maestro Nutrientes '!M$21,'Data Maestro Nutrientes '!M$22,'Data Maestro Nutrientes '!M$23)","v":0},{"$f":"+CHOOSE($A15,'Data Maestro Nutrientes '!N$4,'Data Maestro Nutrientes '!N$5,'Data Maestro Nutrientes '!N$6,'Data Maestro Nutrientes '!N$7,'Data Maestro Nutrientes '!N$8,'Data Maestro Nutrientes '!N$9,'Data Maestro Nutrientes '!N$10,'Data Maestro Nutrientes '!N$11,'Data Maestro Nutrientes '!N$12,'Data Maestro Nutrientes '!N$13,'Data Maestro Nutrientes '!N$14,'Data Maestro Nutrientes '!N$15,'Data Maestro Nutrientes '!N$16,'Data Maestro Nutrientes '!N$17,'Data Maestro Nutrientes '!N$18,'Data Maestro Nutrientes '!N$19,'Data Maestro Nutrientes '!N$20,'Data Maestro Nutrientes '!N$21,'Data Maestro Nutrientes '!N$22,'Data Maestro Nutrientes '!N$23)","v":2.0000000000000001E-4},{"$f":"+CHOOSE($A15,'Data Maestro Nutrientes '!O$4,'Data Maestro Nutrientes '!O$5,'Data Maestro Nutrientes '!O$6,'Data Maestro Nutrientes '!O$7,'Data Maestro Nutrientes '!O$8,'Data Maestro Nutrientes '!O$9,'Data Maestro Nutrientes '!O$10,'Data Maestro Nutrientes '!O$11,'Data Maestro Nutrientes '!O$12,'Data Maestro Nutrientes '!O$13,'Data Maestro Nutrientes '!O$14,'Data Maestro Nutrientes '!O$15,'Data Maestro Nutrientes '!O$16,'Data Maestro Nutrientes '!O$17,'Data Maestro Nutrientes '!O$18,'Data Maestro Nutrientes '!O$19,'Data Maestro Nutrientes '!O$20,'Data Maestro Nutrientes '!O$21,'Data Maestro Nutrientes '!O$22,'Data Maestro Nutrientes '!O$23)","v":0},{"$f":"+CHOOSE($A15,'Data Maestro Nutrientes '!P$4,'Data Maestro Nutrientes '!P$5,'Data Maestro Nutrientes '!P$6,'Data Maestro Nutrientes '!P$7,'Data Maestro Nutrientes '!P$8,'Data Maestro Nutrientes '!P$9,'Data Maestro Nutrientes '!P$10,'Data Maestro Nutrientes '!P$11,'Data Maestro Nutrientes '!P$12,'Data Maestro Nutrientes '!P$13,'Data Maestro Nutrientes '!P$14,'Data Maestro Nutrientes '!P$15,'Data Maestro Nutrientes '!P$16,'Data Maestro Nutrientes '!P$17,'Data Maestro Nutrientes '!P$18,'Data Maestro Nutrientes '!P$19,'Data Maestro Nutrientes '!P$20,'Data Maestro Nutrientes '!P$21,'Data Maestro Nutrientes '!P$22,'Data Maestro Nutrientes '!P$23)","v":0},{"$f":"+CHOOSE($A15,'Data Maestro Nutrientes '!Q$4,'Data Maestro Nutrientes '!Q$5,'Data Maestro Nutrientes '!Q$6,'Data Maestro Nutrientes '!Q$7,'Data Maestro Nutrientes '!Q$8,'Data Maestro Nutrientes '!Q$9,'Data Maestro Nutrientes '!Q$10,'Data Maestro Nutrientes '!Q$11,'Data Maestro Nutrientes '!Q$12,'Data Maestro Nutrientes '!Q$13,'Data Maestro Nutrientes '!Q$14,'Data Maestro Nutrientes '!Q$15,'Data Maestro Nutrientes '!Q$16,'Data Maestro Nutrientes '!Q$17,'Data Maestro Nutrientes '!Q$18,'Data Maestro Nutrientes '!Q$19,'Data Maestro Nutrientes '!Q$20,'Data Maestro Nutrientes '!Q$21,'Data Maestro Nutrientes '!Q$22,'Data Maestro Nutrientes '!Q$23)","v":0},{"$f":"+CHOOSE($A15,'Data Maestro Nutrientes '!R$4,'Data Maestro Nutrientes '!R$5,'Data Maestro Nutrientes '!R$6,'Data Maestro Nutrientes '!R$7,'Data Maestro Nutrientes '!R$8,'Data Maestro Nutrientes '!R$9,'Data Maestro Nutrientes '!R$10,'Data Maestro Nutrientes '!R$11,'Data Maestro Nutrientes '!R$12,'Data Maestro Nutrientes '!R$13,'Data Maestro Nutrientes '!R$14,'Data Maestro Nutrientes '!R$15,'Data Maestro Nutrientes '!R$16,'Data Maestro Nutrientes '!R$17,'Data Maestro Nutrientes '!R$18,'Data Maestro Nutrientes '!R$19,'Data Maestro Nutrientes '!R$20,'Data Maestro Nutrientes '!R$21,'Data Maestro Nutrientes '!R$22,'Data Maestro Nutrientes '!R$23)","v":0},{"$f":"+CHOOSE($A15,'Data Maestro Nutrientes '!S$4,'Data Maestro Nutrientes '!S$5,'Data Maestro Nutrientes '!S$6,'Data Maestro Nutrientes '!S$7,'Data Maestro Nutrientes '!S$8,'Data Maestro Nutrientes '!S$9,'Data Maestro Nutrientes '!S$10,'Data Maestro Nutrientes '!S$11,'Data Maestro Nutrientes '!S$12,'Data Maestro Nutrientes '!S$13,'Data Maestro Nutrientes '!S$14,'Data Maestro Nutrientes '!S$15,'Data Maestro Nutrientes '!S$16,'Data Maestro Nutrientes '!S$17,'Data Maestro Nutrientes '!S$18,'Data Maestro Nutrientes '!S$19,'Data Maestro Nutrientes '!S$20,'Data Maestro Nutrientes '!S$21,'Data Maestro Nutrientes '!S$22,'Data Maestro Nutrientes '!S$23)","v":0},{"$f":"+CHOOSE($A15,'Data Maestro Nutrientes '!T$4,'Data Maestro Nutrientes '!T$5,'Data Maestro Nutrientes '!T$6,'Data Maestro Nutrientes '!T$7,'Data Maestro Nutrientes '!T$8,'Data Maestro Nutrientes '!T$9,'Data Maestro Nutrientes '!T$10,'Data Maestro Nutrientes '!T$11,'Data Maestro Nutrientes '!T$12,'Data Maestro Nutrientes '!T$13,'Data Maestro Nutrientes '!T$14,'Data Maestro Nutrientes '!T$15,'Data Maestro Nutrientes '!T$16,'Data Maestro Nutrientes '!T$17,'Data Maestro Nutrientes '!T$18,'Data Maestro Nutrientes '!T$19,'Data Maestro Nutrientes '!T$20,'Data Maestro Nutrientes '!T$21,'Data Maestro Nutrientes '!T$22,'Data Maestro Nutrientes '!T$23)","v":0},{"$f":"+CHOOSE($A15,'Data Maestro Nutrientes '!U$4,'Data Maestro Nutrientes '!U$5,'Data Maestro Nutrientes '!U$6,'Data Maestro Nutrientes '!U$7,'Data Maestro Nutrientes '!U$8,'Data Maestro Nutrientes '!U$9,'Data Maestro Nutrientes '!U$10,'Data Maestro Nutrientes '!U$11,'Data Maestro Nutrientes '!U$12,'Data Maestro Nutrientes '!U$13,'Data Maestro Nutrientes '!U$14,'Data Maestro Nutrientes '!U$15,'Data Maestro Nutrientes '!U$16,'Data Maestro Nutrientes '!U$17,'Data Maestro Nutrientes '!U$18,'Data Maestro Nutrientes '!U$19,'Data Maestro Nutrientes '!U$20,'Data Maestro Nutrientes '!U$21,'Data Maestro Nutrientes '!U$22,'Data Maestro Nutrientes '!U$23)","v":0},{"$f":"+CHOOSE($A15,'Data Maestro Nutrientes '!V$4,'Data Maestro Nutrientes '!V$5,'Data Maestro Nutrientes '!V$6,'Data Maestro Nutrientes '!V$7,'Data Maestro Nutrientes '!V$8,'Data Maestro Nutrientes '!V$9,'Data Maestro Nutrientes '!V$10,'Data Maestro Nutrientes '!V$11,'Data Maestro Nutrientes '!V$12,'Data Maestro Nutrientes '!V$13,'Data Maestro Nutrientes '!V$14,'Data Maestro Nutrientes '!V$15,'Data Maestro Nutrientes '!V$16,'Data Maestro Nutrientes '!V$17,'Data Maestro Nutrientes '!V$18,'Data Maestro Nutrientes '!V$19,'Data Maestro Nutrientes '!V$20,'Data Maestro Nutrientes '!V$21,'Data Maestro Nutrientes '!V$22,'Data Maestro Nutrientes '!V$23)","v":0},{"$f":"+CHOOSE($A15,'Data Maestro Nutrientes '!W$4,'Data Maestro Nutrientes '!W$5,'Data Maestro Nutrientes '!W$6,'Data Maestro Nutrientes '!W$7,'Data Maestro Nutrientes '!W$8,'Data Maestro Nutrientes '!W$9,'Data Maestro Nutrientes '!W$10,'Data Maestro Nutrientes '!W$11,'Data Maestro Nutrientes '!W$12,'Data Maestro Nutrientes '!W$13,'Data Maestro Nutrientes '!W$14,'Data Maestro Nutrientes '!W$15,'Data Maestro Nutrientes '!W$16,'Data Maestro Nutrientes '!W$17,'Data Maestro Nutrientes '!W$18,'Data Maestro Nutrientes '!W$19,'Data Maestro Nutrientes '!W$20,'Data Maestro Nutrientes '!W$21,'Data Maestro Nutrientes '!W$22,'Data Maestro Nutrientes '!W$23)","v":1E-4},{"$f":"+CHOOSE($A15,'Data Maestro Nutrientes '!X$4,'Data Maestro Nutrientes '!X$5,'Data Maestro Nutrientes '!X$6,'Data Maestro Nutrientes '!X$7,'Data Maestro Nutrientes '!X$8,'Data Maestro Nutrientes '!X$9,'Data Maestro Nutrientes '!X$10,'Data Maestro Nutrientes '!X$11,'Data Maestro Nutrientes '!X$12,'Data Maestro Nutrientes '!X$13,'Data Maestro Nutrientes '!X$14,'Data Maestro Nutrientes '!X$15,'Data Maestro Nutrientes '!X$16,'Data Maestro Nutrientes '!X$17,'Data Maestro Nutrientes '!X$18,'Data Maestro Nutrientes '!X$19,'Data Maestro Nutrientes '!X$20,'Data Maestro Nutrientes '!X$21,'Data Maestro Nutrientes '!X$22,'Data Maestro Nutrientes '!X$23)","v":0},{"$f":"+CHOOSE($A15,'Data Maestro Nutrientes '!Y$4,'Data Maestro Nutrientes '!Y$5,'Data Maestro Nutrientes '!Y$6,'Data Maestro Nutrientes '!Y$7,'Data Maestro Nutrientes '!Y$8,'Data Maestro Nutrientes '!Y$9,'Data Maestro Nutrientes '!Y$10,'Data Maestro Nutrientes '!Y$11,'Data Maestro Nutrientes '!Y$12,'Data Maestro Nutrientes '!Y$13,'Data Maestro Nutrientes '!Y$14,'Data Maestro Nutrientes '!Y$15,'Data Maestro Nutrientes '!Y$16,'Data Maestro Nutrientes '!Y$17,'Data Maestro Nutrientes '!Y$18,'Data Maestro Nutrientes '!Y$19,'Data Maestro Nutrientes '!Y$20,'Data Maestro Nutrientes '!Y$21,'Data Maestro Nutrientes '!Y$22,'Data Maestro Nutrientes '!Y$23)","v":0},{"$f":"+CHOOSE($A15,'Data Maestro Nutrientes '!Z$4,'Data Maestro Nutrientes '!Z$5,'Data Maestro Nutrientes '!Z$6,'Data Maestro Nutrientes '!Z$7,'Data Maestro Nutrientes '!Z$8,'Data Maestro Nutrientes '!Z$9,'Data Maestro Nutrientes '!Z$10,'Data Maestro Nutrientes '!Z$11,'Data Maestro Nutrientes '!Z$12,'Data Maestro Nutrientes '!Z$13,'Data Maestro Nutrientes '!Z$14,'Data Maestro Nutrientes '!Z$15,'Data Maestro Nutrientes '!Z$16,'Data Maestro Nutrientes '!Z$17,'Data Maestro Nutrientes '!Z$18,'Data Maestro Nutrientes '!Z$19,'Data Maestro Nutrientes '!Z$20,'Data Maestro Nutrientes '!Z$21,'Data Maestro Nutrientes '!Z$22,'Data Maestro Nutrientes '!Z$23)","v":0},{"$f":"+CHOOSE($A15,'Data Maestro Nutrientes '!AA$4,'Data Maestro Nutrientes '!AA$5,'Data Maestro Nutrientes '!AA$6,'Data Maestro Nutrientes '!AA$7,'Data Maestro Nutrientes '!AA$8,'Data Maestro Nutrientes '!AA$9,'Data Maestro Nutrientes '!AA$10,'Data Maestro Nutrientes '!AA$11,'Data Maestro Nutrientes '!AA$12,'Data Maestro Nutrientes '!AA$13,'Data Maestro Nutrientes '!AA$14,'Data Maestro Nutrientes '!AA$15,'Data Maestro Nutrientes '!AA$16,'Data Maestro Nutrientes '!AA$17,'Data Maestro Nutrientes '!AA$18,'Data Maestro Nutrientes '!AA$19,'Data Maestro Nutrientes '!AA$20,'Data Maestro Nutrientes '!AA$21,'Data Maestro Nutrientes '!AA$22,'Data Maestro Nutrientes '!AA$23)","v":0},{"$f":"+CHOOSE($A15,'Data Maestro Nutrientes '!AB$4,'Data Maestro Nutrientes '!AB$5,'Data Maestro Nutrientes '!AB$6,'Data Maestro Nutrientes '!AB$7,'Data Maestro Nutrientes '!AB$8,'Data Maestro Nutrientes '!AB$9,'Data Maestro Nutrientes '!AB$10,'Data Maestro Nutrientes '!AB$11,'Data Maestro Nutrientes '!AB$12,'Data Maestro Nutrientes '!AB$13,'Data Maestro Nutrientes '!AB$14,'Data Maestro Nutrientes '!AB$15,'Data Maestro Nutrientes '!AB$16,'Data Maestro Nutrientes '!AB$17,'Data Maestro Nutrientes '!AB$18,'Data Maestro Nutrientes '!AB$19,'Data Maestro Nutrientes '!AB$20,'Data Maestro Nutrientes '!AB$21,'Data Maestro Nutrientes '!AB$22,'Data Maestro Nutrientes '!AB$23)","v":0},{"$f":"+CHOOSE($A15,'Data Maestro Nutrientes '!AC$4,'Data Maestro Nutrientes '!AC$5,'Data Maestro Nutrientes '!AC$6,'Data Maestro Nutrientes '!AC$7,'Data Maestro Nutrientes '!AC$8,'Data Maestro Nutrientes '!AC$9,'Data Maestro Nutrientes '!AC$10,'Data Maestro Nutrientes '!AC$11,'Data Maestro Nutrientes '!AC$12,'Data Maestro Nutrientes '!AC$13,'Data Maestro Nutrientes '!AC$14,'Data Maestro Nutrientes '!AC$15,'Data Maestro Nutrientes '!AC$16,'Data Maestro Nutrientes '!AC$17,'Data Maestro Nutrientes '!AC$18,'Data Maestro Nutrientes '!AC$19,'Data Maestro Nutrientes '!AC$20,'Data Maestro Nutrientes '!AC$21,'Data Maestro Nutrientes '!AC$22,'Data Maestro Nutrientes '!AC$23)","v":0},{"$f":"+CHOOSE($A15,'Data Maestro Nutrientes '!AD$4,'Data Maestro Nutrientes '!AD$5,'Data Maestro Nutrientes '!AD$6,'Data Maestro Nutrientes '!AD$7,'Data Maestro Nutrientes '!AD$8,'Data Maestro Nutrientes '!AD$9,'Data Maestro Nutrientes '!AD$10,'Data Maestro Nutrientes '!AD$11,'Data Maestro Nutrientes '!AD$12,'Data Maestro Nutrientes '!AD$13,'Data Maestro Nutrientes '!AD$14,'Data Maestro Nutrientes '!AD$15,'Data Maestro Nutrientes '!AD$16,'Data Maestro Nutrientes '!AD$17,'Data Maestro Nutrientes '!AD$18,'Data Maestro Nutrientes '!AD$19,'Data Maestro Nutrientes '!AD$20,'Data Maestro Nutrientes '!AD$21,'Data Maestro Nutrientes '!AD$22,'Data Maestro Nutrientes '!AD$23)","v":0}]
[7,{"$f":"+IF(AND(A16>=1,A16<=20),VLOOKUP(A16,'Data Maestro Nutrientes '!$A$2:$AD$23,2),0)","v":"FDA"},{"$f":"+CHOOSE($A16,'Data Maestro Nutrientes '!C$4,'Data Maestro Nutrientes '!C$5,'Data Maestro Nutrientes '!C$6,'Data Maestro Nutrientes '!C$7,'Data Maestro Nutrientes '!C$8,'Data Maestro Nutrientes '!C$9,'Data Maestro Nutrientes '!C$10,'Data Maestro Nutrientes '!C$11,'Data Maestro Nutrientes '!C$12,'Data Maestro Nutrientes '!C$13,'Data Maestro Nutrientes '!C$14,'Data Maestro Nutrientes '!C$15,'Data Maestro Nutrientes '!C$16,'Data Maestro Nutrientes '!C$17,'Data Maestro Nutrientes '!C$18,'Data Maestro Nutrientes '!C$19,'Data Maestro Nutrientes '!C$20,'Data Maestro Nutrientes '!C$21,'Data Maestro Nutrientes '!C$22,'Data Maestro Nutrientes '!C$23)","v":0.155},{"$f":"+CHOOSE($A16,'Data Maestro Nutrientes '!D$4,'Data Maestro Nutrientes '!D$5,'Data Maestro Nutrientes '!D$6,'Data Maestro Nutrientes '!D$7,'Data Maestro Nutrientes '!D$8,'Data Maestro Nutrientes '!D$9,'Data Maestro Nutrientes '!D$10,'Data Maestro Nutrientes '!D$11,'Data Maestro Nutrientes '!D$12,'Data Maestro Nutrientes '!D$13,'Data Maestro Nutrientes '!D$14,'Data Maestro Nutrientes '!D$15,'Data Maestro Nutrientes '!D$16,'Data Maestro Nutrientes '!D$17,'Data Maestro Nutrientes '!D$18,'Data Maestro Nutrientes '!D$19,'Data Maestro Nutrientes '!D$20,'Data Maestro Nutrientes '!D$21,'Data Maestro Nutrientes '!D$22,'Data Maestro Nutrientes '!D$23)","v":6.2E-2},{"$f":"+CHOOSE($A16,'Data Maestro Nutrientes '!E$4,'Data Maestro Nutrientes '!E$5,'Data Maestro Nutrientes '!E$6,'Data Maestro Nutrientes '!E$7,'Data Maestro Nutrientes '!E$8,'Data Maestro Nutrientes '!E$9,'Data Maestro Nutrientes '!E$10,'Data Maestro Nutrientes '!E$11,'Data Maestro Nutrientes '!E$12,'Data Maestro Nutrientes '!E$13,'Data Maestro Nutrientes '!E$14,'Data Maestro Nutrientes '!E$15,'Data Maestro Nutrientes '!E$16,'Data Maestro Nutrientes '!E$17,'Data Maestro Nutrientes '!E$18,'Data Maestro Nutrientes '!E$19,'Data Maestro Nutrientes '!E$20,'Data Maestro Nutrientes '!E$21,'Data Maestro Nutrientes '!E$22,'Data Maestro Nutrientes '!E$23)","v":0.03},{"$f":"+CHOOSE($A16,'Data Maestro Nutrientes '!F$4,'Data Maestro Nutrientes '!F$5,'Data Maestro Nutrientes '!F$6,'Data Maestro Nutrientes '!F$7,'Data Maestro Nutrientes '!F$8,'Data Maestro Nutrientes '!F$9,'Data Maestro Nutrientes '!F$10,'Data Maestro Nutrientes '!F$11,'Data Maestro Nutrientes '!F$12,'Data Maestro Nutrientes '!F$13,'Data Maestro Nutrientes '!F$14,'Data Maestro Nutrientes '!F$15,'Data Maestro Nutrientes '!F$16,'Data Maestro Nutrientes '!F$17,'Data Maestro Nutrientes '!F$18,'Data Maestro Nutrientes '!F$19,'Data Maestro Nutrientes '!F$20,'Data Maestro Nutrientes '!F$21,'Data Maestro Nutrientes '!F$22,'Data Maestro Nutrientes '!F$23)","v":0.1},{"$f":"+CHOOSE($A16,'Data Maestro Nutrientes '!G$4,'Data Maestro Nutrientes '!G$5,'Data Maestro Nutrientes '!G$6,'Data Maestro Nutrientes '!G$7,'Data Maestro Nutrientes '!G$8,'Data Maestro Nutrientes '!G$9,'Data Maestro Nutrientes '!G$10,'Data Maestro Nutrientes '!G$11,'Data Maestro Nutrientes '!G$12,'Data Maestro Nutrientes '!G$13,'Data Maestro Nutrientes '!G$14,'Data Maestro Nutrientes '!G$15,'Data Maestro Nutrientes '!G$16,'Data Maestro Nutrientes '!G$17,'Data Maestro Nutrientes '!G$18,'Data Maestro Nutrientes '!G$19,'Data Maestro Nutrientes '!G$20,'Data Maestro Nutrientes '!G$21,'Data Maestro Nutrientes '!G$22,'Data Maestro Nutrientes '!G$23)","v":0},{"$f":"+CHOOSE($A16,'Data Maestro Nutrientes '!H$4,'Data Maestro Nutrientes '!H$5,'Data Maestro Nutrientes '!H$6,'Data Maestro Nutrientes '!H$7,'Data Maestro Nutrientes '!H$8,'Data Maestro Nutrientes '!H$9,'Data Maestro Nutrientes '!H$10,'Data Maestro Nutrientes '!H$11,'Data Maestro Nutrientes '!H$12,'Data Maestro Nutrientes '!H$13,'Data Maestro Nutrientes '!H$14,'Data Maestro Nutrientes '!H$15,'Data Maestro Nutrientes '!H$16,'Data Maestro Nutrientes '!H$17,'Data Maestro Nutrientes '!H$18,'Data Maestro Nutrientes '!H$19,'Data Maestro Nutrientes '!H$20,'Data Maestro Nutrientes '!H$21,'Data Maestro Nutrientes '!H$22,'Data Maestro Nutrientes '!H$23)","v":0},{"$f":"+CHOOSE($A16,'Data Maestro Nutrientes '!I$4,'Data Maestro Nutrientes '!I$5,'Data Maestro Nutrientes '!I$6,'Data Maestro Nutrientes '!I$7,'Data Maestro Nutrientes '!I$8,'Data Maestro Nutrientes '!I$9,'Data Maestro Nutrientes '!I$10,'Data Maestro Nutrientes '!I$11,'Data Maestro Nutrientes '!I$12,'Data Maestro Nutrientes '!I$13,'Data Maestro Nutrientes '!I$14,'Data Maestro Nutrientes '!I$15,'Data Maestro Nutrientes '!I$16,'Data Maestro Nutrientes '!I$17,'Data Maestro Nutrientes '!I$18,'Data Maestro Nutrientes '!I$19,'Data Maestro Nutrientes '!I$20,'Data Maestro Nutrientes '!I$21,'Data Maestro Nutrientes '!I$22,'Data Maestro Nutrientes '!I$23)","v":0},{"$f":"+CHOOSE($A16,'Data Maestro Nutrientes '!J$4,'Data Maestro Nutrientes '!J$5,'Data Maestro Nutrientes '!J$6,'Data Maestro Nutrientes '!J$7,'Data Maestro Nutrientes '!J$8,'Data Maestro Nutrientes '!J$9,'Data Maestro Nutrientes '!J$10,'Data Maestro Nutrientes '!J$11,'Data Maestro Nutrientes '!J$12,'Data Maestro Nutrientes '!J$13,'Data Maestro Nutrientes '!J$14,'Data Maestro Nutrientes '!J$15,'Data Maestro Nutrientes '!J$16,'Data Maestro Nutrientes '!J$17,'Data Maestro Nutrientes '!J$18,'Data Maestro Nutrientes '!J$19,'Data Maestro Nutrientes '!J$20,'Data Maestro Nutrientes '!J$21,'Data Maestro Nutrientes '!J$22,'Data Maestro Nutrientes '!J$23)","v":0},{"$f":"+CHOOSE($A16,'Data Maestro Nutrientes '!K$4,'Data Maestro Nutrientes '!K$5,'Data Maestro Nutrientes '!K$6,'Data Maestro Nutrientes '!K$7,'Data Maestro Nutrientes '!K$8,'Data Maestro Nutrientes '!K$9,'Data Maestro Nutrientes '!K$10,'Data Maestro Nutrientes '!K$11,'Data Maestro Nutrientes '!K$12,'Data Maestro Nutrientes '!K$13,'Data Maestro Nutrientes '!K$14,'Data Maestro Nutrientes '!K$15,'Data Maestro Nutrientes '!K$16,'Data Maestro Nutrientes '!K$17,'Data Maestro Nutrientes '!K$18,'Data Maestro Nutrientes '!K$19,'Data Maestro Nutrientes '!K$20,'Data Maestro Nutrientes '!K$21,'Data Maestro Nutrientes '!K$22,'Data Maestro Nutrientes '!K$23)","v":0},{"$f":"+CHOOSE($A16,'Data Maestro Nutrientes '!L$4,'Data Maestro Nutrientes '!L$5,'Data Maestro Nutrientes '!L$6,'Data Maestro Nutrientes '!L$7,'Data Maestro Nutrientes '!L$8,'Data Maestro Nutrientes '!L$9,'Data Maestro Nutrientes '!L$10,'Data Maestro Nutrientes '!L$11,'Data Maestro Nutrientes '!L$12,'Data Maestro Nutrientes '!L$13,'Data Maestro Nutrientes '!L$14,'Data Maestro Nutrientes '!L$15,'Data Maestro Nutrientes '!L$16,'Data Maestro Nutrientes '!L$17,'Data Maestro Nutrientes '!L$18,'Data Maestro Nutrientes '!L$19,'Data Maestro Nutrientes '!L$20,'Data Maestro Nutrientes '!L$21,'Data Maestro Nutrientes '!L$22,'Data Maestro Nutrientes '!L$23)","v":0},{"$f":"+CHOOSE($A16,'Data Maestro Nutrientes '!M$4,'Data Maestro Nutrientes '!M$5,'Data Maestro Nutrientes '!M$6,'Data Maestro Nutrientes '!M$7,'Data Maestro Nutrientes '!M$8,'Data Maestro Nutrientes '!M$9,'Data Maestro Nutrientes '!M$10,'Data Maestro Nutrientes '!M$11,'Data Maestro Nutrientes '!M$12,'Data Maestro Nutrientes '!M$13,'Data Maestro Nutrientes '!M$14,'Data Maestro Nutrientes '!M$15,'Data Maestro Nutrientes '!M$16,'Data Maestro Nutrientes '!M$17,'Data Maestro Nutrientes '!M$18,'Data Maestro Nutrientes '!M$19,'Data Maestro Nutrientes '!M$20,'Data Maestro Nutrientes '!M$21,'Data Maestro Nutrientes '!M$22,'Data Maestro Nutrientes '!M$23)","v":0},{"$f":"+CHOOSE($A16,'Data Maestro Nutrientes '!N$4,'Data Maestro Nutrientes '!N$5,'Data Maestro Nutrientes '!N$6,'Data Maestro Nutrientes '!N$7,'Data Maestro Nutrientes '!N$8,'Data Maestro Nutrientes '!N$9,'Data Maestro Nutrientes '!N$10,'Data Maestro Nutrientes '!N$11,'Data Maestro Nutrientes '!N$12,'Data Maestro Nutrientes '!N$13,'Data Maestro Nutrientes '!N$14,'Data Maestro Nutrientes '!N$15,'Data Maestro Nutrientes '!N$16,'Data Maestro Nutrientes '!N$17,'Data Maestro Nutrientes '!N$18,'Data Maestro Nutrientes '!N$19,'Data Maestro Nutrientes '!N$20,'Data Maestro Nutrientes '!N$21,'Data Maestro Nutrientes '!N$22,'Data Maestro Nutrientes '!N$23)","v":0.42},{"$f":"+CHOOSE($A16,'Data Maestro Nutrientes '!O$4,'Data Maestro Nutrientes '!O$5,'Data Maestro Nutrientes '!O$6,'Data Maestro Nutrientes '!O$7,'Data Maestro Nutrientes '!O$8,'Data Maestro Nutrientes '!O$9,'Data Maestro Nutrientes '!O$10,'Data Maestro Nutrientes '!O$11,'Data Maestro Nutrientes '!O$12,'Data Maestro Nutrientes '!O$13,'Data Maestro Nutrientes '!O$14,'Data Maestro Nutrientes '!O$15,'Data Maestro Nutrientes '!O$16,'Data Maestro Nutrientes '!O$17,'Data Maestro Nutrientes '!O$18,'Data Maestro Nutrientes '!O$19,'Data Maestro Nutrientes '!O$20,'Data Maestro Nutrientes '!O$21,'Data Maestro Nutrientes '!O$22,'Data Maestro Nutrientes '!O$23)","v":0},{"$f":"+CHOOSE($A16,'Data Maestro Nutrientes '!P$4,'Data Maestro Nutrientes '!P$5,'Data Maestro Nutrientes '!P$6,'Data Maestro Nutrientes '!P$7,'Data Maestro Nutrientes '!P$8,'Data Maestro Nutrientes '!P$9,'Data Maestro Nutrientes '!P$10,'Data Maestro Nutrientes '!P$11,'Data Maestro Nutrientes '!P$12,'Data Maestro Nutrientes '!P$13,'Data Maestro Nutrientes '!P$14,'Data Maestro Nutrientes '!P$15,'Data Maestro Nutrientes '!P$16,'Data Maestro Nutrientes '!P$17,'Data Maestro Nutrientes '!P$18,'Data Maestro Nutrientes '!P$19,'Data Maestro Nutrientes '!P$20,'Data Maestro Nutrientes '!P$21,'Data Maestro Nutrientes '!P$22,'Data Maestro Nutrientes '!P$23)","v":0},{"$f":"+CHOOSE($A16,'Data Maestro Nutrientes '!Q$4,'Data Maestro Nutrientes '!Q$5,'Data Maestro Nutrientes '!Q$6,'Data Maestro Nutrientes '!Q$7,'Data Maestro Nutrientes '!Q$8,'Data Maestro Nutrientes '!Q$9,'Data Maestro Nutrientes '!Q$10,'Data Maestro Nutrientes '!Q$11,'Data Maestro Nutrientes '!Q$12,'Data Maestro Nutrientes '!Q$13,'Data Maestro Nutrientes '!Q$14,'Data Maestro Nutrientes '!Q$15,'Data Maestro Nutrientes '!Q$16,'Data Maestro Nutrientes '!Q$17,'Data Maestro Nutrientes '!Q$18,'Data Maestro Nutrientes '!Q$19,'Data Maestro Nutrientes '!Q$20,'Data Maestro Nutrientes '!Q$21,'Data Maestro Nutrientes '!Q$22,'Data Maestro Nutrientes '!Q$23)","v":0},{"$f":"+CHOOSE($A16,'Data Maestro Nutrientes '!R$4,'Data Maestro Nutrientes '!R$5,'Data Maestro Nutrientes '!R$6,'Data Maestro Nutrientes '!R$7,'Data Maestro Nutrientes '!R$8,'Data Maestro Nutrientes '!R$9,'Data Maestro Nutrientes '!R$10,'Data Maestro Nutrientes '!R$11,'Data Maestro Nutrientes '!R$12,'Data Maestro Nutrientes '!R$13,'Data Maestro Nutrientes '!R$14,'Data Maestro Nutrientes '!R$15,'Data Maestro Nutrientes '!R$16,'Data Maestro Nutrientes '!R$17,'Data Maestro Nutrientes '!R$18,'Data Maestro Nutrientes '!R$19,'Data Maestro Nutrientes '!R$20,'Data Maestro Nutrientes '!R$21,'Data Maestro Nutrientes '!R$22,'Data Maestro Nutrientes '!R$23)","v":0},{"$f":"+CHOOSE($A16,'Data Maestro Nutrientes '!S$4,'Data Maestro Nutrientes '!S$5,'Data Maestro Nutrientes '!S$6,'Data Maestro Nutrientes '!S$7,'Data Maestro Nutrientes '!S$8,'Data Maestro Nutrientes '!S$9,'Data Maestro Nutrientes '!S$10,'Data Maestro Nutrientes '!S$11,'Data Maestro Nutrientes '!S$12,'Data Maestro Nutrientes '!S$13,'Data Maestro Nutrientes '!S$14,'Data Maestro Nutrientes '!S$15,'Data Maestro Nutrientes '!S$16,'Data Maestro Nutrientes '!S$17,'Data Maestro Nutrientes '!S$18,'Data Maestro Nutrientes '!S$19,'Data Maestro Nutrientes '!S$20,'Data Maestro Nutrientes '!S$21,'Data Maestro Nutrientes '!S$22,'Data Maestro Nutrientes '!S$23)","v":0},{"$f":"+CHOOSE($A16,'Data Maestro Nutrientes '!T$4,'Data Maestro Nutrientes '!T$5,'Data Maestro Nutrientes '!T$6,'Data Maestro Nutrientes '!T$7,'Data Maestro Nutrientes '!T$8,'Data Maestro Nutrientes '!T$9,'Data Maestro Nutrientes '!T$10,'Data Maestro Nutrientes '!T$11,'Data Maestro Nutrientes '!T$12,'Data Maestro Nutrientes '!T$13,'Data Maestro Nutrientes '!T$14,'Data Maestro Nutrientes '!T$15,'Data Maestro Nutrientes '!T$16,'Data Maestro Nutrientes '!T$17,'Data Maestro Nutrientes '!T$18,'Data Maestro Nutrientes '!T$19,'Data Maestro Nutrientes '!T$20,'Data Maestro Nutrientes '!T$21,'Data Maestro Nutrientes '!T$22,'Data Maestro Nutrientes '!T$23)","v":0},{"$f":"+CHOOSE($A16,'Data Maestro Nutrientes '!U$4,'Data Maestro Nutrientes '!U$5,'Data Maestro Nutrientes '!U$6,'Data Maestro Nutrientes '!U$7,'Data Maestro Nutrientes '!U$8,'Data Maestro Nutrientes '!U$9,'Data Maestro Nutrientes '!U$10,'Data Maestro Nutrientes '!U$11,'Data Maestro Nutrientes '!U$12,'Data Maestro Nutrientes '!U$13,'Data Maestro Nutrientes '!U$14,'Data Maestro Nutrientes '!U$15,'Data Maestro Nutrientes '!U$16,'Data Maestro Nutrientes '!U$17,'Data Maestro Nutrientes '!U$18,'Data Maestro Nutrientes '!U$19,'Data Maestro Nutrientes '!U$20,'Data Maestro Nutrientes '!U$21,'Data Maestro Nutrientes '!U$22,'Data Maestro Nutrientes '!U$23)","v":0},{"$f":"+CHOOSE($A16,'Data Maestro Nutrientes '!V$4,'Data Maestro Nutrientes '!V$5,'Data Maestro Nutrientes '!V$6,'Data Maestro Nutrientes '!V$7,'Data Maestro Nutrientes '!V$8,'Data Maestro Nutrientes '!V$9,'Data Maestro Nutrientes '!V$10,'Data Maestro Nutrientes '!V$11,'Data Maestro Nutrientes '!V$12,'Data Maestro Nutrientes '!V$13,'Data Maestro Nutrientes '!V$14,'Data Maestro Nutrientes '!V$15,'Data Maestro Nutrientes '!V$16,'Data Maestro Nutrientes '!V$17,'Data Maestro Nutrientes '!V$18,'Data Maestro Nutrientes '!V$19,'Data Maestro Nutrientes '!V$20,'Data Maestro Nutrientes '!V$21,'Data Maestro Nutrientes '!V$22,'Data Maestro Nutrientes '!V$23)","v":0},{"$f":"+CHOOSE($A16,'Data Maestro Nutrientes '!W$4,'Data Maestro Nutrientes '!W$5,'Data Maestro Nutrientes '!W$6,'Data Maestro Nutrientes '!W$7,'Data Maestro Nutrientes '!W$8,'Data Maestro Nutrientes '!W$9,'Data Maestro Nutrientes '!W$10,'Data Maestro Nutrientes '!W$11,'Data Maestro Nutrientes '!W$12,'Data Maestro Nutrientes '!W$13,'Data Maestro Nutrientes '!W$14,'Data Maestro Nutrientes '!W$15,'Data Maestro Nutrientes '!W$16,'Data Maestro Nutrientes '!W$17,'Data Maestro Nutrientes '!W$18,'Data Maestro Nutrientes '!W$19,'Data Maestro Nutrientes '!W$20,'Data Maestro Nutrientes '!W$21,'Data Maestro Nutrientes '!W$22,'Data Maestro Nutrientes '!W$23)","v":0.32},{"$f":"+CHOOSE($A16,'Data Maestro Nutrientes '!X$4,'Data Maestro Nutrientes '!X$5,'Data Maestro Nutrientes '!X$6,'Data Maestro Nutrientes '!X$7,'Data Maestro Nutrientes '!X$8,'Data Maestro Nutrientes '!X$9,'Data Maestro Nutrientes '!X$10,'Data Maestro Nutrientes '!X$11,'Data Maestro Nutrientes '!X$12,'Data Maestro Nutrientes '!X$13,'Data Maestro Nutrientes '!X$14,'Data Maestro Nutrientes '!X$15,'Data Maestro Nutrientes '!X$16,'Data Maestro Nutrientes '!X$17,'Data Maestro Nutrientes '!X$18,'Data Maestro Nutrientes '!X$19,'Data Maestro Nutrientes '!X$20,'Data Maestro Nutrientes '!X$21,'Data Maestro Nutrientes '!X$22,'Data Maestro Nutrientes '!X$23)","v":0},{"$f":"+CHOOSE($A16,'Data Maestro Nutrientes '!Y$4,'Data Maestro Nutrientes '!Y$5,'Data Maestro Nutrientes '!Y$6,'Data Maestro Nutrientes '!Y$7,'Data Maestro Nutrientes '!Y$8,'Data Maestro Nutrientes '!Y$9,'Data Maestro Nutrientes '!Y$10,'Data Maestro Nutrientes '!Y$11,'Data Maestro Nutrientes '!Y$12,'Data Maestro Nutrientes '!Y$13,'Data Maestro Nutrientes '!Y$14,'Data Maestro Nutrientes '!Y$15,'Data Maestro Nutrientes '!Y$16,'Data Maestro Nutrientes '!Y$17,'Data Maestro Nutrientes '!Y$18,'Data Maestro Nutrientes '!Y$19,'Data Maestro Nutrientes '!Y$20,'Data Maestro Nutrientes '!Y$21,'Data Maestro Nutrientes '!Y$22,'Data Maestro Nutrientes '!Y$23)","v":0},{"$f":"+CHOOSE($A16,'Data Maestro Nutrientes '!Z$4,'Data Maestro Nutrientes '!Z$5,'Data Maestro Nutrientes '!Z$6,'Data Maestro Nutrientes '!Z$7,'Data Maestro Nutrientes '!Z$8,'Data Maestro Nutrientes '!Z$9,'Data Maestro Nutrientes '!Z$10,'Data Maestro Nutrientes '!Z$11,'Data Maestro Nutrientes '!Z$12,'Data Maestro Nutrientes '!Z$13,'Data Maestro Nutrientes '!Z$14,'Data Maestro Nutrientes '!Z$15,'Data Maestro Nutrientes '!Z$16,'Data Maestro Nutrientes '!Z$17,'Data Maestro Nutrientes '!Z$18,'Data Maestro Nutrientes '!Z$19,'Data Maestro Nutrientes '!Z$20,'Data Maestro Nutrientes '!Z$21,'Data Maestro Nutrientes '!Z$22,'Data Maestro Nutrientes '!Z$23)","v":0},{"$f":"+CHOOSE($A16,'Data Maestro Nutrientes '!AA$4,'Data Maestro Nutrientes '!AA$5,'Data Maestro Nutrientes '!AA$6,'Data Maestro Nutrientes '!AA$7,'Data Maestro Nutrientes '!AA$8,'Data Maestro Nutrientes '!AA$9,'Data Maestro Nutrientes '!AA$10,'Data Maestro Nutrientes '!AA$11,'Data Maestro Nutrientes '!AA$12,'Data Maestro Nutrientes '!AA$13,'Data Maestro Nutrientes '!AA$14,'Data Maestro Nutrientes '!AA$15,'Data Maestro Nutrientes '!AA$16,'Data Maestro Nutrientes '!AA$17,'Data Maestro Nutrientes '!AA$18,'Data Maestro Nutrientes '!AA$19,'Data Maestro Nutrientes '!AA$20,'Data Maestro Nutrientes '!AA$21,'Data Maestro Nutrientes '!AA$22,'Data Maestro Nutrientes '!AA$23)","v":0},{"$f":"+CHOOSE($A16,'Data Maestro Nutrientes '!AB$4,'Data Maestro Nutrientes '!AB$5,'Data Maestro Nutrientes '!AB$6,'Data Maestro Nutrientes '!AB$7,'Data Maestro Nutrientes '!AB$8,'Data Maestro Nutrientes '!AB$9,'Data Maestro Nutrientes '!AB$10,'Data Maestro Nutrientes '!AB$11,'Data Maestro Nutrientes '!AB$12,'Data Maestro Nutrientes '!AB$13,'Data Maestro Nutrientes '!AB$14,'Data Maestro Nutrientes '!AB$15,'Data Maestro Nutrientes '!AB$16,'Data Maestro Nutrientes '!AB$17,'Data Maestro Nutrientes '!AB$18,'Data Maestro Nutrientes '!AB$19,'Data Maestro Nutrientes '!AB$20,'Data Maestro Nutrientes '!AB$21,'Data Maestro Nutrientes '!AB$22,'Data Maestro Nutrientes '!AB$23)","v":0},{"$f":"+CHOOSE($A16,'Data Maestro Nutrientes '!AC$4,'Data Maestro Nutrientes '!AC$5,'Data Maestro Nutrientes '!AC$6,'Data Maestro Nutrientes '!AC$7,'Data Maestro Nutrientes '!AC$8,'Data Maestro Nutrientes '!AC$9,'Data Maestro Nutrientes '!AC$10,'Data Maestro Nutrientes '!AC$11,'Data Maestro Nutrientes '!AC$12,'Data Maestro Nutrientes '!AC$13,'Data Maestro Nutrientes '!AC$14,'Data Maestro Nutrientes '!AC$15,'Data Maestro Nutrientes '!AC$16,'Data Maestro Nutrientes '!AC$17,'Data Maestro Nutrientes '!AC$18,'Data Maestro Nutrientes '!AC$19,'Data Maestro Nutrientes '!AC$20,'Data Maestro Nutrientes '!AC$21,'Data Maestro Nutrientes '!AC$22,'Data Maestro Nutrientes '!AC$23)","v":0},{"$f":"+CHOOSE($A16,'Data Maestro Nutrientes '!AD$4,'Data Maestro Nutrientes '!AD$5,'Data Maestro Nutrientes '!AD$6,'Data Maestro Nutrientes '!AD$7,'Data Maestro Nutrientes '!AD$8,'Data Maestro Nutrientes '!AD$9,'Data Maestro Nutrientes '!AD$10,'Data Maestro Nutrientes '!AD$11,'Data Maestro Nutrientes '!AD$12,'Data Maestro Nutrientes '!AD$13,'Data Maestro Nutrientes '!AD$14,'Data Maestro Nutrientes '!AD$15,'Data Maestro Nutrientes '!AD$16,'Data Maestro Nutrientes '!AD$17,'Data Maestro Nutrientes '!AD$18,'Data Maestro Nutrientes '!AD$19,'Data Maestro Nutrientes '!AD$20,'Data Maestro Nutrientes '!AD$21,'Data Maestro Nutrientes '!AD$22,'Data Maestro Nutrientes '!AD$23)","v":0}]
[12,{"$f":"+IF(AND(A17>=1,A17<=20),VLOOKUP(A17,'Data Maestro Nutrientes '!$A$2:$AD$23,2),0)","v":"PDR"},{"$f":"+CHOOSE($A17,'Data Maestro Nutrientes '!C$4,'Data Maestro Nutrientes '!C$5,'Data Maestro Nutrientes '!C$6,'Data Maestro Nutrientes '!C$7,'Data Maestro Nutrientes '!C$8,'Data Maestro Nutrientes '!C$9,'Data Maestro Nutrientes '!C$10,'Data Maestro Nutrientes '!C$11,'Data Maestro Nutrientes '!C$12,'Data Maestro Nutrientes '!C$13,'Data Maestro Nutrientes '!C$14,'Data Maestro Nutrientes '!C$15,'Data Maestro Nutrientes '!C$16,'Data Maestro Nutrientes '!C$17,'Data Maestro Nutrientes '!C$18,'Data Maestro Nutrientes '!C$19,'Data Maestro Nutrientes '!C$20,'Data Maestro Nutrientes '!C$21,'Data Maestro Nutrientes '!C$22,'Data Maestro Nutrientes '!C$23)","v":0.7},{"$f":"+CHOOSE($A17,'Data Maestro Nutrientes '!D$4,'Data Maestro Nutrientes '!D$5,'Data Maestro Nutrientes '!D$6,'Data Maestro Nutrientes '!D$7,'Data Maestro Nutrientes '!D$8,'Data Maestro Nutrientes '!D$9,'Data Maestro Nutrientes '!D$10,'Data Maestro Nutrientes '!D$11,'Data Maestro Nutrientes '!D$12,'Data Maestro Nutrientes '!D$13,'Data Maestro Nutrientes '!D$14,'Data Maestro Nutrientes '!D$15,'Data Maestro Nutrientes '!D$16,'Data Maestro Nutrientes '!D$17,'Data Maestro Nutrientes '!D$18,'Data Maestro Nutrientes '!D$19,'Data Maestro Nutrientes '!D$20,'Data Maestro Nutrientes '!D$21,'Data Maestro Nutrientes '!D$22,'Data Maestro Nutrientes '!D$23)","v":0.66},{"$f":"+CHOOSE($A17,'Data Maestro Nutrientes '!E$4,'Data Maestro Nutrientes '!E$5,'Data Maestro Nutrientes '!E$6,'Data Maestro Nutrientes '!E$7,'Data Maestro Nutrientes '!E$8,'Data Maestro Nutrientes '!E$9,'Data Maestro Nutrientes '!E$10,'Data Maestro Nutrientes '!E$11,'Data Maestro Nutrientes '!E$12,'Data Maestro Nutrientes '!E$13,'Data Maestro Nutrientes '!E$14,'Data Maestro Nutrientes '!E$15,'Data Maestro Nutrientes '!E$16,'Data Maestro Nutrientes '!E$17,'Data Maestro Nutrientes '!E$18,'Data Maestro Nutrientes '!E$19,'Data Maestro Nutrientes '!E$20,'Data Maestro Nutrientes '!E$21,'Data Maestro Nutrientes '!E$22,'Data Maestro Nutrientes '!E$23)","v":0.5},{"$f":"+CHOOSE($A17,'Data Maestro Nutrientes '!F$4,'Data Maestro Nutrientes '!F$5,'Data Maestro Nutrientes '!F$6,'Data Maestro Nutrientes '!F$7,'Data Maestro Nutrientes '!F$8,'Data Maestro Nutrientes '!F$9,'Data Maestro Nutrientes '!F$10,'Data Maestro Nutrientes '!F$11,'Data Maestro Nutrientes '!F$12,'Data Maestro Nutrientes '!F$13,'Data Maestro Nutrientes '!F$14,'Data Maestro Nutrientes '!F$15,'Data Maestro Nutrientes '!F$16,'Data Maestro Nutrientes '!F$17,'Data Maestro Nutrientes '!F$18,'Data Maestro Nutrientes '!F$19,'Data Maestro Nutrientes '!F$20,'Data Maestro Nutrientes '!F$21,'Data Maestro Nutrientes '!F$22,'Data Maestro Nutrientes '!F$23)","v":0.5},{"$f":"+CHOOSE($A17,'Data Maestro Nutrientes '!G$4,'Data Maestro Nutrientes '!G$5,'Data Maestro Nutrientes '!G$6,'Data Maestro Nutrientes '!G$7,'Data Maestro Nutrientes '!G$8,'Data Maestro Nutrientes '!G$9,'Data Maestro Nutrientes '!G$10,'Data Maestro Nutrientes '!G$11,'Data Maestro Nutrientes '!G$12,'Data Maestro Nutrientes '!G$13,'Data Maestro Nutrientes '!G$14,'Data Maestro Nutrientes '!G$15,'Data Maestro Nutrientes '!G$16,'Data Maestro Nutrientes '!G$17,'Data Maestro Nutrientes '!G$18,'Data Maestro Nutrientes '!G$19,'Data Maestro Nutrientes '!G$20,'Data Maestro Nutrientes '!G$21,'Data Maestro Nutrientes '!G$22,'Data Maestro Nutrientes '!G$23)","v":0},{"$f":"+CHOOSE($A17,'Data Maestro Nutrientes '!H$4,'Data Maestro Nutrientes '!H$5,'Data Maestro Nutrientes '!H$6,'Data Maestro Nutrientes '!H$7,'Data Maestro Nutrientes '!H$8,'Data Maestro Nutrientes '!H$9,'Data Maestro Nutrientes '!H$10,'Data Maestro Nutrientes '!H$11,'Data Maestro Nutrientes '!H$12,'Data Maestro Nutrientes '!H$13,'Data Maestro Nutrientes '!H$14,'Data Maestro Nutrientes '!H$15,'Data Maestro Nutrientes '!H$16,'Data Maestro Nutrientes '!H$17,'Data Maestro Nutrientes '!H$18,'Data Maestro Nutrientes '!H$19,'Data Maestro Nutrientes '!H$20,'Data Maestro Nutrientes '!H$21,'Data Maestro Nutrientes '!H$22,'Data Maestro Nutrientes '!H$23)","v":0},{"$f":"+CHOOSE($A17,'Data Maestro Nutrientes '!I$4,'Data Maestro Nutrientes '!I$5,'Data Maestro Nutrientes '!I$6,'Data Maestro Nutrientes '!I$7,'Data Maestro Nutrientes '!I$8,'Data Maestro Nutrientes '!I$9,'Data Maestro Nutrientes '!I$10,'Data Maestro Nutrientes '!I$11,'Data Maestro Nutrientes '!I$12,'Data Maestro Nutrientes '!I$13,'Data Maestro Nutrientes '!I$14,'Data Maestro Nutrientes '!I$15,'Data Maestro Nutrientes '!I$16,'Data Maestro Nutrientes '!I$17,'Data Maestro Nutrientes '!I$18,'Data Maestro Nutrientes '!I$19,'Data Maestro Nutrientes '!I$20,'Data Maestro Nutrientes '!I$21,'Data Maestro Nutrientes '!I$22,'Data Maestro Nutrientes '!I$23)","v":0},{"$f":"+CHOOSE($A17,'Data Maestro Nutrientes '!J$4,'Data Maestro Nutrientes '!J$5,'Data Maestro Nutrientes '!J$6,'Data Maestro Nutrientes '!J$7,'Data Maestro Nutrientes '!J$8,'Data Maestro Nutrientes '!J$9,'Data Maestro Nutrientes '!J$10,'Data Maestro Nutrientes '!J$11,'Data Maestro Nutrientes '!J$12,'Data Maestro Nutrientes '!J$13,'Data Maestro Nutrientes '!J$14,'Data Maestro Nutrientes '!J$15,'Data Maestro Nutrientes '!J$16,'Data Maestro Nutrientes '!J$17,'Data Maestro Nutrientes '!J$18,'Data Maestro Nutrientes '!J$19,'Data Maestro Nutrientes '!J$20,'Data Maestro Nutrientes '!J$21,'Data Maestro Nutrientes '!J$22,'Data Maestro Nutrientes '!J$23)","v":0},{"$f":"+CHOOSE($A17,'Data Maestro Nutrientes '!K$4,'Data Maestro Nutrientes '!K$5,'Data Maestro Nutrientes '!K$6,'Data Maestro Nutrientes '!K$7,'Data Maestro Nutrientes '!K$8,'Data Maestro Nutrientes '!K$9,'Data Maestro Nutrientes '!K$10,'Data Maestro Nutrientes '!K$11,'Data Maestro Nutrientes '!K$12,'Data Maestro Nutrientes '!K$13,'Data Maestro Nutrientes '!K$14,'Data Maestro Nutrientes '!K$15,'Data Maestro Nutrientes '!K$16,'Data Maestro Nutrientes '!K$17,'Data Maestro Nutrientes '!K$18,'Data Maestro Nutrientes '!K$19,'Data Maestro Nutrientes '!K$20,'Data Maestro Nutrientes '!K$21,'Data Maestro Nutrientes '!K$22,'Data Maestro Nutrientes '!K$23)","v":0.2},{"$f":"+CHOOSE($A17,'Data Maestro Nutrientes '!L$4,'Data Maestro Nutrientes '!L$5,'Data Maestro Nutrientes '!L$6,'Data Maestro Nutrientes '!L$7,'Data Maestro Nutrientes '!L$8,'Data Maestro Nutrientes '!L$9,'Data Maestro Nutrientes '!L$10,'Data Maestro Nutrientes '!L$11,'Data Maestro Nutrientes '!L$12,'Data Maestro Nutrientes '!L$13,'Data Maestro Nutrientes '!L$14,'Data Maestro Nutrientes '!L$15,'Data Maestro Nutrientes '!L$16,'Data Maestro Nutrientes '!L$17,'Data Maestro Nutrientes '!L$18,'Data Maestro Nutrientes '!L$19,'Data Maestro Nutrientes '!L$20,'Data Maestro Nutrientes '!L$21,'Data Maestro Nutrientes '!L$22,'Data Maestro Nutrientes '!L$23)","v":0},{"$f":"+CHOOSE($A17,'Data Maestro Nutrientes '!M$4,'Data Maestro Nutrientes '!M$5,'Data Maestro Nutrientes '!M$6,'Data Maestro Nutrientes '!M$7,'Data Maestro Nutrientes '!M$8,'Data Maestro Nutrientes '!M$9,'Data Maestro Nutrientes '!M$10,'Data Maestro Nutrientes '!M$11,'Data Maestro Nutrientes '!M$12,'Data Maestro Nutrientes '!M$13,'Data Maestro Nutrientes '!M$14,'Data Maestro Nutrientes '!M$15,'Data Maestro Nutrientes '!M$16,'Data Maestro Nutrientes '!M$17,'Data Maestro Nutrientes '!M$18,'Data Maestro Nutrientes '!M$19,'Data Maestro Nutrientes '!M$20,'Data Maestro Nutrientes '!M$21,'Data Maestro Nutrientes '!M$22,'Data Maestro Nutrientes '!M$23)","v":0},{"$f":"+CHOOSE($A17,'Data Maestro Nutrientes '!N$4,'Data Maestro Nutrientes '!N$5,'Data Maestro Nutrientes '!N$6,'Data Maestro Nutrientes '!N$7,'Data Maestro Nutrientes '!N$8,'Data Maestro Nutrientes '!N$9,'Data Maestro Nutrientes '!N$10,'Data Maestro Nutrientes '!N$11,'Data Maestro Nutrientes '!N$12,'Data Maestro Nutrientes '!N$13,'Data Maestro Nutrientes '!N$14,'Data Maestro Nutrientes '!N$15,'Data Maestro Nutrientes '!N$16,'Data Maestro Nutrientes '!N$17,'Data Maestro Nutrientes '!N$18,'Data Maestro Nutrientes '!N$19,'Data Maestro Nutrientes '!N$20,'Data Maestro Nutrientes '!N$21,'Data Maestro Nutrientes '!N$22,'Data Maestro Nutrientes '!N$23)","v":0.61},{"$f":"+CHOOSE($A17,'Data Maestro Nutrientes '!O$4,'Data Maestro Nutrientes '!O$5,'Data Maestro Nutrientes '!O$6,'Data Maestro Nutrientes '!O$7,'Data Maestro Nutrientes '!O$8,'Data Maestro Nutrientes '!O$9,'Data Maestro Nutrientes '!O$10,'Data Maestro Nutrientes '!O$11,'Data Maestro Nutrientes '!O$12,'Data Maestro Nutrientes '!O$13,'Data Maestro Nutrientes '!O$14,'Data Maestro Nutrientes '!O$15,'Data Maestro Nutrientes '!O$16,'Data Maestro Nutrientes '!O$17,'Data Maestro Nutrientes '!O$18,'Data Maestro Nutrientes '!O$19,'Data Maestro Nutrientes '!O$20,'Data Maestro Nutrientes '!O$21,'Data Maestro Nutrientes '!O$22,'Data Maestro Nutrientes '!O$23)","v":0},{"$f":"+CHOOSE($A17,'Data Maestro Nutrientes '!P$4,'Data Maestro Nutrientes '!P$5,'Data Maestro Nutrientes '!P$6,'Data Maestro Nutrientes '!P$7,'Data Maestro Nutrientes '!P$8,'Data Maestro Nutrientes '!P$9,'Data Maestro Nutrientes '!P$10,'Data Maestro Nutrientes '!P$11,'Data Maestro Nutrientes '!P$12,'Data Maestro Nutrientes '!P$13,'Data Maestro Nutrientes '!P$14,'Data Maestro Nutrientes '!P$15,'Data Maestro Nutrientes '!P$16,'Data Maestro Nutrientes '!P$17,'Data Maestro Nutrientes '!P$18,'Data Maestro Nutrientes '!P$19,'Data Maestro Nutrientes '!P$20,'Data Maestro Nutrientes '!P$21,'Data Maestro Nutrientes '!P$22,'Data Maestro Nutrientes '!P$23)","v":0},{"$f":"+CHOOSE($A17,'Data Maestro Nutrientes '!Q$4,'Data Maestro Nutrientes '!Q$5,'Data Maestro Nutrientes '!Q$6,'Data Maestro Nutrientes '!Q$7,'Data Maestro Nutrientes '!Q$8,'Data Maestro Nutrientes '!Q$9,'Data Maestro Nutrientes '!Q$10,'Data Maestro Nutrientes '!Q$11,'Data Maestro Nutrientes '!Q$12,'Data Maestro Nutrientes '!Q$13,'Data Maestro Nutrientes '!Q$14,'Data Maestro Nutrientes '!Q$15,'Data Maestro Nutrientes '!Q$16,'Data Maestro Nutrientes '!Q$17,'Data Maestro Nutrientes '!Q$18,'Data Maestro Nutrientes '!Q$19,'Data Maestro Nutrientes '!Q$20,'Data Maestro Nutrientes '!Q$21,'Data Maestro Nutrientes '!Q$22,'Data Maestro Nutrientes '!Q$23)","v":0},{"$f":"+CHOOSE($A17,'Data Maestro Nutrientes '!R$4,'Data Maestro Nutrientes '!R$5,'Data Maestro Nutrientes '!R$6,'Data Maestro Nutrientes '!R$7,'Data Maestro Nutrientes '!R$8,'Data Maestro Nutrientes '!R$9,'Data Maestro Nutrientes '!R$10,'Data Maestro Nutrientes '!R$11,'Data Maestro Nutrientes '!R$12,'Data Maestro Nutrientes '!R$13,'Data Maestro Nutrientes '!R$14,'Data Maestro Nutrientes '!R$15,'Data Maestro Nutrientes '!R$16,'Data Maestro Nutrientes '!R$17,'Data Maestro Nutrientes '!R$18,'Data Maestro Nutrientes '!R$19,'Data Maestro Nutrientes '!R$20,'Data Maestro Nutrientes '!R$21,'Data Maestro Nutrientes '!R$22,'Data Maestro Nutrientes '!R$23)","v":0},{"$f":"+CHOOSE($A17,'Data Maestro Nutrientes '!S$4,'Data Maestro Nutrientes '!S$5,'Data Maestro Nutrientes '!S$6,'Data Maestro Nutrientes '!S$7,'Data Maestro Nutrientes '!S$8,'Data Maestro Nutrientes '!S$9,'Data Maestro Nutrientes '!S$10,'Data Maestro Nutrientes '!S$11,'Data Maestro Nutrientes '!S$12,'Data Maestro Nutrientes '!S$13,'Data Maestro Nutrientes '!S$14,'Data Maestro Nutrientes '!S$15,'Data Maestro Nutrientes '!S$16,'Data Maestro Nutrientes '!S$17,'Data Maestro Nutrientes '!S$18,'Data Maestro Nutrientes '!S$19,'Data Maestro Nutrientes '!S$20,'Data Maestro Nutrientes '!S$21,'Data Maestro Nutrientes '!S$22,'Data Maestro Nutrientes '!S$23)","v":0},{"$f":"+CHOOSE($A17,'Data Maestro Nutrientes '!T$4,'Data Maestro Nutrientes '!T$5,'Data Maestro Nutrientes '!T$6,'Data Maestro Nutrientes '!T$7,'Data Maestro Nutrientes '!T$8,'Data Maestro Nutrientes '!T$9,'Data Maestro Nutrientes '!T$10,'Data Maestro Nutrientes '!T$11,'Data Maestro Nutrientes '!T$12,'Data Maestro Nutrientes '!T$13,'Data Maestro Nutrientes '!T$14,'Data Maestro Nutrientes '!T$15,'Data Maestro Nutrientes '!T$16,'Data Maestro Nutrientes '!T$17,'Data Maestro Nutrientes '!T$18,'Data Maestro Nutrientes '!T$19,'Data Maestro Nutrientes '!T$20,'Data Maestro Nutrientes '!T$21,'Data Maestro Nutrientes '!T$22,'Data Maestro Nutrientes '!T$23)","v":0},{"$f":"+CHOOSE($A17,'Data Maestro Nutrientes '!U$4,'Data Maestro Nutrientes '!U$5,'Data Maestro Nutrientes '!U$6,'Data Maestro Nutrientes '!U$7,'Data Maestro Nutrientes '!U$8,'Data Maestro Nutrientes '!U$9,'Data Maestro Nutrientes '!U$10,'Data Maestro Nutrientes '!U$11,'Data Maestro Nutrientes '!U$12,'Data Maestro Nutrientes '!U$13,'Data Maestro Nutrientes '!U$14,'Data Maestro Nutrientes '!U$15,'Data Maestro Nutrientes '!U$16,'Data Maestro Nutrientes '!U$17,'Data Maestro Nutrientes '!U$18,'Data Maestro Nutrientes '!U$19,'Data Maestro Nutrientes '!U$20,'Data Maestro Nutrientes '!U$21,'Data Maestro Nutrientes '!U$22,'Data Maestro Nutrientes '!U$23)","v":0},{"$f":"+CHOOSE($A17,'Data Maestro Nutrientes '!V$4,'Data Maestro Nutrientes '!V$5,'Data Maestro Nutrientes '!V$6,'Data Maestro Nutrientes '!V$7,'Data Maestro Nutrientes '!V$8,'Data Maestro Nutrientes '!V$9,'Data Maestro Nutrientes '!V$10,'Data Maestro Nutrientes '!V$11,'Data Maestro Nutrientes '!V$12,'Data Maestro Nutrientes '!V$13,'Data Maestro Nutrientes '!V$14,'Data Maestro Nutrientes '!V$15,'Data Maestro Nutrientes '!V$16,'Data Maestro Nutrientes '!V$17,'Data Maestro Nutrientes '!V$18,'Data Maestro Nutrientes '!V$19,'Data Maestro Nutrientes '!V$20,'Data Maestro Nutrientes '!V$21,'Data Maestro Nutrientes '!V$22,'Data Maestro Nutrientes '!V$23)","v":0},{"$f":"+CHOOSE($A17,'Data Maestro Nutrientes '!W$4,'Data Maestro Nutrientes '!W$5,'Data Maestro Nutrientes '!W$6,'Data Maestro Nutrientes '!W$7,'Data Maestro Nutrientes '!W$8,'Data Maestro Nutrientes '!W$9,'Data Maestro Nutrientes '!W$10,'Data Maestro Nutrientes '!W$11,'Data Maestro Nutrientes '!W$12,'Data Maestro Nutrientes '!W$13,'Data Maestro Nutrientes '!W$14,'Data Maestro Nutrientes '!W$15,'Data Maestro Nutrientes '!W$16,'Data Maestro Nutrientes '!W$17,'Data Maestro Nutrientes '!W$18,'Data Maestro Nutrientes '!W$19,'Data Maestro Nutrientes '!W$20,'Data Maestro Nutrientes '!W$21,'Data Maestro Nutrientes '!W$22,'Data Maestro Nutrientes '!W$23)","v":0.7},{"$f":"+CHOOSE($A17,'Data Maestro Nutrientes '!X$4,'Data Maestro Nutrientes '!X$5,'Data Maestro Nutrientes '!X$6,'Data Maestro Nutrientes '!X$7,'Data Maestro Nutrientes '!X$8,'Data Maestro Nutrientes '!X$9,'Data Maestro Nutrientes '!X$10,'Data Maestro Nutrientes '!X$11,'Data Maestro Nutrientes '!X$12,'Data Maestro Nutrientes '!X$13,'Data Maestro Nutrientes '!X$14,'Data Maestro Nutrientes '!X$15,'Data Maestro Nutrientes '!X$16,'Data Maestro Nutrientes '!X$17,'Data Maestro Nutrientes '!X$18,'Data Maestro Nutrientes '!X$19,'Data Maestro Nutrientes '!X$20,'Data Maestro Nutrientes '!X$21,'Data Maestro Nutrientes '!X$22,'Data Maestro Nutrientes '!X$23)","v":0},{"$f":"+CHOOSE($A17,'Data Maestro Nutrientes '!Y$4,'Data Maestro Nutrientes '!Y$5,'Data Maestro Nutrientes '!Y$6,'Data Maestro Nutrientes '!Y$7,'Data Maestro Nutrientes '!Y$8,'Data Maestro Nutrientes '!Y$9,'Data Maestro Nutrientes '!Y$10,'Data Maestro Nutrientes '!Y$11,'Data Maestro Nutrientes '!Y$12,'Data Maestro Nutrientes '!Y$13,'Data Maestro Nutrientes '!Y$14,'Data Maestro Nutrientes '!Y$15,'Data Maestro Nutrientes '!Y$16,'Data Maestro Nutrientes '!Y$17,'Data Maestro Nutrientes '!Y$18,'Data Maestro Nutrientes '!Y$19,'Data Maestro Nutrientes '!Y$20,'Data Maestro Nutrientes '!Y$21,'Data Maestro Nutrientes '!Y$22,'Data Maestro Nutrientes '!Y$23)","v":0},{"$f":"+CHOOSE($A17,'Data Maestro Nutrientes '!Z$4,'Data Maestro Nutrientes '!Z$5,'Data Maestro Nutrientes '!Z$6,'Data Maestro Nutrientes '!Z$7,'Data Maestro Nutrientes '!Z$8,'Data Maestro Nutrientes '!Z$9,'Data Maestro Nutrientes '!Z$10,'Data Maestro Nutrientes '!Z$11,'Data Maestro Nutrientes '!Z$12,'Data Maestro Nutrientes '!Z$13,'Data Maestro Nutrientes '!Z$14,'Data Maestro Nutrientes '!Z$15,'Data Maestro Nutrientes '!Z$16,'Data Maestro Nutrientes '!Z$17,'Data Maestro Nutrientes '!Z$18,'Data Maestro Nutrientes '!Z$19,'Data Maestro Nutrientes '!Z$20,'Data Maestro Nutrientes '!Z$21,'Data Maestro Nutrientes '!Z$22,'Data Maestro Nutrientes '!Z$23)","v":0},{"$f":"+CHOOSE($A17,'Data Maestro Nutrientes '!AA$4,'Data Maestro Nutrientes '!AA$5,'Data Maestro Nutrientes '!AA$6,'Data Maestro Nutrientes '!AA$7,'Data Maestro Nutrientes '!AA$8,'Data Maestro Nutrientes '!AA$9,'Data Maestro Nutrientes '!AA$10,'Data Maestro Nutrientes '!AA$11,'Data Maestro Nutrientes '!AA$12,'Data Maestro Nutrientes '!AA$13,'Data Maestro Nutrientes '!AA$14,'Data Maestro Nutrientes '!AA$15,'Data Maestro Nutrientes '!AA$16,'Data Maestro Nutrientes '!AA$17,'Data Maestro Nutrientes '!AA$18,'Data Maestro Nutrientes '!AA$19,'Data Maestro Nutrientes '!AA$20,'Data Maestro Nutrientes '!AA$21,'Data Maestro Nutrientes '!AA$22,'Data Maestro Nutrientes '!AA$23)","v":0},{"$f":"+CHOOSE($A17,'Data Maestro Nutrientes '!AB$4,'Data Maestro Nutrientes '!AB$5,'Data Maestro Nutrientes '!AB$6,'Data Maestro Nutrientes '!AB$7,'Data Maestro Nutrientes '!AB$8,'Data Maestro Nutrientes '!AB$9,'Data Maestro Nutrientes '!AB$10,'Data Maestro Nutrientes '!AB$11,'Data Maestro Nutrientes '!AB$12,'Data Maestro Nutrientes '!AB$13,'Data Maestro Nutrientes '!AB$14,'Data Maestro Nutrientes '!AB$15,'Data Maestro Nutrientes '!AB$16,'Data Maestro Nutrientes '!AB$17,'Data Maestro Nutrientes '!AB$18,'Data Maestro Nutrientes '!AB$19,'Data Maestro Nutrientes '!AB$20,'Data Maestro Nutrientes '!AB$21,'Data Maestro Nutrientes '!AB$22,'Data Maestro Nutrientes '!AB$23)","v":0},{"$f":"+CHOOSE($A17,'Data Maestro Nutrientes '!AC$4,'Data Maestro Nutrientes '!AC$5,'Data Maestro Nutrientes '!AC$6,'Data Maestro Nutrientes '!AC$7,'Data Maestro Nutrientes '!AC$8,'Data Maestro Nutrientes '!AC$9,'Data Maestro Nutrientes '!AC$10,'Data Maestro Nutrientes '!AC$11,'Data Maestro Nutrientes '!AC$12,'Data Maestro Nutrientes '!AC$13,'Data Maestro Nutrientes '!AC$14,'Data Maestro Nutrientes '!AC$15,'Data Maestro Nutrientes '!AC$16,'Data Maestro Nutrientes '!AC$17,'Data Maestro Nutrientes '!AC$18,'Data Maestro Nutrientes '!AC$19,'Data Maestro Nutrientes '!AC$20,'Data Maestro Nutrientes '!AC$21,'Data Maestro Nutrientes '!AC$22,'Data Maestro Nutrientes '!AC$23)","v":0},{"$f":"+CHOOSE($A17,'Data Maestro Nutrientes '!AD$4,'Data Maestro Nutrientes '!AD$5,'Data Maestro Nutrientes '!AD$6,'Data Maestro Nutrientes '!AD$7,'Data Maestro Nutrientes '!AD$8,'Data Maestro Nutrientes '!AD$9,'Data Maestro Nutrientes '!AD$10,'Data Maestro Nutrientes '!AD$11,'Data Maestro Nutrientes '!AD$12,'Data Maestro Nutrientes '!AD$13,'Data Maestro Nutrientes '!AD$14,'Data Maestro Nutrientes '!AD$15,'Data Maestro Nutrientes '!AD$16,'Data Maestro Nutrientes '!AD$17,'Data Maestro Nutrientes '!AD$18,'Data Maestro Nutrientes '!AD$19,'Data Maestro Nutrientes '!AD$20,'Data Maestro Nutrientes '!AD$21,'Data Maestro Nutrientes '!AD$22,'Data Maestro Nutrientes '!AD$23)","v":0}]
[]
[7,{"$f":"+IF(AND(A19>=1,A19<=7),VLOOKUP(A19,'Data Maestro Nutrientes '!$A$43:$AD$49,2),0)","v":"Zinc"},{"$f":"+CHOOSE($A19,'Data Maestro Nutrientes '!C$43,'Data Maestro Nutrientes '!C$44,'Data Maestro Nutrientes '!C$45,'Data Maestro Nutrientes '!C$46,'Data Maestro Nutrientes '!C$47,'Data Maestro Nutrientes '!C$48,'Data Maestro Nutrientes '!C$49)","v":0},{"$f":"+CHOOSE($A19,'Data Maestro Nutrientes '!D$43,'Data Maestro Nutrientes '!D$44,'Data Maestro Nutrientes '!D$45,'Data Maestro Nutrientes '!D$46,'Data Maestro Nutrientes '!D$47,'Data Maestro Nutrientes '!D$48,'Data Maestro Nutrientes '!D$49)","v":0},{"$f":"+CHOOSE($A19,'Data Maestro Nutrientes '!E$43,'Data Maestro Nutrientes '!E$44,'Data Maestro Nutrientes '!E$45,'Data Maestro Nutrientes '!E$46,'Data Maestro Nutrientes '!E$47,'Data Maestro Nutrientes '!E$48,'Data Maestro Nutrientes '!E$49)","v":0},{"$f":"+CHOOSE($A19,'Data Maestro Nutrientes '!F$43,'Data Maestro Nutrientes '!F$44,'Data Maestro Nutrientes '!F$45,'Data Maestro Nutrientes '!F$46,'Data Maestro Nutrientes '!F$47,'Data Maestro Nutrientes '!F$48,'Data Maestro Nutrientes '!F$49)","v":0},{"$f":"+CHOOSE($A19,'Data Maestro Nutrientes '!G$43,'Data Maestro Nutrientes '!G$44,'Data Maestro Nutrientes '!G$45,'Data Maestro Nutrientes '!G$46,'Data Maestro Nutrientes '!G$47,'Data Maestro Nutrientes '!G$48,'Data Maestro Nutrientes '!G$49)","v":0},{"$f":"+CHOOSE($A19,'Data Maestro Nutrientes '!H$43,'Data Maestro Nutrientes '!H$44,'Data Maestro Nutrientes '!H$45,'Data Maestro Nutrientes '!H$46,'Data Maestro Nutrientes '!H$47,'Data Maestro Nutrientes '!H$48,'Data Maestro Nutrientes '!H$49)","v":0},{"$f":"+CHOOSE($A19,'Data Maestro Nutrientes '!I$43,'Data Maestro Nutrientes '!I$44,'Data Maestro Nutrientes '!I$45,'Data Maestro Nutrientes '!I$46,'Data Maestro Nutrientes '!I$47,'Data Maestro Nutrientes '!I$48,'Data Maestro Nutrientes '!I$49)","v":0},{"$f":"+CHOOSE($A19,'Data Maestro Nutrientes '!J$43,'Data Maestro Nutrientes '!J$44,'Data Maestro Nutrientes '!J$45,'Data Maestro Nutrientes '!J$46,'Data Maestro Nutrientes '!J$47,'Data Maestro Nutrientes '!J$48,'Data Maestro Nutrientes '!J$49)","v":2500},{"$f":"+CHOOSE($A19,'Data Maestro Nutrientes '!K$43,'Data Maestro Nutrientes '!K$44,'Data Maestro Nutrientes '!K$45,'Data Maestro Nutrientes '!K$46,'Data Maestro Nutrientes '!K$47,'Data Maestro Nutrientes '!K$48,'Data Maestro Nutrientes '!K$49)","v":0},{"$f":"+CHOOSE($A19,'Data Maestro Nutrientes '!L$43,'Data Maestro Nutrientes '!L$44,'Data Maestro Nutrientes '!L$45,'Data Maestro Nutrientes '!L$46,'Data Maestro Nutrientes '!L$47,'Data Maestro Nutrientes '!L$48,'Data Maestro Nutrientes '!L$49)","v":0},{"$f":"+CHOOSE($A19,'Data Maestro Nutrientes '!M$43,'Data Maestro Nutrientes '!M$44,'Data Maestro Nutrientes '!M$45,'Data Maestro Nutrientes '!M$46,'Data Maestro Nutrientes '!M$47,'Data Maestro Nutrientes '!M$48,'Data Maestro Nutrientes '!M$49)","v":0},{"$f":"+CHOOSE($A19,'Data Maestro Nutrientes '!N$43,'Data Maestro Nutrientes '!N$44,'Data Maestro Nutrientes '!N$45,'Data Maestro Nutrientes '!N$46,'Data Maestro Nutrientes '!N$47,'Data Maestro Nutrientes '!N$48,'Data Maestro Nutrientes '!N$49)","v":0},{"$f":"+CHOOSE($A19,'Data Maestro Nutrientes '!O$43,'Data Maestro Nutrientes '!O$44,'Data Maestro Nutrientes '!O$45,'Data Maestro Nutrientes '!O$46,'Data Maestro Nutrientes '!O$47,'Data Maestro Nutrientes '!O$48,'Data Maestro Nutrientes '!O$49)","v":0},{"$f":"+CHOOSE($A19,'Data Maestro Nutrientes '!P$43,'Data Maestro Nutrientes '!P$44,'Data Maestro Nutrientes '!P$45,'Data Maestro Nutrientes '!P$46,'Data Maestro Nutrientes '!P$47,'Data Maestro Nutrientes '!P$48,'Data Maestro Nutrientes '!P$49)","v":0},{"$f":"+CHOOSE($A19,'Data Maestro Nutrientes '!Q$43,'Data Maestro Nutrientes '!Q$44,'Data Maestro Nutrientes '!Q$45,'Data Maestro Nutrientes '!Q$46,'Data Maestro Nutrientes '!Q$47,'Data Maestro Nutrientes '!Q$48,'Data Maestro Nutrientes '!Q$49)","v":0},{"$f":"+CHOOSE($A19,'Data Maestro Nutrientes '!R$43,'Data Maestro Nutrientes '!R$44,'Data Maestro Nutrientes '!R$45,'Data Maestro Nutrientes '!R$46,'Data Maestro Nutrientes '!R$47,'Data Maestro Nutrientes '!R$48,'Data Maestro Nutrientes '!R$49)","v":0},{"$f":"+CHOOSE($A19,'Data Maestro Nutrientes '!S$43,'Data Maestro Nutrientes '!S$44,'Data Maestro Nutrientes '!S$45,'Data Maestro Nutrientes '!S$46,'Data Maestro Nutrientes '!S$47,'Data Maestro Nutrientes '!S$48,'Data Maestro Nutrientes '!S$49)","v":0},{"$f":"+CHOOSE($A19,'Data Maestro Nutrientes '!T$43,'Data Maestro Nutrientes '!T$44,'Data Maestro Nutrientes '!T$45,'Data Maestro Nutrientes '!T$46,'Data Maestro Nutrientes '!T$47,'Data Maestro Nutrientes '!T$48,'Data Maestro Nutrientes '!T$49)","v":0},{"$f":"+CHOOSE($A19,'Data Maestro Nutrientes '!U$43,'Data Maestro Nutrientes '!U$44,'Data Maestro Nutrientes '!U$45,'Data Maestro Nutrientes '!U$46,'Data Maestro Nutrientes '!U$47,'Data Maestro Nutrientes '!U$48,'Data Maestro Nutrientes '!U$49)","v":0},{"$f":"+CHOOSE($A19,'Data Maestro Nutrientes '!V$43,'Data Maestro Nutrientes '!V$44,'Data Maestro Nutrientes '!V$45,'Data Maestro Nutrientes '!V$46,'Data Maestro Nutrientes '!V$47,'Data Maestro Nutrientes '!V$48,'Data Maestro Nutrientes '!V$49)","v":0},{"$f":"+CHOOSE($A19,'Data Maestro Nutrientes '!W$43,'Data Maestro Nutrientes '!W$44,'Data Maestro Nutrientes '!W$45,'Data Maestro Nutrientes '!W$46,'Data Maestro Nutrientes '!W$47,'Data Maestro Nutrientes '!W$48,'Data Maestro Nutrientes '!W$49)","v":0},{"$f":"+CHOOSE($A19,'Data Maestro Nutrientes '!X$43,'Data Maestro Nutrientes '!X$44,'Data Maestro Nutrientes '!X$45,'Data Maestro Nutrientes '!X$46,'Data Maestro Nutrientes '!X$47,'Data Maestro Nutrientes '!X$48,'Data Maestro Nutrientes '!X$49)","v":0},{"$f":"+CHOOSE($A19,'Data Maestro Nutrientes '!Y$43,'Data Maestro Nutrientes '!Y$44,'Data Maestro Nutrientes '!Y$45,'Data Maestro Nutrientes '!Y$46,'Data Maestro Nutrientes '!Y$47,'Data Maestro Nutrientes '!Y$48,'Data Maestro Nutrientes '!Y$49)","v":0},{"$f":"+CHOOSE($A19,'Data Maestro Nutrientes '!Z$43,'Data Maestro Nutrientes '!Z$44,'Data Maestro Nutrientes '!Z$45,'Data Maestro Nutrientes '!Z$46,'Data Maestro Nutrientes '!Z$47,'Data Maestro Nutrientes '!Z$48,'Data Maestro Nutrientes '!Z$49)","v":0},{"$f":"+CHOOSE($A19,'Data Maestro Nutrientes '!AA$43,'Data Maestro Nutrientes '!AA$44,'Data Maestro Nutrientes '!AA$45,'Data Maestro Nutrientes '!AA$46,'Data Maestro Nutrientes '!AA$47,'Data Maestro Nutrientes '!AA$48,'Data Maestro Nutrientes '!AA$49)","v":0},{"$f":"+CHOOSE($A19,'Data Maestro Nutrientes '!AB$43,'Data Maestro Nutrientes '!AB$44,'Data Maestro Nutrientes '!AB$45,'Data Maestro Nutrientes '!AB$46,'Data Maestro Nutrientes '!AB$47,'Data Maestro Nutrientes '!AB$48,'Data Maestro Nutrientes '!AB$49)","v":0},{"$f":"+CHOOSE($A19,'Data Maestro Nutrientes '!AC$43,'Data Maestro Nutrientes '!AC$44,'Data Maestro Nutrientes '!AC$45,'Data Maestro Nutrientes '!AC$46,'Data Maestro Nutrientes '!AC$47,'Data Maestro Nutrientes '!AC$48,'Data Maestro Nutrientes '!AC$49)","v":0},{"$f":"+CHOOSE($A19,'Data Maestro Nutrientes '!AD$43,'Data Maestro Nutrientes '!AD$44,'Data Maestro Nutrientes '!AD$45,'Data Maestro Nutrientes '!AD$46,'Data Maestro Nutrientes '!AD$47,'Data Maestro Nutrientes '!AD$48,'Data Maestro Nutrientes '!AD$49)","v":0}]
[2,{"$f":"+IF(AND(A20>=1,A20<=3),VLOOKUP(A20,'Data Maestro Nutrientes '!$A$52:$AD$54,2),0)","v":"Vit. D"},{"$f":"+CHOOSE($A20,'Data Maestro Nutrientes '!C$52,'Data Maestro Nutrientes '!C$53,'Data Maestro Nutrientes '!C$54)","v":0},{"$f":"+CHOOSE($A20,'Data Maestro Nutrientes '!D$52,'Data Maestro Nutrientes '!D$53,'Data Maestro Nutrientes '!D$54)","v":0},{"$f":"+CHOOSE($A20,'Data Maestro Nutrientes '!E$52,'Data Maestro Nutrientes '!E$53,'Data Maestro Nutrientes '!E$54)","v":0},{"$f":"+CHOOSE($A20,'Data Maestro Nutrientes '!F$52,'Data Maestro Nutrientes '!F$53,'Data Maestro Nutrientes '!F$54)","v":0},{"$f":"+CHOOSE($A20,'Data Maestro Nutrientes '!G$52,'Data Maestro Nutrientes '!G$53,'Data Maestro Nutrientes '!G$54)","v":0},{"$f":"+CHOOSE($A20,'Data Maestro Nutrientes '!H$52,'Data Maestro Nutrientes '!H$53,'Data Maestro Nutrientes '!H$54)","v":0},{"$f":"+CHOOSE($A20,'Data Maestro Nutrientes '!I$52,'Data Maestro Nutrientes '!I$53,'Data Maestro Nutrientes '!I$54)","v":0},{"$f":"+CHOOSE($A20,'Data Maestro Nutrientes '!J$52,'Data Maestro Nutrientes '!J$53,'Data Maestro Nutrientes '!J$54)","v":650},{"$f":"+CHOOSE($A20,'Data Maestro Nutrientes '!K$52,'Data Maestro Nutrientes '!K$53,'Data Maestro Nutrientes '!K$54)","v":0},{"$f":"+CHOOSE($A20,'Data Maestro Nutrientes '!L$52,'Data Maestro Nutrientes '!L$53,'Data Maestro Nutrientes '!L$54)","v":0},{"$f":"+CHOOSE($A20,'Data Maestro Nutrientes '!M$52,'Data Maestro Nutrientes '!M$53,'Data Maestro Nutrientes '!M$54)","v":0},{"$f":"+CHOOSE($A20,'Data Maestro Nutrientes '!N$52,'Data Maestro Nutrientes '!N$53,'Data Maestro Nutrientes '!N$54)","v":0},{"$f":"+CHOOSE($A20,'Data Maestro Nutrientes '!O$52,'Data Maestro Nutrientes '!O$53,'Data Maestro Nutrientes '!O$54)","v":0},{"$f":"+CHOOSE($A20,'Data Maestro Nutrientes '!P$52,'Data Maestro Nutrientes '!P$53,'Data Maestro Nutrientes '!P$54)","v":0},{"$f":"+CHOOSE($A20,'Data Maestro Nutrientes '!Q$52,'Data Maestro Nutrientes '!Q$53,'Data Maestro Nutrientes '!Q$54)","v":0},{"$f":"+CHOOSE($A20,'Data Maestro Nutrientes '!R$52,'Data Maestro Nutrientes '!R$53,'Data Maestro Nutrientes '!R$54)","v":0},{"$f":"+CHOOSE($A20,'Data Maestro Nutrientes '!S$52,'Data Maestro Nutrientes '!S$53,'Data Maestro Nutrientes '!S$54)","v":0},{"$f":"+CHOOSE($A20,'Data Maestro Nutrientes '!T$52,'Data Maestro Nutrientes '!T$53,'Data Maestro Nutrientes '!T$54)","v":0},{"$f":"+CHOOSE($A20,'Data Maestro Nutrientes '!U$52,'Data Maestro Nutrientes '!U$53,'Data Maestro Nutrientes '!U$54)","v":0},{"$f":"+CHOOSE($A20,'Data Maestro Nutrientes '!V$52,'Data Maestro Nutrientes '!V$53,'Data Maestro Nutrientes '!V$54)","v":0},{"$f":"+CHOOSE($A20,'Data Maestro Nutrientes '!W$52,'Data Maestro Nutrientes '!W$53,'Data Maestro Nutrientes '!W$54)","v":0},{"$f":"+CHOOSE($A20,'Data Maestro Nutrientes '!X$52,'Data Maestro Nutrientes '!X$53,'Data Maestro Nutrientes '!X$54)","v":0},{"$f":"+CHOOSE($A20,'Data Maestro Nutrientes '!Y$52,'Data Maestro Nutrientes '!Y$53,'Data Maestro Nutrientes '!Y$54)","v":0},{"$f":"+CHOOSE($A20,'Data Maestro Nutrientes '!Z$52,'Data Maestro Nutrientes '!Z$53,'Data Maestro Nutrientes '!Z$54)","v":0},{"$f":"+CHOOSE($A20,'Data Maestro Nutrientes '!AA$52,'Data Maestro Nutrientes '!AA$53,'Data Maestro Nutrientes '!AA$54)","v":0},{"$f":"+CHOOSE($A20,'Data Maestro Nutrientes '!AB$52,'Data Maestro Nutrientes '!AB$53,'Data Maestro Nutrientes '!AB$54)","v":0},{"$f":"+CHOOSE($A20,'Data Maestro Nutrientes '!AC$52,'Data Maestro Nutrientes '!AC$53,'Data Maestro Nutrientes '!AC$54)","v":0},{"$f":"+CHOOSE($A20,'Data Maestro Nutrientes '!AD$52,'Data Maestro Nutrientes '!AD$53,'Data Maestro Nutrientes '!AD$54)","v":0}]

{"sheet":"CALCU - PDR-FDN-CNF","index":6,"n_rows":36,"n_cols":72,"rows_kept":36,"cut":false,"hidden":true,"merged":[[33,7,33,9]]}
[]
[]
[null,{"$f":"+'Selec. Maestro Ingredientes'!C2","v":"NUTRIENTES"},{"$f":"+'Selec. Maestro Ingredientes'!I2","v":"FDN"},"RACION","FDN RACION",null,null,null,{"$f":"+'Selec. Maestro Ingredientes'!G2","v":"Prot."},"Prto. Ración",null,{"$f":"+'Selec. Maestro Ingredientes'!S2","v":"PDR"},"PDR ración",null,{"$f":"+'Selec. Maestro Ingredientes'!R2","v":"CNF"},"CNF ración",null,null,{"$f":"+'Selec. Maestro Ingredientes'!U2","v":"Sodio"},{"$f":"+'Selec. Maestro Ingredientes'!V2","v":"Magnesio"},{"$f":"+'Selec. Maestro Ingredientes'!W2","v":"Potasio"},{"$f":"+'Selec. Maestro Ingredientes'!X2","v":"Cloro"},{"$f":"+'Selec. Maestro Ingredientes'!Y2","v":"Azufre"},{"$f":"+'Selec. Maestro Ingredientes'!Z2","v":"Gosipol"},{"$f":"+'Selec. Maestro Ingredientes'!AA2","v":"Almidon"},null,{"$f":"+S3","v":"Sodio"},{"$f":"+T3","v":"Magnesio"},"Potasio","Cloro","Azufre",null,null,null,{"$f":"+'Selec. Maestro Ingredientes'!AB2","v":"Cobalto"},{"$f":"+'Selec. Maestro Ingredientes'!AC2","v":"Cobre"},{"$f":"+'Selec. Maestro Ingredientes'!AD2","v":"Yodo"},{"$f":"+'Selec. Maestro Ingredientes'!AE2","v":"Hierro"},{"$f":"+'Selec. Maestro Ingredientes'!AF2","v":"Manganeso"},{"$f":"+'Selec. Maestro Ingredientes'!AG2","v":"Selenio"},{"$f":"+'Selec. Maestro Ingredientes'!AH2","v":"Zinc"},{"$f":"+'Selec. Maestro Ingredientes'!AI2","v":"Vit. A"},{"$f":"+'Selec. Maestro Ingredientes'!AJ2","v":"Vit. D"},{"$f":"+'Selec. Maestro Ingredientes'!AK2","v":"Vit. E"},null,{"$f":"+AI3","v":"Cobalto"},{"$f":"+AJ3","v":"Cobre"},"Yodo","Hierro","Manganeso","Selenio","Zinc","Vit. A",{"$f":"+AQ3","v":"Vit. D"},{"$f":"+AR3","v":"Vit. E"},null,null,{"$f":"+'Selec. Maestro Ingredientes'!K2","v":"Ca"},{"$f":"+'Selec. Maestro Ingredientes'!V2","v":"Magnesio"},{"$f":"+'Selec. Maestro Ingredientes'!U2","v":"Sodio"},{"$f":"+'Selec. Maestro Ingredientes'!W2","v":"Potasio"},{"$f":"+'Selec. Maestro Ingredientes'!X2","v":"Cloro"},{"$f":"+'Selec. Maestro Ingredientes'!Y2","v":"Azufre"},{"$f":"+'Selec. Maestro Ingredientes'!L2","v":"P"},null,{"$f":"+BF3","v":"Ca"},{"$f":"+BG3","v":"Magnesio"},"Sodio","Potasio","Cloro","Azufre",{"$f":"+BL3","v":"P"}]
[null,{"$f":"+'Selec. Maestro Ingredientes'!C3","v":"AFRECHO"},{"$f":"+'Selec. Maestro Ingredientes'!I3","v":0.37},{"$f":"+'Easy feed'!N18","v":3.1150000000000002},{"$f":"+C4*D4","v":1.15255},null,null,null,{"$f":"+'Selec. Maestro Ingredientes'!G3","v":0.17},{"$f":"+I4*D4","v":0.52955000000000008},null,{"$f":"+'Selec. Maestro Ingredientes'!S3","v":0.7},{"$f":"+L4*D4","v":2.1804999999999999},null,{"$f":"+'Selec. Maestro Ingredientes'!R3","v":0.42},{"$f":"+O4*D4","v":1.3083},null,null,{"$f":"+'Selec. Maestro Ingredientes'!U3","v":2.0000000000000001E-4},{"$f":"+'Selec. Maestro Ingredientes'!V3","v":4.0000000000000001E-3},{"$f":"+'Selec. Maestro Ingredientes'!W3","v":1.1299999999999999E-2},{"$f":"+'Selec. Maestro Ingredientes'!X3","v":5.9999999999999995E-4},{"$f":"+'Selec. Maestro Ingredientes'!Y3","v":2.0999999999999999E-3},{"$f":"+'Selec. Maestro Ingredientes'!Z3","v":0},{"$f":"+'Selec. Maestro Ingredientes'!AA3","v":0.31},null,{"$f":"+S4*D4","v":6.2300000000000007E-4},{"$f":"+T4*D4","v":1.2460000000000001E-2},{"$f":"+U4*D4","v":3.5199500000000002E-2},{"$f":"+V4*D4","v":1.869E-3},{"$f":"+W4*D4","v":6.5415000000000004E-3},null,null,null,{"$f":"+'Selec. Maestro Ingredientes'!AB3","v":0},{"$f":"+'Selec. Maestro Ingredientes'!AC3","v":0},{"$f":"+'Selec. Maestro Ingredientes'!AD3","v":0},{"$f":"+'Selec. Maestro Ingredientes'!AE3","v":0},{"$f":"+'Selec. Maestro Ingredientes'!AF3","v":0},{"$f":"+'Selec. Maestro Ingredientes'!AG3","v":0},{"$f":"+'Selec. Maestro Ingredientes'!AH3","v":0},{"$f":"+'Selec. Maestro Ingredientes'!AI3","v":0},{"$f":"+'Selec. Maestro Ingredientes'!AJ3","v":0},{"$f":"+'Selec. Maestro Ingredientes'!AK3","v":0},null,{"$f":"+AI4*$D4","v":0},{"$f":"+AJ4*$D4","v":0},{"$f":"+AK4*$D4","v":0},{"$f":"+AL4*$D4","v":0},{"$f":"+AM4*$D4","v":0},{"$f":"+AN4*$D4","v":0},{"$f":"+AO4*$D4","v":0},{"$f":"+AP4*$D4","v":0},{"$f":"+AQ4*$D4","v":0},0,null,null,{"$f":"+'Selec. Maestro Ingredientes'!K3","v":1.1999999999999999E-3},{"$f":"+'Selec. Maestro Ingredientes'!V3","v":4.0000000000000001E-3},{"$f":"+'Selec. Maestro Ingredientes'!U3","v":2.0000000000000001E-4},{"$f":"+'Selec. Maestro Ingredientes'!W3","v":1.1299999999999999E-2},{"$f":"+'Selec. Maestro Ingredientes'!X3","v":5.9999999999999995E-4},{"$f":"+'Selec. Maestro Ingredientes'!Y3","v":2.0999999999999999E-3},{"$f":"+'Selec. Maestro Ingredientes'!L3","v":1.0999999999999999E-2},null,{"$f":"+D4*BF4","v":3.738E-3},{"$f":"+D4*BG4","v":1.2460000000000001E-2},{"$f":"+D4*BH4","v":6.2300000000000007E-4},{"$f":"+D4*BI4","v":3.5199500000000002E-2},{"$f":"+D4*BJ4","v":1.869E-3},{"$f":"+D4*BK4","v":6.5415000000000004E-3},{"$f":"+D4*BL4","v":3.4265000000000004E-2}]
[null,{"$f":"+'Selec. Maestro Ingredientes'!C4","v":"TORTA DE SOYA"},{"$f":"+'Selec. Maestro Ingredientes'!I4","v":0.1},{"$f":"+'Easy feed'!N19","v":0.35734915222842373},{"$f":"+C5*D5","v":3.5734915222842376E-2},null,null,null,{"$f":"+'Selec. Maestro Ingredientes'!G4","v":0.48},{"$f":"+I5*D5","v":0.17152759306964338},null,{"$f":"+'Selec. Maestro Ingredientes'!S4","v":0.66},{"$f":"+L5*D5","v":0.23585044047075968},null,{"$f":"+'Selec. Maestro Ingredientes'!R4","v":0.3},{"$f":"+O5*D5","v":0.10720474566852711},null,null,{"$f":"+'Selec. Maestro Ingredientes'!U4","v":2.9999999999999997E-4},{"$f":"+'Selec. Maestro Ingredientes'!V4","v":2.8999999999999998E-3},{"$f":"+'Selec. Maestro Ingredientes'!W4","v":2.4E-2},{"$f":"+'Selec. Maestro Ingredientes'!X4","v":7.000000000000001E-4},{"$f":"+'Selec. Maestro Ingredientes'!Y4","v":4.5999999999999999E-3},{"$f":"+'Selec. Maestro Ingredientes'!Z4","v":0},{"$f":"+'Selec. Maestro Ingredientes'!AA4","v":0},null,{"$f":"+S5*D5","v":1.0720474566852711E-4},{"$f":"+T5*D5","v":1.0363125414624287E-3},{"$f":"+U5*D5","v":8.5763796534821697E-3},{"$f":"+V5*D5","v":2.5014440655989664E-4},{"$f":"+W5*D5","v":1.6438061002507492E-3},null,null,null,{"$f":"+'Selec. Maestro Ingredientes'!AB4","v":0},{"$f":"+'Selec. Maestro Ingredientes'!AC4","v":0},{"$f":"+'Selec. Maestro Ingredientes'!AD4","v":0},{"$f":"+'Selec. Maestro Ingredientes'!AE4","v":0},{"$f":"+'Selec. Maestro Ingredientes'!AF4","v":0},{"$f":"+'Selec. Maestro Ingredientes'!AG4","v":0},{"$f":"+'Selec. Maestro Ingredientes'!AH4","v":0},{"$f":"+'Selec. Maestro Ingredientes'!AI4","v":0},{"$f":"+'Selec. Maestro Ingredientes'!AJ4","v":0},{"$f":"+'Selec. Maestro Ingredientes'!AK4","v":0},null,{"$f":"+AI5*$D5","v":0},0,0,0,0,0,0,0,0,0,null,null,{"$f":"+'Selec. Maestro Ingredientes'!K4","v":3.0000000000000001E-3},{"$f":"+'Selec. Maestro Ingredientes'!V4","v":2.8999999999999998E-3},{"$f":"+'Selec. Maestro Ingredientes'!U4","v":2.9999999999999997E-4},{"$f":"+'Selec. Maestro Ingredientes'!W4","v":2.4E-2},{"$f":"+'Selec. Maestro Ingredientes'!X4","v":7.000000000000001E-4},{"$f":"+'Selec. Maestro Ingredientes'!Y4","v":4.5999999999999999E-3},{"$f":"+'Selec. Maestro Ingredientes'!L4","v":7.000000000000001E-3},null,{"$f":"+D5*BF5","v":1.0720474566852712E-3},{"$f":"+D5*BG5","v":1.0363125414624287E-3},{"$f":"+D5*BH5","v":1.0720474566852711E-4},{"$f":"+D5*BI5","v":8.5763796534821697E-3},{"$f":"+D5*BJ5","v":2.5014440655989664E-4},{"$f":"+D5*BK5","v":1.6438061002507492E-3},{"$f":"+D5*BL5","v":2.5014440655989666E-3}]
[null,{"$f":"+'Selec. Maestro Ingredientes'!C5","v":"MAIZ MOLIDO"},{"$f":"+'Selec. Maestro Ingredientes'!I5","v":9.5000000000000001E-2},{"$f":"+'Easy feed'!N20","v":3.5422527612832999},0.33651401232191347,null,null,null,{"$f":"+'Selec. Maestro Ingredientes'!G5","v":9.5000000000000001E-2},0.33651401232191347,null,{"$f":"+'Selec. Maestro Ingredientes'!S5","v":0.5},1.77112638064165,null,{"$f":"+'Selec. Maestro Ingredientes'!R5","v":0.75},2.6566895709624747,null,null,{"$f":"+'Selec. Maestro Ingredientes'!U5","v":2.0000000000000001E-4},{"$f":"+'Selec. Maestro Ingredientes'!V5","v":1.1999999999999999E-3},{"$f":"+'Selec. Maestro Ingredientes'!W5","v":4.0000000000000001E-3},{"$f":"+'Selec. Maestro Ingredientes'!X5","v":5.0000000000000001E-4},{"$f":"+'Selec. Maestro Ingredientes'!Y5","v":1.1999999999999999E-3},{"$f":"+'Selec. Maestro Ingredientes'!Z5","v":0},{"$f":"+'Selec. Maestro Ingredientes'!AA5","v":0.63},null,7.0845055225666001E-4,4.2507033135399594E-3,1.41690110451332E-2,1.77112638064165E-3,4.2507033135399594E-3,null,null,null,{"$f":"+'Selec. Maestro Ingredientes'!AB5","v":0},{"$f":"+'Selec. Maestro Ingredientes'!AC5","v":0},{"$f":"+'Selec. Maestro Ingredientes'!AD5","v":0},{"$f":"+'Selec. Maestro Ingredientes'!AE5","v":0},{"$f":"+'Selec. Maestro Ingredientes'!AF5","v":0},{"$f":"+'Selec. Maestro Ingredientes'!AG5","v":0},{"$f":"+'Selec. Maestro Ingredientes'!AH5","v":0},{"$f":"+'Selec. Maestro Ingredientes'!AI5","v":0},{"$f":"+'Selec. Maestro Ingredientes'!AJ5","v":0},{"$f":"+'Selec. Maestro Ingredientes'!AK5","v":0},null,{"$f":"+AI6*$D6","v":0},0,0,0,0,0,0,0,0,0,null,null,{"$f":"+'Selec. Maestro Ingredientes'!K5","v":2.0000000000000001E-4},{"$f":"+'Selec. Maestro Ingredientes'!V5","v":1.1999999999999999E-3},{"$f":"+'Selec. Maestro Ingredientes'!U5","v":2.0000000000000001E-4},{"$f":"+'Selec. Maestro Ingredientes'!W5","v":4.0000000000000001E-3},{"$f":"+'Selec. Maestro Ingredientes'!X5","v":5.0000000000000001E-4},{"$f":"+'Selec. Maestro Ingredientes'!Y5","v":1.1999999999999999E-3},{"$f":"+'Selec. Maestro Ingredientes'!L5","v":3.0000000000000001E-3},null,7.0845055225666001E-4,4.2507033135399594E-3,7.0845055225666001E-4,1.41690110451332E-2,1.77112638064165E-3,4.2507033135399594E-3,1.06267582838499E-2]
[null,{"$f":"+'Selec. Maestro Ingredientes'!C6","v":"SOYA INTEGRAL"},{"$f":"+'Selec. Maestro Ingredientes'!I6","v":0.2},{"$f":"+'Easy feed'!N21","v":2.5632938660200897},0.51265877320401798,null,null,null,{"$f":"+'Selec. Maestro Ingredientes'!G6","v":0.35},0.8971528531070313,null,{"$f":"+'Selec. Maestro Ingredientes'!S6","v":0.5},1.2816469330100448,null,{"$f":"+'Selec. Maestro Ingredientes'!R6","v":0.18},0.46139289588361615,null,null,{"$f":"+'Selec. Maestro Ingredientes'!U6","v":2.0000000000000001E-4},{"$f":"+'Selec. Maestro Ingredientes'!V6","v":3.2000000000000002E-3},{"$f":"+'Selec. Maestro Ingredientes'!W6","v":1.67E-2},{"$f":"+'Selec. Maestro Ingredientes'!X6","v":2.0000000000000001E-4},{"$f":"+'Selec. Maestro Ingredientes'!Y6","v":4.0000000000000001E-3},{"$f":"+'Selec. Maestro Ingredientes'!Z6","v":0},{"$f":"+'Selec. Maestro Ingredientes'!AA6","v":6.7000000000000004E-2},null,5.1265877320401799E-4,8.2025403712642879E-3,4.2807007562535498E-2,5.1265877320401799E-4,1.0253175464080359E-2,null,null,null,{"$f":"+'Selec. Maestro Ingredientes'!AB6","v":0},{"$f":"+'Selec. Maestro Ingredientes'!AC6","v":0},{"$f":"+'Selec. Maestro Ingredientes'!AD6","v":0},{"$f":"+'Selec. Maestro Ingredientes'!AE6","v":0},{"$f":"+'Selec. Maestro Ingredientes'!AF6","v":0},{"$f":"+'Selec. Maestro Ingredientes'!AG6","v":0},{"$f":"+'Selec. Maestro Ingredientes'!AH6","v":0},{"$f":"+'Selec. Maestro Ingredientes'!AI6","v":0},{"$f":"+'Selec. Maestro Ingredientes'!AJ6","v":0},{"$f":"+'Selec. Maestro Ingredientes'!AK6","v":0},null,0,0,0,0,0,0,0,0,0,0,null,null,{"$f":"+'Selec. Maestro Ingredientes'!K6","v":3.0000000000000001E-3},{"$f":"+'Selec. Maestro Ingredientes'!V6","v":3.2000000000000002E-3},{"$f":"+'Selec. Maestro Ingredientes'!U6","v":2.0000000000000001E-4},{"$f":"+'Selec. Maestro Ingredientes'!W6","v":1.67E-2},{"$f":"+'Selec. Maestro Ingredientes'!X6","v":2.0000000000000001E-4},{"$f":"+'Selec. Maestro Ingredientes'!Y6","v":4.0000000000000001E-3},{"$f":"+'Selec. Maestro Ingredientes'!L6","v":6.3E-3},null,7.6898815980602688E-3,8.2025403712642879E-3,5.1265877320401799E-4,4.2807007562535498E-2,5.1265877320401799E-4,1.0253175464080359E-2,1.6148751355926565E-2]
[null,{"$f":"+'Selec. Maestro Ingredientes'!C7","v":"CARBONATO DE CALCIO"},{"$f":"+'Selec. Maestro Ingredientes'!I7","v":0},{"$f":"+'Easy feed'!N22","v":0.32351691264172289},0,null,null,null,{"$f":"+'Selec. Maestro Ingredientes'!G7","v":0},0,null,{"$f":"+'Selec. Maestro Ingredientes'!S7","v":0},0,null,{"$f":"+'Selec. Maestro Ingredientes'!R7","v":0},0,null,null,{"$f":"+'Selec. Maestro Ingredientes'!U7","v":0},{"$f":"+'Selec. Maestro Ingredientes'!V7","v":0},{"$f":"+'Selec. Maestro Ingredientes'!W7","v":0},{"$f":"+'Selec. Maestro Ingredientes'!X7","v":0},{"$f":"+'Selec. Maestro Ingredientes'!Y7","v":0},{"$f":"+'Selec. Maestro Ingredientes'!Z7","v":0},{"$f":"+'Selec. Maestro Ingredientes'!AA7","v":0},null,0,0,0,0,0,null,null,null,{"$f":"+'Selec. Maestro Ingredientes'!AB7","v":0},{"$f":"+'Selec. Maestro Ingredientes'!AC7","v":0},{"$f":"+'Selec. Maestro Ingredientes'!AD7","v":0},{"$f":"+'Selec. Maestro Ingredientes'!AE7","v":0},{"$f":"+'Selec. Maestro Ingredientes'!AF7","v":0},{"$f":"+'Selec. Maestro Ingredientes'!AG7","v":0},{"$f":"+'Selec. Maestro Ingredientes'!AH7","v":0},{"$f":"+'Selec. Maestro Ingredientes'!AI7","v":0},{"$f":"+'Selec. Maestro Ingredientes'!AJ7","v":0},{"$f":"+'Selec. Maestro Ingredientes'!AK7","v":0},null,0,0,0,0,0,0,0,0,0,0,null,null,{"$f":"+'Selec. Maestro Ingredientes'!K7","v":0.38},{"$f":"+'Selec. Maestro Ingredientes'!V7","v":0},{"$f":"+'Selec. Maestro Ingredientes'!U7","v":0},{"$f":"+'Selec. Maestro Ingredientes'!W7","v":0},{"$f":"+'Selec. Maestro Ingredientes'!X7","v":0},{"$f":"+'Selec. Maestro Ingredientes'!Y7","v":0},{"$f":"+'Selec. Maestro Ingredientes'!L7","v":0},null,0.12293642680385469,0,0,0,0,0,0]
[null,{"$f":"+'Selec. Maestro Ingredientes'!C8","v":"SAL"},{"$f":"+'Selec. Maestro Ingredientes'!I8","v":0},{"$f":"+'Easy feed'!N23","v":0},0,null,null,null,{"$f":"+'Selec. Maestro Ingredientes'!G8","v":0},0,null,{"$f":"+'Selec. Maestro Ingredientes'!S8","v":0},0,null,{"$f":"+'Selec. Maestro Ingredientes'!R8","v":0},0,null,null,{"$f":"+'Selec. Maestro Ingredientes'!U8","v":0.39},{"$f":"+'Selec. Maestro Ingredientes'!V8","v":0},{"$f":"+'Selec. Maestro Ingredientes'!W8","v":0},{"$f":"+'Selec. Maestro Ingredientes'!X8","v":0.6},{"$f":"+'Selec. Maestro Ingredientes'!Y8","v":0},{"$f":"+'Selec. Maestro Ingredientes'!Z8","v":0},{"$f":"+'Selec. Maestro Ingredientes'!AA8","v":0},null,0,0,0,0,0,null,null,null,{"$f":"+'Selec. Maestro Ingredientes'!AB8","v":0},{"$f":"+'Selec. Maestro Ingredientes'!AC8","v":0},{"$f":"+'Selec. Maestro Ingredientes'!AD8","v":0},{"$f":"+'Selec. Maestro Ingredientes'!AE8","v":0},{"$f":"+'Selec. Maestro Ingredientes'!AF8","v":0},{"$f":"+'Selec. Maestro Ingredientes'!AG8","v":0},{"$f":"+'Selec. Maestro Ingredientes'!AH8","v":0},{"$f":"+'Selec. Maestro Ingredientes'!AI8","v":0},{"$f":"+'Selec. Maestro Ingredientes'!AJ8","v":0},{"$f":"+'Selec. Maestro Ingredientes'!AK8","v":0},null,0,0,0,0,0,0,0,0,0,0,null,null,{"$f":"+'Selec. Maestro Ingredientes'!K8","v":0},{"$f":"+'Selec. Maestro Ingredientes'!V8","v":0},{"$f":"+'Selec. Maestro Ingredientes'!U8","v":0.39},{"$f":"+'Selec. Maestro Ingredientes'!W8","v":0},{"$f":"+'Selec. Maestro Ingredientes'!X8","v":0.6},{"$f":"+'Selec. Maestro Ingredientes'!Y8","v":0},{"$f":"+'Selec. Maestro Ingredientes'!L8","v":0},null,0,0,0,0,0,0,0]
[null,{"$f":"+'Selec. Maestro Ingredientes'!C9","v":"BICARBONATO"},{"$f":"+'Selec. Maestro Ingredientes'!I9","v":0},{"$f":"+'Easy feed'!N24","v":0.2475},0,null,null,null,{"$f":"+'Selec. Maestro Ingredientes'!G9","v":0},0,null,{"$f":"+'Selec. Maestro Ingredientes'!S9","v":0},0,null,{"$f":"+'Selec. Maestro Ingredientes'!R9","v":0},0,null,null,{"$f":"+'Selec. Maestro Ingredientes'!U9","v":0},{"$f":"+'Selec. Maestro Ingredientes'!V9","v":0},{"$f":"+'Selec. Maestro Ingredientes'!W9","v":0},{"$f":"+'Selec. Maestro Ingredientes'!X9","v":0},{"$f":"+'Selec. Maestro Ingredientes'!Y9","v":0},{"$f":"+'Selec. Maestro Ingredientes'!Z9","v":0},{"$f":"+'Selec. Maestro Ingredientes'!AA9","v":0},null,0,0,0,0,0,null,null,null,{"$f":"+'Selec. Maestro Ingredientes'!AB9","v":0},{"$f":"+'Selec. Maestro Ingredientes'!AC9","v":0},{"$f":"+'Selec. Maestro Ingredientes'!AD9","v":0},{"$f":"+'Selec. Maestro Ingredientes'!AE9","v":0},{"$f":"+'Selec. Maestro Ingredientes'!AF9","v":0},{"$f":"+'Selec. Maestro Ingredientes'!AG9","v":0},{"$f":"+'Selec. Maestro Ingredientes'!AH9","v":0},{"$f":"+'Selec. Maestro Ingredientes'!AI9","v":0},{"$f":"+'Selec. Maestro Ingredientes'!AJ9","v":0},{"$f":"+'Selec. Maestro Ingredientes'!AK9","v":0},null,0,0,0,0,0,0,0,0,0,0,null,null,{"$f":"+'Selec. Maestro Ingredientes'!K9","v":0},{"$f":"+'Selec. Maestro Ingredientes'!V9","v":0},{"$f":"+'Selec. Maestro Ingredientes'!U9","v":0},{"$f":"+'Selec. Maestro Ingredientes'!W9","v":0},{"$f":"+'Selec. Maestro Ingredientes'!X9","v":0},{"$f":"+'Selec. Maestro Ingredientes'!Y9","v":0},{"$f":"+'Selec. Maestro Ingredientes'!L9","v":0},null,0,0,0,0,0,0,0]
[null,{"$f":"+'Selec. Maestro Ingredientes'!C10","v":"SUPLAMIN DIFOS"},{"$f":"+'Selec. Maestro Ingredientes'!I10","v":0},{"$f":"+'Easy feed'!N25","v":0},0,null,null,null,{"$f":"+'Selec. Maestro Ingredientes'!G10","v":0},0,null,{"$f":"+'Selec. Maestro Ingredientes'!S10","v":0},0,null,{"$f":"+'Selec. Maestro Ingredientes'!R10","v":0},0,null,null,{"$f":"+'Selec. Maestro Ingredientes'!U10","v":2.35E-2},{"$f":"+'Selec. Maestro Ingredientes'!V10","v":4.8640000000000003E-3},{"$f":"+'Selec. Maestro Ingredientes'!W10","v":6.9999999999999999E-6},{"$f":"+'Selec. Maestro Ingredientes'!X10","v":0},{"$f":"+'Selec. Maestro Ingredientes'!Y10","v":9.3999999999999997E-4},{"$f":"+'Selec. Maestro Ingredientes'!Z10","v":0},{"$f":"+'Selec. Maestro Ingredientes'!AA10","v":0},null,0,0,0,0,0,null,null,null,{"$f":"+'Selec. Maestro Ingredientes'!AB10","v":0},{"$f":"+'Selec. Maestro Ingredientes'!AC10","v":0},{"$f":"+'Selec. Maestro Ingredientes'!AD10","v":0},{"$f":"+'Selec. Maestro Ingredientes'!AE10","v":0},{"$f":"+'Selec. Maestro Ingredientes'!AF10","v":1209},{"$f":"+'Selec. Maestro Ingredientes'!AG10","v":10},{"$f":"+'Selec. Maestro Ingredientes'!AH10","v":2500},{"$f":"+'Selec. Maestro Ingredientes'!AI10","v":515},{"$f":"+'Selec. Maestro Ingredientes'!AJ10","v":650},{"$f":"+'Selec. Maestro Ingredientes'!AK10","v":100},null,0,0,0,0,0,0,0,0,0,0,null,null,{"$f":"+'Selec. Maestro Ingredientes'!K10","v":0.185},{"$f":"+'Selec. Maestro Ingredientes'!V10","v":4.8640000000000003E-3},{"$f":"+'Selec. Maestro Ingredientes'!U10","v":2.35E-2},{"$f":"+'Selec. Maestro Ingredientes'!W10","v":6.9999999999999999E-6},{"$f":"+'Selec. Maestro Ingredientes'!X10","v":0},{"$f":"+'Selec. Maestro Ingredientes'!Y10","v":9.3999999999999997E-4},{"$f":"+'Selec. Maestro Ingredientes'!L10","v":0.15060000000000001},null,0,0,0,0,0,0,0]
[null,{"$f":"+'Selec. Maestro Ingredientes'!C11","v":"MELAZA"},{"$f":"+'Selec. Maestro Ingredientes'!I11","v":0},{"$f":"+'Easy feed'!N26","v":0},0,null,null,null,{"$f":"+'Selec. Maestro Ingredientes'!G11","v":0.05},0,null,{"$f":"+'Selec. Maestro Ingredientes'!S11","v":0.2},0,null,{"$f":"+'Selec. Maestro Ingredientes'!R11","v":0.83},0,null,null,{"$f":"+'Selec. Maestro Ingredientes'!U11","v":2.2000000000000001E-3},{"$f":"+'Selec. Maestro Ingredientes'!V11","v":4.1999999999999997E-3},{"$f":"+'Selec. Maestro Ingredientes'!W11","v":0.04},{"$f":"+'Selec. Maestro Ingredientes'!X11","v":3.1E-2},{"$f":"+'Selec. Maestro Ingredientes'!Y11","v":4.5999999999999999E-3},{"$f":"+'Selec. Maestro Ingredientes'!Z11","v":0},{"$f":"+'Selec. Maestro Ingredientes'!AA11","v":7.0000000000000007E-2},null,0,0,0,0,0,null,null,null,{"$f":"+'Selec. Maestro Ingredientes'!AB11","v":0},{"$f":"+'Selec. Maestro Ingredientes'!AC11","v":0},{"$f":"+'Selec. Maestro Ingredientes'!AD11","v":0},{"$f":"+'Selec. Maestro Ingredientes'!AE11","v":0},{"$f":"+'Selec. Maestro Ingredientes'!AF11","v":0},{"$f":"+'Selec. Maestro Ingredientes'!AG11","v":0},{"$f":"+'Selec. Maestro Ingredientes'!AH11","v":0},{"$f":"+'Selec. Maestro Ingredientes'!AI11","v":0},{"$f":"+'Selec. Maestro Ingredientes'!AJ11","v":0},{"$f":"+'Selec. Maestro Ingredientes'!AK11","v":0},null,0,0,0,0,0,0,0,0,0,0,null,null,{"$f":"+'Selec. Maestro Ingredientes'!K11","v":1.0999999999999999E-2},{"$f":"+'Selec. Maestro Ingredientes'!V11","v":4.1999999999999997E-3},{"$f":"+'Selec. Maestro Ingredientes'!U11","v":2.2000000000000001E-3},{"$f":"+'Selec. Maestro Ingredientes'!W11","v":0.04},{"$f":"+'Selec. Maestro Ingredientes'!X11","v":3.1E-2},{"$f":"+'Selec. Maestro Ingredientes'!Y11","v":4.5999999999999999E-3},{"$f":"+'Selec. Maestro Ingredientes'!L11","v":1.5E-3},null,0,0,0,0,0,0,0]
[null,{"$f":"+'Selec. Maestro Ingredientes'!C12","v":"UREA"},{"$f":"+'Selec. Maestro Ingredientes'!I12","v":0},{"$f":"+'Easy feed'!N27","v":0.1782},0,null,null,null,{"$f":"+'Selec. Maestro Ingredientes'!G12","v":2.8},0.49895999999999996,null,{"$f":"+'Selec. Maestro Ingredientes'!S12","v":0},0,null,{"$f":"+'Selec. Maestro Ingredientes'!R12","v":0},0,null,null,{"$f":"+'Selec. Maestro Ingredientes'!U12","v":0},{"$f":"+'Selec. Maestro Ingredientes'!V12","v":0},{"$f":"+'Selec. Maestro Ingredientes'!W12","v":0},{"$f":"+'Selec. Maestro Ingredientes'!X12","v":0},{"$f":"+'Selec. Maestro Ingredientes'!Y12","v":0},{"$f":"+'Selec. Maestro Ingredientes'!Z12","v":0},{"$f":"+'Selec. Maestro Ingredientes'!AA12","v":0},null,0,0,0,0,0,null,null,null,{"$f":"+'Selec. Maestro Ingredientes'!AB12","v":0},{"$f":"+'Selec. Maestro Ingredientes'!AC12","v":0},{"$f":"+'Selec. Maestro Ingredientes'!AD12","v":0},{"$f":"+'Selec. Maestro Ingredientes'!AE12","v":0},{"$f":"+'Selec. Maestro Ingredientes'!AF12","v":0},{"$f":"+'Selec. Maestro Ingredientes'!AG12","v":0},{"$f":"+'Selec. Maestro Ingredientes'!AH12","v":0},{"$f":"+'Selec. Maestro Ingredientes'!AI12","v":0},{"$f":"+'Selec. Maestro Ingredientes'!AJ12","v":0},{"$f":"+'Selec. Maestro Ingredientes'!AK12","v":0},null,0,0,0,0,0,0,0,0,0,0,null,null,{"$f":"+'Selec. Maestro Ingredientes'!K12","v":0},{"$f":"+'Selec. Maestro Ingredientes'!V12","v":0},{"$f":"+'Selec. Maestro Ingredientes'!U12","v":0},{"$f":"+'Selec. Maestro Ingredientes'!W12","v":0},{"$f":"+'Selec. Maestro Ingredientes'!X12","v":0},{"$f":"+'Selec. Maestro Ingredientes'!Y12","v":0},{"$f":"+'Selec. Maestro Ingredientes'!L12","v":0},null,0,0,0,0,0,0,0]
[null,{"$f":"+'Selec. Maestro Ingredientes'!C13","v":"GRASA PROTEGIDA"},{"$f":"+'Selec. Maestro Ingredientes'!I13","v":0},{"$f":"+'Easy feed'!N28","v":0},0,null,null,null,{"$f":"+'Selec. Maestro Ingredientes'!G13","v":0},0,null,{"$f":"+'Selec. Maestro Ingredientes'!S13","v":0},0,null,{"$f":"+'Selec. Maestro Ingredientes'!R13","v":0},0,null,null,{"$f":"+'Selec. Maestro Ingredientes'!U13","v":0},{"$f":"+'Selec. Maestro Ingredientes'!V13","v":0},{"$f":"+'Selec. Maestro Ingredientes'!W13","v":0},{"$f":"+'Selec. Maestro Ingredientes'!X13","v":0},{"$f":"+'Selec. Maestro Ingredientes'!Y13","v":0},{"$f":"+'Selec. Maestro Ingredientes'!Z13","v":0},{"$f":"+'Selec. Maestro Ingredientes'!AA13","v":0},null,0,0,0,0,0,null,null,null,{"$f":"+'Selec. Maestro Ingredientes'!AB13","v":0},{"$f":"+'Selec. Maestro Ingredientes'!AC13","v":0},{"$f":"+'Selec. Maestro Ingredientes'!AD13","v":0},{"$f":"+'Selec. Maestro Ingredientes'!AE13","v":0},{"$f":"+'Selec. Maestro Ingredientes'!AF13","v":0},{"$f":"+'Selec. Maestro Ingredientes'!AG13","v":0},{"$f":"+'Selec. Maestro Ingredientes'!AH13","v":0},{"$f":"+'Selec. Maestro Ingredientes'!AI13","v":0},{"$f":"+'Selec. Maestro Ingredientes'!AJ13","v":0},{"$f":"+'Selec. Maestro Ingredientes'!AK13","v":0},null,0,0,0,0,0,0,0,0,0,0,null,null,{"$f":"+'Selec. Maestro Ingredientes'!K13","v":0.09},{"$f":"+'Selec. Maestro Ingredientes'!V13","v":0},{"$f":"+'Selec. Maestro Ingredientes'!U13","v":0},{"$f":"+'Selec. Maestro Ingredientes'!W13","v":0},{"$f":"+'Selec. Maestro Ingredientes'!X13","v":0},{"$f":"+'Selec. Maestro Ingredientes'!Y13","v":0},{"$f":"+'Selec. Maestro Ingredientes'!L13","v":0},null,0,0,0,0,0,0,0]
[null,{"$f":"+'Selec. Maestro Ingredientes'!C14","v":"PEPA ALGODÓN "},{"$f":"+'Selec. Maestro Ingredientes'!I14","v":0.5},{"$f":"+'Easy feed'!N29","v":0},0,null,null,null,{"$f":"+'Selec. Maestro Ingredientes'!G14","v":0.22},0,null,{"$f":"+'Selec. Maestro Ingredientes'!S14","v":0.61},0,null,{"$f":"+'Selec. Maestro Ingredientes'!R14","v":0.09},0,null,null,{"$f":"+'Selec. Maestro Ingredientes'!U14","v":2.0000000000000001E-4},{"$f":"+'Selec. Maestro Ingredientes'!V14","v":3.7000000000000002E-3},{"$f":"+'Selec. Maestro Ingredientes'!W14","v":1.1000000000000001E-2},{"$f":"+'Selec. Maestro Ingredientes'!X14","v":2.0000000000000001E-4},{"$f":"+'Selec. Maestro Ingredientes'!Y14","v":8.9999999999999998E-4},{"$f":"+'Selec. Maestro Ingredientes'!Z14","v":0},{"$f":"+'Selec. Maestro Ingredientes'!AA14","v":0},null,0,0,0,0,0,null,null,null,{"$f":"+'Selec. Maestro Ingredientes'!AB14","v":0},{"$f":"+'Selec. Maestro Ingredientes'!AC14","v":0},{"$f":"+'Selec. Maestro Ingredientes'!AD14","v":0},{"$f":"+'Selec. Maestro Ingredientes'!AE14","v":0},{"$f":"+'Selec. Maestro Ingredientes'!AF14","v":0},{"$f":"+'Selec. Maestro Ingredientes'!AG14","v":0},{"$f":"+'Selec. Maestro Ingredientes'!AH14","v":0},{"$f":"+'Selec. Maestro Ingredientes'!AI14","v":0},{"$f":"+'Selec. Maestro Ingredientes'!AJ14","v":0},{"$f":"+'Selec. Maestro Ingredientes'!AK14","v":0},null,0,0,0,0,0,0,0,0,0,0,null,null,{"$f":"+'Selec. Maestro Ingredientes'!K14","v":2E-3},{"$f":"+'Selec. Maestro Ingredientes'!V14","v":3.7000000000000002E-3},{"$f":"+'Selec. Maestro Ingredientes'!U14","v":2.0000000000000001E-4},{"$f":"+'Selec. Maestro Ingredientes'!W14","v":1.1000000000000001E-2},{"$f":"+'Selec. Maestro Ingredientes'!X14","v":2.0000000000000001E-4},{"$f":"+'Selec. Maestro Ingredientes'!Y14","v":8.9999999999999998E-4},{"$f":"+'Selec. Maestro Ingredientes'!L14","v":6.0000000000000001E-3},null,0,0,0,0,0,0,0]
[null,{"$f":"+'Selec. Maestro Ingredientes'!C15","v":"MONTAFOS"},{"$f":"+'Selec. Maestro Ingredientes'!I15","v":0},{"$f":"+'Easy feed'!N30","v":4.0974508842678066E-2},0,null,null,null,{"$f":"+'Selec. Maestro Ingredientes'!G15","v":0},0,null,{"$f":"+'Selec. Maestro Ingredientes'!S15","v":0},0,null,{"$f":"+'Selec. Maestro Ingredientes'!R15","v":0},0,null,null,{"$f":"+'Selec. Maestro Ingredientes'!U15","v":0},{"$f":"+'Selec. Maestro Ingredientes'!V15","v":0},{"$f":"+'Selec. Maestro Ingredientes'!W15","v":0},{"$f":"+'Selec. Maestro Ingredientes'!X15","v":0},{"$f":"+'Selec. Maestro Ingredientes'!Y15","v":0},{"$f":"+'Selec. Maestro Ingredientes'!Z15","v":0},{"$f":"+'Selec. Maestro Ingredientes'!AA15","v":0},null,0,0,0,0,0,null,null,null,{"$f":"+'Selec. Maestro Ingredientes'!AB15","v":0},{"$f":"+'Selec. Maestro Ingredientes'!AC15","v":0},{"$f":"+'Selec. Maestro Ingredientes'!AD15","v":0},{"$f":"+'Selec. Maestro Ingredientes'!AE15","v":0},{"$f":"+'Selec. Maestro Ingredientes'!AF15","v":0},{"$f":"+'Selec. Maestro Ingredientes'!AG15","v":0},{"$f":"+'Selec. Maestro Ingredientes'!AH15","v":0},{"$f":"+'Selec. Maestro Ingredientes'!AI15","v":0},{"$f":"+'Selec. Maestro Ingredientes'!AJ15","v":0},{"$f":"+'Selec. Maestro Ingredientes'!AK15","v":0},null,0,0,0,0,0,0,0,0,0,0,null,null,{"$f":"+'Selec. Maestro Ingredientes'!K15","v":0.18},{"$f":"+'Selec. Maestro Ingredientes'!V15","v":0},{"$f":"+'Selec. Maestro Ingredientes'!U15","v":0},{"$f":"+'Selec. Maestro Ingredientes'!W15","v":0},{"$f":"+'Selec. Maestro Ingredientes'!X15","v":0},{"$f":"+'Selec. Maestro Ingredientes'!Y15","v":0},{"$f":"+'Selec. Maestro Ingredientes'!L15","v":0.21},null,7.3754115916820516E-3,0,0,0,0,0,8.6046468569623939E-3]
[null,{"$f":"+'Selec. Maestro Ingredientes'!C16","v":""},{"$f":"+'Selec. Maestro Ingredientes'!I16","v":0},{"$f":"+'Easy feed'!N31","v":0},0,null,null,null,{"$f":"+'Selec. Maestro Ingredientes'!G16","v":0},0,null,{"$f":"+'Selec. Maestro Ingredientes'!S16","v":0},0,null,{"$f":"+'Selec. Maestro Ingredientes'!R16","v":0},0,null,null,{"$f":"+'Selec. Maestro Ingredientes'!U16","v":0},{"$f":"+'Selec. Maestro Ingredientes'!V16","v":0},{"$f":"+'Selec. Maestro Ingredientes'!W16","v":0},{"$f":"+'Selec. Maestro Ingredientes'!X16","v":0},{"$f":"+'Selec. Maestro Ingredientes'!Y16","v":0},{"$f":"+'Selec. Maestro Ingredientes'!Z16","v":0},{"$f":"+'Selec. Maestro Ingredientes'!AA16","v":0},null,0,0,0,0,0,null,null,null,{"$f":"+'Selec. Maestro Ingredientes'!AB16","v":0},{"$f":"+'Selec. Maestro Ingredientes'!AC16","v":0},{"$f":"+'Selec. Maestro Ingredientes'!AD16","v":0},{"$f":"+'Selec. Maestro Ingredientes'!AE16","v":0},{"$f":"+'Selec. Maestro Ingredientes'!AF16","v":0},{"$f":"+'Selec. Maestro Ingredientes'!AG16","v":0},{"$f":"+'Selec. Maestro Ingredientes'!AH16","v":0},{"$f":"+'Selec. Maestro Ingredientes'!AI16","v":0},{"$f":"+'Selec. Maestro Ingredientes'!AJ16","v":0},{"$f":"+'Selec. Maestro Ingredientes'!AK16","v":0},null,0,0,0,0,0,0,0,0,0,0,null,null,{"$f":"+'Selec. Maestro Ingredientes'!K16","v":0},{"$f":"+'Selec. Maestro Ingredientes'!V16","v":0},{"$f":"+'Selec. Maestro Ingredientes'!U16","v":0},{"$f":"+'Selec. Maestro Ingredientes'!W16","v":0},{"$f":"+'Selec. Maestro Ingredientes'!X16","v":0},{"$f":"+'Selec. Maestro Ingredientes'!Y16","v":0},{"$f":"+'Selec. Maestro Ingredientes'!L16","v":0},null,0,0,0,0,0,0,0]
[null,{"$f":"+'Selec. Maestro Ingredientes'!C17","v":""},{"$f":"+'Selec. Maestro Ingredientes'!I17","v":0},{"$f":"+'Easy feed'!N32","v":0},0,null,null,null,{"$f":"+'Selec. Maestro Ingredientes'!G17","v":0},0,null,{"$f":"+'Selec. Maestro Ingredientes'!S17","v":0},0,null,{"$f":"+'Selec. Maestro Ingredientes'!R17","v":0},0,null,null,{"$f":"+'Selec. Maestro Ingredientes'!U17","v":0},{"$f":"+'Selec. Maestro Ingredientes'!V17","v":0},{"$f":"+'Selec. Maestro Ingredientes'!W17","v":0},{"$f":"+'Selec. Maestro Ingredientes'!X17","v":0},{"$f":"+'Selec. Maestro Ingredientes'!Y17","v":0},{"$f":"+'Selec. Maestro Ingredientes'!Z17","v":0},{"$f":"+'Selec. Maestro Ingredientes'!AA17","v":0},null,0,0,0,0,0,null,null,null,{"$f":"+'Selec. Maestro Ingredientes'!AB17","v":0},{"$f":"+'Selec. Maestro Ingredientes'!AC17","v":0},{"$f":"+'Selec. Maestro Ingredientes'!AD17","v":0},{"$f":"+'Selec. Maestro Ingredientes'!AE17","v":0},{"$f":"+'Selec. Maestro Ingredientes'!AF17","v":0},{"$f":"+'Selec. Maestro Ingredientes'!AG17","v":0},{"$f":"+'Selec. Maestro Ingredientes'!AH17","v":0},{"$f":"+'Selec. Maestro Ingredientes'!AI17","v":0},{"$f":"+'Selec. Maestro Ingredientes'!AJ17","v":0},{"$f":"+'Selec. Maestro Ingredientes'!AK17","v":0},null,0,0,0,0,0,0,0,0,0,0,null,null,{"$f":"+'Selec. Maestro Ingredientes'!K17","v":0},{"$f":"+'Selec. Maestro Ingredientes'!V17","v":0},{"$f":"+'Selec. Maestro Ingredientes'!U17","v":0},{"$f":"+'Selec. Maestro Ingredientes'!W17","v":0},{"$f":"+'Selec. Maestro Ingredientes'!X17","v":0},{"$f":"+'Selec. Maestro Ingredientes'!Y17","v":0},{"$f":"+'Selec. Maestro Ingredientes'!L17","v":0},null,0,0,0,0,0,0,0]
[null,{"$f":"+'Selec. Maestro Ingredientes'!C18","v":""},{"$f":"+'Selec. Maestro Ingredientes'!I18","v":0},{"$f":"+'Easy feed'!N33","v":0},0,null,null,null,{"$f":"+'Selec. Maestro Ingredientes'!G18","v":0},0,null,{"$f":"+'Selec. Maestro Ingredientes'!S18","v":0},0,null,{"$f":"+'Selec. Maestro Ingredientes'!R18","v":0},0,null,null,{"$f":"+'Selec. Maestro Ingredientes'!U18","v":0},{"$f":"+'Selec. Maestro Ingredientes'!V18","v":0},{"$f":"+'Selec. Maestro Ingredientes'!W18","v":0},{"$f":"+'Selec. Maestro Ingredientes'!X18","v":0},{"$f":"+'Selec. Maestro Ingredientes'!Y18","v":0},{"$f":"+'Selec. Maestro Ingredientes'!Z18","v":0},{"$f":"+'Selec. Maestro Ingredientes'!AA18","v":0},null,0,0,0,0,0,null,null,null,{"$f":"+'Selec. Maestro Ingredientes'!AB18","v":0},{"$f":"+'Selec. Maestro Ingredientes'!AC18","v":0},{"$f":"+'Selec. Maestro Ingredientes'!AD18","v":0},{"$f":"+'Selec. Maestro Ingredientes'!AE18","v":0},{"$f":"+'Selec. Maestro Ingredientes'!AF18","v":0},{"$f":"+'Selec. Maestro Ingredientes'!AG18","v":0},{"$f":"+'Selec. Maestro Ingredientes'!AH18","v":0},{"$f":"+'Selec. Maestro Ingredientes'!AI18","v":0},{"$f":"+'Selec. Maestro Ingredientes'!AJ18","v":0},{"$f":"+'Selec. Maestro Ingredientes'!AK18","v":0},null,0,0,0,0,0,0,0,0,0,0,null,null,{"$f":"+'Selec. Maestro Ingredientes'!K18","v":0},{"$f":"+'Selec. Maestro Ingredientes'!V18","v":0},{"$f":"+'Selec. Maestro Ingredientes'!U18","v":0},{"$f":"+'Selec. Maestro Ingredientes'!W18","v":0},{"$f":"+'Selec. Maestro Ingredientes'!X18","v":0},{"$f":"+'Selec. Maestro Ingredientes'!Y18","v":0},{"$f":"+'Selec. Maestro Ingredientes'!L18","v":0},null,0,0,0,0,0,0,0]
[null,{"$f":"+'Selec. Maestro Ingredientes'!C19","v":""},{"$f":"+'Selec. Maestro Ingredientes'!I19","v":0},{"$f":"+'Easy feed'!N34","v":0},0,null,null,null,{"$f":"+'Selec. Maestro Ingredientes'!G19","v":0},0,null,{"$f":"+'Selec. Maestro Ingredientes'!S19","v":0},0,null,{"$f":"+'Selec. Maestro Ingredientes'!R19","v":0},0,null,null,{"$f":"+'Selec. Maestro Ingredientes'!U19","v":0},{"$f":"+'Selec. Maestro Ingredientes'!V19","v":0},{"$f":"+'Selec. Maestro Ingredientes'!W19","v":0},{"$f":"+'Selec. Maestro Ingredientes'!X19","v":0},{"$f":"+'Selec. Maestro Ingredientes'!Y19","v":0},{"$f":"+'Selec. Maestro Ingredientes'!Z19","v":0},{"$f":"+'Selec. Maestro Ingredientes'!AA19","v":0},null,0,0,0,0,0,null,null,null,{"$f":"+'Selec. Maestro Ingredientes'!AB19","v":0},{"$f":"+'Selec. Maestro Ingredientes'!AC19","v":0},{"$f":"+'Selec. Maestro Ingredientes'!AD19","v":0},{"$f":"+'Selec. Maestro Ingredientes'!AE19","v":0},{"$f":"+'Selec. Maestro Ingredientes'!AF19","v":0},{"$f":"+'Selec. Maestro Ingredientes'!AG19","v":0},{"$f":"+'Selec. Maestro Ingredientes'!AH19","v":0},{"$f":"+'Selec. Maestro Ingredientes'!AI19","v":0},{"$f":"+'Selec. Maestro Ingredientes'!AJ19","v":0},{"$f":"+'Selec. Maestro Ingredientes'!AK19","v":0},null,0,0,0,0,0,0,0,0,0,0,null,null,{"$f":"+'Selec. Maestro Ingredientes'!K19","v":0},{"$f":"+'Selec. Maestro Ingredientes'!V19","v":0},{"$f":"+'Selec. Maestro Ingredientes'!U19","v":0},{"$f":"+'Selec. Maestro Ingredientes'!W19","v":0},{"$f":"+'Selec. Maestro Ingredientes'!X19","v":0},{"$f":"+'Selec. Maestro Ingredientes'!Y19","v":0},{"$f":"+'Selec. Maestro Ingredientes'!L19","v":0},null,0,0,0,0,0,0,0]
[null,{"$f":"+'Selec. Maestro Ingredientes'!C20","v":""},{"$f":"+'Selec. Maestro Ingredientes'!I20","v":0},{"$f":"+'Easy feed'!N35","v":0},0,null,null,null,{"$f":"+'Selec. Maestro Ingredientes'!G20","v":0},0,null,{"$f":"+'Selec. Maestro Ingredientes'!S20","v":0},0,null,{"$f":"+'Selec. Maestro Ingredientes'!R20","v":0},0,null,null,{"$f":"+'Selec. Maestro Ingredientes'!U20","v":0},{"$f":"+'Selec. Maestro Ingredientes'!V20","v":0},{"$f":"+'Selec. Maestro Ingredientes'!W20","v":0},{"$f":"+'Selec. Maestro Ingredientes'!X20","v":0},{"$f":"+'Selec. Maestro Ingredientes'!Y20","v":0},{"$f":"+'Selec. Maestro Ingredientes'!Z20","v":0},{"$f":"+'Selec. Maestro Ingredientes'!AA20","v":0},null,0,0,0,0,0,null,null,null,{"$f":"+'Selec. Maestro Ingredientes'!AB20","v":0},{"$f":"+'Selec. Maestro Ingredientes'!AC20","v":0},{"$f":"+'Selec. Maestro Ingredientes'!AD20","v":0},{"$f":"+'Selec. Maestro Ingredientes'!AE20","v":0},{"$f":"+'Selec. Maestro Ingredientes'!AF20","v":0},{"$f":"+'Selec. Maestro Ingredientes'!AG20","v":0},{"$f":"+'Selec. Maestro Ingredientes'!AH20","v":0},{"$f":"+'Selec. Maestro Ingredientes'!AI20","v":0},{"$f":"+'Selec. Maestro Ingredientes'!AJ20","v":0},{"$f":"+'Selec. Maestro Ingredientes'!AK20","v":0},null,0,0,0,0,0,0,0,0,0,0,null,null,{"$f":"+'Selec. Maestro Ingredientes'!K20","v":0},{"$f":"+'Selec. Maestro Ingredientes'!V20","v":0},{"$f":"+'Selec. Maestro Ingredientes'!U20","v":0},{"$f":"+'Selec. Maestro Ingredientes'!W20","v":0},{"$f":"+'Selec. Maestro Ingredientes'!X20","v":0},{"$f":"+'Selec. Maestro Ingredientes'!Y20","v":0},{"$f":"+'Selec. Maestro Ingredientes'!L20","v":0},null,0,0,0,0,0,0,0]
[null,{"$f":"+'Selec. Maestro Ingredientes'!C21","v":""},{"$f":"+'Selec. Maestro Ingredientes'!I21","v":0},{"$f":"+'Easy feed'!N36","v":0},0,null,null,null,{"$f":"+'Selec. Maestro Ingredientes'!G21","v":0},0,null,{"$f":"+'Selec. Maestro Ingredientes'!S21","v":0},0,null,{"$f":"+'Selec. Maestro Ingredientes'!R21","v":0},0,null,null,{"$f":"+'Selec. Maestro Ingredientes'!U21","v":0},{"$f":"+'Selec. Maestro Ingredientes'!V21","v":0},{"$f":"+'Selec. Maestro Ingredientes'!W21","v":0},{"$f":"+'Selec. Maestro Ingredientes'!X21","v":0},{"$f":"+'Selec. Maestro Ingredientes'!Y21","v":0},{"$f":"+'Selec. Maestro Ingredientes'!Z21","v":0},{"$f":"+'Selec. Maestro Ingredientes'!AA21","v":0},null,0,0,0,0,0,null,null,null,{"$f":"+'Selec. Maestro Ingredientes'!AB21","v":0},{"$f":"+'Selec. Maestro Ingredientes'!AC21","v":0},{"$f":"+'Selec. Maestro Ingredientes'!AD21","v":0},{"$f":"+'Selec. Maestro Ingredientes'!AE21","v":0},{"$f":"+'Selec. Maestro Ingredientes'!AF21","v":0},{"$f":"+'Selec. Maestro Ingredientes'!AG21","v":0},{"$f":"+'Selec. Maestro Ingredientes'!AH21","v":0},{"$f":"+'Selec. Maestro Ingredientes'!AI21","v":0},{"$f":"+'Selec. Maestro Ingredientes'!AJ21","v":0},{"$f":"+'Selec. Maestro Ingredientes'!AK21","v":0},null,0,0,0,0,0,0,0,0,0,0,null,null,{"$f":"+'Selec. Maestro Ingredientes'!K21","v":0},{"$f":"+'Selec. Maestro Ingredientes'!V21","v":0},{"$f":"+'Selec. Maestro Ingredientes'!U21","v":0},{"$f":"+'Selec. Maestro Ingredientes'!W21","v":0},{"$f":"+'Selec. Maestro Ingredientes'!X21","v":0},{"$f":"+'Selec. Maestro Ingredientes'!Y21","v":0},{"$f":"+'Selec. Maestro Ingredientes'!L21","v":0},null,0,0,0,0,0,0,0]
[null,{"$f":"+'Selec. Maestro Ingredientes'!C22","v":""},{"$f":"+'Selec. Maestro Ingredientes'!I22","v":0},{"$f":"+'Easy feed'!N37","v":0},0,{"$f":"+SUM(E4:E23)","v":2.0374577007487735},null,null,{"$f":"+'Selec. Maestro Ingredientes'!G22","v":0},0,null,{"$f":"+'Selec. Maestro Ingredientes'!S22","v":0},0,null,{"$f":"+'Selec. Maestro Ingredientes'!R22","v":0},0,null,null,{"$f":"+'Selec. Maestro Ingredientes'!U22","v":0},{"$f":"+'Selec. Maestro Ingredientes'!V22","v":0},{"$f":"+'Selec. Maestro Ingredientes'!W22","v":0},{"$f":"+'Selec. Maestro Ingredientes'!X22","v":0},{"$f":"+'Selec. Maestro Ingredientes'!Y22","v":0},{"$f":"+'Selec. Maestro Ingredientes'!Z22","v":0},{"$f":"+'Selec. Maestro Ingredientes'!AA22","v":0},null,0,0,0,0,0,null,null,null,{"$f":"+'Selec. Maestro Ingredientes'!AB22","v":0},{"$f":"+'Selec. Maestro Ingredientes'!AC22","v":0},{"$f":"+'Selec. Maestro Ingredientes'!AD22","v":0},{"$f":"+'Selec. Maestro Ingredientes'!AE22","v":0},{"$f":"+'Selec. Maestro Ingredientes'!AF22","v":0},{"$f":"+'Selec. Maestro Ingredientes'!AG22","v":0},{"$f":"+'Selec. Maestro Ingredientes'!AH22","v":0},{"$f":"+'Selec. Maestro Ingredientes'!AI22","v":0},{"$f":"+'Selec. Maestro Ingredientes'!AJ22","v":0},{"$f":"+'Selec. Maestro Ingredientes'!AK22","v":0},null,0,0,0,0,0,0,0,0,0,0,null,null,{"$f":"+'Selec. Maestro Ingredientes'!K22","v":0},{"$f":"+'Selec. Maestro Ingredientes'!V22","v":0},{"$f":"+'Selec. Maestro Ingredientes'!U22","v":0},{"$f":"+'Selec. Maestro Ingredientes'!W22","v":0},{"$f":"+'Selec. Maestro Ingredientes'!X22","v":0},{"$f":"+'Selec. Maestro Ingredientes'!Y22","v":0},{"$f":"+'Selec. Maestro Ingredientes'!L22","v":0},null,0,0,0,0,0,0,0]
[null,{"$f":"+'Selec. Maestro Ingredientes'!C23","v":"Chala con choclo"},{"$f":"+'Selec. Maestro Ingredientes'!I23","v":0.52},{"$f":"+'Easy feed'!N38","v":10.631912798983793},5.5285946554715721,null,null,null,{"$f":"+'Selec. Maestro Ingredientes'!G23","v":9.7000000000000017E-2},1.031295541501428,null,{"$f":"+'Selec. Maestro Ingredientes'!S23","v":0.7},7.4423389592886542,null,{"$f":"+'Selec. Maestro Ingredientes'!R23","v":0.36},3.8274886076341654,null,null,{"$f":"+'Selec. Maestro Ingredientes'!U23","v":1E-4},{"$f":"+'Selec. Maestro Ingredientes'!V23","v":1.9E-3},{"$f":"+'Selec. Maestro Ingredientes'!W23","v":1.6E-2},{"$f":"+'Selec. Maestro Ingredientes'!X23","v":3.0000000000000001E-3},{"$f":"+'Selec. Maestro Ingredientes'!Y23","v":1.1000000000000001E-3},{"$f":"+'Selec. Maestro Ingredientes'!Z23","v":0},{"$f":"+'Selec. Maestro Ingredientes'!AA23","v":0.6},null,1.0631912798983792E-3,2.0200634318069205E-2,0.17011060478374068,3.1895738396951381E-2,1.1695104078882173E-2,null,null,null,{"$f":"+'Selec. Maestro Ingredientes'!AB23","v":0},{"$f":"+'Selec. Maestro Ingredientes'!AC23","v":0},{"$f":"+'Selec. Maestro Ingredientes'!AD23","v":0},{"$f":"+'Selec. Maestro Ingredientes'!AE23","v":0},{"$f":"+'Selec. Maestro Ingredientes'!AF23","v":0},{"$f":"+'Selec. Maestro Ingredientes'!AG23","v":0},{"$f":"+'Selec. Maestro Ingredientes'!AH23","v":0},{"$f":"+'Selec. Maestro Ingredientes'!AI23","v":0},{"$f":"+'Selec. Maestro Ingredientes'!AJ23","v":0},{"$f":"+'Selec. Maestro Ingredientes'!AK23","v":0},null,0,0,0,0,0,0,0,0,0,0,null,null,{"$f":"+'Selec. Maestro Ingredientes'!K23","v":2.5000000000000001E-3},{"$f":"+'Selec. Maestro Ingredientes'!V23","v":1.9E-3},{"$f":"+'Selec. Maestro Ingredientes'!U23","v":1E-4},{"$f":"+'Selec. Maestro Ingredientes'!W23","v":1.6E-2},{"$f":"+'Selec. Maestro Ingredientes'!X23","v":3.0000000000000001E-3},{"$f":"+'Selec. Maestro Ingredientes'!Y23","v":1.1000000000000001E-3},{"$f":"+'Selec. Maestro Ingredientes'!L23","v":2.3E-3},null,2.6579781997459483E-2,2.0200634318069205E-2,1.0631912798983792E-3,0.17011060478374068,3.1895738396951381E-2,1.1695104078882173E-2,2.4453399437662723E-2]
[null,{"$f":"+'Selec. Maestro Ingredientes'!C24","v":"Vacio"},{"$f":"+'Selec. Maestro Ingredientes'!I24","v":0},{"$f":"+'Easy feed'!N39","v":0},0,null,null,null,{"$f":"+'Selec. Maestro Ingredientes'!G24","v":0},0,null,{"$f":"+'Selec. Maestro Ingredientes'!S24","v":0},0,null,{"$f":"+'Selec. Maestro Ingredientes'!R24","v":0},0,null,null,{"$f":"+'Selec. Maestro Ingredientes'!U24","v":0},{"$f":"+'Selec. Maestro Ingredientes'!V24","v":0},{"$f":"+'Selec. Maestro Ingredientes'!W24","v":0},{"$f":"+'Selec. Maestro Ingredientes'!X24","v":0},{"$f":"+'Selec. Maestro Ingredientes'!Y24","v":0},{"$f":"+'Selec. Maestro Ingredientes'!Z24","v":0},{"$f":"+'Selec. Maestro Ingredientes'!AA24","v":0},null,0,0,0,0,0,null,null,null,{"$f":"+'Selec. Maestro Ingredientes'!AB24","v":0},{"$f":"+'Selec. Maestro Ingredientes'!AC24","v":0},{"$f":"+'Selec. Maestro Ingredientes'!AD24","v":0},{"$f":"+'Selec. Maestro Ingredientes'!AE24","v":0},{"$f":"+'Selec. Maestro Ingredientes'!AF24","v":0},{"$f":"+'Selec. Maestro Ingredientes'!AG24","v":0},{"$f":"+'Selec. Maestro Ingredientes'!AH24","v":0},{"$f":"+'Selec. Maestro Ingredientes'!AI24","v":0},{"$f":"+'Selec. Maestro Ingredientes'!AJ24","v":0},{"$f":"+'Selec. Maestro Ingredientes'!AK24","v":0},null,0,0,0,0,0,0,0,0,0,0,null,null,{"$f":"+'Selec. Maestro Ingredientes'!K24","v":0},{"$f":"+'Selec. Maestro Ingredientes'!V24","v":0},{"$f":"+'Selec. Maestro Ingredientes'!U24","v":0},{"$f":"+'Selec. Maestro Ingredientes'!W24","v":0},{"$f":"+'Selec. Maestro Ingredientes'!X24","v":0},{"$f":"+'Selec. Maestro Ingredientes'!Y24","v":0},{"$f":"+'Selec. Maestro Ingredientes'!L24","v":0},null,0,0,0,0,0,0,0]
[null,{"$f":"+'Selec. Maestro Ingredientes'!C25","v":"Vacio"},{"$f":"+'Selec. Maestro Ingredientes'!I25","v":0},{"$f":"+'Easy feed'!N40","v":0},0,null,null,null,{"$f":"+'Selec. Maestro Ingredientes'!G25","v":0},0,null,{"$f":"+'Selec. Maestro Ingredientes'!S25","v":0},0,null,{"$f":"+'Selec. Maestro Ingredientes'!R25","v":0},0,null,null,{"$f":"+'Selec. Maestro Ingredientes'!U25","v":0},{"$f":"+'Selec. Maestro Ingredientes'!V25","v":0},{"$f":"+'Selec. Maestro Ingredientes'!W25","v":0},{"$f":"+'Selec. Maestro Ingredientes'!X25","v":0},{"$f":"+'Selec. Maestro Ingredientes'!Y25","v":0},{"$f":"+'Selec. Maestro Ingredientes'!Z25","v":0},{"$f":"+'Selec. Maestro Ingredientes'!AA25","v":0},null,0,0,0,0,0,null,null,null,{"$f":"+'Selec. Maestro Ingredientes'!AB25","v":0},{"$f":"+'Selec. Maestro Ingredientes'!AC25","v":0},{"$f":"+'Selec. Maestro Ingredientes'!AD25","v":0},{"$f":"+'Selec. Maestro Ingredientes'!AE25","v":0},{"$f":"+'Selec. Maestro Ingredientes'!AF25","v":0},{"$f":"+'Selec. Maestro Ingredientes'!AG25","v":0},{"$f":"+'Selec. Maestro Ingredientes'!AH25","v":0},{"$f":"+'Selec. Maestro Ingredientes'!AI25","v":0},{"$f":"+'Selec. Maestro Ingredientes'!AJ25","v":0},{"$f":"+'Selec. Maestro Ingredientes'!AK25","v":0},null,0,0,0,0,0,0,0,0,0,0,null,null,{"$f":"+'Selec. Maestro Ingredientes'!K25","v":0},{"$f":"+'Selec. Maestro Ingredientes'!V25","v":0},{"$f":"+'Selec. Maestro Ingredientes'!U25","v":0},{"$f":"+'Selec. Maestro Ingredientes'!W25","v":0},{"$f":"+'Selec. Maestro Ingredientes'!X25","v":0},{"$f":"+'Selec. Maestro Ingredientes'!Y25","v":0},{"$f":"+'Selec. Maestro Ingredientes'!L25","v":0},null,0,0,0,0,0,0,0]
[null,{"$f":"+'Selec. Maestro Ingredientes'!C26","v":"Vacio"},{"$f":"+'Selec. Maestro Ingredientes'!I26","v":0},{"$f":"+'Easy feed'!N41","v":0},0,null,"FDN FORR.",{"$f":"+(F31/'Easy feed'!N46)*100","v":26.326641216531289},{"$f":"+'Selec. Maestro Ingredientes'!G26","v":0},0,null,{"$f":"+'Selec. Maestro Ingredientes'!S26","v":0},0,null,{"$f":"+'Selec. Maestro Ingredientes'!R26","v":0},0,null,null,{"$f":"+'Selec. Maestro Ingredientes'!U26","v":0},{"$f":"+'Selec. Maestro Ingredientes'!V26","v":0},{"$f":"+'Selec. Maestro Ingredientes'!W26","v":0},{"$f":"+'Selec. Maestro Ingredientes'!X26","v":0},{"$f":"+'Selec. Maestro Ingredientes'!Y26","v":0},{"$f":"+'Selec. Maestro Ingredientes'!Z26","v":0},{"$f":"+'Selec. Maestro Ingredientes'!AA26","v":0},null,0,0,0,0,0,null,null,null,{"$f":"+'Selec. Maestro Ingredientes'!AB26","v":0},{"$f":"+'Selec. Maestro Ingredientes'!AC26","v":0},{"$f":"+'Selec. Maestro Ingredientes'!AD26","v":0},{"$f":"+'Selec. Maestro Ingredientes'!AE26","v":0},{"$f":"+'Selec. Maestro Ingredientes'!AF26","v":0},{"$f":"+'Selec. Maestro Ingredientes'!AG26","v":0},{"$f":"+'Selec. Maestro Ingredientes'!AH26","v":0},{"$f":"+'Selec. Maestro Ingredientes'!AI26","v":0},{"$f":"+'Selec. Maestro Ingredientes'!AJ26","v":0},{"$f":"+'Selec. Maestro Ingredientes'!AK26","v":0},null,0,0,0,0,0,0,0,0,0,0,null,null,{"$f":"+'Selec. Maestro Ingredientes'!K26","v":0},{"$f":"+'Selec. Maestro Ingredientes'!V26","v":0},{"$f":"+'Selec. Maestro Ingredientes'!U26","v":0},{"$f":"+'Selec. Maestro Ingredientes'!W26","v":0},{"$f":"+'Selec. Maestro Ingredientes'!X26","v":0},{"$f":"+'Selec. Maestro Ingredientes'!Y26","v":0},{"$f":"+'Selec. Maestro Ingredientes'!L26","v":0},null,0,0,0,0,0,0,0]
[null,{"$f":"+'Selec. Maestro Ingredientes'!C27","v":"Vacio"},{"$f":"+'Selec. Maestro Ingredientes'!I27","v":0},{"$f":"+'Easy feed'!N42","v":0},0,null,null,null,{"$f":"+'Selec. Maestro Ingredientes'!G27","v":0},0,null,{"$f":"+'Selec. Maestro Ingredientes'!S27","v":0},0,null,{"$f":"+'Selec. Maestro Ingredientes'!R27","v":0},0,null,null,{"$f":"+'Selec. Maestro Ingredientes'!U27","v":0},{"$f":"+'Selec. Maestro Ingredientes'!V27","v":0},{"$f":"+'Selec. Maestro Ingredientes'!W27","v":0},{"$f":"+'Selec. Maestro Ingredientes'!X27","v":0},{"$f":"+'Selec. Maestro Ingredientes'!Y27","v":0},{"$f":"+'Selec. Maestro Ingredientes'!Z27","v":0},{"$f":"+'Selec. Maestro Ingredientes'!AA27","v":0},null,0,0,0,0,0,null,null,null,{"$f":"+'Selec. Maestro Ingredientes'!AB27","v":0},{"$f":"+'Selec. Maestro Ingredientes'!AC27","v":0},{"$f":"+'Selec. Maestro Ingredientes'!AD27","v":0},{"$f":"+'Selec. Maestro Ingredientes'!AE27","v":0},{"$f":"+'Selec. Maestro Ingredientes'!AF27","v":0},{"$f":"+'Selec. Maestro Ingredientes'!AG27","v":0},{"$f":"+'Selec. Maestro Ingredientes'!AH27","v":0},{"$f":"+'Selec. Maestro Ingredientes'!AI27","v":0},{"$f":"+'Selec. Maestro Ingredientes'!AJ27","v":0},{"$f":"+'Selec. Maestro Ingredientes'!AK27","v":0},null,0,0,0,0,0,0,0,0,0,0,null,null,{"$f":"+'Selec. Maestro Ingredientes'!K27","v":0},{"$f":"+'Selec. Maestro Ingredientes'!V27","v":0},{"$f":"+'Selec. Maestro Ingredientes'!U27","v":0},{"$f":"+'Selec. Maestro Ingredientes'!W27","v":0},{"$f":"+'Selec. Maestro Ingredientes'!X27","v":0},{"$f":"+'Selec. Maestro Ingredientes'!Y27","v":0},{"$f":"+'Selec. Maestro Ingredientes'!L27","v":0},null,0,0,0,0,0,0,0]
[null,{"$f":"+'Selec. Maestro Ingredientes'!C28","v":"Vacio"},{"$f":"+'Selec. Maestro Ingredientes'!I28","v":0},{"$f":"+'Easy feed'!N43","v":0},0,null,null,null,{"$f":"+'Selec. Maestro Ingredientes'!G28","v":0},0,null,{"$f":"+'Selec. Maestro Ingredientes'!S28","v":0},0,null,{"$f":"+'Selec. Maestro Ingredientes'!R28","v":0},0,null,null,{"$f":"+'Selec. Maestro Ingredientes'!U28","v":0},{"$f":"+'Selec. Maestro Ingredientes'!V28","v":0},{"$f":"+'Selec. Maestro Ingredientes'!W28","v":0},{"$f":"+'Selec. Maestro Ingredientes'!X28","v":0},{"$f":"+'Selec. Maestro Ingredientes'!Y28","v":0},{"$f":"+'Selec. Maestro Ingredientes'!Z28","v":0},{"$f":"+'Selec. Maestro Ingredientes'!AA28","v":0},null,0,0,0,0,0,null,null,null,{"$f":"+'Selec. Maestro Ingredientes'!AB28","v":0},{"$f":"+'Selec. Maestro Ingredientes'!AC28","v":0},{"$f":"+'Selec. Maestro Ingredientes'!AD28","v":0},{"$f":"+'Selec. Maestro Ingredientes'!AE28","v":0},{"$f":"+'Selec. Maestro Ingredientes'!AF28","v":0},{"$f":"+'Selec. Maestro Ingredientes'!AG28","v":0},{"$f":"+'Selec. Maestro Ingredientes'!AH28","v":0},{"$f":"+'Selec. Maestro Ingredientes'!AI28","v":0},{"$f":"+'Selec. Maestro Ingredientes'!AJ28","v":0},{"$f":"+'Selec. Maestro Ingredientes'!AK28","v":0},null,0,0,0,0,0,0,0,0,0,0,null,null,{"$f":"+'Selec. Maestro Ingredientes'!K28","v":0},{"$f":"+'Selec. Maestro Ingredientes'!V28","v":0},{"$f":"+'Selec. Maestro Ingredientes'!U28","v":0},{"$f":"+'Selec. Maestro Ingredientes'!W28","v":0},{"$f":"+'Selec. Maestro Ingredientes'!X28","v":0},{"$f":"+'Selec. Maestro Ingredientes'!Y28","v":0},{"$f":"+'Selec. Maestro Ingredientes'!L28","v":0},null,0,0,0,0,0,0,0]
[null,{"$f":"+'Selec. Maestro Ingredientes'!C29","v":"Vacio"},{"$f":"+'Selec. Maestro Ingredientes'!I29","v":0},{"$f":"+'Easy feed'!N44","v":0},0,null,null,null,{"$f":"+'Selec. Maestro Ingredientes'!G29","v":0},0,null,{"$f":"+'Selec. Maestro Ingredientes'!S29","v":0},0,null,{"$f":"+'Selec. Maestro Ingredientes'!R29","v":0},0,null,null,{"$f":"+'Selec. Maestro Ingredientes'!U29","v":0},{"$f":"+'Selec. Maestro Ingredientes'!V29","v":0},{"$f":"+'Selec. Maestro Ingredientes'!W29","v":0},{"$f":"+'Selec. Maestro Ingredientes'!X29","v":0},{"$f":"+'Selec. Maestro Ingredientes'!Y29","v":0},{"$f":"+'Selec. Maestro Ingredientes'!Z29","v":0},{"$f":"+'Selec. Maestro Ingredientes'!AA29","v":0},null,0,0,0,0,0,null,null,null,{"$f":"+'Selec. Maestro Ingredientes'!AB29","v":0},{"$f":"+'Selec. Maestro Ingredientes'!AC29","v":0},{"$f":"+'Selec. Maestro Ingredientes'!AD29","v":0},{"$f":"+'Selec. Maestro Ingredientes'!AE29","v":0},{"$f":"+'Selec. Maestro Ingredientes'!AF29","v":0},{"$f":"+'Selec. Maestro Ingredientes'!AG29","v":0},{"$f":"+'Selec. Maestro Ingredientes'!AH29","v":0},{"$f":"+'Selec. Maestro Ingredientes'!AI29","v":0},{"$f":"+'Selec. Maestro Ingredientes'!AJ29","v":0},{"$f":"+'Selec. Maestro Ingredientes'!AK29","v":0},null,0,0,0,0,0,0,0,0,0,0,null,null,{"$f":"+'Selec. Maestro Ingredientes'!K29","v":0},{"$f":"+'Selec. Maestro Ingredientes'!V29","v":0},{"$f":"+'Selec. Maestro Ingredientes'!U29","v":0},{"$f":"+'Selec. Maestro Ingredientes'!W29","v":0},{"$f":"+'Selec. Maestro Ingredientes'!X29","v":0},{"$f":"+'Selec. Maestro Ingredientes'!Y29","v":0},{"$f":"+'Selec. Maestro Ingredientes'!L29","v":0},null,0,0,0,0,0,0,0]
[null,{"$f":"+'Selec. Maestro Ingredientes'!C30","v":"Vacio"},{"$f":"+'Selec. Maestro Ingredientes'!I30","v":0},{"$f":"+'Easy feed'!N45","v":0},0,{"$f":"+SUM(E24:E31)","v":5.5285946554715721},null,null,{"$f":"+'Selec. Maestro Ingredientes'!G30","v":0},0,"% DE PROT",{"$f":"+'Selec. Maestro Ingredientes'!S30","v":0},0,"% de PDR",{"$f":"+'Selec. Maestro Ingredientes'!R30","v":0},0,"% DE CNF",null,{"$f":"+'Selec. Maestro Ingredientes'!U30","v":0},{"$f":"+'Selec. Maestro Ingredientes'!V30","v":0},{"$f":"+'Selec. Maestro Ingredientes'!W30","v":0},{"$f":"+'Selec. Maestro Ingredientes'!X30","v":0},{"$f":"+'Selec. Maestro Ingredientes'!Y30","v":0},{"$f":"+'Selec. Maestro Ingredientes'!Z30","v":0},{"$f":"+'Selec. Maestro Ingredientes'!AA30","v":0},null,0,0,0,0,0,null,null,null,{"$f":"+'Selec. Maestro Ingredientes'!AB30","v":0},{"$f":"+'Selec. Maestro Ingredientes'!AC30","v":0},{"$f":"+'Selec. Maestro Ingredientes'!AD30","v":0},{"$f":"+'Selec. Maestro Ingredientes'!AE30","v":0},{"$f":"+'Selec. Maestro Ingredientes'!AF30","v":0},{"$f":"+'Selec. Maestro Ingredientes'!AG30","v":0},{"$f":"+'Selec. Maestro Ingredientes'!AH30","v":0},{"$f":"+'Selec. Maestro Ingredientes'!AI30","v":0},{"$f":"+'Selec. Maestro Ingredientes'!AJ30","v":0},{"$f":"+'Selec. Maestro Ingredientes'!AK30","v":0},null,0,0,0,0,0,0,0,0,0,0,null,null,{"$f":"+'Selec. Maestro Ingredientes'!K30","v":0},{"$f":"+'Selec. Maestro Ingredientes'!V30","v":0},{"$f":"+'Selec. Maestro Ingredientes'!U30","v":0},{"$f":"+'Selec. Maestro Ingredientes'!W30","v":0},{"$f":"+'Selec. Maestro Ingredientes'!X30","v":0},{"$f":"+'Selec. Maestro Ingredientes'!Y30","v":0},{"$f":"+'Selec. Maestro Ingredientes'!L30","v":0},null,0,0,0,0,0,0,0]
[null,null,null,null,{"$f":"SUM(E4:E31)","v":7.5660523562203457},{"$f":"+E32*100/'Easy feed'!N46","v":36.028820743906394},null,null,null,{"$f":"SUM(J4:J31)","v":3.4650000000000158},{"$f":"+J32*100/'Easy feed'!N46","v":16.500000000000071},null,{"$f":"+SUM(M4:M31)","v":12.911462713411108},{"$f":"+M32*100/'Easy feed'!N46","v":61.483155778148117},null,{"$f":"SUM(P4:P31)","v":8.361075820148784},{"$f":"+P32*100/'Easy feed'!N46","v":39.814646762613243},null,null,null,null,null,null,null,null,null,{"$f":"+SUM(AA4:AA31)","v":3.0145053510275844E-3},{"$f":"+SUM(AB4:AB31)","v":4.6150190544335876E-2},0.27086250304489157,3.6298667957356943E-2,3.4384288956753245E-2,null,null,null,null,null,null,null,null,null,null,null,null,null,null,{"$f":"+SUM(AT4:AT31)","v":0},{"$f":"+SUM(AU4:AU31)","v":0},0,0,0,0,0,0,0,0,null,null,null,null,null,null,null,null,null,null,{"$f":"SUM(BN4:BN31)","v":0.17009999999999842},{"$f":"SUM(BO4:BO31)","v":4.6150190544335876E-2},3.0145053510275844E-3,0.27086250304489157,3.6298667957356943E-2,3.4384288956753245E-2,9.660000000000056E-2]
[null,null,null,null,null,null,null,null,null,null,null,null,null,null,null,null,null,null,null,null,null,null,null,null,null,null,{"$f":"+AA32*100/'Easy feed'!$N$46","v":1.4354787385845634E-2},{"$f":"+AB32*100/'Easy feed'!$N$46","v":0.21976281211588505},{"$f":"+AC32*100/'Easy feed'!$N$46","v":1.2898214430709116},{"$f":"+AD32*100/'Easy feed'!$N$46","v":0.17285079979693777},{"$f":"+AE32*100/'Easy feed'!$N$46","v":0.16373470931787254},null,null,null,null,null,null,null,null,null,null,null,null,null,null,{"$f":"+AT32/'Easy feed'!$N$46","v":0},{"$f":"+AU32/'Easy feed'!$N$46","v":0},{"$f":"+AV32/'Easy feed'!$N$46","v":0},{"$f":"+AW32/'Easy feed'!$N$46","v":0},{"$f":"+AX32/'Easy feed'!$N$46","v":0},{"$f":"+AY32/'Easy feed'!$N$46","v":0},{"$f":"+AZ32/'Easy feed'!$N$46","v":0},{"$f":"+BA32/'Easy feed'!$N$46*1000","v":0},{"$f":"+BB32/'Easy feed'!$N$46*1000","v":0},{"$f":"+BC32/'Easy feed'!$N$46*1000","v":0},null,null,null,null,null,null,null,null,null,null,{"$f":"+BN32*100/'Easy feed'!$N$46","v":0.80999999999999217},{"$f":"+BO32*100/'Easy feed'!$N$46","v":0.21976281211588505},{"$f":"+BP32*100/'Easy feed'!$N$46","v":1.4354787385845634E-2},{"$f":"+BQ32*100/'Easy feed'!$N$46","v":1.2898214430709116},{"$f":"+BR32*100/'Easy feed'!$N$46","v":0.17285079979693777},{"$f":"+BS32*100/'Easy feed'!$N$46","v":0.16373470931787254},{"$f":"+BT32*100/'Easy feed'!$N$46","v":0.46000000000000246}]
[null,null,null,null,{"$f":"+E32","v":7.5660523562203457},100,null,"PDR de la proteina total",null,null,{"$f":"+N32*K32/100","v":10.144720703394482},"%"]
[null,null,null,null,{"$f":"+F31","v":5.5285946554715721},{"$f":"+E35*F34/E34","v":73.071059981845082},null,null,null,null,null,null,"RELACION"]
[null,null,null,null,null,null,null,null,null,null,null,null,"CNF-PDR",{"$f":"+Q32/K34","v":3.9246666248082152}]

{"sheet":"Easy feed","index":7,"n_rows":50,"n_cols":65,"rows_kept":50,"cut":false,"hidden":false,"merged":[[15,41,15,42],[16,39,16,40],[1,13,1,15],[13,60,13,63],[13,3,13,5],[14,3,14,5],[13,55,13,59],[23,0,23,1],[27,0,27,1],[30,0,30,1],[34,0,34,1],[0,3,0,9],[1,3,1,5],[11,3,11,5],[12,3,12,5],[17,0,17,1]]}
[null,null,null,"DATOS BASICOS DEL HATO",null,null,null,null,null,null,null,null,null,"SOLES/ANIM",null,{"$f":"+Q18*M18+Q19*M19+Q20*M20+Q21*M21+Q22*M22+Q23*M23+Q24*M24+Q25*M25+Q26*M26+Q27*M27+Q28*M28+Q29*M29+Q30*M30+Q31*M31+Q32*M32+Q33*M33+Q34*M34+Q35*M35+Q36*M36+Q37*M37+Q38*M38+Q39*M39+Q40*M40+Q41*M41+Q42*M42+Q43*M43+Q44*M44+Q45*M45","v":17.69211170533017},null,{"$f":"+R17","v":"MS"},{"$f":"+S17","v":"Prot."},"EN(lact)","FC","FDN","E.E","P","Ca","CNF","Sodio","FDA","PDR"]
[null,null,null,"Producción/Dia",null,null,25,null,null,null,null,null,null,"COSTO x KILO",null,null,"MAXIMO ",{"$f":"+G15","v":21},null,null,null,null,5]
[null,null,null,null,null,null,null,null,null,null,null,null,null,null,null,null,"JALE 1",{"$f":"+R2","v":21},{"$f":"+S2*$G$15/100","v":0},{"$f":"+T2*G15","v":0},{"$f":"+U2*$G$15/100","v":0},0,1.05,0,0,0,0,0,0]
[null,null,null,null,null,null,null,null,null,null,null,null,null,null,null,null,"MAX",{"$f":"+R3","v":21},{"$f":"+S3","v":0},{"$f":"+T3","v":0},{"$f":"+U3","v":0},{"$f":"+V3","v":0},1.05,0,0,0,0,0,0]
[null,null,null,null,null,null,null,null,null,null,null,null,{"$f":"+N46*100/M46","v":40.065375284010422},null,null,null,"OPERACIÓN",{"$f":"+IF(ISBLANK(R2),\"100\",(R4))","v":21},{"$f":"+IF(ISBLANK(S2),\"100\",(S4))","v":"100"},{"$f":"+IF(ISBLANK(T2),\"1000\",(T4))","v":"1000"},{"$f":"+IF(ISBLANK(U2),\"100\",(U4))","v":"100"},{"$f":"+IF(ISBLANK(V2),\"100\",(V4))","v":"100"},1.05,"100","100","100","100","100","100"]
[null,null,null,null,null,null,null,null,null,null,null,null,null,null,null,null,"NUMERO",{"$f":"+VALUE(R5)","v":21},{"$f":"+VALUE(S5)","v":100},1000,100,100,1.05,100,100,100,100,100,100]
[null,null,null,null,null,null,null,null,null,null,null,null,null,null,null,null,"MAXIMO KG",{"$f":"+R6","v":21},{"$f":"+S6","v":100},1000,100,100,1.05,100,100,100,100,100,100]
[null,null,null,null,null,null,null,null,null,null,null,null,null,null,null,null,"OBTENIDO EN KG",{"$f":"+R18*$M$18+R19*$M$19+R20*$M$20+R21*$M$21+R22*$M$22+R23*$M$23+R24*$M$24+R25*$M$25+R26*$M$26+R27*$M$27+R28*$M$28+R29*$M$29+R30*$M$30+R31*$M$31+R32*$M$32+R33*$M$33+R34*$M$34+R35*$M$35+R36*$M$36+R37*$M$37+R38*$M$38+R39*$M$39+R40*$M$40+R41*$M$41+R42*$M$42+R43*$M$43+R44*$M$44+R45*$M$45","v":21.000000000000007},{"$f":"+$N$18*S18+$N$19*S19+$N$20*S20+$N$21*S21+$N$22*S22+$N$23*S23+$N$24*S24+$N$25*S25+$N$26*S26+$N$27*S27+$N$28*S28+$N$29*S29+$N$30*S30+$N$31*S31+$N$32*S32+$N$33*S33+$N$34*S34+$N$35*S35+$N$36*S36+$N$37*S37+$N$38*S38+$N$39*S39+$N$40*S40+$N$41*S41+$N$42*S42+$N$43*S43+$N$44*S44+$N$45*S45","v":3.4650000000000158},{"$f":"+$N$18*T18+$N$19*T19+$N$20*T20+$N$21*T21+$N$22*T22+$N$23*T23+$N$24*T24+$N$25*T25+$N$26*T26+$N$27*T27+$N$28*T28+$N$29*T29+$N$30*T30+$N$31*T31+$N$32*T32+$N$33*T33+$N$34*T34+$N$35*T35+$N$36*T36+$N$37*T37+$N$38*T38+$N$39*T39+$N$40*T40+$N$41*T41+$N$42*T42+$N$43*T43+$N$44*T44+$N$45*T45","v":34.65},3.9121515673319291,7.5660523562203457,{"$f":"+$N$18*W18+$N$19*W19+$N$20*W20+$N$21*W21+$N$22*W22+$N$23*W23+$N$24*W24+$N$25*W25+$N$26*W26+$N$27*W27+$N$28*W28+$N$29*W29+$N$30*W30+$N$31*W31+$N$32*W32+$N$33*W33+$N$34*W34+$N$35*W35+$N$36*W36+$N$37*W37+$N$38*W38+$N$39*W39+$N$40*W40+$N$41*W41+$N$42*W42+$N$43*W43+$N$44*W44+$N$45*W45","v":1.049999999999996},9.660000000000056E-2,0.17009999999999842,8.361075820148784,3.0145053510275844E-3,4.2697897125534841,12.911462713411108]
[null,null,null,null,null,null,null,null,null,null,null,null,null,null,null,null,"MINIMO KG",{"$f":"+R10","v":21},3.4649999999999999,34.65,0,6.3,0,9.6600000000000005E-2,0.17010000000000003,0,0,0,0]
[null,null,null,null,null,null,null,null,null,null,null,null,null,null,null,null,"JALE 1",21,3.4649999999999999,34.65,{"$f":"+U11","v":0},6.3,0,9.6600000000000005E-2,0.17010000000000003,0,0,0,0]
[null,null,null,null,null,null,null,null,null,null,null,null,null,null,null,null,null,{"$f":"+R12","v":21},{"$f":"+$G$15*S12/100","v":3.4649999999999999},{"$f":"+T12*G15","v":34.65},{"$f":"+$G$15*U12/100","v":0},6.3,0,9.6600000000000005E-2,0.17010000000000003,0,0,0,0]
["RECUERDA  SOLO SE CAMBIAN ",null,null,"Peso Promedio",null,null,600,null,null,null,null,null,null,"KG FRESCO (S/.)",null,{"$f":"+IF(M46=0,0,P1/M46)","v":0.33754337859080313},"MINIMO ",{"$f":"+G15","v":21},16.5,1.65,null,30,null,0.46,0.81]
["LAS CELDAS DE ESTE COLOR",null,null,"Dias en Leche",null,null,100,null,null,null,null,null,null,"KG SECO (S/.)",null,{"$f":"+IF(N46=0,0,P1/N46)","v":0.84248150977762681},"OBTENIDO ",{"$f":"+N46","v":21.000000000000007},{"$f":"+IF($N$46=0,0,S8*100/$N$46)","v":16.500000000000071},{"$f":"+IF($N$46=0,0,T8/$N$46)","v":1.6499999999999995},18.629293177771086,36.028820743906394,4.9999999999999796,0.46000000000000246,0.80999999999999217,39.814646762613243,1.4354787385845634E-2,20.332331964540394,61.483155778148117,null,null,null,null,null,null,null,null,null,null,null,null,null,null,null,null,null,null,null,null,null,null,null,null,null,"Numero de Animales en Hato",null,6]
[null,null,null,"Materia seca requerida",null,null,{"$f":"+(((0.372*G2)+(0.0968*POWER(G12,0.75)))*(1-((POWER(2.71828,(-0.192*((G13/7)+3.67)))))))","v":20.365704709947654},null,null,null,null,null,null,"KG CONCENT. (S/.)",null,{"$f":"+((M18*Q18)+(M19*Q19)+(M20*Q20)+(M21*Q21)+(M22*Q22)+(M23*Q23)+(M24*Q24)+(M25*Q25)+(M26*Q26)+(M27*Q27)+(M28*Q28)+(M29*Q29)+(M30*Q30)+(M31*Q31)+(M32*Q32)+(M33*Q33)+(M34*Q34)+(M35*Q35)+(M36*Q36)+(M37*Q37))/BD37","v":1.1805664249257146},null,null,null,null,null,null,null,null,null,null,null,null,null,null,null,null,null,null,null,null,null,null,null,null,null,null,null,null,null,null,null,null,null,null,null,null,null,null,null,"CONSUMO PROYECTADO",null,null,null,null," PRESUPUESTO REQUERIDO"]
[null,null,null,"Materia seca Deseada",null,null,21,null,null,null,null,null,null,null,null,null,null,null,null,null,null,null,null,null,null,null,null,null,null,null,null,null,null,null,null,null,null,null,null,null,null,null,null,null,null,null,null,null,null,null,null,null,null,null,"INGREDIENTES",null,null,null,null,15]
[null,null,null,null,null,null,null,null,null,null,"kg","kg",null,null,null,null,null,null,null,null,null,null,null,null,null,null,null,null,null,null,null,null,null,null,null,null,null,null,null,null,null,"Requerimiento",null,null,null,null,null,null,null,null,null,null,null,null,"CONCENTRADO","Kg/Anim.","Kg/Dia","% Rac.","% C - F","kg/dias","Soles/Anim.","Soles/dia","Soles/dias",null,100]
[null,null,null,null,"% M.S.","Minimos","Maximos",null,null,null,"Minimos","Maximos","M. Fresco","M. Seca",null,"INGREDIENTES","PRECIO",{"$f":"TRANSPOSE('Selec.Maestro Nutrientes'!B6:B17)","v":"MS"},"Prot.","EN(lact)","FC","FDN","E.E","P","Ca","CNF","Sodio","FDA","PDR",null,null,null,null,null,null,null,null,"Nutriente",null,"Evaluación",null,"Minimo","Maximo",null,null,null,null,null,null,null,null,null,null,1,{"$f":"+P18","v":"AFRECHO"},{"$f":"+M18","v":3.5},{"$f":"+BD17*$BE$13","v":21},{"$f":"+(BD17*100/$BD$49)","v":6.677562547335067},{"$f":"+(BD17*100/$BD$37)","v":30.375714666504557},{"$f":"+BE17*$BH$15","v":315},{"$f":"+BD17*Q18","v":2.415},{"$f":"+BI17*$BE$13","v":14.49},{"$f":"+BJ17*$BH$15","v":217.35},null,{"$f":"+$BM$16*BG17/100","v":30.375714666504553}]
[null,null,null,null,{"$f":"+(N18*100)/$N$46","v":14.833333333333329},null,3.5,{"$f":"+IF(ISBLANK(G18),\"100\",(G18))","v":3.5},{"$f":"+VALUE(H18)","v":3.5},{"$f":"+I18","v":3.5},{"$f":"+F18","v":0},{"$f":"+J18","v":3.5},3.5,{"$f":"+M18*R18","v":3.1150000000000002},null,{"$f":"+'Selec. Maestro Ingredientes'!C3","v":"AFRECHO"},0.69,{"$f":"TRANSPOSE('Selec.Maestro Nutrientes'!C6:AD6)","v":0.89},{"$f":"TRANSPOSE('Selec.Maestro Nutrientes'!C7:AD7)","v":0.17},{"$f":"TRANSPOSE('Selec.Maestro Nutrientes'!C8:AD8)","v":1.6684999999999999},{"$f":"TRANSPOSE('Selec.Maestro Nutrientes'!C9:AD9)","v":0.12},{"$f":"TRANSPOSE('Selec.Maestro Nutrientes'!C10:AD10)","v":0.37},{"$f":"TRANSPOSE('Selec.Maestro Nutrientes'!C11:AD11)","v":0.04},{"$f":"TRANSPOSE('Selec.Maestro Nutrientes'!C12:AD12)","v":1.0999999999999999E-2},{"$f":"TRANSPOSE('Selec.Maestro Nutrientes'!C13:AD13)","v":1.1999999999999999E-3},{"$f":"TRANSPOSE('Selec.Maestro Nutrientes'!C14:AD14)","v":0.42},{"$f":"TRANSPOSE('Selec.Maestro Nutrientes'!C15:AD15)","v":2.0000000000000001E-4},{"$f":"TRANSPOSE('Selec.Maestro Nutrientes'!C16:AD16)","v":0.155},{"$f":"TRANSPOSE('Selec.Maestro Nutrientes'!C17:AD17)","v":0.7},null,null,null,null,null,null,null,null,{"$f":"+'Selec. Maestro Ingredientes'!U2","v":"Sodio"},{"$f":"+'CALCU - PDR-FDN-CNF'!AA33","v":1.4354787385845634E-2},{"$f":"IF(ISBLANK(AP18),\"\",IF(AM18>AP18,\"\",\"Deficit\"))","v":"Deficit"},{"$f":"IF(ISBLANK(AQ18),\"\",IF(AM18<AQ18,\"\",\"Exceso\"))","v":""},0.16,0.3,null,null,null,null,null,null,null,null,null,null,2,"TORTA DE SOYA",0.39269137607519089,{"$f":"+BD18*$BE$13","v":2.3561482564511453},{"$f":"+(BD18*100/$BD$49)","v":0.74920606444033278},{"$f":"+(BD18*100/$BD$37)","v":3.4080803404734379},{"$f":"+BE18*$BH$15","v":35.342223846767183},0.7539674420643665,{"$f":"+BI18*$BE$13","v":4.5238046523861986},{"$f":"+BJ18*$BH$15","v":67.857069785792973},null,{"$f":"+$BM$16*BG18/100","v":3.4080803404734379}]
["FDN del Forraje",{"$f":"+'CALCU - PDR-FDN-CNF'!H27","v":26.326641216531289},null,null,{"$f":"+(N19*100)/$N$46","v":1.7016626296591602},null,null,{"$f":"+IF(ISBLANK(G19),\"100\",(G19))","v":"100"},{"$f":"+VALUE(H19)","v":100},{"$f":"+I19","v":100},{"$f":"+F19","v":0},{"$f":"+J19","v":100},0.39269137607519089,{"$f":"+M19*R19","v":0.35734915222842373},null,{"$f":"+'Selec. Maestro Ingredientes'!C4","v":"TORTA DE SOYA"},1.92,0.91,0.48,1.8645000000000005,0.05,0.1,0.02,7.000000000000001E-3,3.0000000000000001E-3,0.3,2.9999999999999997E-4,6.2E-2,0.66,null,null,null,null,null,null,null,null,{"$f":"+'Selec. Maestro Ingredientes'!V2","v":"Magnesio"},{"$f":"+'CALCU - PDR-FDN-CNF'!AB33","v":0.21976281211588505},{"$f":"IF(ISBLANK(AP19),\"\",IF(AM19>AP19,\"\",\"Deficit\"))","v":""},{"$f":"IF(ISBLANK(AQ19),\"\",IF(AM19<AQ19,\"\",\"Exceso\"))","v":""},null,null,null,null,null,null,null,null,null,null,null,null,3,"MAIZ MOLIDO",3.9800592823407865,23.88035569404472,7.5934556571234637,34.542041461759041,358.20533541067078,4.0596604679876025,24.357962807925617,365.36944211888425,null,34.542041461759041]
["Consumo x FDN ",{"$f":"+((120/'CALCU - PDR-FDN-CNF'!F32)*'Easy feed'!G12)/100","v":19.984001283799294},null,null,16.867870291825231,null,null,"100",100,100,0,100,3.9800592823407865,{"$f":"+M20*R20","v":3.5422527612832999},null,{"$f":"+'Selec. Maestro Ingredientes'!C5","v":"MAIZ MOLIDO"},1.02,0.89,9.5000000000000001E-2,2.1095000000000002,0.05,9.5000000000000001E-2,0.04,3.0000000000000001E-3,2.0000000000000001E-4,0.75,2.0000000000000001E-4,0.03,0.5,null,null,null,null,null,null,null,null,{"$f":"+'Selec. Maestro Ingredientes'!W2","v":"Potasio"},{"$f":"+'CALCU - PDR-FDN-CNF'!AC33","v":1.2898214430709116},{"$f":"IF(ISBLANK(AP20),\"\",IF(AM20>AP20,\"\",\"Deficit\"))","v":""},"",null,1.5,null,null,null,null,null,null,null,null,null,null,4,"SOYA INTEGRAL",2.8481042955778775,17.088625773467264,5.4338270214442739,24.718058120834161,256.32938660200898,5.2974739897748524,31.784843938649114,476.77265907973674,null,24.718058120834161]
[null,null,null,null,12.206161266762328,null,null,"100",100,100,0,100,2.8481042955778775,2.5632938660200897,null,{"$f":"+'Selec. Maestro Ingredientes'!C6","v":"SOYA INTEGRAL"},1.86,0.9,0.35,2.2075,0.06,0.2,0.22,6.3E-3,3.0000000000000001E-3,0.18,2.0000000000000001E-4,0.1,0.5,null,null,null,null,null,null,null,null,{"$f":"+'Selec. Maestro Ingredientes'!X2","v":"Cloro"},{"$f":"+'CALCU - PDR-FDN-CNF'!AD33","v":0.17285079979693777},"","",null,null,null,null,null,null,null,null,null,null,null,null,5,"CARBONATO DE CALCIO",0.33011929861400297,1.9807157916840179,0.62982636130782499,2.8650313201730193,29.710736875260267,9.9035789584200881E-2,0.59421473750520526,8.9132210625780797,null,2.8650313201730193]
["Relación CNF-PDR",{"$f":"+'CALCU - PDR-FDN-CNF'!N36","v":3.9246666248082152},null,null,1.5405567268653466,null,null,"100",100,100,0,100,0.33011929861400297,0.32351691264172289,null,{"$f":"+'Selec. Maestro Ingredientes'!C7","v":"CARBONATO DE CALCIO"},0.3,0.98,0,0,0,0,0,0,0.38,0,0,0,0,null,null,null,null,null,null,null,null,{"$f":"+'Selec. Maestro Ingredientes'!Y2","v":"Azufre"},{"$f":"+'CALCU - PDR-FDN-CNF'!AE33","v":0.16373470931787254},"","",null,null,null,null,null,null,null,null,null,null,null,null,6,"SAL",0,0,0,0,0,0,0,0,null,0]
[null,null,null,null,0,null,null,"100",100,100,0,100,0,0,null,{"$f":"+'Selec. Maestro Ingredientes'!C8","v":"SAL"},0.3,0.99,0,0,0,0,0,0,0,0,0.39,0,0,null,null,null,null,null,null,null,null,{"$f":"+'CALCU - PDR-FDN-CNF'!AT3","v":"Cobalto"},{"$f":"+'CALCU - PDR-FDN-CNF'!AT33","v":0},{"$f":"IF(ISBLANK(AP23),\"\",IF(#REF!>AP23,\"\",\"Deficit\"))","v":""},{"$f":"IF(ISBLANK(AQ23),\"\",IF(#REF!<AQ23,\"\",\"Exceso\"))","v":""},null,null,null,null,null,null,null,null,null,null,null,null,7,"BICARBONATO",0.25,1.5,0.47696875338107619,2.1696939047503254,22.5,0.625,3.75,56.25,null,2.1696939047503254]
["RELACION F/C",null,null,null,1.1785714285714282,0.25,null,"100",100,100,0.25,100,0.25,0.2475,null,{"$f":"+'Selec. Maestro Ingredientes'!C9","v":"BICARBONATO"},2.5,0.99,0,0,0,0,0,0,0,0,0,0,0,null,null,null,null,null,null,null,null,{"$f":"+'CALCU - PDR-FDN-CNF'!AU3","v":"Cobre"},{"$f":"+'CALCU - PDR-FDN-CNF'!AU33","v":0},{"$f":"IF(ISBLANK(AP24),\"\",IF(#REF!>AP24,\"\",\"Deficit\"))","v":""},{"$f":"IF(ISBLANK(AQ24),\"\",IF(#REF!<AQ24,\"\",\"Exceso\"))","v":""},null,null,null,null,null,null,null,null,null,null,null,null,8,"SUPLAMIN DIFOS",0,0,0,0,0,0,0,0,null,0]
["Forraje",{"$f":"+IF(N46=0,0,(N38+N39+N40+N41+N42+N43+N44+N45)*100/N46)","v":50.628156185637089},null,null,0,null,null,"100",100,100,0,100,0,0,null,{"$f":"+'Selec. Maestro Ingredientes'!C10","v":"SUPLAMIN DIFOS"},13,0.98,0,0,0,0,0,0.15060000000000001,0.185,0,2.35E-2,0,0,null,null,null,null,null,null,null,null,{"$f":"+'CALCU - PDR-FDN-CNF'!AV3","v":"Yodo"},{"$f":"+'CALCU - PDR-FDN-CNF'!AV33","v":0},{"$f":"IF(ISBLANK(AP25),\"\",IF(AM23>AP25,\"\",\"Deficit\"))","v":""},{"$f":"IF(ISBLANK(AQ25),\"\",IF(AM23<AQ25,\"\",\"Exceso\"))","v":""},null,null,null,null,null,null,null,null,null,null,null,null,9,"MELAZA",0,0,0,0,0,0,0,0,null,0]
["Concentrado",{"$f":"+IF(N46=0,0,(N18+N19+N20+N21+N22+N23+N24+N25+N26+N27+N28+N29+N30+N31+N32+N33+N34+N35+N36+N37)*100/N46)","v":49.371843814362919},null,null,0,null,null,"100",100,100,0,100,0,0,null,{"$f":"+'Selec. Maestro Ingredientes'!C11","v":"MELAZA"},0.5,0.75,0.05,1.742,0,0,0,1.5E-3,1.0999999999999999E-2,0.83,2.2000000000000001E-3,0,0.2,null,null,null,null,null,null,null,null,{"$f":"+'CALCU - PDR-FDN-CNF'!AW3","v":"Hierro"},{"$f":"+'CALCU - PDR-FDN-CNF'!AW33","v":0},"","",null,null,null,null,null,null,null,null,null,null,null,null,10,"UREA",0.18,1.08,0.34341750243437486,1.5621796114202342,16.200000000000003,0.27,1.62,24.3,null,1.5621796114202342]
[null,null,null,null,0.84857142857142831,null,0.18,0.18,0.18,0.18,0,0.18,0.18,0.1782,null,{"$f":"+'Selec. Maestro Ingredientes'!C12","v":"UREA"},1.5,0.99,2.8,0,0,0,0,0,0,0,0,0,0,null,null,null,null,null,null,null,null,{"$f":"+'CALCU - PDR-FDN-CNF'!AX3","v":"Manganeso"},{"$f":"+'CALCU - PDR-FDN-CNF'!AX33","v":0},"","",null,null,null,null,null,null,null,null,null,null,null,null,11,"GRASA PROTEGIDA",0,0,0,0,0,0,0,0,null,0]
["CONSUMO KG FRESCO",null,null,null,0,null,null,"100",100,100,0,100,0,0,null,{"$f":"+'Selec. Maestro Ingredientes'!C13","v":"GRASA PROTEGIDA"},8,0.95,0,4.3880000000000008,0,0,0.84,0,0.09,0,0,0,0,null,null,null,null,null,null,null,null,{"$f":"+'CALCU - PDR-FDN-CNF'!AY3","v":"Selenio"},{"$f":"+'CALCU - PDR-FDN-CNF'!AY33","v":0},"","",null,null,null,null,null,null,null,null,null,null,null,null,12,"PEPA ALGODÓN ",0,0,0,0,0,0,0,0,null,0]
["FORJ.",{"$f":"+SUM(M38:M45)","v":40.891972303783817},null,null,0,null,null,"100",100,100,0,100,0,0,null,{"$f":"+'Selec. Maestro Ingredientes'!C14","v":"PEPA ALGODÓN "},1.1499999999999999,0.9,0.22,1.7714000000000003,0.26,0.5,0.19,6.0000000000000001E-3,2E-3,0.09,2.0000000000000001E-4,0.42,0.61,null,null,null,null,null,null,null,null,{"$f":"+'CALCU - PDR-FDN-CNF'!AZ3","v":"Zinc"},{"$f":"+'CALCU - PDR-FDN-CNF'!AZ33","v":0},"","",null,null,null,null,null,null,null,null,null,null,null,null,13,"MONTAFOS",4.1388392770381886E-2,0.2483303566222913,7.8963880416541593E-2,0.35920057408524003,3.7249553493343694,8.2776785540763773E-2,0.49666071324458261,7.4499106986687389,null,0.35920057408524003]
["CONC.",{"$f":"+SUM(M18:M37)","v":11.522362645378239},null,null,0.19511670877465739,null,null,"100",100,100,0,100,4.1388392770381886E-2,4.0974508842678066E-2,null,{"$f":"+'Selec. Maestro Ingredientes'!C15","v":"MONTAFOS"},2,0.99,0,0,0,0,0,0.21,0.18,0,0,0,0,null,null,null,null,null,null,null,null,{"$f":"+'CALCU - PDR-FDN-CNF'!BA3","v":"Vit. A"},{"$f":"+'CALCU - PDR-FDN-CNF'!BA33","v":0},"","",null,null,null,null,null,null,null,null,null,null,null,null,14,"",0,0,0,0,0,0,0,0,null,0]
["CONSUMO KG SECO",null,null,null,0,null,null,"100",100,100,0,100,0,0,null,{"$f":"+'Selec. Maestro Ingredientes'!C16","v":""},null,0,0,0,0,0,0,0,0,0,0,0,0,null,null,null,null,null,null,null,null,{"$f":"+'CALCU - PDR-FDN-CNF'!BB3","v":"Vit. D"},{"$f":"+'CALCU - PDR-FDN-CNF'!BB33","v":0},"","",null,null,null,null,null,null,null,null,null,null,null,null,15,"",0,0,0,0,0,0,0,0,null,0]
["FORJ.",{"$f":"+SUM(N38:N45)","v":10.631912798983793},null,null,0,null,null,"100",100,100,0,100,0,0,null,{"$f":"+'Selec. Maestro Ingredientes'!C17","v":""},null,0,0,0,0,0,0,0,0,0,0,0,0,null,null,null,null,null,null,null,null,{"$f":"+'CALCU - PDR-FDN-CNF'!BC3","v":"Vit. E"},{"$f":"+'CALCU - PDR-FDN-CNF'!BC33","v":0},"","",null,null,null,null,null,null,null,null,null,null,null,null,16,"",0,0,0,0,0,0,0,0,null,0]
["CONC.",{"$f":"+SUM(N18:N37)","v":10.368087201016216},null,null,0,null,null,"100",100,100,0,100,0,0,null,{"$f":"+'Selec. Maestro Ingredientes'!C18","v":""},null,0,0,0,0,0,0,0,0,0,0,0,0,null,null,null,null,null,null,null,null,null,null,"","",null,null,null,null,null,null,null,null,null,null,null,null,17,"",0,0,0,0,0,0,0,0,null,0]
[null,null,null,null,0,null,null,"100",100,100,0,100,0,0,null,{"$f":"+'Selec. Maestro Ingredientes'!C19","v":""},null,0,0,0,0,0,0,0,0,0,0,0,0,null,null,null,null,null,null,null,null,null,null,"","",null,null,null,null,null,null,null,null,null,null,null,null,18,"",0,0,0,0,0,0,0,0,null,0]
[null,null,null,null,0,null,null,"100",100,100,0,100,0,0,null,{"$f":"+'Selec. Maestro Ingredientes'!C20","v":""},null,0,0,0,0,0,0,0,0,0,0,0,0,null,null,null,null,null,null,null,null,null,null,null,null,null,null,null,null,null,null,null,null,null,null,null,null,19,"",0,0,0,0,0,0,0,0,null,0]
[null,null,null,null,0,null,null,"100",100,100,0,100,0,0,null,{"$f":"+'Selec. Maestro Ingredientes'!C21","v":""},null,0,0,0,0,0,0,0,0,0,0,0,0,null,null,null,null,null,null,null,null,null,null,null,null,null,null,null,null,null,null,null,null,null,null,null,null,20,"",0,0,0,0,0,0,0,0,null,0]
[null,null,null,null,0,null,null,"100",100,100,0,100,0,0,null,{"$f":"+'Selec. Maestro Ingredientes'!C22","v":""},null,0,0,0,0,0,0,0,0,0,0,0,0,null,null,null,null,null,null,null,null,null,null,null,null,null,null,null,null,null,null,null,null,null,null,null,null,null,"Total Concentrado",{"$f":"SUM(BD17:BD36)","v":11.522362645378239},{"$f":"SUM(BE17:BE36)","v":69.134175872269438},{"$f":"+SUM(BF17:BF36)","v":21.983227787882953},100.00000000000001,1037.0126380840416,13.602914474951787,81.61748684971073,1224.2623027456605]
[null,null,null,null,50.628156185637089,null,null,"100",100,100,0,100,40.891972303783817,10.631912798983793,null,{"$f":"+'Selec. Maestro Ingredientes'!C23","v":"Chala con choclo"},0.1,0.26,9.7000000000000017E-2,1.4725000000000001,0.3,0.52,0.02,2.3E-3,2.5000000000000001E-3,0.36,1E-4,0.32,0.7,null,null,null,null,null,null,null,null,null,null,null,null,null,null,null,null,null,null,null,null,null,null,null,null,null,{"$f":"+P39","v":"Vacio"}]
[null,null,null,null,0,null,null,"100",100,100,0,100,0,0,null,{"$f":"+'Selec. Maestro Ingredientes'!C24","v":"Vacio"},null,0,0,0,0,0,0,0,0,0,0,0,0,null,null,null,null,null,null,null,null,null,null,null,null,null,null,null,null,null,null,null,null,null,null,null,null,null,"FORRAJE"]
[null,null,null,null,0,null,null,"100",100,100,0,100,0,0,null,{"$f":"+'Selec. Maestro Ingredientes'!C25","v":"Vacio"},null,0,0,0,0,0,0,0,0,0,0,0,0,null,null,null,null,null,null,null,null,null,null,null,null,null,null,null,null,null,null,null,null,null,null,null,null,21,{"$f":"+P38","v":"Chala con choclo"},{"$f":"+M38","v":40.891972303783817},{"$f":"+BD40*$BE$13","v":245.3518338227029},{"$f":"+(BD40*100/$BD$49)","v":78.016772212117047},{"$f":"+(BD40*100/$BD$48)","v":100},{"$f":"+BE40*$BH$15","v":3680.2775073405437},{"$f":"+BD40*Q38","v":4.0891972303783817},{"$f":"+BI40*$BE$13","v":24.53518338227029},{"$f":"+BJ40*$BH$15","v":368.02775073405434}]
[null,null,null,null,0,null,null,"100",100,100,0,100,0,0,null,{"$f":"+'Selec. Maestro Ingredientes'!C26","v":"Vacio"},null,0,0,0,0,0,0,0,0,0,0,0,0,null,null,null,null,null,null,null,null,null,null,null,null,null,null,null,null,null,null,null,null,null,null,null,null,22,"Vacio",0,{"$f":"+BD41*$BE$13","v":0},{"$f":"+(BD41*100/$BD$49)","v":0},{"$f":"+(BD41*100/$BD$48)","v":0},0,0,0,0]
[null,null,null,null,0,null,null,"100",100,100,0,100,0,0,null,{"$f":"+'Selec. Maestro Ingredientes'!C27","v":"Vacio"},null,0,0,0,0,0,0,0,0,0,0,0,0,null,null,null,null,null,null,null,null,null,null,null,null,null,null,null,null,null,null,null,null,null,null,null,null,23,"Vacio",0,0,0,0,0,0,0,0]
[null,null,null,null,0,null,null,"100",100,100,0,100,0,0,null,{"$f":"+'Selec. Maestro Ingredientes'!C28","v":"Vacio"},null,0,0,0,0,0,0,0,0,0,0,0,0,null,null,null,null,null,null,null,null,null,null,null,null,null,null,null,null,null,null,null,null,null,null,null,null,24,"Vacio",0,0,0,0,0,0,0,0]
[null,null,null,null,0,null,null,"100",100,100,0,100,0,0,null,{"$f":"+'Selec. Maestro Ingredientes'!C29","v":"Vacio"},null,0,0,0,0,0,0,0,0,0,0,0,0,null,null,null,null,null,null,null,null,null,null,null,null,null,null,null,null,null,null,null,null,null,null,null,null,25,"Vacio",0,0,0,0,0,0,0,0]
[null,null,null,null,0,null,null,"100",100,100,0,100,0,0,null,{"$f":"+'Selec. Maestro Ingredientes'!C30","v":"Vacio"},null,0,0,0,0,0,0,0,0,0,0,0,0,null,null,null,null,null,null,null,null,null,null,null,null,null,null,null,null,null,null,null,null,null,null,null,null,26,"Vacio",0,0,0,0,0,0,0,0]
[null,null,null,null,{"$f":"SUM(E18:E45)","v":100},null,null,null,null,null,null,null,{"$f":"+M18+M19+M20+M21+M22+M23+M24+M25+M26+M27+M28+M29+M30+M31+M32+M33+M34+M35+M36+M37+M38+M39+M40+M41+M42+M43+M44+M45","v":52.414334949162054},{"$f":"SUM(N18:N45)","v":21.000000000000007},null,null,null,null,null,null,null,null,null,null,null,null,null,null,null,null,null,null,null,null,null,null,null,null,null,null,null,null,null,null,null,null,null,null,null,null,null,null,null,27,"Vacio",0,0,0,0,0,0,0,0]
[null,null,null,null,null,null,null,null,null,null,null,null,null,null,null,null,null,null,null,null,null,null,null,null,null,null,null,null,null,null,null,null,null,null,null,null,null,null,null,null,null,null,null,null,null,null,null,null,null,null,null,null,null,28,"Vacio",0,0,0,0,0,0,0,0]
[null,null,null,null,null,null,null,null,null,null,null,null,null,null,null,null,null,null,null,null,null,null,null,null,null,null,null,null,null,null,null,null,null,null,null,null,null,null,null,null,null,null,null,null,null,null,null,null,null,null,null,null,null,null,"Total  Forraje",{"$f":"+SUM(BD40:BD47)","v":40.891972303783817},{"$f":"+SUM(BE40:BE47)","v":245.3518338227029},{"$f":"+SUM(BF40:BF47)","v":78.016772212117047},{"$f":"+SUM(BG40:BG47)","v":100},{"$f":"SUM(BH41:BH46)","v":0},0,0,0]
["KILOS Energia /litro",{"$f":"0.375+0.095*(B40)","v":0.375},null,null,null,null,null,null,null,null,null,null,null,null,null,null,null,null,null,null,null,null,null,null,null,null,null,null,null,null,null,null,null,null,null,null,null,null,null,null,null,null,null,null,null,null,null,null,null,null,null,null,null,null,"TOTAL",{"$f":"+BD37+BD48","v":52.414334949162054},{"$f":"+BE37+BE48","v":314.48600969497232},100,200,{"$f":"+BH37+BH48","v":1037.0126380840416},{"$f":"+BI37+BI48","v":13.602914474951787},{"$f":"+BJ48+BJ37","v":81.61748684971073},{"$f":"+BK48+BK37","v":1224.2623027456605}]
["KILOS Proteina /  litro",{"$f":"(43.61+11.54*(B40))/1000","v":4.3609999999999996E-2}]

{"sheet":"Manual","index":8,"n_rows":39,"n_cols":22,"rows_kept":39,"cut":false,"hidden":true,"merged":[[8,13,8,14],[8,20,8,21],[19,17,19,18],[2,9,2,10],[2,13,2,14],[2,16,2,17],[9,11,9,12],[9,18,9,19]]}
[]
[]
[null,null,null,null,null,null,null,null,null,"CONSUMO DE M.S.",null,null,null,"RELACION M.S.",null,null,"COSTO RACION"]
[null,null,null,null,null,null,null,null,null,"Requerido",{"$f":"+'Easy feed'!G15","v":21},null,null,"Conc.","Forr.",null,"Soles/dia",{"$f":"+SUM(C11:C38)","v":24.679416708169253}]
[null,null,null,null,null,null,null,null,null,"Ofrecido",{"$f":"+'Operacion Manual'!D5","v":14.162139231465535},null,"%",{"$f":"+'Easy feed'!B26","v":49.371843814362919},{"$f":"+'Easy feed'!B25","v":50.628156185637089},null,"soles/kg M.S.",{"$f":"+R4/G39","v":1.0283090295069535}]
[null,null,null,null,null,null,null,null,null,"Cons. FDN.",{"$f":"+((120/'Operacion Manual'!H6)*'Easy feed'!G12)/100","v":43.86992146611621},null,"KG",{"$f":"+SUM(G11:G30)","v":14.162139231465535},{"$f":"+SUM(G31:G38)","v":9.8378607685367712},null,"soles/kg M.F.",{"$f":"+R4/F39","v":0.46062459014301682}]
[null,null,null,null,null,null,null,null,null,"Tal C. Ofrec",{"$f":"SUM(F11:F38)","v":53.578157215850496}]
[]
[null,null,null,"INGREDIENTES",null,"MEZCLADOR","KG de M.S.","% M.S.",null,"Nutriente",null,null,null,"Requerimiento",null,null,"Nutriente",null,null,null,"Requerimiento"]
[null,"SOLES SECO","SOLES/FRES",null,null,null,null,null,null,null,null,"Evaluación",null,"Minimo","Maximo",null,null,null,"Evaluación",null,"Minimo","Maximo"]
[null,{"$f":"+G11*'Easy feed'!Q18","v":1.8422999999999998},{"$f":"+F11*'Easy feed'!Q18","v":2.0699999999999998},{"$f":"+'Easy feed'!P18","v":"AFRECHO"},null,3,{"$f":"+'Operacion Manual'!D12","v":2.67},{"$f":"+IF(G11=0,0,(G11*100)/$G$39)","v":11.124999999998931},null,{"$f":"+TRANSPOSE('Operacion Manual'!E9:AD9)","v":"NDT"},{"$f":"+TRANSPOSE('Operacion Manual'!E6:AD6)","v":81.869333514011473},{"$f":"IF(ISBLANK(N11),\"\",IF(K11>N11,\"\",\"Deficit\"))","v":""},{"$f":"IF(ISBLANK(O11),\"\",IF(K11<O11,\"\",\"Exceso\"))","v":""},null,null,null,{"$f":"+TRANSPOSE('Operacion Manual'!AE1:AJ1)","v":"Manganeso"},{"$f":"+TRANSPOSE('Operacion Manual'!AE6:AJ6)","v":3.4147383532172868},{"$f":"IF(ISBLANK(U11),\"\",IF(R11>U11,\"\",\"Deficit\"))","v":""},{"$f":"IF(ISBLANK(V11),\"\",IF(R11<V11,\"\",\"Exceso\"))","v":""}]
[null,{"$f":"+G12*'Easy feed'!Q19","v":5.0831411062448897},{"$f":"+F12*'Easy feed'!Q19","v":5.5858693475218564},{"$f":"+'Easy feed'!P19","v":"TORTA DE SOYA"},null,2.9093069518343002,{"$f":"+'Operacion Manual'!D13","v":2.6474693261692135},{"$f":"+IF(G12=0,0,(G12*100)/$G$39)","v":11.031122192370663},null,"Prot.",22.816752903820205,{"$f":"IF(ISBLANK(N12),\"\",IF(K12>N12,\"\",\"Deficit\"))","v":""},{"$f":"IF(ISBLANK(O12),\"\",IF(K12<O12,\"\",\"Exceso\"))","v":"Exceso"},16,17,null,"Selenio",2.8244320539431652E-2,{"$f":"IF(ISBLANK(U12),\"\",IF(R12>U12,\"\",\"Deficit\"))","v":""},{"$f":"IF(ISBLANK(V12),\"\",IF(R12<V12,\"\",\"Exceso\"))","v":""}]
[null,{"$f":"+G13*'Easy feed'!Q20","v":5.3030292828019023},{"$f":"+F13*'Easy feed'!Q20","v":5.9584598683167442},{"$f":"+'Easy feed'!P20","v":"MAIZ MOLIDO"},null,5.8416273218791606,{"$f":"+'Operacion Manual'!D14","v":5.199048316472453},21.66270131863314,null,"FC",6.2564887334758579,{"$f":"IF(ISBLANK(N13),\"\",IF(K13>N13,\"\",\"Deficit\"))","v":"Deficit"},"",17,null,null,"Zinc",7.0610801348579137,"",""]
[null,{"$f":"+G14*'Easy feed'!Q21","v":5.3731296624154012},{"$f":"+F14*'Easy feed'!Q21","v":5.9701440693504457},{"$f":"+'Easy feed'!P21","v":"SOYA INTEGRAL"},null,3.2097548759948631,{"$f":"+'Operacion Manual'!D15","v":2.8887793883953767},12.036580784979579,null,"FDN",16.412156118312318,"","",null,null,null,"Vit. A",1454.5825077807301,"",""]
[null,{"$f":"+G15*'Easy feed'!Q22","v":0.11146168948530684},{"$f":"+F15*'Easy feed'!Q22","v":0.11373641784214983},{"$f":"+'Easy feed'!P22","v":"CARBONATO DE CALCIO"},null,0.37912139280716611,{"$f":"+'Operacion Manual'!D16","v":0.37153896495102279},1.5480790206291131,null,"FDA",7.222372763315617,"","",null,null,null,"Vit. D",1835.8808350630575,"",""]
[null,{"$f":"+G16*'Easy feed'!Q23","v":1.9304999999999999E-2},{"$f":"+F16*'Easy feed'!Q23","v":1.95E-2},{"$f":"+'Easy feed'!P23","v":"SAL"},null,6.5000000000000002E-2,{"$f":"+'Operacion Manual'!D17","v":6.4350000000000004E-2},0.26812499999997425,null,"Ca",1.1990091701751115,"","",null,null,null,"Vit. E",282.44320539431658,"",""]
[null,{"$f":"+G17*'Easy feed'!Q24","v":0.61875000000000002},{"$f":"+F17*'Easy feed'!Q24","v":0.625},{"$f":"+'Easy feed'!P24","v":"BICARBONATO"},null,0.25,{"$f":"+'Operacion Manual'!D18","v":0.2475},1.031249999999901,null,"P",0.61977162346603731,"",""]
[null,{"$f":"+G18*'Easy feed'!Q25","v":0.51999999997084467},{"$f":"+F18*'Easy feed'!Q25","v":0.5306122448682089},{"$f":"+'Easy feed'!P25","v":"SUPLAMIN DIFOS"},null,4.081632652832376E-2,{"$f":"+'Operacion Manual'!D19","v":3.9999999997757281E-2},0.16666666665730601,null,"Eng. Met",2.9598875099988686,"",""]
[null,{"$f":"+G19*'Easy feed'!Q26","v":1.6726617739854781E-2},{"$f":"+F19*'Easy feed'!Q26","v":2.2302156986473042E-2},{"$f":"+'Easy feed'!P26","v":"MELAZA"},null,4.4604313972946084E-2,{"$f":"+'Operacion Manual'!D20","v":3.3453235479709562E-2},0.13938848116544311,null,"EN(gan)",2.0861896827692212,"",""]
[null,{"$f":"+G20*'Easy feed'!Q27","v":0},{"$f":"+F20*'Easy feed'!Q27","v":0},{"$f":"+'Easy feed'!P27","v":"UREA"},null,0,{"$f":"+'Operacion Manual'!D21","v":0},0,null,"EN(lact)",1.8919281600338358,"","Exceso",1.66,1.7,null," ","PRODUCCION PROYECTADA"]
[null,{"$f":"+G21*'Easy feed'!Q28","v":0},{"$f":"+F21*'Easy feed'!Q28","v":0},{"$f":"+'Easy feed'!P28","v":"GRASA PROTEGIDA"},null,0,{"$f":"+'Operacion Manual'!D22","v":0},0,null,"EN(mant)",2.5527111569087886,"","",null,null,null,null,"Litros/kg P.C",{"$f":"+('Operacion Manual'!F5-0.55)/0.12","v":22.344502619487276}]
[null,{"$f":"+G22*'Easy feed'!Q29","v":0},{"$f":"+F22*'Easy feed'!Q29","v":0},{"$f":"+'Easy feed'!P29","v":"PEPA ALGODÓN "},null,0,{"$f":"+'Operacion Manual'!D23","v":0},0,null,"E.E",7.0839776973824247,"","",null,null,null,null,"Litros/kg ENL.",{"$f":"+('Operacion Manual'!N5-10)/1.031","v":16.288797301968565}]
[null,{"$f":"+G23*'Easy feed'!Q30","v":0},{"$f":"+F23*'Easy feed'!Q30","v":0},{"$f":"+'Easy feed'!P30","v":"MONTAFOS"},null,0,{"$f":"+'Operacion Manual'!D24","v":0},0,null,"CNF",44.92734753255214,"",""]
[null,{"$f":"+G24*'Easy feed'!Q31","v":0},{"$f":"+F24*'Easy feed'!Q31","v":0},{"$f":"+'Easy feed'!P31","v":""},null,0,{"$f":"+'Operacion Manual'!D25","v":0},0,null,"PDR",54.136837164876141,"","",null,null,null,null,"Relación CNF-PDR"]
[null,{"$f":"+G25*'Easy feed'!Q32","v":0},{"$f":"+F25*'Easy feed'!Q32","v":0},{"$f":"+'Easy feed'!P32","v":""},null,0,{"$f":"+'Operacion Manual'!D26","v":0},0,null,"Prot. By pass",40.755255384662192,"","",null,null,null,null,{"$f":"+'Operacion Manual'!S8","v":3.6371738535692479}]
[null,{"$f":"+G26*'Easy feed'!Q33","v":0},{"$f":"+F26*'Easy feed'!Q33","v":0},{"$f":"+'Easy feed'!P33","v":""},null,0,{"$f":"+'Operacion Manual'!D27","v":0},0,null,"Sodio",0.20516606271085369,"",""]
[null,{"$f":"+G27*'Easy feed'!Q34","v":0},{"$f":"+F27*'Easy feed'!Q34","v":0},{"$f":"+'Easy feed'!P34","v":""},null,0,{"$f":"+'Operacion Manual'!D28","v":0},0,null,"Magnesio",0.2413171915553195,"",""]
[null,{"$f":"+G28*'Easy feed'!Q35","v":0},{"$f":"+F28*'Easy feed'!Q35","v":0},{"$f":"+'Easy feed'!P35","v":""},null,0,{"$f":"+'Operacion Manual'!D29","v":0},0,null,"Potasio",1.1586348617076963,"",""]
[null,{"$f":"+G29*'Easy feed'!Q36","v":0},{"$f":"+F29*'Easy feed'!Q36","v":0},{"$f":"+'Easy feed'!P36","v":""},null,0,{"$f":"+'Operacion Manual'!D30","v":0},0,null,"Cloro",0.32678367376363954,"",""]
[null,{"$f":"+G30*'Easy feed'!Q37","v":0},{"$f":"+F30*'Easy feed'!Q37","v":0},{"$f":"+'Easy feed'!P37","v":""},null,0,{"$f":"+'Operacion Manual'!D31","v":0},0,null,"Azufre",0.25258062170053763,"",""]
[null,{"$f":"+G31*'Easy feed'!Q38","v":0.98378607685367714},{"$f":"+F31*'Easy feed'!Q38","v":3.7837926032833735},{"$f":"+'Easy feed'!P38","v":"Chala con choclo"},null,37.837926032833735,{"$f":"+'Operacion Manual'!D34","v":9.8378607685367712},40.991086535565941,null,"Gosipol",0,"",""]
[null,{"$f":"+G32*'Easy feed'!Q39","v":0},{"$f":"+F32*'Easy feed'!Q39","v":0},{"$f":"+'Easy feed'!P39","v":"Vacio"},null,0,{"$f":"+'Operacion Manual'!D35","v":0},0,null,"Almidon",30.355515608349549,"",""]
[null,{"$f":"+G33*'Easy feed'!Q40","v":0},{"$f":"+F33*'Easy feed'!Q40","v":0},{"$f":"+'Easy feed'!P40","v":"Vacio"},null,0,{"$f":"+'Operacion Manual'!D36","v":0},0,null,"Cobalto",0,"",""]
[null,{"$f":"+G34*'Easy feed'!Q41","v":0},{"$f":"+F34*'Easy feed'!Q41","v":0},{"$f":"+'Easy feed'!P41","v":"Vacio"},null,0,{"$f":"+'Operacion Manual'!D37","v":0},0,null,"Cobre",0,"",""]
[null,{"$f":"+G35*'Easy feed'!Q42","v":0},{"$f":"+F35*'Easy feed'!Q42","v":0},{"$f":"+'Easy feed'!P42","v":"Vacio"},null,0,{"$f":"+'Operacion Manual'!D38","v":0},0,null,"Yodo",0,"",""]
[null,{"$f":"+G36*'Easy feed'!Q43","v":0},{"$f":"+F36*'Easy feed'!Q43","v":0},{"$f":"+'Easy feed'!P43","v":"Vacio"},null,0,{"$f":"+'Operacion Manual'!D39","v":0},0,null,"Hierro",0,"",""]
[null,{"$f":"+G37*'Easy feed'!Q44","v":0},{"$f":"+F37*'Easy feed'!Q44","v":0},{"$f":"+'Easy feed'!P44","v":"Vacio"},null,0,{"$f":"+'Operacion Manual'!D40","v":0},0]
[null,{"$f":"+G38*'Easy feed'!Q45","v":0},{"$f":"+F38*'Easy feed'!Q45","v":0},{"$f":"+'Easy feed'!P45","v":"Vacio"},null,0,{"$f":"+'Operacion Manual'!D41","v":0},0]
[null,null,null,null,null,{"$f":"+SUM(F11:F38)","v":53.578157215850496},{"$f":"+SUM(G11:G38)","v":24.000000000002306},{"$f":"SUM(H11:H38)","v":99.999999999999986}]

{"sheet":"Operacion Manual","index":9,"n_rows":42,"n_cols":36,"rows_kept":42,"cut":false,"hidden":true,"merged":[]}
[null,null,"CANTIDAD",{"$f":"+D9","v":"MS"},"NDT","Prot.","FC","FDN","FDA","Ca","P","Eng. Met","EN(gan)","EN(lact)","EN(mant)","E.E","CNF","PDR","Prot. By pass","Sodio","Magnesio","Potasio","Cloro","Azufre","Gosipol","Almidon","Cobalto","Cobre","Yodo","Hierro","Manganeso","Selenio","Zinc","Vit. A","Vit. D",{"$f":"+AJ9","v":"Vit. E"}]
[null,null,null,null,null,null,null,null,null,null,null,"Mcal/Kg","Mcal/kg","Mcal/Kg","Mcal/kg"]
[null,"TOTAL CONCENTRADO",{"$f":"+C32","v":15.74023118301676},14.162139231465535,11.594449000127181,3.2313403143384729,0.88605264543580575,2.3243124003608799,1.0228424865562025,0.16980534807823883,8.7772920232374527E-2,41.918339026079813,29.544908750624629,26.79375001832959,36.151850821857728,1.0032427846292653,6.3626735105644299,7.6669342548015376,5.771816011715214,2.905590345682699E-2,3.4175676657526737E-2,0.16408748229934209,4.6279558864104745E-2,3.5770819316931386E-2,0,4.298990384883715,0,0,0,0,48.359999997288554,0.3999999999775728,99.999999994393207,20.599999998845,25.999999998542233,3.9999999997757283]
[null,"TOTAL FORRAJES",{"$f":"+C42","v":0},0,0,0,0,0,0,0,0,0,0,0,0,0,0,0,0,0,0,0,0,0,0,0,0,0,0,0,0,0,0,0,0,0]
[null,"TOTAL RACION kg.",{"$f":"SUM(C3:C4)","v":15.74023118301676},14.162139231465535,11.594449000127181,3.2313403143384729,0.88605264543580575,2.3243124003608799,1.0228424865562025,0.16980534807823883,8.7772920232374527E-2,41.918339026079813,29.544908750624629,26.79375001832959,36.151850821857728,1.0032427846292653,6.3626735105644299,7.6669342548015376,5.771816011715214,2.905590345682699E-2,3.4175676657526737E-2,0.16408748229934209,4.6279558864104745E-2,3.5770819316931386E-2,0,4.298990384883715,0,0,0,0,48.359999997288554,0.3999999999775728,99.999999994393207,20.599999998845,25.999999998542233,3.9999999997757283]
[null,"TOTAL RACION %.",null,null,{"$f":"+IF(E5=0,0,(E5/$D$5)*100)","v":81.869333514011473},{"$f":"+IF(F5=0,0,(F5/$D$5)*100)","v":22.816752903820205},{"$f":"+IF(G5=0,0,(G5/$D$5)*100)","v":6.2564887334758579},{"$f":"+IF(H5=0,0,(H5/$D$5)*100)","v":16.412156118312318},7.222372763315617,1.1990091701751115,0.61977162346603731,{"$f":"+IF(L5=0,0,(L5/$D$5))","v":2.9598875099988686},{"$f":"+IF(M5=0,0,(M5/$D$5))","v":2.0861896827692212},{"$f":"+IF(N5=0,0,(N5/$D$5))","v":1.8919281600338358},2.5527111569087886,{"$f":"+IF(P5=0,0,(P5/$D$5)*100)","v":7.0839776973824247},{"$f":"+IF(Q5=0,0,(Q5/$D$5)*100)","v":44.92734753255214},{"$f":"+IF(R5=0,0,(R5/$D$5)*100)","v":54.136837164876141},40.755255384662192,0.20516606271085369,0.2413171915553195,1.1586348617076963,0.32678367376363954,0.25258062170053763,0,30.355515608349549,{"$f":"+IF(AA5=0,0,(AA5/$D$5))","v":0},0,0,0,3.4147383532172868,2.8244320539431652E-2,7.0610801348579137,{"$f":"+IF(AH5=0,0,(AH5/$D$5)*1000)","v":1454.5825077807301},{"$f":"+IF(AI5=0,0,(AI5/$D$5)*1000)","v":1835.8808350630575},{"$f":"+IF(AJ5=0,0,(AJ5/$D$5)*1000)","v":282.44320539431658}]
[]
[null,null,null,null,null,null,null,null,null,null,null,null,null,null,null,null,null,{"$f":"+R6*F6/100","v":12.352268365853293},{"$f":"+Q6/R8","v":3.6371738535692479}]
[null,"NUTRIENTES","CANTIDAD",{"$f":"+'Selec. Maestro Ingredientes'!E2","v":"MS"},{"$f":"+'Selec. Maestro Ingredientes'!F2","v":"NDT"},{"$f":"+'Selec. Maestro Ingredientes'!G2","v":"Prot."},{"$f":"+'Selec. Maestro Ingredientes'!H2","v":"FC"},{"$f":"+'Selec. Maestro Ingredientes'!I2","v":"FDN"},{"$f":"+'Selec. Maestro Ingredientes'!J2","v":"FDA"},{"$f":"+'Selec. Maestro Ingredientes'!K2","v":"Ca"},{"$f":"+'Selec. Maestro Ingredientes'!L2","v":"P"},{"$f":"+'Selec. Maestro Ingredientes'!M2","v":"Eng. Met"},{"$f":"+'Selec. Maestro Ingredientes'!N2","v":"EN(gan)"},{"$f":"+'Selec. Maestro Ingredientes'!O2","v":"EN(lact)"},{"$f":"+'Selec. Maestro Ingredientes'!P2","v":"EN(mant)"},{"$f":"+'Selec. Maestro Ingredientes'!Q2","v":"E.E"},{"$f":"+'Selec. Maestro Ingredientes'!R2","v":"CNF"},{"$f":"+'Selec. Maestro Ingredientes'!S2","v":"PDR"},{"$f":"+'Selec. Maestro Ingredientes'!T2","v":"Prot. By pass"},{"$f":"+'Selec. Maestro Ingredientes'!U2","v":"Sodio"},{"$f":"+'Selec. Maestro Ingredientes'!V2","v":"Magnesio"},{"$f":"+'Selec. Maestro Ingredientes'!W2","v":"Potasio"},{"$f":"+'Selec. Maestro Ingredientes'!X2","v":"Cloro"},{"$f":"+'Selec. Maestro Ingredientes'!Y2","v":"Azufre"},{"$f":"+'Selec. Maestro Ingredientes'!Z2","v":"Gosipol"},{"$f":"+'Selec. Maestro Ingredientes'!AA2","v":"Almidon"},{"$f":"+'Selec. Maestro Ingredientes'!AB2","v":"Cobalto"},{"$f":"+'Selec. Maestro Ingredientes'!AC2","v":"Cobre"},{"$f":"+'Selec. Maestro Ingredientes'!AD2","v":"Yodo"},{"$f":"+'Selec. Maestro Ingredientes'!AE2","v":"Hierro"},{"$f":"+'Selec. Maestro Ingredientes'!AF2","v":"Manganeso"},{"$f":"+'Selec. Maestro Ingredientes'!AG2","v":"Selenio"},{"$f":"+'Selec. Maestro Ingredientes'!AH2","v":"Zinc"},{"$f":"+'Selec. Maestro Ingredientes'!AI2","v":"Vit. A"},{"$f":"+'Selec. Maestro Ingredientes'!AJ2","v":"Vit. D"},{"$f":"+'Selec. Maestro Ingredientes'!AK2","v":"Vit. E"}]
[null,"INGREDIENTES",null,"kg","kg","kg","kg","kg","kg","kg","kg","Mcal/Kg","Mcal/kg","Mcal/Kg","Mcal/kg","kg","kg","kg","kg","kg","kg","kg","kg","kg","kg","kg","kg","Mg/kg","Mg/kg","Mg/kg","Mg/kg","Mg/kg","Mg/kg","Mg/kg","1,000 UI/kg","1,000 UI/kg"]
[null,"CONCENTRADO"]
[1,{"$f":"+'Selec. Maestro Ingredientes'!C3","v":"AFRECHO"},{"$f":"+Manual!F11","v":3},{"$f":"+C12*'Selec. Maestro Ingredientes'!E3","v":2.67},{"$f":"+$D12*'Selec. Maestro Ingredientes'!F3","v":1.9490999999999998},{"$f":"+$D12*'Selec. Maestro Ingredientes'!G3","v":0.45390000000000003},{"$f":"+$D12*'Selec. Maestro Ingredientes'!H3","v":0.32039999999999996},{"$f":"+$D12*'Selec. Maestro Ingredientes'!I3","v":0.9879},{"$f":"+$D12*'Selec. Maestro Ingredientes'!J3","v":0.41385},{"$f":"+$D12*'Selec. Maestro Ingredientes'!K3","v":3.2039999999999998E-3},{"$f":"+$D12*'Selec. Maestro Ingredientes'!L3","v":2.9369999999999997E-2},{"$f":"+$D12*'Selec. Maestro Ingredientes'!M3","v":7.0467371579999991},{"$f":"+$D12*'Selec. Maestro Ingredientes'!N3","v":4.2887643055403988},{"$f":"+$D12*'Selec. Maestro Ingredientes'!O3","v":4.4548949999999996},{"$f":"+$D12*'Selec. Maestro Ingredientes'!P3","v":5.6171894384969994},{"$f":"+$D12*'Selec. Maestro Ingredientes'!Q3","v":0.10680000000000001},{"$f":"+$D12*'Selec. Maestro Ingredientes'!R3","v":1.1214},{"$f":"+$D12*'Selec. Maestro Ingredientes'!S3","v":1.8689999999999998},{"$f":"+$D12*'Selec. Maestro Ingredientes'!T3","v":0.80099999999999993},{"$f":"+$D12*'Selec. Maestro Ingredientes'!U3","v":5.3399999999999997E-4},{"$f":"+$D12*'Selec. Maestro Ingredientes'!V3","v":1.068E-2},{"$f":"+$D12*'Selec. Maestro Ingredientes'!W3","v":3.0170999999999996E-2},{"$f":"+$D12*'Selec. Maestro Ingredientes'!X3","v":1.6019999999999999E-3},{"$f":"+$D12*'Selec. Maestro Ingredientes'!Y3","v":5.6069999999999991E-3},{"$f":"+$D12*'Selec. Maestro Ingredientes'!Z3","v":0},{"$f":"+$D12*'Selec. Maestro Ingredientes'!AA3","v":0.82769999999999999},{"$f":"+$D12*'Selec. Maestro Ingredientes'!AB3","v":0},{"$f":"+$D12*'Selec. Maestro Ingredientes'!AC3","v":0},{"$f":"+$D12*'Selec. Maestro Ingredientes'!AD3","v":0},{"$f":"+$D12*'Selec. Maestro Ingredientes'!AE3","v":0},{"$f":"+$D12*'Selec. Maestro Ingredientes'!AF3","v":0},{"$f":"+$D12*'Selec. Maestro Ingredientes'!AG3","v":0},{"$f":"+$D12*'Selec. Maestro Ingredientes'!AH3","v":0},{"$f":"+$D12*'Selec. Maestro Ingredientes'!AI3","v":0},{"$f":"+$D12*'Selec. Maestro Ingredientes'!AJ3","v":0},{"$f":"+$D12*'Selec. Maestro Ingredientes'!AK3","v":0}]
[2,{"$f":"+'Selec. Maestro Ingredientes'!C4","v":"TORTA DE SOYA"},{"$f":"+Manual!F12","v":2.9093069518343002},{"$f":"+C13*'Selec. Maestro Ingredientes'!E4","v":2.6474693261692135},{"$f":"+$D13*'Selec. Maestro Ingredientes'!F4","v":2.1444501541970631},{"$f":"+$D13*'Selec. Maestro Ingredientes'!G4","v":1.2707852765612224},{"$f":"+$D13*'Selec. Maestro Ingredientes'!H4","v":0.13237346630846067},{"$f":"+$D13*'Selec. Maestro Ingredientes'!I4","v":0.26474693261692134},{"$f":"+$D13*'Selec. Maestro Ingredientes'!J4","v":0.16414309822249123},{"$f":"+$D13*'Selec. Maestro Ingredientes'!K4","v":7.9424079785076398E-3},{"$f":"+$D13*'Selec. Maestro Ingredientes'!L4","v":1.8532285283184496E-2},{"$f":"+$D13*'Selec. Maestro Ingredientes'!M4","v":7.7530021984809769},{"$f":"+$D13*'Selec. Maestro Ingredientes'!N4","v":5.1973297243066279},{"$f":"+$D13*'Selec. Maestro Ingredientes'!O4","v":4.9362065586424997},{"$f":"+$D13*'Selec. Maestro Ingredientes'!P4","v":6.5051265401349943},{"$f":"+$D13*'Selec. Maestro Ingredientes'!Q4","v":5.2949386523384268E-2},{"$f":"+$D13*'Selec. Maestro Ingredientes'!R4","v":0.79424079785076407},{"$f":"+$D13*'Selec. Maestro Ingredientes'!S4","v":1.7473297552716809},{"$f":"+$D13*'Selec. Maestro Ingredientes'!T4","v":0.9001395708975326},{"$f":"+$D13*'Selec. Maestro Ingredientes'!U4","v":7.9424079785076396E-4},{"$f":"+$D13*'Selec. Maestro Ingredientes'!V4","v":7.6776610458907189E-3},{"$f":"+$D13*'Selec. Maestro Ingredientes'!W4","v":6.3539263828061118E-2},{"$f":"+$D13*'Selec. Maestro Ingredientes'!X4","v":1.8532285283184497E-3},{"$f":"+$D13*'Selec. Maestro Ingredientes'!Y4","v":1.2178358900378381E-2},{"$f":"+$D13*'Selec. Maestro Ingredientes'!Z4","v":0},{"$f":"+$D13*'Selec. Maestro Ingredientes'!AA4","v":0},{"$f":"+$D13*'Selec. Maestro Ingredientes'!AB4","v":0},{"$f":"+$D13*'Selec. Maestro Ingredientes'!AC4","v":0},{"$f":"+$D13*'Selec. Maestro Ingredientes'!AD4","v":0},{"$f":"+$D13*'Selec. Maestro Ingredientes'!AE4","v":0},{"$f":"+$D13*'Selec. Maestro Ingredientes'!AF4","v":0},{"$f":"+$D13*'Selec. Maestro Ingredientes'!AG4","v":0},{"$f":"+$D13*'Selec. Maestro Ingredientes'!AH4","v":0},{"$f":"+$D13*'Selec. Maestro Ingredientes'!AI4","v":0},{"$f":"+$D13*'Selec. Maestro Ingredientes'!AJ4","v":0},{"$f":"+$D13*'Selec. Maestro Ingredientes'!AK4","v":0}]
[3,{"$f":"+'Selec. Maestro Ingredientes'!C5","v":"MAIZ MOLIDO"},{"$f":"+Manual!F13","v":5.8416273218791606},{"$f":"+C14*'Selec. Maestro Ingredientes'!E5","v":5.199048316472453},{"$f":"+$D14*'Selec. Maestro Ingredientes'!F5","v":4.7311339679899325},{"$f":"+$D14*'Selec. Maestro Ingredientes'!G5","v":0.49390959006488305},{"$f":"+$D14*'Selec. Maestro Ingredientes'!H5","v":0.25995241582362266},{"$f":"+$D14*'Selec. Maestro Ingredientes'!I5","v":0.49390959006488305},{"$f":"+$D14*'Selec. Maestro Ingredientes'!J5","v":0.15597144949417358},{"$f":"+$D14*'Selec. Maestro Ingredientes'!K5","v":1.0398096632944906E-3},{"$f":"+$D14*'Selec. Maestro Ingredientes'!L5","v":1.5597144949417359E-2},{"$f":"+$D14*'Selec. Maestro Ingredientes'!M5","v":17.104847125191441},{"$f":"+$D14*'Selec. Maestro Ingredientes'!N5","v":12.525530660881651},{"$f":"+$D14*'Selec. Maestro Ingredientes'!O5","v":10.967392423598641},{"$f":"+$D14*'Selec. Maestro Ingredientes'!P5","v":15.070636648972197},{"$f":"+$D14*'Selec. Maestro Ingredientes'!Q5","v":0.20796193265889812},{"$f":"+$D14*'Selec. Maestro Ingredientes'!R5","v":3.8992862373543398},{"$f":"+$D14*'Selec. Maestro Ingredientes'!S5","v":2.5995241582362265},{"$f":"+$D14*'Selec. Maestro Ingredientes'!T5","v":2.5995241582362265},{"$f":"+$D14*'Selec. Maestro Ingredientes'!U5","v":1.0398096632944906E-3},{"$f":"+$D14*'Selec. Maestro Ingredientes'!V5","v":6.2388579797669434E-3},{"$f":"+$D14*'Selec. Maestro Ingredientes'!W5","v":2.0796193265889811E-2},{"$f":"+$D14*'Selec. Maestro Ingredientes'!X5","v":2.5995241582362264E-3},{"$f":"+$D14*'Selec. Maestro Ingredientes'!Y5","v":6.2388579797669434E-3},{"$f":"+$D14*'Selec. Maestro Ingredientes'!Z5","v":0},{"$f":"+$D14*'Selec. Maestro Ingredientes'!AA5","v":3.2754004393776452},{"$f":"+$D14*'Selec. Maestro Ingredientes'!AB5","v":0},{"$f":"+$D14*'Selec. Maestro Ingredientes'!AC5","v":0},{"$f":"+$D14*'Selec. Maestro Ingredientes'!AD5","v":0},{"$f":"+$D14*'Selec. Maestro Ingredientes'!AE5","v":0},{"$f":"+$D14*'Selec. Maestro Ingredientes'!AF5","v":0},{"$f":"+$D14*'Selec. Maestro Ingredientes'!AG5","v":0},{"$f":"+$D14*'Selec. Maestro Ingredientes'!AH5","v":0},{"$f":"+$D14*'Selec. Maestro Ingredientes'!AI5","v":0},{"$f":"+$D14*'Selec. Maestro Ingredientes'!AJ5","v":0},{"$f":"+$D14*'Selec. Maestro Ingredientes'!AK5","v":0}]
[4,{"$f":"+'Selec. Maestro Ingredientes'!C6","v":"SOYA INTEGRAL"},{"$f":"+Manual!F14","v":3.2097548759948631},{"$f":"+C15*'Selec. Maestro Ingredientes'!E6","v":2.8887793883953767},{"$f":"+$D15*'Selec. Maestro Ingredientes'!F6","v":2.7443404189756078},{"$f":"+$D15*'Selec. Maestro Ingredientes'!G6","v":1.0110727859383819},{"$f":"+$D15*'Selec. Maestro Ingredientes'!H6","v":0.1733267633037226},{"$f":"+$D15*'Selec. Maestro Ingredientes'!I6","v":0.57775587767907532},{"$f":"+$D15*'Selec. Maestro Ingredientes'!J6","v":0.28887793883953766},{"$f":"+$D15*'Selec. Maestro Ingredientes'!K6","v":8.6663381651861295E-3},{"$f":"+$D15*'Selec. Maestro Ingredientes'!L6","v":1.8199310146890874E-2},{"$f":"+$D15*'Selec. Maestro Ingredientes'!M6","v":9.9218334639560322},{"$f":"+$D15*'Selec. Maestro Ingredientes'!N6","v":7.4750721369765785},{"$f":"+$D15*'Selec. Maestro Ingredientes'!O6","v":6.3769804998827944},{"$f":"+$D15*'Selec. Maestro Ingredientes'!P6","v":8.8840866612194702},{"$f":"+$D15*'Selec. Maestro Ingredientes'!Q6","v":0.63553146544698291},{"$f":"+$D15*'Selec. Maestro Ingredientes'!R6","v":0.51998028991116785},{"$f":"+$D15*'Selec. Maestro Ingredientes'!S6","v":1.4443896941976884},{"$f":"+$D15*'Selec. Maestro Ingredientes'!T6","v":1.4443896941976884},{"$f":"+$D15*'Selec. Maestro Ingredientes'!U6","v":5.7775587767907536E-4},{"$f":"+$D15*'Selec. Maestro Ingredientes'!V6","v":9.2440940428652058E-3},{"$f":"+$D15*'Selec. Maestro Ingredientes'!W6","v":4.8242615786202793E-2},{"$f":"+$D15*'Selec. Maestro Ingredientes'!X6","v":5.7775587767907536E-4},{"$f":"+$D15*'Selec. Maestro Ingredientes'!Y6","v":1.1555117553581507E-2},{"$f":"+$D15*'Selec. Maestro Ingredientes'!Z6","v":0},{"$f":"+$D15*'Selec. Maestro Ingredientes'!AA6","v":0.19354821902249025},{"$f":"+$D15*'Selec. Maestro Ingredientes'!AB6","v":0},{"$f":"+$D15*'Selec. Maestro Ingredientes'!AC6","v":0},{"$f":"+$D15*'Selec. Maestro Ingredientes'!AD6","v":0},{"$f":"+$D15*'Selec. Maestro Ingredientes'!AE6","v":0},{"$f":"+$D15*'Selec. Maestro Ingredientes'!AF6","v":0},{"$f":"+$D15*'Selec. Maestro Ingredientes'!AG6","v":0},{"$f":"+$D15*'Selec. Maestro Ingredientes'!AH6","v":0},{"$f":"+$D15*'Selec. Maestro Ingredientes'!AI6","v":0},{"$f":"+$D15*'Selec. Maestro Ingredientes'!AJ6","v":0},{"$f":"+$D15*'Selec. Maestro Ingredientes'!AK6","v":0}]
[5,{"$f":"+'Selec. Maestro Ingredientes'!C7","v":"CARBONATO DE CALCIO"},{"$f":"+Manual!F15","v":0.37912139280716611},{"$f":"+C16*'Selec. Maestro Ingredientes'!E7","v":0.37153896495102279},{"$f":"+$D16*'Selec. Maestro Ingredientes'!F7","v":0},{"$f":"+$D16*'Selec. Maestro Ingredientes'!G7","v":0},{"$f":"+$D16*'Selec. Maestro Ingredientes'!H7","v":0},{"$f":"+$D16*'Selec. Maestro Ingredientes'!I7","v":0},{"$f":"+$D16*'Selec. Maestro Ingredientes'!J7","v":0},{"$f":"+$D16*'Selec. Maestro Ingredientes'!K7","v":0.14118480668138866},{"$f":"+$D16*'Selec. Maestro Ingredientes'!L7","v":0},{"$f":"+$D16*'Selec. Maestro Ingredientes'!M7","v":0},{"$f":"+$D16*'Selec. Maestro Ingredientes'!N7","v":0},{"$f":"+$D16*'Selec. Maestro Ingredientes'!O7","v":0},{"$f":"+$D16*'Selec. Maestro Ingredientes'!P7","v":0},{"$f":"+$D16*'Selec. Maestro Ingredientes'!Q7","v":0},{"$f":"+$D16*'Selec. Maestro Ingredientes'!R7","v":0},{"$f":"+$D16*'Selec. Maestro Ingredientes'!S7","v":0},{"$f":"+$D16*'Selec. Maestro Ingredientes'!T7","v":0},{"$f":"+$D16*'Selec. Maestro Ingredientes'!U7","v":0},{"$f":"+$D16*'Selec. Maestro Ingredientes'!V7","v":0},{"$f":"+$D16*'Selec. Maestro Ingredientes'!W7","v":0},{"$f":"+$D16*'Selec. Maestro Ingredientes'!X7","v":0},{"$f":"+$D16*'Selec. Maestro Ingredientes'!Y7","v":0},{"$f":"+$D16*'Selec. Maestro Ingredientes'!Z7","v":0},{"$f":"+$D16*'Selec. Maestro Ingredientes'!AA7","v":0},{"$f":"+$D16*'Selec. Maestro Ingredientes'!AB7","v":0},{"$f":"+$D16*'Selec. Maestro Ingredientes'!AC7","v":0},{"$f":"+$D16*'Selec. Maestro Ingredientes'!AD7","v":0},{"$f":"+$D16*'Selec. Maestro Ingredientes'!AE7","v":0},{"$f":"+$D16*'Selec. Maestro Ingredientes'!AF7","v":0},{"$f":"+$D16*'Selec. Maestro Ingredientes'!AG7","v":0},{"$f":"+$D16*'Selec. Maestro Ingredientes'!AH7","v":0},{"$f":"+$D16*'Selec. Maestro Ingredientes'!AI7","v":0},{"$f":"+$D16*'Selec. Maestro Ingredientes'!AJ7","v":0},{"$f":"+$D16*'Selec. Maestro Ingredientes'!AK7","v":0}]
[6,{"$f":"+'Selec. Maestro Ingredientes'!C8","v":"SAL"},{"$f":"+Manual!F16","v":6.5000000000000002E-2},{"$f":"+C17*'Selec. Maestro Ingredientes'!E8","v":6.4350000000000004E-2},{"$f":"+$D17*'Selec. Maestro Ingredientes'!F8","v":0},{"$f":"+$D17*'Selec. Maestro Ingredientes'!G8","v":0},{"$f":"+$D17*'Selec. Maestro Ingredientes'!H8","v":0},{"$f":"+$D17*'Selec. Maestro Ingredientes'!I8","v":0},{"$f":"+$D17*'Selec. Maestro Ingredientes'!J8","v":0},{"$f":"+$D17*'Selec. Maestro Ingredientes'!K8","v":0},{"$f":"+$D17*'Selec. Maestro Ingredientes'!L8","v":0},{"$f":"+$D17*'Selec. Maestro Ingredientes'!M8","v":0},{"$f":"+$D17*'Selec. Maestro Ingredientes'!N8","v":0},{"$f":"+$D17*'Selec. Maestro Ingredientes'!O8","v":0},{"$f":"+$D17*'Selec. Maestro Ingredientes'!P8","v":0},{"$f":"+$D17*'Selec. Maestro Ingredientes'!Q8","v":0},{"$f":"+$D17*'Selec. Maestro Ingredientes'!R8","v":0},{"$f":"+$D17*'Selec. Maestro Ingredientes'!S8","v":0},{"$f":"+$D17*'Selec. Maestro Ingredientes'!T8","v":0},{"$f":"+$D17*'Selec. Maestro Ingredientes'!U8","v":2.5096500000000004E-2},{"$f":"+$D17*'Selec. Maestro Ingredientes'!V8","v":0},{"$f":"+$D17*'Selec. Maestro Ingredientes'!W8","v":0},{"$f":"+$D17*'Selec. Maestro Ingredientes'!X8","v":3.8609999999999998E-2},{"$f":"+$D17*'Selec. Maestro Ingredientes'!Y8","v":0},{"$f":"+$D17*'Selec. Maestro Ingredientes'!Z8","v":0},{"$f":"+$D17*'Selec. Maestro Ingredientes'!AA8","v":0},{"$f":"+$D17*'Selec. Maestro Ingredientes'!AB8","v":0},{"$f":"+$D17*'Selec. Maestro Ingredientes'!AC8","v":0},{"$f":"+$D17*'Selec. Maestro Ingredientes'!AD8","v":0},{"$f":"+$D17*'Selec. Maestro Ingredientes'!AE8","v":0},{"$f":"+$D17*'Selec. Maestro Ingredientes'!AF8","v":0},{"$f":"+$D17*'Selec. Maestro Ingredientes'!AG8","v":0},{"$f":"+$D17*'Selec. Maestro Ingredientes'!AH8","v":0},{"$f":"+$D17*'Selec. Maestro Ingredientes'!AI8","v":0},{"$f":"+$D17*'Selec. Maestro Ingredientes'!AJ8","v":0},{"$f":"+$D17*'Selec. Maestro Ingredientes'!AK8","v":0}]
[7,{"$f":"+'Selec. Maestro Ingredientes'!C9","v":"BICARBONATO"},{"$f":"+Manual!F17","v":0.25},{"$f":"+C18*'Selec. Maestro Ingredientes'!E9","v":0.2475},{"$f":"+$D18*'Selec. Maestro Ingredientes'!F9","v":0},{"$f":"+$D18*'Selec. Maestro Ingredientes'!G9","v":0},{"$f":"+$D18*'Selec. Maestro Ingredientes'!H9","v":0},{"$f":"+$D18*'Selec. Maestro Ingredientes'!I9","v":0},{"$f":"+$D18*'Selec. Maestro Ingredientes'!J9","v":0},{"$f":"+$D18*'Selec. Maestro Ingredientes'!K9","v":0},{"$f":"+$D18*'Selec. Maestro Ingredientes'!L9","v":0},{"$f":"+$D18*'Selec. Maestro Ingredientes'!M9","v":0},{"$f":"+$D18*'Selec. Maestro Ingredientes'!N9","v":0},{"$f":"+$D18*'Selec. Maestro Ingredientes'!O9","v":0},{"$f":"+$D18*'Selec. Maestro Ingredientes'!P9","v":0},{"$f":"+$D18*'Selec. Maestro Ingredientes'!Q9","v":0},{"$f":"+$D18*'Selec. Maestro Ingredientes'!R9","v":0},{"$f":"+$D18*'Selec. Maestro Ingredientes'!S9","v":0},{"$f":"+$D18*'Selec. Maestro Ingredientes'!T9","v":0},{"$f":"+$D18*'Selec. Maestro Ingredientes'!U9","v":0},{"$f":"+$D18*'Selec. Maestro Ingredientes'!V9","v":0},{"$f":"+$D18*'Selec. Maestro Ingredientes'!W9","v":0},{"$f":"+$D18*'Selec. Maestro Ingredientes'!X9","v":0},{"$f":"+$D18*'Selec. Maestro Ingredientes'!Y9","v":0},{"$f":"+$D18*'Selec. Maestro Ingredientes'!Z9","v":0},{"$f":"+$D18*'Selec. Maestro Ingredientes'!AA9","v":0},{"$f":"+$D18*'Selec. Maestro Ingredientes'!AB9","v":0},{"$f":"+$D18*'Selec. Maestro Ingredientes'!AC9","v":0},{"$f":"+$D18*'Selec. Maestro Ingredientes'!AD9","v":0},{"$f":"+$D18*'Selec. Maestro Ingredientes'!AE9","v":0},{"$f":"+$D18*'Selec. Maestro Ingredientes'!AF9","v":0},{"$f":"+$D18*'Selec. Maestro Ingredientes'!AG9","v":0},{"$f":"+$D18*'Selec. Maestro Ingredientes'!AH9","v":0},{"$f":"+$D18*'Selec. Maestro Ingredientes'!AI9","v":0},{"$f":"+$D18*'Selec. Maestro Ingredientes'!AJ9","v":0},{"$f":"+$D18*'Selec. Maestro Ingredientes'!AK9","v":0}]
[8,{"$f":"+'Selec. Maestro Ingredientes'!C10","v":"SUPLAMIN DIFOS"},{"$f":"+Manual!F18","v":4.081632652832376E-2},{"$f":"+C19*'Selec. Maestro Ingredientes'!E10","v":3.9999999997757281E-2},{"$f":"+$D19*'Selec. Maestro Ingredientes'!F10","v":0},{"$f":"+$D19*'Selec. Maestro Ingredientes'!G10","v":0},{"$f":"+$D19*'Selec. Maestro Ingredientes'!H10","v":0},{"$f":"+$D19*'Selec. Maestro Ingredientes'!I10","v":0},{"$f":"+$D19*'Selec. Maestro Ingredientes'!J10","v":0},{"$f":"+$D19*'Selec. Maestro Ingredientes'!K10","v":7.399999999585097E-3},{"$f":"+$D19*'Selec. Maestro Ingredientes'!L10","v":6.0239999996622466E-3},{"$f":"+$D19*'Selec. Maestro Ingredientes'!M10","v":0},{"$f":"+$D19*'Selec. Maestro Ingredientes'!N10","v":0},{"$f":"+$D19*'Selec. Maestro Ingredientes'!O10","v":0},{"$f":"+$D19*'Selec. Maestro Ingredientes'!P10","v":0},{"$f":"+$D19*'Selec. Maestro Ingredientes'!Q10","v":0},{"$f":"+$D19*'Selec. Maestro Ingredientes'!R10","v":0},{"$f":"+$D19*'Selec. Maestro Ingredientes'!S10","v":0},{"$f":"+$D19*'Selec. Maestro Ingredientes'!T10","v":0},{"$f":"+$D19*'Selec. Maestro Ingredientes'!U10","v":9.3999999994729615E-4},{"$f":"+$D19*'Selec. Maestro Ingredientes'!V10","v":1.9455999998909142E-4},{"$f":"+$D19*'Selec. Maestro Ingredientes'!W10","v":2.7999999998430095E-7},{"$f":"+$D19*'Selec. Maestro Ingredientes'!X10","v":0},{"$f":"+$D19*'Selec. Maestro Ingredientes'!Y10","v":3.7599999997891843E-5},{"$f":"+$D19*'Selec. Maestro Ingredientes'!Z10","v":0},{"$f":"+$D19*'Selec. Maestro Ingredientes'!AA10","v":0},{"$f":"+$D19*'Selec. Maestro Ingredientes'!AB10","v":0},{"$f":"+$D19*'Selec. Maestro Ingredientes'!AC10","v":0},{"$f":"+$D19*'Selec. Maestro Ingredientes'!AD10","v":0},{"$f":"+$D19*'Selec. Maestro Ingredientes'!AE10","v":0},{"$f":"+$D19*'Selec. Maestro Ingredientes'!AF10","v":48.359999997288554},{"$f":"+$D19*'Selec. Maestro Ingredientes'!AG10","v":0.3999999999775728},{"$f":"+$D19*'Selec. Maestro Ingredientes'!AH10","v":99.999999994393207},{"$f":"+$D19*'Selec. Maestro Ingredientes'!AI10","v":20.599999998845},{"$f":"+$D19*'Selec. Maestro Ingredientes'!AJ10","v":25.999999998542233},{"$f":"+$D19*'Selec. Maestro Ingredientes'!AK10","v":3.9999999997757283}]
[9,{"$f":"+'Selec. Maestro Ingredientes'!C11","v":"MELAZA"},{"$f":"+Manual!F19","v":4.4604313972946084E-2},{"$f":"+C20*'Selec. Maestro Ingredientes'!E11","v":3.3453235479709562E-2},{"$f":"+$D20*'Selec. Maestro Ingredientes'!F11","v":2.5424458964579268E-2},{"$f":"+$D20*'Selec. Maestro Ingredientes'!G11","v":1.6726617739854781E-3},{"$f":"+$D20*'Selec. Maestro Ingredientes'!H11","v":0},{"$f":"+$D20*'Selec. Maestro Ingredientes'!I11","v":0},{"$f":"+$D20*'Selec. Maestro Ingredientes'!J11","v":0},{"$f":"+$D20*'Selec. Maestro Ingredientes'!K11","v":3.6798559027680517E-4},{"$f":"+$D20*'Selec. Maestro Ingredientes'!L11","v":5.0179853219564345E-5},{"$f":"+$D20*'Selec. Maestro Ingredientes'!M11","v":9.1919080451360574E-2},{"$f":"+$D20*'Selec. Maestro Ingredientes'!N11","v":5.8211922919367901E-2},{"$f":"+$D20*'Selec. Maestro Ingredientes'!O11","v":5.8275536205654059E-2},{"$f":"+$D20*'Selec. Maestro Ingredientes'!P11","v":7.4811533034062239E-2},{"$f":"+$D20*'Selec. Maestro Ingredientes'!Q11","v":0},{"$f":"+$D20*'Selec. Maestro Ingredientes'!R11","v":2.7766185448158936E-2},{"$f":"+$D20*'Selec. Maestro Ingredientes'!S11","v":6.6906470959419125E-3},{"$f":"+$D20*'Selec. Maestro Ingredientes'!T11","v":2.676258838376765E-2},{"$f":"+$D20*'Selec. Maestro Ingredientes'!U11","v":7.359711805536104E-5},{"$f":"+$D20*'Selec. Maestro Ingredientes'!V11","v":1.4050358901478014E-4},{"$f":"+$D20*'Selec. Maestro Ingredientes'!W11","v":1.3381294191883825E-3},{"$f":"+$D20*'Selec. Maestro Ingredientes'!X11","v":1.0370502998709964E-3},{"$f":"+$D20*'Selec. Maestro Ingredientes'!Y11","v":1.5388488320666399E-4},{"$f":"+$D20*'Selec. Maestro Ingredientes'!Z11","v":0},{"$f":"+$D20*'Selec. Maestro Ingredientes'!AA11","v":2.3417264835796695E-3},{"$f":"+$D20*'Selec. Maestro Ingredientes'!AB11","v":0},{"$f":"+$D20*'Selec. Maestro Ingredientes'!AC11","v":0},{"$f":"+$D20*'Selec. Maestro Ingredientes'!AD11","v":0},{"$f":"+$D20*'Selec. Maestro Ingredientes'!AE11","v":0},{"$f":"+$D20*'Selec. Maestro Ingredientes'!AF11","v":0},{"$f":"+$D20*'Selec. Maestro Ingredientes'!AG11","v":0},{"$f":"+$D20*'Selec. Maestro Ingredientes'!AH11","v":0},{"$f":"+$D20*'Selec. Maestro Ingredientes'!AI11","v":0},{"$f":"+$D20*'Selec. Maestro Ingredientes'!AJ11","v":0},{"$f":"+$D20*'Selec. Maestro Ingredientes'!AK11","v":0}]
[10,{"$f":"+'Selec. Maestro Ingredientes'!C12","v":"UREA"},{"$f":"+Manual!F20","v":0},{"$f":"+C21*'Selec. Maestro Ingredientes'!E12","v":0},{"$f":"+$D21*'Selec. Maestro Ingredientes'!F12","v":0},{"$f":"+$D21*'Selec. Maestro Ingredientes'!G12","v":0},{"$f":"+$D21*'Selec. Maestro Ingredientes'!H12","v":0},{"$f":"+$D21*'Selec. Maestro Ingredientes'!I12","v":0},{"$f":"+$D21*'Selec. Maestro Ingredientes'!J12","v":0},{"$f":"+$D21*'Selec. Maestro Ingredientes'!K12","v":0},{"$f":"+$D21*'Selec. Maestro Ingredientes'!L12","v":0},{"$f":"+$D21*'Selec. Maestro Ingredientes'!M12","v":0},{"$f":"+$D21*'Selec. Maestro Ingredientes'!N12","v":0},{"$f":"+$D21*'Selec. Maestro Ingredientes'!O12","v":0},{"$f":"+$D21*'Selec. Maestro Ingredientes'!P12","v":0},{"$f":"+$D21*'Selec. Maestro Ingredientes'!Q12","v":0},{"$f":"+$D21*'Selec. Maestro Ingredientes'!R12","v":0},{"$f":"+$D21*'Selec. Maestro Ingredientes'!S12","v":0},{"$f":"+$D21*'Selec. Maestro Ingredientes'!T12","v":0},{"$f":"+$D21*'Selec. Maestro Ingredientes'!U12","v":0},{"$f":"+$D21*'Selec. Maestro Ingredientes'!V12","v":0},{"$f":"+$D21*'Selec. Maestro Ingredientes'!W12","v":0},{"$f":"+$D21*'Selec. Maestro Ingredientes'!X12","v":0},{"$f":"+$D21*'Selec. Maestro Ingredientes'!Y12","v":0},{"$f":"+$D21*'Selec. Maestro Ingredientes'!Z12","v":0},{"$f":"+$D21*'Selec. Maestro Ingredientes'!AA12","v":0},{"$f":"+$D21*'Selec. Maestro Ingredientes'!AB12","v":0},{"$f":"+$D21*'Selec. Maestro Ingredientes'!AC12","v":0},{"$f":"+$D21*'Selec. Maestro Ingredientes'!AD12","v":0},{"$f":"+$D21*'Selec. Maestro Ingredientes'!AE12","v":0},{"$f":"+$D21*'Selec. Maestro Ingredientes'!AF12","v":0},{"$f":"+$D21*'Selec. Maestro Ingredientes'!AG12","v":0},{"$f":"+$D21*'Selec. Maestro Ingredientes'!AH12","v":0},{"$f":"+$D21*'Selec. Maestro Ingredientes'!AI12","v":0},{"$f":"+$D21*'Selec. Maestro Ingredientes'!AJ12","v":0},{"$f":"+$D21*'Selec. Maestro Ingredientes'!AK12","v":0}]
[11,{"$f":"+'Selec. Maestro Ingredientes'!C13","v":"GRASA PROTEGIDA"},{"$f":"+Manual!F21","v":0},{"$f":"+C22*'Selec. Maestro Ingredientes'!E13","v":0},{"$f":"+$D22*'Selec. Maestro Ingredientes'!F13","v":0},{"$f":"+$D22*'Selec. Maestro Ingredientes'!G13","v":0},{"$f":"+$D22*'Selec. Maestro Ingredientes'!H13","v":0},{"$f":"+$D22*'Selec. Maestro Ingredientes'!I13","v":0},{"$f":"+$D22*'Selec. Maestro Ingredientes'!J13","v":0},{"$f":"+$D22*'Selec. Maestro Ingredientes'!K13","v":0},{"$f":"+$D22*'Selec. Maestro Ingredientes'!L13","v":0},{"$f":"+$D22*'Selec. Maestro Ingredientes'!M13","v":0},{"$f":"+$D22*'Selec. Maestro Ingredientes'!N13","v":0},{"$f":"+$D22*'Selec. Maestro Ingredientes'!O13","v":0},{"$f":"+$D22*'Selec. Maestro Ingredientes'!P13","v":0},{"$f":"+$D22*'Selec. Maestro Ingredientes'!Q13","v":0},{"$f":"+$D22*'Selec. Maestro Ingredientes'!R13","v":0},{"$f":"+$D22*'Selec. Maestro Ingredientes'!S13","v":0},{"$f":"+$D22*'Selec. Maestro Ingredientes'!T13","v":0},{"$f":"+$D22*'Selec. Maestro Ingredientes'!U13","v":0},{"$f":"+$D22*'Selec. Maestro Ingredientes'!V13","v":0},{"$f":"+$D22*'Selec. Maestro Ingredientes'!W13","v":0},{"$f":"+$D22*'Selec. Maestro Ingredientes'!X13","v":0},{"$f":"+$D22*'Selec. Maestro Ingredientes'!Y13","v":0},{"$f":"+$D22*'Selec. Maestro Ingredientes'!Z13","v":0},{"$f":"+$D22*'Selec. Maestro Ingredientes'!AA13","v":0},{"$f":"+$D22*'Selec. Maestro Ingredientes'!AB13","v":0},{"$f":"+$D22*'Selec. Maestro Ingredientes'!AC13","v":0},{"$f":"+$D22*'Selec. Maestro Ingredientes'!AD13","v":0},{"$f":"+$D22*'Selec. Maestro Ingredientes'!AE13","v":0},{"$f":"+$D22*'Selec. Maestro Ingredientes'!AF13","v":0},{"$f":"+$D22*'Selec. Maestro Ingredientes'!AG13","v":0},{"$f":"+$D22*'Selec. Maestro Ingredientes'!AH13","v":0},{"$f":"+$D22*'Selec. Maestro Ingredientes'!AI13","v":0},{"$f":"+$D22*'Selec. Maestro Ingredientes'!AJ13","v":0},{"$f":"+$D22*'Selec. Maestro Ingredientes'!AK13","v":0}]
[12,{"$f":"+'Selec. Maestro Ingredientes'!C14","v":"PEPA ALGODÓN "},{"$f":"+Manual!F22","v":0},{"$f":"+C23*'Selec. Maestro Ingredientes'!E14","v":0},{"$f":"+$D23*'Selec. Maestro Ingredientes'!F14","v":0},{"$f":"+$D23*'Selec. Maestro Ingredientes'!G14","v":0},{"$f":"+$D23*'Selec. Maestro Ingredientes'!H14","v":0},{"$f":"+$D23*'Selec. Maestro Ingredientes'!I14","v":0},{"$f":"+$D23*'Selec. Maestro Ingredientes'!J14","v":0},{"$f":"+$D23*'Selec. Maestro Ingredientes'!K14","v":0},{"$f":"+$D23*'Selec. Maestro Ingredientes'!L14","v":0},{"$f":"+$D23*'Selec. Maestro Ingredientes'!M14","v":0},{"$f":"+$D23*'Selec. Maestro Ingredientes'!N14","v":0},{"$f":"+$D23*'Selec. Maestro Ingredientes'!O14","v":0},{"$f":"+$D23*'Selec. Maestro Ingredientes'!P14","v":0},{"$f":"+$D23*'Selec. Maestro Ingredientes'!Q14","v":0},{"$f":"+$D23*'Selec. Maestro Ingredientes'!R14","v":0},{"$f":"+$D23*'Selec. Maestro Ingredientes'!S14","v":0},{"$f":"+$D23*'Selec. Maestro Ingredientes'!T14","v":0},{"$f":"+$D23*'Selec. Maestro Ingredientes'!U14","v":0},{"$f":"+$D23*'Selec. Maestro Ingredientes'!V14","v":0},{"$f":"+$D23*'Selec. Maestro Ingredientes'!W14","v":0},{"$f":"+$D23*'Selec. Maestro Ingredientes'!X14","v":0},{"$f":"+$D23*'Selec. Maestro Ingredientes'!Y14","v":0},{"$f":"+$D23*'Selec. Maestro Ingredientes'!Z14","v":0},{"$f":"+$D23*'Selec. Maestro Ingredientes'!AA14","v":0},{"$f":"+$D23*'Selec. Maestro Ingredientes'!AB14","v":0},{"$f":"+$D23*'Selec. Maestro Ingredientes'!AC14","v":0},{"$f":"+$D23*'Selec. Maestro Ingredientes'!AD14","v":0},{"$f":"+$D23*'Selec. Maestro Ingredientes'!AE14","v":0},{"$f":"+$D23*'Selec. Maestro Ingredientes'!AF14","v":0},{"$f":"+$D23*'Selec. Maestro Ingredientes'!AG14","v":0},{"$f":"+$D23*'Selec. Maestro Ingredientes'!AH14","v":0},{"$f":"+$D23*'Selec. Maestro Ingredientes'!AI14","v":0},{"$f":"+$D23*'Selec. Maestro Ingredientes'!AJ14","v":0},{"$f":"+$D23*'Selec. Maestro Ingredientes'!AK14","v":0}]
[13,{"$f":"+'Selec. Maestro Ingredientes'!C15","v":"MONTAFOS"},{"$f":"+Manual!F23","v":0},{"$f":"+C24*'Selec. Maestro Ingredientes'!E15","v":0},{"$f":"+$D24*'Selec. Maestro Ingredientes'!F15","v":0},{"$f":"+$D24*'Selec. Maestro Ingredientes'!G15","v":0},{"$f":"+$D24*'Selec. Maestro Ingredientes'!H15","v":0},{"$f":"+$D24*'Selec. Maestro Ingredientes'!I15","v":0},{"$f":"+$D24*'Selec. Maestro Ingredientes'!J15","v":0},{"$f":"+$D24*'Selec. Maestro Ingredientes'!K15","v":0},{"$f":"+$D24*'Selec. Maestro Ingredientes'!L15","v":0},{"$f":"+$D24*'Selec. Maestro Ingredientes'!M15","v":0},{"$f":"+$D24*'Selec. Maestro Ingredientes'!N15","v":0},{"$f":"+$D24*'Selec. Maestro Ingredientes'!O15","v":0},{"$f":"+$D24*'Selec. Maestro Ingredientes'!P15","v":0},{"$f":"+$D24*'Selec. Maestro Ingredientes'!Q15","v":0},{"$f":"+$D24*'Selec. Maestro Ingredientes'!R15","v":0},{"$f":"+$D24*'Selec. Maestro Ingredientes'!S15","v":0},{"$f":"+$D24*'Selec. Maestro Ingredientes'!T15","v":0},{"$f":"+$D24*'Selec. Maestro Ingredientes'!U15","v":0},{"$f":"+$D24*'Selec. Maestro Ingredientes'!V15","v":0},{"$f":"+$D24*'Selec. Maestro Ingredientes'!W15","v":0},{"$f":"+$D24*'Selec. Maestro Ingredientes'!X15","v":0},{"$f":"+$D24*'Selec. Maestro Ingredientes'!Y15","v":0},{"$f":"+$D24*'Selec. Maestro Ingredientes'!Z15","v":0},{"$f":"+$D24*'Selec. Maestro Ingredientes'!AA15","v":0},{"$f":"+$D24*'Selec. Maestro Ingredientes'!AB15","v":0},{"$f":"+$D24*'Selec. Maestro Ingredientes'!AC15","v":0},{"$f":"+$D24*'Selec. Maestro Ingredientes'!AD15","v":0},{"$f":"+$D24*'Selec. Maestro Ingredientes'!AE15","v":0},{"$f":"+$D24*'Selec. Maestro Ingredientes'!AF15","v":0},{"$f":"+$D24*'Selec. Maestro Ingredientes'!AG15","v":0},{"$f":"+$D24*'Selec. Maestro Ingredientes'!AH15","v":0},{"$f":"+$D24*'Selec. Maestro Ingredientes'!AI15","v":0},{"$f":"+$D24*'Selec. Maestro Ingredientes'!AJ15","v":0},{"$f":"+$D24*'Selec. Maestro Ingredientes'!AK15","v":0}]
[14,{"$f":"+'Selec. Maestro Ingredientes'!C16","v":""},{"$f":"+Manual!F24","v":0},{"$f":"+C25*'Selec. Maestro Ingredientes'!E16","v":0},{"$f":"+$D25*'Selec. Maestro Ingredientes'!F16","v":0},{"$f":"+$D25*'Selec. Maestro Ingredientes'!G16","v":0},{"$f":"+$D25*'Selec. Maestro Ingredientes'!H16","v":0},{"$f":"+$D25*'Selec. Maestro Ingredientes'!I16","v":0},{"$f":"+$D25*'Selec. Maestro Ingredientes'!J16","v":0},{"$f":"+$D25*'Selec. Maestro Ingredientes'!K16","v":0},{"$f":"+$D25*'Selec. Maestro Ingredientes'!L16","v":0},{"$f":"+$D25*'Selec. Maestro Ingredientes'!M16","v":0},{"$f":"+$D25*'Selec. Maestro Ingredientes'!N16","v":0},{"$f":"+$D25*'Selec. Maestro Ingredientes'!O16","v":0},{"$f":"+$D25*'Selec. Maestro Ingredientes'!P16","v":0},{"$f":"+$D25*'Selec. Maestro Ingredientes'!Q16","v":0},{"$f":"+$D25*'Selec. Maestro Ingredientes'!R16","v":0},{"$f":"+$D25*'Selec. Maestro Ingredientes'!S16","v":0},{"$f":"+$D25*'Selec. Maestro Ingredientes'!T16","v":0},{"$f":"+$D25*'Selec. Maestro Ingredientes'!U16","v":0},{"$f":"+$D25*'Selec. Maestro Ingredientes'!V16","v":0},{"$f":"+$D25*'Selec. Maestro Ingredientes'!W16","v":0},{"$f":"+$D25*'Selec. Maestro Ingredientes'!X16","v":0},{"$f":"+$D25*'Selec. Maestro Ingredientes'!Y16","v":0},{"$f":"+$D25*'Selec. Maestro Ingredientes'!Z16","v":0},{"$f":"+$D25*'Selec. Maestro Ingredientes'!AA16","v":0},{"$f":"+$D25*'Selec. Maestro Ingredientes'!AB16","v":0},{"$f":"+$D25*'Selec. Maestro Ingredientes'!AC16","v":0},{"$f":"+$D25*'Selec. Maestro Ingredientes'!AD16","v":0},{"$f":"+$D25*'Selec. Maestro Ingredientes'!AE16","v":0},{"$f":"+$D25*'Selec. Maestro Ingredientes'!AF16","v":0},{"$f":"+$D25*'Selec. Maestro Ingredientes'!AG16","v":0},{"$f":"+$D25*'Selec. Maestro Ingredientes'!AH16","v":0},{"$f":"+$D25*'Selec. Maestro Ingredientes'!AI16","v":0},{"$f":"+$D25*'Selec. Maestro Ingredientes'!AJ16","v":0},{"$f":"+$D25*'Selec. Maestro Ingredientes'!AK16","v":0}]
[15,{"$f":"+'Selec. Maestro Ingredientes'!C17","v":""},{"$f":"+Manual!F25","v":0},{"$f":"+C26*'Selec. Maestro Ingredientes'!E17","v":0},{"$f":"+$D26*'Selec. Maestro Ingredientes'!F17","v":0},{"$f":"+$D26*'Selec. Maestro Ingredientes'!G17","v":0},{"$f":"+$D26*'Selec. Maestro Ingredientes'!H17","v":0},{"$f":"+$D26*'Selec. Maestro Ingredientes'!I17","v":0},{"$f":"+$D26*'Selec. Maestro Ingredientes'!J17","v":0},{"$f":"+$D26*'Selec. Maestro Ingredientes'!K17","v":0},{"$f":"+$D26*'Selec. Maestro Ingredientes'!L17","v":0},{"$f":"+$D26*'Selec. Maestro Ingredientes'!M17","v":0},{"$f":"+$D26*'Selec. Maestro Ingredientes'!N17","v":0},{"$f":"+$D26*'Selec. Maestro Ingredientes'!O17","v":0},{"$f":"+$D26*'Selec. Maestro Ingredientes'!P17","v":0},{"$f":"+$D26*'Selec. Maestro Ingredientes'!Q17","v":0},{"$f":"+$D26*'Selec. Maestro Ingredientes'!R17","v":0},{"$f":"+$D26*'Selec. Maestro Ingredientes'!S17","v":0},{"$f":"+$D26*'Selec. Maestro Ingredientes'!T17","v":0},{"$f":"+$D26*'Selec. Maestro Ingredientes'!U17","v":0},{"$f":"+$D26*'Selec. Maestro Ingredientes'!V17","v":0},{"$f":"+$D26*'Selec. Maestro Ingredientes'!W17","v":0},{"$f":"+$D26*'Selec. Maestro Ingredientes'!X17","v":0},{"$f":"+$D26*'Selec. Maestro Ingredientes'!Y17","v":0},{"$f":"+$D26*'Selec. Maestro Ingredientes'!Z17","v":0},{"$f":"+$D26*'Selec. Maestro Ingredientes'!AA17","v":0},{"$f":"+$D26*'Selec. Maestro Ingredientes'!AB17","v":0},{"$f":"+$D26*'Selec. Maestro Ingredientes'!AC17","v":0},{"$f":"+$D26*'Selec. Maestro Ingredientes'!AD17","v":0},{"$f":"+$D26*'Selec. Maestro Ingredientes'!AE17","v":0},{"$f":"+$D26*'Selec. Maestro Ingredientes'!AF17","v":0},{"$f":"+$D26*'Selec. Maestro Ingredientes'!AG17","v":0},{"$f":"+$D26*'Selec. Maestro Ingredientes'!AH17","v":0},{"$f":"+$D26*'Selec. Maestro Ingredientes'!AI17","v":0},{"$f":"+$D26*'Selec. Maestro Ingredientes'!AJ17","v":0},{"$f":"+$D26*'Selec. Maestro Ingredientes'!AK17","v":0}]
[16,{"$f":"+'Selec. Maestro Ingredientes'!C18","v":""},{"$f":"+Manual!F26","v":0},{"$f":"+C27*'Selec. Maestro Ingredientes'!E18","v":0},{"$f":"+$D27*'Selec. Maestro Ingredientes'!F18","v":0},{"$f":"+$D27*'Selec. Maestro Ingredientes'!G18","v":0},{"$f":"+$D27*'Selec. Maestro Ingredientes'!H18","v":0},{"$f":"+$D27*'Selec. Maestro Ingredientes'!I18","v":0},{"$f":"+$D27*'Selec. Maestro Ingredientes'!J18","v":0},{"$f":"+$D27*'Selec. Maestro Ingredientes'!K18","v":0},{"$f":"+$D27*'Selec. Maestro Ingredientes'!L18","v":0},{"$f":"+$D27*'Selec. Maestro Ingredientes'!M18","v":0},{"$f":"+$D27*'Selec. Maestro Ingredientes'!N18","v":0},{"$f":"+$D27*'Selec. Maestro Ingredientes'!O18","v":0},{"$f":"+$D27*'Selec. Maestro Ingredientes'!P18","v":0},{"$f":"+$D27*'Selec. Maestro Ingredientes'!Q18","v":0},{"$f":"+$D27*'Selec. Maestro Ingredientes'!R18","v":0},{"$f":"+$D27*'Selec. Maestro Ingredientes'!S18","v":0},{"$f":"+$D27*'Selec. Maestro Ingredientes'!T18","v":0},{"$f":"+$D27*'Selec. Maestro Ingredientes'!U18","v":0},{"$f":"+$D27*'Selec. Maestro Ingredientes'!V18","v":0},{"$f":"+$D27*'Selec. Maestro Ingredientes'!W18","v":0},{"$f":"+$D27*'Selec. Maestro Ingredientes'!X18","v":0},{"$f":"+$D27*'Selec. Maestro Ingredientes'!Y18","v":0},{"$f":"+$D27*'Selec. Maestro Ingredientes'!Z18","v":0},{"$f":"+$D27*'Selec. Maestro Ingredientes'!AA18","v":0},{"$f":"+$D27*'Selec. Maestro Ingredientes'!AB18","v":0},{"$f":"+$D27*'Selec. Maestro Ingredientes'!AC18","v":0},{"$f":"+$D27*'Selec. Maestro Ingredientes'!AD18","v":0},{"$f":"+$D27*'Selec. Maestro Ingredientes'!AE18","v":0},{"$f":"+$D27*'Selec. Maestro Ingredientes'!AF18","v":0},{"$f":"+$D27*'Selec. Maestro Ingredientes'!AG18","v":0},{"$f":"+$D27*'Selec. Maestro Ingredientes'!AH18","v":0},{"$f":"+$D27*'Selec. Maestro Ingredientes'!AI18","v":0},{"$f":"+$D27*'Selec. Maestro Ingredientes'!AJ18","v":0},{"$f":"+$D27*'Selec. Maestro Ingredientes'!AK18","v":0}]
[17,{"$f":"+'Selec. Maestro Ingredientes'!C19","v":""},{"$f":"+Manual!F27","v":0},{"$f":"+C28*'Selec. Maestro Ingredientes'!E19","v":0},{"$f":"+$D28*'Selec. Maestro Ingredientes'!F19","v":0},{"$f":"+$D28*'Selec. Maestro Ingredientes'!G19","v":0},{"$f":"+$D28*'Selec. Maestro Ingredientes'!H19","v":0},{"$f":"+$D28*'Selec. Maestro Ingredientes'!I19","v":0},{"$f":"+$D28*'Selec. Maestro Ingredientes'!J19","v":0},{"$f":"+$D28*'Selec. Maestro Ingredientes'!K19","v":0},{"$f":"+$D28*'Selec. Maestro Ingredientes'!L19","v":0},{"$f":"+$D28*'Selec. Maestro Ingredientes'!M19","v":0},{"$f":"+$D28*'Selec. Maestro Ingredientes'!N19","v":0},{"$f":"+$D28*'Selec. Maestro Ingredientes'!O19","v":0},{"$f":"+$D28*'Selec. Maestro Ingredientes'!P19","v":0},{"$f":"+$D28*'Selec. Maestro Ingredientes'!Q19","v":0},{"$f":"+$D28*'Selec. Maestro Ingredientes'!R19","v":0},{"$f":"+$D28*'Selec. Maestro Ingredientes'!S19","v":0},{"$f":"+$D28*'Selec. Maestro Ingredientes'!T19","v":0},{"$f":"+$D28*'Selec. Maestro Ingredientes'!U19","v":0},{"$f":"+$D28*'Selec. Maestro Ingredientes'!V19","v":0},{"$f":"+$D28*'Selec. Maestro Ingredientes'!W19","v":0},{"$f":"+$D28*'Selec. Maestro Ingredientes'!X19","v":0},{"$f":"+$D28*'Selec. Maestro Ingredientes'!Y19","v":0},{"$f":"+$D28*'Selec. Maestro Ingredientes'!Z19","v":0},{"$f":"+$D28*'Selec. Maestro Ingredientes'!AA19","v":0},{"$f":"+$D28*'Selec. Maestro Ingredientes'!AB19","v":0},{"$f":"+$D28*'Selec. Maestro Ingredientes'!AC19","v":0},{"$f":"+$D28*'Selec. Maestro Ingredientes'!AD19","v":0},{"$f":"+$D28*'Selec. Maestro Ingredientes'!AE19","v":0},{"$f":"+$D28*'Selec. Maestro Ingredientes'!AF19","v":0},{"$f":"+$D28*'Selec. Maestro Ingredientes'!AG19","v":0},{"$f":"+$D28*'Selec. Maestro Ingredientes'!AH19","v":0},{"$f":"+$D28*'Selec. Maestro Ingredientes'!AI19","v":0},{"$f":"+$D28*'Selec. Maestro Ingredientes'!AJ19","v":0},{"$f":"+$D28*'Selec. Maestro Ingredientes'!AK19","v":0}]
[18,{"$f":"+'Selec. Maestro Ingredientes'!C20","v":""},{"$f":"+Manual!F28","v":0},{"$f":"+C29*'Selec. Maestro Ingredientes'!E20","v":0},{"$f":"+$D29*'Selec. Maestro Ingredientes'!F20","v":0},{"$f":"+$D29*'Selec. Maestro Ingredientes'!G20","v":0},{"$f":"+$D29*'Selec. Maestro Ingredientes'!H20","v":0},{"$f":"+$D29*'Selec. Maestro Ingredientes'!I20","v":0},{"$f":"+$D29*'Selec. Maestro Ingredientes'!J20","v":0},{"$f":"+$D29*'Selec. Maestro Ingredientes'!K20","v":0},{"$f":"+$D29*'Selec. Maestro Ingredientes'!L20","v":0},{"$f":"+$D29*'Selec. Maestro Ingredientes'!M20","v":0},{"$f":"+$D29*'Selec. Maestro Ingredientes'!N20","v":0},{"$f":"+$D29*'Selec. Maestro Ingredientes'!O20","v":0},{"$f":"+$D29*'Selec. Maestro Ingredientes'!P20","v":0},{"$f":"+$D29*'Selec. Maestro Ingredientes'!Q20","v":0},{"$f":"+$D29*'Selec. Maestro Ingredientes'!R20","v":0},{"$f":"+$D29*'Selec. Maestro Ingredientes'!S20","v":0},{"$f":"+$D29*'Selec. Maestro Ingredientes'!T20","v":0},{"$f":"+$D29*'Selec. Maestro Ingredientes'!U20","v":0},{"$f":"+$D29*'Selec. Maestro Ingredientes'!V20","v":0},{"$f":"+$D29*'Selec. Maestro Ingredientes'!W20","v":0},{"$f":"+$D29*'Selec. Maestro Ingredientes'!X20","v":0},{"$f":"+$D29*'Selec. Maestro Ingredientes'!Y20","v":0},{"$f":"+$D29*'Selec. Maestro Ingredientes'!Z20","v":0},{"$f":"+$D29*'Selec. Maestro Ingredientes'!AA20","v":0},{"$f":"+$D29*'Selec. Maestro Ingredientes'!AB20","v":0},{"$f":"+$D29*'Selec. Maestro Ingredientes'!AC20","v":0},{"$f":"+$D29*'Selec. Maestro Ingredientes'!AD20","v":0},{"$f":"+$D29*'Selec. Maestro Ingredientes'!AE20","v":0},{"$f":"+$D29*'Selec. Maestro Ingredientes'!AF20","v":0},{"$f":"+$D29*'Selec. Maestro Ingredientes'!AG20","v":0},{"$f":"+$D29*'Selec. Maestro Ingredientes'!AH20","v":0},{"$f":"+$D29*'Selec. Maestro Ingredientes'!AI20","v":0},{"$f":"+$D29*'Selec. Maestro Ingredientes'!AJ20","v":0},{"$f":"+$D29*'Selec. Maestro Ingredientes'!AK20","v":0}]
[19,{"$f":"+'Selec. Maestro Ingredientes'!C21","v":""},{"$f":"+Manual!F29","v":0},{"$f":"+C30*'Selec. Maestro Ingredientes'!E21","v":0},{"$f":"+$D30*'Selec. Maestro Ingredientes'!F21","v":0},{"$f":"+$D30*'Selec. Maestro Ingredientes'!G21","v":0},{"$f":"+$D30*'Selec. Maestro Ingredientes'!H21","v":0},{"$f":"+$D30*'Selec. Maestro Ingredientes'!I21","v":0},{"$f":"+$D30*'Selec. Maestro Ingredientes'!J21","v":0},{"$f":"+$D30*'Selec. Maestro Ingredientes'!K21","v":0},{"$f":"+$D30*'Selec. Maestro Ingredientes'!L21","v":0},{"$f":"+$D30*'Selec. Maestro Ingredientes'!M21","v":0},{"$f":"+$D30*'Selec. Maestro Ingredientes'!N21","v":0},{"$f":"+$D30*'Selec. Maestro Ingredientes'!O21","v":0},{"$f":"+$D30*'Selec. Maestro Ingredientes'!P21","v":0},{"$f":"+$D30*'Selec. Maestro Ingredientes'!Q21","v":0},{"$f":"+$D30*'Selec. Maestro Ingredientes'!R21","v":0},{"$f":"+$D30*'Selec. Maestro Ingredientes'!S21","v":0},{"$f":"+$D30*'Selec. Maestro Ingredientes'!T21","v":0},{"$f":"+$D30*'Selec. Maestro Ingredientes'!U21","v":0},{"$f":"+$D30*'Selec. Maestro Ingredientes'!V21","v":0},{"$f":"+$D30*'Selec. Maestro Ingredientes'!W21","v":0},{"$f":"+$D30*'Selec. Maestro Ingredientes'!X21","v":0},{"$f":"+$D30*'Selec. Maestro Ingredientes'!Y21","v":0},{"$f":"+$D30*'Selec. Maestro Ingredientes'!Z21","v":0},{"$f":"+$D30*'Selec. Maestro Ingredientes'!AA21","v":0},{"$f":"+$D30*'Selec. Maestro Ingredientes'!AB21","v":0},{"$f":"+$D30*'Selec. Maestro Ingredientes'!AC21","v":0},{"$f":"+$D30*'Selec. Maestro Ingredientes'!AD21","v":0},{"$f":"+$D30*'Selec. Maestro Ingredientes'!AE21","v":0},{"$f":"+$D30*'Selec. Maestro Ingredientes'!AF21","v":0},{"$f":"+$D30*'Selec. Maestro Ingredientes'!AG21","v":0},{"$f":"+$D30*'Selec. Maestro Ingredientes'!AH21","v":0},{"$f":"+$D30*'Selec. Maestro Ingredientes'!AI21","v":0},{"$f":"+$D30*'Selec. Maestro Ingredientes'!AJ21","v":0},{"$f":"+$D30*'Selec. Maestro Ingredientes'!AK21","v":0}]
[20,{"$f":"+'Selec. Maestro Ingredientes'!C22","v":""},{"$f":"+Manual!F30","v":0},{"$f":"+C31*'Selec. Maestro Ingredientes'!E22","v":0},{"$f":"+$D31*'Selec. Maestro Ingredientes'!F22","v":0},{"$f":"+$D31*'Selec. Maestro Ingredientes'!G22","v":0},{"$f":"+$D31*'Selec. Maestro Ingredientes'!H22","v":0},{"$f":"+$D31*'Selec. Maestro Ingredientes'!I22","v":0},{"$f":"+$D31*'Selec. Maestro Ingredientes'!J22","v":0},{"$f":"+$D31*'Selec. Maestro Ingredientes'!K22","v":0},{"$f":"+$D31*'Selec. Maestro Ingredientes'!L22","v":0},{"$f":"+$D31*'Selec. Maestro Ingredientes'!M22","v":0},{"$f":"+$D31*'Selec. Maestro Ingredientes'!N22","v":0},{"$f":"+$D31*'Selec. Maestro Ingredientes'!O22","v":0},{"$f":"+$D31*'Selec. Maestro Ingredientes'!P22","v":0},{"$f":"+$D31*'Selec. Maestro Ingredientes'!Q22","v":0},{"$f":"+$D31*'Selec. Maestro Ingredientes'!R22","v":0},{"$f":"+$D31*'Selec. Maestro Ingredientes'!S22","v":0},{"$f":"+$D31*'Selec. Maestro Ingredientes'!T22","v":0},{"$f":"+$D31*'Selec. Maestro Ingredientes'!U22","v":0},{"$f":"+$D31*'Selec. Maestro Ingredientes'!V22","v":0},{"$f":"+$D31*'Selec. Maestro Ingredientes'!W22","v":0},{"$f":"+$D31*'Selec. Maestro Ingredientes'!X22","v":0},{"$f":"+$D31*'Selec. Maestro Ingredientes'!Y22","v":0},{"$f":"+$D31*'Selec. Maestro Ingredientes'!Z22","v":0},{"$f":"+$D31*'Selec. Maestro Ingredientes'!AA22","v":0},{"$f":"+$D31*'Selec. Maestro Ingredientes'!AB22","v":0},{"$f":"+$D31*'Selec. Maestro Ingredientes'!AC22","v":0},{"$f":"+$D31*'Selec. Maestro Ingredientes'!AD22","v":0},{"$f":"+$D31*'Selec. Maestro Ingredientes'!AE22","v":0},{"$f":"+$D31*'Selec. Maestro Ingredientes'!AF22","v":0},{"$f":"+$D31*'Selec. Maestro Ingredientes'!AG22","v":0},{"$f":"+$D31*'Selec. Maestro Ingredientes'!AH22","v":0},{"$f":"+$D31*'Selec. Maestro Ingredientes'!AI22","v":0},{"$f":"+$D31*'Selec. Maestro Ingredientes'!AJ22","v":0},{"$f":"+$D31*'Selec. Maestro Ingredientes'!AK22","v":0}]
[null,null,{"$f":"+SUM(C12:C31)","v":15.74023118301676},{"$f":"+SUM(D12:D31)","v":14.162139231465535},11.594449000127181,3.2313403143384729,0.88605264543580575,2.3243124003608799,1.0228424865562025,0.16980534807823883,8.7772920232374527E-2,41.918339026079813,29.544908750624629,26.79375001832959,36.151850821857728,1.0032427846292653,6.3626735105644299,7.6669342548015376,5.771816011715214,2.905590345682699E-2,3.4175676657526737E-2,0.16408748229934209,4.6279558864104745E-2,3.5770819316931386E-2,0,4.298990384883715,0,0,0,0,48.359999997288554,0.3999999999775728,99.999999994393207,20.599999998845,25.999999998542233,3.9999999997757283]
[null,"FORRAJES"]
[1,{"$f":"+'Selec. Maestro Ingredientes'!C23","v":"Chala con choclo"},{"$f":"+Manual!F31","v":37.837926032833735},{"$f":"+C34*'Selec. Maestro Ingredientes'!E23","v":9.8378607685367712},{"$f":"+$D34*'Selec. Maestro Ingredientes'!F23","v":6.3946094995489018},{"$f":"+$D34*'Selec. Maestro Ingredientes'!G23","v":0.95427249454806695},{"$f":"+$D34*'Selec. Maestro Ingredientes'!H23","v":2.9513582305610311},{"$f":"+$D34*'Selec. Maestro Ingredientes'!I23","v":5.1156875996391209},{"$f":"+$D34*'Selec. Maestro Ingredientes'!J23","v":3.1481154459317668},{"$f":"+$D34*'Selec. Maestro Ingredientes'!K23","v":2.4594651921341928E-2},{"$f":"+$D34*'Selec. Maestro Ingredientes'!L23","v":2.2627079767634572E-2},{"$f":"+$D34*'Selec. Maestro Ingredientes'!M23","v":23.118943292479102},{"$f":"+$D34*'Selec. Maestro Ingredientes'!N23","v":12.291681966175044},{"$f":"+$D34*'Selec. Maestro Ingredientes'!O23","v":14.486249981670397},{"$f":"+$D34*'Selec. Maestro Ingredientes'!P23","v":17.221385171002041},{"$f":"+$D34*'Selec. Maestro Ingredientes'!Q23","v":0.19675721537073543},{"$f":"+$D34*'Selec. Maestro Ingredientes'!R23","v":3.5416298766732375},{"$f":"+$D34*'Selec. Maestro Ingredientes'!S23","v":6.8865025379757396},{"$f":"+$D34*'Selec. Maestro Ingredientes'!T23","v":2.9513582305610311},{"$f":"+$D34*'Selec. Maestro Ingredientes'!U23","v":9.8378607685367723E-4},{"$f":"+$D34*'Selec. Maestro Ingredientes'!V23","v":1.8691935460219865E-2},{"$f":"+$D34*'Selec. Maestro Ingredientes'!W23","v":0.15740577229658834},{"$f":"+$D34*'Selec. Maestro Ingredientes'!X23","v":2.9513582305610315E-2},{"$f":"+$D34*'Selec. Maestro Ingredientes'!Y23","v":1.0821646845390449E-2},{"$f":"+$D34*'Selec. Maestro Ingredientes'!Z23","v":0},{"$f":"+$D34*'Selec. Maestro Ingredientes'!AA23","v":5.9027164611220622},{"$f":"+$D34*'Selec. Maestro Ingredientes'!AB23","v":0},{"$f":"+$D34*'Selec. Maestro Ingredientes'!AC23","v":0},{"$f":"+$D34*'Selec. Maestro Ingredientes'!AD23","v":0},{"$f":"+$D34*'Selec. Maestro Ingredientes'!AE23","v":0},{"$f":"+$D34*'Selec. Maestro Ingredientes'!AF23","v":0},{"$f":"+$D34*'Selec. Maestro Ingredientes'!AG23","v":0},{"$f":"+$D34*'Selec. Maestro Ingredientes'!AH23","v":0},{"$f":"+$D34*'Selec. Maestro Ingredientes'!AI23","v":0},{"$f":"+$D34*'Selec. Maestro Ingredientes'!AJ23","v":0},{"$f":"+$D34*'Selec. Maestro Ingredientes'!AK23","v":0}]
[2,{"$f":"+'Selec. Maestro Ingredientes'!C24","v":"Vacio"},{"$f":"+Manual!F32","v":0},{"$f":"+C35*'Selec. Maestro Ingredientes'!E24","v":0},{"$f":"+$D35*'Selec. Maestro Ingredientes'!F24","v":0},{"$f":"+$D35*'Selec. Maestro Ingredientes'!G24","v":0},{"$f":"+$D35*'Selec. Maestro Ingredientes'!H24","v":0},{"$f":"+$D35*'Selec. Maestro Ingredientes'!I24","v":0},{"$f":"+$D35*'Selec. Maestro Ingredientes'!J24","v":0},{"$f":"+$D35*'Selec. Maestro Ingredientes'!K24","v":0},{"$f":"+$D35*'Selec. Maestro Ingredientes'!L24","v":0},{"$f":"+$D35*'Selec. Maestro Ingredientes'!M24","v":0},{"$f":"+$D35*'Selec. Maestro Ingredientes'!N24","v":0},{"$f":"+$D35*'Selec. Maestro Ingredientes'!O24","v":0},{"$f":"+$D35*'Selec. Maestro Ingredientes'!P24","v":0},{"$f":"+$D35*'Selec. Maestro Ingredientes'!Q24","v":0},{"$f":"+$D35*'Selec. Maestro Ingredientes'!R24","v":0},{"$f":"+$D35*'Selec. Maestro Ingredientes'!S24","v":0},{"$f":"+$D35*'Selec. Maestro Ingredientes'!T24","v":0},{"$f":"+$D35*'Selec. Maestro Ingredientes'!U24","v":0},{"$f":"+$D35*'Selec. Maestro Ingredientes'!V24","v":0},{"$f":"+$D35*'Selec. Maestro Ingredientes'!W24","v":0},{"$f":"+$D35*'Selec. Maestro Ingredientes'!X24","v":0},{"$f":"+$D35*'Selec. Maestro Ingredientes'!Y24","v":0},{"$f":"+$D35*'Selec. Maestro Ingredientes'!Z24","v":0},{"$f":"+$D35*'Selec. Maestro Ingredientes'!AA24","v":0},{"$f":"+$D35*'Selec. Maestro Ingredientes'!AB24","v":0},{"$f":"+$D35*'Selec. Maestro Ingredientes'!AC24","v":0},{"$f":"+$D35*'Selec. Maestro Ingredientes'!AD24","v":0},{"$f":"+$D35*'Selec. Maestro Ingredientes'!AE24","v":0},{"$f":"+$D35*'Selec. Maestro Ingredientes'!AF24","v":0},{"$f":"+$D35*'Selec. Maestro Ingredientes'!AG24","v":0},{"$f":"+$D35*'Selec. Maestro Ingredientes'!AH24","v":0},{"$f":"+$D35*'Selec. Maestro Ingredientes'!AI24","v":0},{"$f":"+$D35*'Selec. Maestro Ingredientes'!AJ24","v":0},{"$f":"+$D35*'Selec. Maestro Ingredientes'!AK24","v":0}]
[3,{"$f":"+'Selec. Maestro Ingredientes'!C25","v":"Vacio"},{"$f":"+Manual!F33","v":0},{"$f":"+C36*'Selec. Maestro Ingredientes'!E25","v":0},{"$f":"+$D36*'Selec. Maestro Ingredientes'!F25","v":0},{"$f":"+$D36*'Selec. Maestro Ingredientes'!G25","v":0},{"$f":"+$D36*'Selec. Maestro Ingredientes'!H25","v":0},{"$f":"+$D36*'Selec. Maestro Ingredientes'!I25","v":0},{"$f":"+$D36*'Selec. Maestro Ingredientes'!J25","v":0},{"$f":"+$D36*'Selec. Maestro Ingredientes'!K25","v":0},{"$f":"+$D36*'Selec. Maestro Ingredientes'!L25","v":0},{"$f":"+$D36*'Selec. Maestro Ingredientes'!M25","v":0},{"$f":"+$D36*'Selec. Maestro Ingredientes'!N25","v":0},{"$f":"+$D36*'Selec. Maestro Ingredientes'!O25","v":0},{"$f":"+$D36*'Selec. Maestro Ingredientes'!P25","v":0},{"$f":"+$D36*'Selec. Maestro Ingredientes'!Q25","v":0},{"$f":"+$D36*'Selec. Maestro Ingredientes'!R25","v":0},{"$f":"+$D36*'Selec. Maestro Ingredientes'!S25","v":0},{"$f":"+$D36*'Selec. Maestro Ingredientes'!T25","v":0},{"$f":"+$D36*'Selec. Maestro Ingredientes'!U25","v":0},{"$f":"+$D36*'Selec. Maestro Ingredientes'!V25","v":0},{"$f":"+$D36*'Selec. Maestro Ingredientes'!W25","v":0},{"$f":"+$D36*'Selec. Maestro Ingredientes'!X25","v":0},{"$f":"+$D36*'Selec. Maestro Ingredientes'!Y25","v":0},{"$f":"+$D36*'Selec. Maestro Ingredientes'!Z25","v":0},{"$f":"+$D36*'Selec. Maestro Ingredientes'!AA25","v":0},{"$f":"+$D36*'Selec. Maestro Ingredientes'!AB25","v":0},{"$f":"+$D36*'Selec. Maestro Ingredientes'!AC25","v":0},{"$f":"+$D36*'Selec. Maestro Ingredientes'!AD25","v":0},{"$f":"+$D36*'Selec. Maestro Ingredientes'!AE25","v":0},{"$f":"+$D36*'Selec. Maestro Ingredientes'!AF25","v":0},{"$f":"+$D36*'Selec. Maestro Ingredientes'!AG25","v":0},{"$f":"+$D36*'Selec. Maestro Ingredientes'!AH25","v":0},{"$f":"+$D36*'Selec. Maestro Ingredientes'!AI25","v":0},{"$f":"+$D36*'Selec. Maestro Ingredientes'!AJ25","v":0},{"$f":"+$D36*'Selec. Maestro Ingredientes'!AK25","v":0}]
[4,{"$f":"+'Selec. Maestro Ingredientes'!C26","v":"Vacio"},{"$f":"+Manual!F34","v":0},{"$f":"+C37*'Selec. Maestro Ingredientes'!E26","v":0},{"$f":"+$D37*'Selec. Maestro Ingredientes'!F26","v":0},{"$f":"+$D37*'Selec. Maestro Ingredientes'!G26","v":0},{"$f":"+$D37*'Selec. Maestro Ingredientes'!H26","v":0},{"$f":"+$D37*'Selec. Maestro Ingredientes'!I26","v":0},{"$f":"+$D37*'Selec. Maestro Ingredientes'!J26","v":0},{"$f":"+$D37*'Selec. Maestro Ingredientes'!K26","v":0},{"$f":"+$D37*'Selec. Maestro Ingredientes'!L26","v":0},{"$f":"+$D37*'Selec. Maestro Ingredientes'!M26","v":0},{"$f":"+$D37*'Selec. Maestro Ingredientes'!N26","v":0},{"$f":"+$D37*'Selec. Maestro Ingredientes'!O26","v":0},{"$f":"+$D37*'Selec. Maestro Ingredientes'!P26","v":0},{"$f":"+$D37*'Selec. Maestro Ingredientes'!Q26","v":0},{"$f":"+$D37*'Selec. Maestro Ingredientes'!R26","v":0},{"$f":"+$D37*'Selec. Maestro Ingredientes'!S26","v":0},{"$f":"+$D37*'Selec. Maestro Ingredientes'!T26","v":0},{"$f":"+$D37*'Selec. Maestro Ingredientes'!U26","v":0},{"$f":"+$D37*'Selec. Maestro Ingredientes'!V26","v":0},{"$f":"+$D37*'Selec. Maestro Ingredientes'!W26","v":0},{"$f":"+$D37*'Selec. Maestro Ingredientes'!X26","v":0},{"$f":"+$D37*'Selec. Maestro Ingredientes'!Y26","v":0},{"$f":"+$D37*'Selec. Maestro Ingredientes'!Z26","v":0},{"$f":"+$D37*'Selec. Maestro Ingredientes'!AA26","v":0},{"$f":"+$D37*'Selec. Maestro Ingredientes'!AB26","v":0},{"$f":"+$D37*'Selec. Maestro Ingredientes'!AC26","v":0},{"$f":"+$D37*'Selec. Maestro Ingredientes'!AD26","v":0},{"$f":"+$D37*'Selec. Maestro Ingredientes'!AE26","v":0},{"$f":"+$D37*'Selec. Maestro Ingredientes'!AF26","v":0},{"$f":"+$D37*'Selec. Maestro Ingredientes'!AG26","v":0},{"$f":"+$D37*'Selec. Maestro Ingredientes'!AH26","v":0},{"$f":"+$D37*'Selec. Maestro Ingredientes'!AI26","v":0},{"$f":"+$D37*'Selec. Maestro Ingredientes'!AJ26","v":0},{"$f":"+$D37*'Selec. Maestro Ingredientes'!AK26","v":0}]
[5,{"$f":"+'Selec. Maestro Ingredientes'!C27","v":"Vacio"},{"$f":"+Manual!F35","v":0},{"$f":"+C38*'Selec. Maestro Ingredientes'!E27","v":0},{"$f":"+$D38*'Selec. Maestro Ingredientes'!F27","v":0},{"$f":"+$D38*'Selec. Maestro Ingredientes'!G27","v":0},{"$f":"+$D38*'Selec. Maestro Ingredientes'!H27","v":0},{"$f":"+$D38*'Selec. Maestro Ingredientes'!I27","v":0},{"$f":"+$D38*'Selec. Maestro Ingredientes'!J27","v":0},{"$f":"+$D38*'Selec. Maestro Ingredientes'!K27","v":0},{"$f":"+$D38*'Selec. Maestro Ingredientes'!L27","v":0},{"$f":"+$D38*'Selec. Maestro Ingredientes'!M27","v":0},{"$f":"+$D38*'Selec. Maestro Ingredientes'!N27","v":0},{"$f":"+$D38*'Selec. Maestro Ingredientes'!O27","v":0},{"$f":"+$D38*'Selec. Maestro Ingredientes'!P27","v":0},{"$f":"+$D38*'Selec. Maestro Ingredientes'!Q27","v":0},{"$f":"+$D38*'Selec. Maestro Ingredientes'!R27","v":0},{"$f":"+$D38*'Selec. Maestro Ingredientes'!S27","v":0},{"$f":"+$D38*'Selec. Maestro Ingredientes'!T27","v":0},{"$f":"+$D38*'Selec. Maestro Ingredientes'!U27","v":0},{"$f":"+$D38*'Selec. Maestro Ingredientes'!V27","v":0},{"$f":"+$D38*'Selec. Maestro Ingredientes'!W27","v":0},{"$f":"+$D38*'Selec. Maestro Ingredientes'!X27","v":0},{"$f":"+$D38*'Selec. Maestro Ingredientes'!Y27","v":0},{"$f":"+$D38*'Selec. Maestro Ingredientes'!Z27","v":0},{"$f":"+$D38*'Selec. Maestro Ingredientes'!AA27","v":0},{"$f":"+$D38*'Selec. Maestro Ingredientes'!AB27","v":0},{"$f":"+$D38*'Selec. Maestro Ingredientes'!AC27","v":0},{"$f":"+$D38*'Selec. Maestro Ingredientes'!AD27","v":0},{"$f":"+$D38*'Selec. Maestro Ingredientes'!AE27","v":0},{"$f":"+$D38*'Selec. Maestro Ingredientes'!AF27","v":0},{"$f":"+$D38*'Selec. Maestro Ingredientes'!AG27","v":0},{"$f":"+$D38*'Selec. Maestro Ingredientes'!AH27","v":0},{"$f":"+$D38*'Selec. Maestro Ingredientes'!AI27","v":0},{"$f":"+$D38*'Selec. Maestro Ingredientes'!AJ27","v":0},{"$f":"+$D38*'Selec. Maestro Ingredientes'!AK27","v":0}]
[6,{"$f":"+'Selec. Maestro Ingredientes'!C28","v":"Vacio"},{"$f":"+Manual!F36","v":0},{"$f":"+C39*'Selec. Maestro Ingredientes'!E28","v":0},{"$f":"+$D39*'Selec. Maestro Ingredientes'!F28","v":0},{"$f":"+$D39*'Selec. Maestro Ingredientes'!G28","v":0},{"$f":"+$D39*'Selec. Maestro Ingredientes'!H28","v":0},{"$f":"+$D39*'Selec. Maestro Ingredientes'!I28","v":0},{"$f":"+$D39*'Selec. Maestro Ingredientes'!J28","v":0},{"$f":"+$D39*'Selec. Maestro Ingredientes'!K28","v":0},{"$f":"+$D39*'Selec. Maestro Ingredientes'!L28","v":0},{"$f":"+$D39*'Selec. Maestro Ingredientes'!M28","v":0},{"$f":"+$D39*'Selec. Maestro Ingredientes'!N28","v":0},{"$f":"+$D39*'Selec. Maestro Ingredientes'!O28","v":0},{"$f":"+$D39*'Selec. Maestro Ingredientes'!P28","v":0},{"$f":"+$D39*'Selec. Maestro Ingredientes'!Q28","v":0},{"$f":"+$D39*'Selec. Maestro Ingredientes'!R28","v":0},{"$f":"+$D39*'Selec. Maestro Ingredientes'!S28","v":0},{"$f":"+$D39*'Selec. Maestro Ingredientes'!T28","v":0},{"$f":"+$D39*'Selec. Maestro Ingredientes'!U28","v":0},{"$f":"+$D39*'Selec. Maestro Ingredientes'!V28","v":0},{"$f":"+$D39*'Selec. Maestro Ingredientes'!W28","v":0},{"$f":"+$D39*'Selec. Maestro Ingredientes'!X28","v":0},{"$f":"+$D39*'Selec. Maestro Ingredientes'!Y28","v":0},{"$f":"+$D39*'Selec. Maestro Ingredientes'!Z28","v":0},{"$f":"+$D39*'Selec. Maestro Ingredientes'!AA28","v":0},{"$f":"+$D39*'Selec. Maestro Ingredientes'!AB28","v":0},{"$f":"+$D39*'Selec. Maestro Ingredientes'!AC28","v":0},{"$f":"+$D39*'Selec. Maestro Ingredientes'!AD28","v":0},{"$f":"+$D39*'Selec. Maestro Ingredientes'!AE28","v":0},{"$f":"+$D39*'Selec. Maestro Ingredientes'!AF28","v":0},{"$f":"+$D39*'Selec. Maestro Ingredientes'!AG28","v":0},{"$f":"+$D39*'Selec. Maestro Ingredientes'!AH28","v":0},{"$f":"+$D39*'Selec. Maestro Ingredientes'!AI28","v":0},{"$f":"+$D39*'Selec. Maestro Ingredientes'!AJ28","v":0},{"$f":"+$D39*'Selec. Maestro Ingredientes'!AK28","v":0}]
[7,{"$f":"+'Selec. Maestro Ingredientes'!C29","v":"Vacio"},{"$f":"+Manual!F37","v":0},{"$f":"+C40*'Selec. Maestro Ingredientes'!E29","v":0},{"$f":"+$D40*'Selec. Maestro Ingredientes'!F29","v":0},{"$f":"+$D40*'Selec. Maestro Ingredientes'!G29","v":0},{"$f":"+$D40*'Selec. Maestro Ingredientes'!H29","v":0},{"$f":"+$D40*'Selec. Maestro Ingredientes'!I29","v":0},{"$f":"+$D40*'Selec. Maestro Ingredientes'!J29","v":0},{"$f":"+$D40*'Selec. Maestro Ingredientes'!K29","v":0},{"$f":"+$D40*'Selec. Maestro Ingredientes'!L29","v":0},{"$f":"+$D40*'Selec. Maestro Ingredientes'!M29","v":0},{"$f":"+$D40*'Selec. Maestro Ingredientes'!N29","v":0},{"$f":"+$D40*'Selec. Maestro Ingredientes'!O29","v":0},{"$f":"+$D40*'Selec. Maestro Ingredientes'!P29","v":0},{"$f":"+$D40*'Selec. Maestro Ingredientes'!Q29","v":0},{"$f":"+$D40*'Selec. Maestro Ingredientes'!R29","v":0},{"$f":"+$D40*'Selec. Maestro Ingredientes'!S29","v":0},{"$f":"+$D40*'Selec. Maestro Ingredientes'!T29","v":0},{"$f":"+$D40*'Selec. Maestro Ingredientes'!U29","v":0},{"$f":"+$D40*'Selec. Maestro Ingredientes'!V29","v":0},{"$f":"+$D40*'Selec. Maestro Ingredientes'!W29","v":0},{"$f":"+$D40*'Selec. Maestro Ingredientes'!X29","v":0},{"$f":"+$D40*'Selec. Maestro Ingredientes'!Y29","v":0},{"$f":"+$D40*'Selec. Maestro Ingredientes'!Z29","v":0},{"$f":"+$D40*'Selec. Maestro Ingredientes'!AA29","v":0},{"$f":"+$D40*'Selec. Maestro Ingredientes'!AB29","v":0},{"$f":"+$D40*'Selec. Maestro Ingredientes'!AC29","v":0},{"$f":"+$D40*'Selec. Maestro Ingredientes'!AD29","v":0},{"$f":"+$D40*'Selec. Maestro Ingredientes'!AE29","v":0},{"$f":"+$D40*'Selec. Maestro Ingredientes'!AF29","v":0},{"$f":"+$D40*'Selec. Maestro Ingredientes'!AG29","v":0},{"$f":"+$D40*'Selec. Maestro Ingredientes'!AH29","v":0},{"$f":"+$D40*'Selec. Maestro Ingredientes'!AI29","v":0},{"$f":"+$D40*'Selec. Maestro Ingredientes'!AJ29","v":0},{"$f":"+$D40*'Selec. Maestro Ingredientes'!AK29","v":0}]
[8,{"$f":"+'Selec. Maestro Ingredientes'!C30","v":"Vacio"},{"$f":"+Manual!F38","v":0},{"$f":"+C41*'Selec. Maestro Ingredientes'!E30","v":0},{"$f":"+$D41*'Selec. Maestro Ingredientes'!F30","v":0},{"$f":"+$D41*'Selec. Maestro Ingredientes'!G30","v":0},{"$f":"+$D41*'Selec. Maestro Ingredientes'!H30","v":0},{"$f":"+$D41*'Selec. Maestro Ingredientes'!I30","v":0},{"$f":"+$D41*'Selec. Maestro Ingredientes'!J30","v":0},{"$f":"+$D41*'Selec. Maestro Ingredientes'!K30","v":0},{"$f":"+$D41*'Selec. Maestro Ingredientes'!L30","v":0},{"$f":"+$D41*'Selec. Maestro Ingredientes'!M30","v":0},{"$f":"+$D41*'Selec. Maestro Ingredientes'!N30","v":0},{"$f":"+$D41*'Selec. Maestro Ingredientes'!O30","v":0},{"$f":"+$D41*'Selec. Maestro Ingredientes'!P30","v":0},{"$f":"+$D41*'Selec. Maestro Ingredientes'!Q30","v":0},{"$f":"+$D41*'Selec. Maestro Ingredientes'!R30","v":0},{"$f":"+$D41*'Selec. Maestro Ingredientes'!S30","v":0},{"$f":"+$D41*'Selec. Maestro Ingredientes'!T30","v":0},{"$f":"+$D41*'Selec. Maestro Ingredientes'!U30","v":0},{"$f":"+$D41*'Selec. Maestro Ingredientes'!V30","v":0},{"$f":"+$D41*'Selec. Maestro Ingredientes'!W30","v":0},{"$f":"+$D41*'Selec. Maestro Ingredientes'!X30","v":0},{"$f":"+$D41*'Selec. Maestro Ingredientes'!Y30","v":0},{"$f":"+$D41*'Selec. Maestro Ingredientes'!Z30","v":0},{"$f":"+$D41*'Selec. Maestro Ingredientes'!AA30","v":0},{"$f":"+$D41*'Selec. Maestro Ingredientes'!AB30","v":0},{"$f":"+$D41*'Selec. Maestro Ingredientes'!AC30","v":0},{"$f":"+$D41*'Selec. Maestro Ingredientes'!AD30","v":0},{"$f":"+$D41*'Selec. Maestro Ingredientes'!AE30","v":0},{"$f":"+$D41*'Selec. Maestro Ingredientes'!AF30","v":0},{"$f":"+$D41*'Selec. Maestro Ingredientes'!AG30","v":0},{"$f":"+$D41*'Selec. Maestro Ingredientes'!AH30","v":0},{"$f":"+$D41*'Selec. Maestro Ingredientes'!AI30","v":0},{"$f":"+$D41*'Selec. Maestro Ingredientes'!AJ30","v":0},{"$f":"+$D41*'Selec. Maestro Ingredientes'!AK30","v":0}]
[null,null,{"$f":"+SUM(C36:C41)","v":0},{"$f":"+SUM(D36:D41)","v":0},0,0,0,0,0,0,0,0,0,0,0,0,0,0,0,0,0,0,0,0,0,0,0,0,0,0,0,0,0,0,0,0]

{"sheet":"Hoja1","index":10,"n_rows":0,"n_cols":0,"rows_kept":0,"cut":false,"hidden":true,"merged":[]}